{"text_format":"1","workbook":"xlsx","n_sheets":3,"sheets":["Formularz","Arkusz1","Walidacja"],"not_rendered":{"charts":0,"images":0,"macros":1,"external_links":0,"defined_names":0,"comments":0,"pivot_tables":0},"unopened":[],"bounds":{"document_bytes":16777216,"sheet_cells":100000,"rows_first":2000,"rows_last":500,"rows_between":2000,"halvings":0,"cell_chars":16384,"cell_head_chars":4096},"cells_cut":0,"cells_raw":0,"read":"whole","date_system":"1900"}

{"sheet":"Formularz","index":0,"n_rows":1010,"n_cols":3,"rows_kept":1010,"cut":false,"hidden":false,"merged":[]}
["PODMIOT ZGŁASZAJĄCY:"]
["typ (szpital, ZOL, ZPO):"]
["REGON 14-znakowy:"]
["imię i nazwisko oraz nr tel. do osoby kontaktowej:"]
[]
["OSOBY PODLEGAJĄCE SZCZEPIENIU NIE POSIADAJĄCE NUMERU PESEL:"]
["pracownicy medyczni (liczba):"]
["pracownicy niemedyczni (liczba): "]
[]
["OSOBY PODLEGAJĄCE SZCZEPIENIU POSIADAJĄCE NUMER PESEL:"]
["PESEL","Czy pracownik medyczny?","Sprawdzenie numeru PESEL"]
[null,null,{"$error":"#NAME?"}]
[null,null,{"$f":"IF(Walidacja!B2,\"Poprawny\",\"Podany numer PESEL jest niepoprawny\")","v":"Podany numer PESEL jest niepoprawny"}]
[null,null,{"$f":"IF(Walidacja!B3,\"Poprawny\",\"Podany numer PESEL jest niepoprawny\")","v":"Podany numer PESEL jest niepoprawny"}]
[null,null,{"$f":"IF(Walidacja!B4,\"Poprawny\",\"Podany numer PESEL jest niepoprawny\")","v":"Podany numer PESEL jest niepoprawny"}]
[null,null,{"$f":"IF(Walidacja!B5,\"Poprawny\",\"Podany numer PESEL jest niepoprawny\")","v":"Podany numer PESEL jest niepoprawny"}]
[null,null,{"$f":"IF(Walidacja!B6,\"Poprawny\",\"Podany numer PESEL jest niepoprawny\")","v":"Podany numer PESEL jest niepoprawny"}]
[null,null,{"$f":"IF(Walidacja!B7,\"Poprawny\",\"Podany numer PESEL jest niepoprawny\")","v":"Podany numer PESEL jest niepoprawny"}]
[null,null,{"$f":"IF(Walidacja!B8,\"Poprawny\",\"Podany numer PESEL jest niepoprawny\")","v":"Podany numer PESEL jest niepoprawny"}]
[null,null,{"$f":"IF(Walidacja!B9,\"Poprawny\",\"Podany numer PESEL jest niepoprawny\")","v":"Podany numer PESEL jest niepoprawny"}]
[null,null,{"$f":"IF(Walidacja!B10,\"Poprawny\",\"Podany numer PESEL jest niepoprawny\")","v":"Podany numer PESEL jest niepoprawny"}]
[null,null,{"$f":"IF(Walidacja!B11,\"Poprawny\",\"Podany numer PESEL jest niepoprawny\")","v":"Podany numer PESEL jest niepoprawny"}]
[null,null,{"$f":"IF(Walidacja!B12,\"Poprawny\",\"Podany numer PESEL jest niepoprawny\")","v":"Podany numer PESEL jest niepoprawny"}]
[null,null,{"$f":"IF(Walidacja!B13,\"Poprawny\",\"Podany numer PESEL jest niepoprawny\")","v":"Podany numer PESEL jest niepoprawny"}]
[null,null,{"$f":"IF(Walidacja!B14,\"Poprawny\",\"Podany numer PESEL jest niepoprawny\")","v":"Podany numer PESEL jest niepoprawny"}]
[null,null,{"$f":"IF(Walidacja!B15,\"Poprawny\",\"Podany numer PESEL jest niepoprawny\")","v":"Podany numer PESEL jest niepoprawny"}]
[null,null,{"$f":"IF(Walidacja!B16,\"Poprawny\",\"Podany numer PESEL jest niepoprawny\")","v":"Podany numer PESEL jest niepoprawny"}]
[null,null,{"$f":"IF(Walidacja!B17,\"Poprawny\",\"Podany numer PESEL jest niepoprawny\")","v":"Podany numer PESEL jest niepoprawny"}]
[null,null,{"$f":"IF(Walidacja!B18,\"Poprawny\",\"Podany numer PESEL jest niepoprawny\")","v":"Podany numer PESEL jest niepoprawny"}]
[null,null,{"$f":"IF(Walidacja!B19,\"Poprawny\",\"Podany numer PESEL jest niepoprawny\")","v":"Podany numer PESEL jest niepoprawny"}]
[null,null,{"$f":"IF(Walidacja!B20,\"Poprawny\",\"Podany numer PESEL jest niepoprawny\")","v":"Podany numer PESEL jest niepoprawny"}]
[null,null,{"$f":"IF(Walidacja!B21,\"Poprawny\",\"Podany numer PESEL jest niepoprawny\")","v":"Podany numer PESEL jest niepoprawny"}]
[null,null,{"$f":"IF(Walidacja!B22,\"Poprawny\",\"Podany numer PESEL jest niepoprawny\")","v":"Podany numer PESEL jest niepoprawny"}]
[null,null,{"$f":"IF(Walidacja!B23,\"Poprawny\",\"Podany numer PESEL jest niepoprawny\")","v":"Podany numer PESEL jest niepoprawny"}]
[null,null,{"$f":"IF(Walidacja!B24,\"Poprawny\",\"Podany numer PESEL jest niepoprawny\")","v":"Podany numer PESEL jest niepoprawny"}]
[null,null,{"$f":"IF(Walidacja!B25,\"Poprawny\",\"Podany numer PESEL jest niepoprawny\")","v":"Podany numer PESEL jest niepoprawny"}]
[null,null,{"$f":"IF(Walidacja!B26,\"Poprawny\",\"Podany numer PESEL jest niepoprawny\")","v":"Podany numer PESEL jest niepoprawny"}]
[null,null,{"$f":"IF(Walidacja!B27,\"Poprawny\",\"Podany numer PESEL jest niepoprawny\")","v":"Podany numer PESEL jest niepoprawny"}]
[null,null,{"$f":"IF(Walidacja!B28,\"Poprawny\",\"Podany numer PESEL jest niepoprawny\")","v":"Podany numer PESEL jest niepoprawny"}]
[null,null,{"$f":"IF(Walidacja!B29,\"Poprawny\",\"Podany numer PESEL jest niepoprawny\")","v":"Podany numer PESEL jest niepoprawny"}]
[null,null,{"$f":"IF(Walidacja!B30,\"Poprawny\",\"Podany numer PESEL jest niepoprawny\")","v":"Podany numer PESEL jest niepoprawny"}]
[null,null,{"$f":"IF(Walidacja!B31,\"Poprawny\",\"Podany numer PESEL jest niepoprawny\")","v":"Podany numer PESEL jest niepoprawny"}]
[null,null,{"$f":"IF(Walidacja!B32,\"Poprawny\",\"Podany numer PESEL jest niepoprawny\")","v":"Podany numer PESEL jest niepoprawny"}]
[null,null,{"$f":"IF(Walidacja!B33,\"Poprawny\",\"Podany numer PESEL jest niepoprawny\")","v":"Podany numer PESEL jest niepoprawny"}]
[null,null,{"$f":"IF(Walidacja!B34,\"Poprawny\",\"Podany numer PESEL jest niepoprawny\")","v":"Podany numer PESEL jest niepoprawny"}]
[null,null,{"$f":"IF(Walidacja!B35,\"Poprawny\",\"Podany numer PESEL jest niepoprawny\")","v":"Podany numer PESEL jest niepoprawny"}]
[null,null,{"$f":"IF(Walidacja!B36,\"Poprawny\",\"Podany numer PESEL jest niepoprawny\")","v":"Podany numer PESEL jest niepoprawny"}]
[null,null,{"$f":"IF(Walidacja!B37,\"Poprawny\",\"Podany numer PESEL jest niepoprawny\")","v":"Podany numer PESEL jest niepoprawny"}]
[null,null,{"$f":"IF(Walidacja!B38,\"Poprawny\",\"Podany numer PESEL jest niepoprawny\")","v":"Podany numer PESEL jest niepoprawny"}]
[null,null,{"$f":"IF(Walidacja!B39,\"Poprawny\",\"Podany numer PESEL jest niepoprawny\")","v":"Podany numer PESEL jest niepoprawny"}]
[null,null,{"$f":"IF(Walidacja!B40,\"Poprawny\",\"Podany numer PESEL jest niepoprawny\")","v":"Podany numer PESEL jest niepoprawny"}]
[null,null,{"$f":"IF(Walidacja!B41,\"Poprawny\",\"Podany numer PESEL jest niepoprawny\")","v":"Podany numer PESEL jest niepoprawny"}]
[null,null,{"$f":"IF(Walidacja!B42,\"Poprawny\",\"Podany numer PESEL jest niepoprawny\")","v":"Podany numer PESEL jest niepoprawny"}]
[null,null,{"$f":"IF(Walidacja!B43,\"Poprawny\",\"Podany numer PESEL jest niepoprawny\")","v":"Podany numer PESEL jest niepoprawny"}]
[null,null,{"$f":"IF(Walidacja!B44,\"Poprawny\",\"Podany numer PESEL jest niepoprawny\")","v":"Podany numer PESEL jest niepoprawny"}]
[null,null,{"$f":"IF(Walidacja!B45,\"Poprawny\",\"Podany numer PESEL jest niepoprawny\")","v":"Podany numer PESEL jest niepoprawny"}]
[null,null,{"$f":"IF(Walidacja!B46,\"Poprawny\",\"Podany numer PESEL jest niepoprawny\")","v":"Podany numer PESEL jest niepoprawny"}]
[null,null,{"$f":"IF(Walidacja!B47,\"Poprawny\",\"Podany numer PESEL jest niepoprawny\")","v":"Podany numer PESEL jest niepoprawny"}]
[null,null,{"$f":"IF(Walidacja!B48,\"Poprawny\",\"Podany numer PESEL jest niepoprawny\")","v":"Podany numer PESEL jest niepoprawny"}]
[null,null,{"$f":"IF(Walidacja!B49,\"Poprawny\",\"Podany numer PESEL jest niepoprawny\")","v":"Podany numer PESEL jest niepoprawny"}]
[null,null,{"$f":"IF(Walidacja!B50,\"Poprawny\",\"Podany numer PESEL jest niepoprawny\")","v":"Podany numer PESEL jest niepoprawny"}]
[null,null,{"$f":"IF(Walidacja!B51,\"Poprawny\",\"Podany numer PESEL jest niepoprawny\")","v":"Podany numer PESEL jest niepoprawny"}]
[null,null,{"$f":"IF(Walidacja!B52,\"Poprawny\",\"Podany numer PESEL jest niepoprawny\")","v":"Podany numer PESEL jest niepoprawny"}]
[null,null,{"$f":"IF(Walidacja!B53,\"Poprawny\",\"Podany numer PESEL jest niepoprawny\")","v":"Podany numer PESEL jest niepoprawny"}]
[null,null,{"$f":"IF(Walidacja!B54,\"Poprawny\",\"Podany numer PESEL jest niepoprawny\")","v":"Podany numer PESEL jest niepoprawny"}]
[null,null,{"$f":"IF(Walidacja!B55,\"Poprawny\",\"Podany numer PESEL jest niepoprawny\")","v":"Podany numer PESEL jest niepoprawny"}]
[null,null,{"$f":"IF(Walidacja!B56,\"Poprawny\",\"Podany numer PESEL jest niepoprawny\")","v":"Podany numer PESEL jest niepoprawny"}]
[null,null,{"$f":"IF(Walidacja!B57,\"Poprawny\",\"Podany numer PESEL jest niepoprawny\")","v":"Podany numer PESEL jest niepoprawny"}]
[null,null,{"$f":"IF(Walidacja!B58,\"Poprawny\",\"Podany numer PESEL jest niepoprawny\")","v":"Podany numer PESEL jest niepoprawny"}]
[null,null,{"$f":"IF(Walidacja!B59,\"Poprawny\",\"Podany numer PESEL jest niepoprawny\")","v":"Podany numer PESEL jest niepoprawny"}]
[null,null,{"$f":"IF(Walidacja!B60,\"Poprawny\",\"Podany numer PESEL jest niepoprawny\")","v":"Podany numer PESEL jest niepoprawny"}]
[null,null,{"$f":"IF(Walidacja!B61,\"Poprawny\",\"Podany numer PESEL jest niepoprawny\")","v":"Podany numer PESEL jest niepoprawny"}]
[null,null,{"$f":"IF(Walidacja!B62,\"Poprawny\",\"Podany numer PESEL jest niepoprawny\")","v":"Podany numer PESEL jest niepoprawny"}]
[null,null,{"$f":"IF(Walidacja!B63,\"Poprawny\",\"Podany numer PESEL jest niepoprawny\")","v":"Podany numer PESEL jest niepoprawny"}]
[null,null,{"$f":"IF(Walidacja!B64,\"Poprawny\",\"Podany numer PESEL jest niepoprawny\")","v":"Podany numer PESEL jest niepoprawny"}]
[null,null,{"$f":"IF(Walidacja!B65,\"Poprawny\",\"Podany numer PESEL jest niepoprawny\")","v":"Podany numer PESEL jest niepoprawny"}]
[null,null,{"$f":"IF(Walidacja!B66,\"Poprawny\",\"Podany numer PESEL jest niepoprawny\")","v":"Podany numer PESEL jest niepoprawny"}]
[null,null,{"$f":"IF(Walidacja!B67,\"Poprawny\",\"Podany numer PESEL jest niepoprawny\")","v":"Podany numer PESEL jest niepoprawny"}]
[null,null,{"$f":"IF(Walidacja!B68,\"Poprawny\",\"Podany numer PESEL jest niepoprawny\")","v":"Podany numer PESEL jest niepoprawny"}]
[null,null,{"$f":"IF(Walidacja!B69,\"Poprawny\",\"Podany numer PESEL jest niepoprawny\")","v":"Podany numer PESEL jest niepoprawny"}]
[null,null,{"$f":"IF(Walidacja!B70,\"Poprawny\",\"Podany numer PESEL jest niepoprawny\")","v":"Podany numer PESEL jest niepoprawny"}]
[null,null,{"$f":"IF(Walidacja!B71,\"Poprawny\",\"Podany numer PESEL jest niepoprawny\")","v":"Podany numer PESEL jest niepoprawny"}]
[null,null,{"$f":"IF(Walidacja!B72,\"Poprawny\",\"Podany numer PESEL jest niepoprawny\")","v":"Podany numer PESEL jest niepoprawny"}]
[null,null,{"$f":"IF(Walidacja!B73,\"Poprawny\",\"Podany numer PESEL jest niepoprawny\")","v":"Podany numer PESEL jest niepoprawny"}]
[null,null,{"$f":"IF(Walidacja!B74,\"Poprawny\",\"Podany numer PESEL jest niepoprawny\")","v":"Podany numer PESEL jest niepoprawny"}]
[null,null,{"$f":"IF(Walidacja!B75,\"Poprawny\",\"Podany numer PESEL jest niepoprawny\")","v":"Podany numer PESEL jest niepoprawny"}]
[null,null,{"$f":"IF(Walidacja!B76,\"Poprawny\",\"Podany numer PESEL jest niepoprawny\")","v":"Podany numer PESEL jest niepoprawny"}]
[null,null,{"$f":"IF(Walidacja!B77,\"Poprawny\",\"Podany numer PESEL jest niepoprawny\")","v":"Podany numer PESEL jest niepoprawny"}]
[null,null,{"$f":"IF(Walidacja!B78,\"Poprawny\",\"Podany numer PESEL jest niepoprawny\")","v":"Podany numer PESEL jest niepoprawny"}]
[null,null,{"$f":"IF(Walidacja!B79,\"Poprawny\",\"Podany numer PESEL jest niepoprawny\")","v":"Podany numer PESEL jest niepoprawny"}]
[null,null,{"$f":"IF(Walidacja!B80,\"Poprawny\",\"Podany numer PESEL jest niepoprawny\")","v":"Podany numer PESEL jest niepoprawny"}]
[null,null,{"$f":"IF(Walidacja!B81,\"Poprawny\",\"Podany numer PESEL jest niepoprawny\")","v":"Podany numer PESEL jest niepoprawny"}]
[null,null,{"$f":"IF(Walidacja!B82,\"Poprawny\",\"Podany numer PESEL jest niepoprawny\")","v":"Podany numer PESEL jest niepoprawny"}]
[null,null,{"$f":"IF(Walidacja!B83,\"Poprawny\",\"Podany numer PESEL jest niepoprawny\")","v":"Podany numer PESEL jest niepoprawny"}]
[null,null,{"$f":"IF(Walidacja!B84,\"Poprawny\",\"Podany numer PESEL jest niepoprawny\")","v":"Podany numer PESEL jest niepoprawny"}]
[null,null,{"$f":"IF(Walidacja!B85,\"Poprawny\",\"Podany numer PESEL jest niepoprawny\")","v":"Podany numer PESEL jest niepoprawny"}]
[null,null,{"$f":"IF(Walidacja!B86,\"Poprawny\",\"Podany numer PESEL jest niepoprawny\")","v":"Podany numer PESEL jest niepoprawny"}]
[null,null,{"$f":"IF(Walidacja!B87,\"Poprawny\",\"Podany numer PESEL jest niepoprawny\")","v":"Podany numer PESEL jest niepoprawny"}]
[null,null,{"$f":"IF(Walidacja!B88,\"Poprawny\",\"Podany numer PESEL jest niepoprawny\")","v":"Podany numer PESEL jest niepoprawny"}]
[null,null,{"$f":"IF(Walidacja!B89,\"Poprawny\",\"Podany numer PESEL jest niepoprawny\")","v":"Podany numer PESEL jest niepoprawny"}]
[null,null,{"$f":"IF(Walidacja!B90,\"Poprawny\",\"Podany numer PESEL jest niepoprawny\")","v":"Podany numer PESEL jest niepoprawny"}]
[null,null,{"$f":"IF(Walidacja!B91,\"Poprawny\",\"Podany numer PESEL jest niepoprawny\")","v":"Podany numer PESEL jest niepoprawny"}]
[null,null,{"$f":"IF(Walidacja!B92,\"Poprawny\",\"Podany numer PESEL jest niepoprawny\")","v":"Podany numer PESEL jest niepoprawny"}]
[null,null,{"$f":"IF(Walidacja!B93,\"Poprawny\",\"Podany numer PESEL jest niepoprawny\")","v":"Podany numer PESEL jest niepoprawny"}]
[null,null,{"$f":"IF(Walidacja!B94,\"Poprawny\",\"Podany numer PESEL jest niepoprawny\")","v":"Podany numer PESEL jest niepoprawny"}]
[null,null,{"$f":"IF(Walidacja!B95,\"Poprawny\",\"Podany numer PESEL jest niepoprawny\")","v":"Podany numer PESEL jest niepoprawny"}]
[null,null,{"$f":"IF(Walidacja!B96,\"Poprawny\",\"Podany numer PESEL jest niepoprawny\")","v":"Podany numer PESEL jest niepoprawny"}]
[null,null,{"$f":"IF(Walidacja!B97,\"Poprawny\",\"Podany numer PESEL jest niepoprawny\")","v":"Podany numer PESEL jest niepoprawny"}]
[null,null,{"$f":"IF(Walidacja!B98,\"Poprawny\",\"Podany numer PESEL jest niepoprawny\")","v":"Podany numer PESEL jest niepoprawny"}]
[null,null,{"$f":"IF(Walidacja!B99,\"Poprawny\",\"Podany numer PESEL jest niepoprawny\")","v":"Podany numer PESEL jest niepoprawny"}]
[null,null,{"$f":"IF(Walidacja!B100,\"Poprawny\",\"Podany numer PESEL jest niepoprawny\")","v":"Podany numer PESEL jest niepoprawny"}]
[null,null,{"$f":"IF(Walidacja!B101,\"Poprawny\",\"Podany numer PESEL jest niepoprawny\")","v":"Podany numer PESEL jest niepoprawny"}]
[null,null,{"$f":"IF(Walidacja!B102,\"Poprawny\",\"Podany numer PESEL jest niepoprawny\")","v":"Podany numer PESEL jest niepoprawny"}]
[null,null,{"$f":"IF(Walidacja!B103,\"Poprawny\",\"Podany numer PESEL jest niepoprawny\")","v":"Podany numer PESEL jest niepoprawny"}]
[null,null,{"$f":"IF(Walidacja!B104,\"Poprawny\",\"Podany numer PESEL jest niepoprawny\")","v":"Podany numer PESEL jest niepoprawny"}]
[null,null,{"$f":"IF(Walidacja!B105,\"Poprawny\",\"Podany numer PESEL jest niepoprawny\")","v":"Podany numer PESEL jest niepoprawny"}]
[null,null,{"$f":"IF(Walidacja!B106,\"Poprawny\",\"Podany numer PESEL jest niepoprawny\")","v":"Podany numer PESEL jest niepoprawny"}]
[null,null,{"$f":"IF(Walidacja!B107,\"Poprawny\",\"Podany numer PESEL jest niepoprawny\")","v":"Podany numer PESEL jest niepoprawny"}]
[null,null,{"$f":"IF(Walidacja!B108,\"Poprawny\",\"Podany numer PESEL jest niepoprawny\")","v":"Podany numer PESEL jest niepoprawny"}]
[null,null,{"$f":"IF(Walidacja!B109,\"Poprawny\",\"Podany numer PESEL jest niepoprawny\")","v":"Podany numer PESEL jest niepoprawny"}]
[null,null,{"$f":"IF(Walidacja!B110,\"Poprawny\",\"Podany numer PESEL jest niepoprawny\")","v":"Podany numer PESEL jest niepoprawny"}]
[null,null,{"$f":"IF(Walidacja!B111,\"Poprawny\",\"Podany numer PESEL jest niepoprawny\")","v":"Podany numer PESEL jest niepoprawny"}]
[null,null,{"$f":"IF(Walidacja!B112,\"Poprawny\",\"Podany numer PESEL jest niepoprawny\")","v":"Podany numer PESEL jest niepoprawny"}]
[null,null,{"$f":"IF(Walidacja!B113,\"Poprawny\",\"Podany numer PESEL jest niepoprawny\")","v":"Podany numer PESEL jest niepoprawny"}]
[null,null,{"$f":"IF(Walidacja!B114,\"Poprawny\",\"Podany numer PESEL jest niepoprawny\")","v":"Podany numer PESEL jest niepoprawny"}]
[null,null,{"$f":"IF(Walidacja!B115,\"Poprawny\",\"Podany numer PESEL jest niepoprawny\")","v":"Podany numer PESEL jest niepoprawny"}]
[null,null,{"$f":"IF(Walidacja!B116,\"Poprawny\",\"Podany numer PESEL jest niepoprawny\")","v":"Podany numer PESEL jest niepoprawny"}]
[null,null,{"$f":"IF(Walidacja!B117,\"Poprawny\",\"Podany numer PESEL jest niepoprawny\")","v":"Podany numer PESEL jest niepoprawny"}]
[null,null,{"$f":"IF(Walidacja!B118,\"Poprawny\",\"Podany numer PESEL jest niepoprawny\")","v":"Podany numer PESEL jest niepoprawny"}]
[null,null,{"$f":"IF(Walidacja!B119,\"Poprawny\",\"Podany numer PESEL jest niepoprawny\")","v":"Podany numer PESEL jest niepoprawny"}]
[null,null,{"$f":"IF(Walidacja!B120,\"Poprawny\",\"Podany numer PESEL jest niepoprawny\")","v":"Podany numer PESEL jest niepoprawny"}]
[null,null,{"$f":"IF(Walidacja!B121,\"Poprawny\",\"Podany numer PESEL jest niepoprawny\")","v":"Podany numer PESEL jest niepoprawny"}]
[null,null,{"$f":"IF(Walidacja!B122,\"Poprawny\",\"Podany numer PESEL jest niepoprawny\")","v":"Podany numer PESEL jest niepoprawny"}]
[null,null,{"$f":"IF(Walidacja!B123,\"Poprawny\",\"Podany numer PESEL jest niepoprawny\")","v":"Podany numer PESEL jest niepoprawny"}]
[null,null,{"$f":"IF(Walidacja!B124,\"Poprawny\",\"Podany numer PESEL jest niepoprawny\")","v":"Podany numer PESEL jest niepoprawny"}]
[null,null,{"$f":"IF(Walidacja!B125,\"Poprawny\",\"Podany numer PESEL jest niepoprawny\")","v":"Podany numer PESEL jest niepoprawny"}]
[null,null,{"$f":"IF(Walidacja!B126,\"Poprawny\",\"Podany numer PESEL jest niepoprawny\")","v":"Podany numer PESEL jest niepoprawny"}]
[null,null,{"$f":"IF(Walidacja!B127,\"Poprawny\",\"Podany numer PESEL jest niepoprawny\")","v":"Podany numer PESEL jest niepoprawny"}]
[null,null,{"$f":"IF(Walidacja!B128,\"Poprawny\",\"Podany numer PESEL jest niepoprawny\")","v":"Podany numer PESEL jest niepoprawny"}]
[null,null,{"$f":"IF(Walidacja!B129,\"Poprawny\",\"Podany numer PESEL jest niepoprawny\")","v":"Podany numer PESEL jest niepoprawny"}]
[null,null,{"$f":"IF(Walidacja!B130,\"Poprawny\",\"Podany numer PESEL jest niepoprawny\")","v":"Podany numer PESEL jest niepoprawny"}]
[null,null,{"$f":"IF(Walidacja!B131,\"Poprawny\",\"Podany numer PESEL jest niepoprawny\")","v":"Podany numer PESEL jest niepoprawny"}]
[null,null,{"$f":"IF(Walidacja!B132,\"Poprawny\",\"Podany numer PESEL jest niepoprawny\")","v":"Podany numer PESEL jest niepoprawny"}]
[null,null,{"$f":"IF(Walidacja!B133,\"Poprawny\",\"Podany numer PESEL jest niepoprawny\")","v":"Podany numer PESEL jest niepoprawny"}]
[null,null,{"$f":"IF(Walidacja!B134,\"Poprawny\",\"Podany numer PESEL jest niepoprawny\")","v":"Podany numer PESEL jest niepoprawny"}]
[null,null,{"$f":"IF(Walidacja!B135,\"Poprawny\",\"Podany numer PESEL jest niepoprawny\")","v":"Podany numer PESEL jest niepoprawny"}]
[null,null,{"$f":"IF(Walidacja!B136,\"Poprawny\",\"Podany numer PESEL jest niepoprawny\")","v":"Podany numer PESEL jest niepoprawny"}]
[null,null,{"$f":"IF(Walidacja!B137,\"Poprawny\",\"Podany numer PESEL jest niepoprawny\")","v":"Podany numer PESEL jest niepoprawny"}]
[null,null,{"$f":"IF(Walidacja!B138,\"Poprawny\",\"Podany numer PESEL jest niepoprawny\")","v":"Podany numer PESEL jest niepoprawny"}]
[null,null,{"$f":"IF(Walidacja!B139,\"Poprawny\",\"Podany numer PESEL jest niepoprawny\")","v":"Podany numer PESEL jest niepoprawny"}]
[null,null,{"$f":"IF(Walidacja!B140,\"Poprawny\",\"Podany numer PESEL jest niepoprawny\")","v":"Podany numer PESEL jest niepoprawny"}]
[null,null,{"$f":"IF(Walidacja!B141,\"Poprawny\",\"Podany numer PESEL jest niepoprawny\")","v":"Podany numer PESEL jest niepoprawny"}]
[null,null,{"$f":"IF(Walidacja!B142,\"Poprawny\",\"Podany numer PESEL jest niepoprawny\")","v":"Podany numer PESEL jest niepoprawny"}]
[null,null,{"$f":"IF(Walidacja!B143,\"Poprawny\",\"Podany numer PESEL jest niepoprawny\")","v":"Podany numer PESEL jest niepoprawny"}]
[null,null,{"$f":"IF(Walidacja!B144,\"Poprawny\",\"Podany numer PESEL jest niepoprawny\")","v":"Podany numer PESEL jest niepoprawny"}]
[null,null,{"$f":"IF(Walidacja!B145,\"Poprawny\",\"Podany numer PESEL jest niepoprawny\")","v":"Podany numer PESEL jest niepoprawny"}]
[null,null,{"$f":"IF(Walidacja!B146,\"Poprawny\",\"Podany numer PESEL jest niepoprawny\")","v":"Podany numer PESEL jest niepoprawny"}]
[null,null,{"$f":"IF(Walidacja!B147,\"Poprawny\",\"Podany numer PESEL jest niepoprawny\")","v":"Podany numer PESEL jest niepoprawny"}]
[null,null,{"$f":"IF(Walidacja!B148,\"Poprawny\",\"Podany numer PESEL jest niepoprawny\")","v":"Podany numer PESEL jest niepoprawny"}]
[null,null,{"$f":"IF(Walidacja!B149,\"Poprawny\",\"Podany numer PESEL jest niepoprawny\")","v":"Podany numer PESEL jest niepoprawny"}]
[null,null,{"$f":"IF(Walidacja!B150,\"Poprawny\",\"Podany numer PESEL jest niepoprawny\")","v":"Podany numer PESEL jest niepoprawny"}]
[null,null,{"$f":"IF(Walidacja!B151,\"Poprawny\",\"Podany numer PESEL jest niepoprawny\")","v":"Podany numer PESEL jest niepoprawny"}]
[null,null,{"$f":"IF(Walidacja!B152,\"Poprawny\",\"Podany numer PESEL jest niepoprawny\")","v":"Podany numer PESEL jest niepoprawny"}]
[null,null,{"$f":"IF(Walidacja!B153,\"Poprawny\",\"Podany numer PESEL jest niepoprawny\")","v":"Podany numer PESEL jest niepoprawny"}]
[null,null,{"$f":"IF(Walidacja!B154,\"Poprawny\",\"Podany numer PESEL jest niepoprawny\")","v":"Podany numer PESEL jest niepoprawny"}]
[null,null,{"$f":"IF(Walidacja!B155,\"Poprawny\",\"Podany numer PESEL jest niepoprawny\")","v":"Podany numer PESEL jest niepoprawny"}]
[null,null,{"$f":"IF(Walidacja!B156,\"Poprawny\",\"Podany numer PESEL jest niepoprawny\")","v":"Podany numer PESEL jest niepoprawny"}]
[null,null,{"$f":"IF(Walidacja!B157,\"Poprawny\",\"Podany numer PESEL jest niepoprawny\")","v":"Podany numer PESEL jest niepoprawny"}]
[null,null,{"$f":"IF(Walidacja!B158,\"Poprawny\",\"Podany numer PESEL jest niepoprawny\")","v":"Podany numer PESEL jest niepoprawny"}]
[null,null,{"$f":"IF(Walidacja!B159,\"Poprawny\",\"Podany numer PESEL jest niepoprawny\")","v":"Podany numer PESEL jest niepoprawny"}]
[null,null,{"$f":"IF(Walidacja!B160,\"Poprawny\",\"Podany numer PESEL jest niepoprawny\")","v":"Podany numer PESEL jest niepoprawny"}]
[null,null,{"$f":"IF(Walidacja!B161,\"Poprawny\",\"Podany numer PESEL jest niepoprawny\")","v":"Podany numer PESEL jest niepoprawny"}]
[null,null,{"$f":"IF(Walidacja!B162,\"Poprawny\",\"Podany numer PESEL jest niepoprawny\")","v":"Podany numer PESEL jest niepoprawny"}]
[null,null,{"$f":"IF(Walidacja!B163,\"Poprawny\",\"Podany numer PESEL jest niepoprawny\")","v":"Podany numer PESEL jest niepoprawny"}]
[null,null,{"$f":"IF(Walidacja!B164,\"Poprawny\",\"Podany numer PESEL jest niepoprawny\")","v":"Podany numer PESEL jest niepoprawny"}]
[null,null,{"$f":"IF(Walidacja!B165,\"Poprawny\",\"Podany numer PESEL jest niepoprawny\")","v":"Podany numer PESEL jest niepoprawny"}]
[null,null,{"$f":"IF(Walidacja!B166,\"Poprawny\",\"Podany numer PESEL jest niepoprawny\")","v":"Podany numer PESEL jest niepoprawny"}]
[null,null,{"$f":"IF(Walidacja!B167,\"Poprawny\",\"Podany numer PESEL jest niepoprawny\")","v":"Podany numer PESEL jest niepoprawny"}]
[null,null,{"$f":"IF(Walidacja!B168,\"Poprawny\",\"Podany numer PESEL jest niepoprawny\")","v":"Podany numer PESEL jest niepoprawny"}]
[null,null,{"$f":"IF(Walidacja!B169,\"Poprawny\",\"Podany numer PESEL jest niepoprawny\")","v":"Podany numer PESEL jest niepoprawny"}]
[null,null,{"$f":"IF(Walidacja!B170,\"Poprawny\",\"Podany numer PESEL jest niepoprawny\")","v":"Podany numer PESEL jest niepoprawny"}]
[null,null,{"$f":"IF(Walidacja!B171,\"Poprawny\",\"Podany numer PESEL jest niepoprawny\")","v":"Podany numer PESEL jest niepoprawny"}]
[null,null,{"$f":"IF(Walidacja!B172,\"Poprawny\",\"Podany numer PESEL jest niepoprawny\")","v":"Podany numer PESEL jest niepoprawny"}]
[null,null,{"$f":"IF(Walidacja!B173,\"Poprawny\",\"Podany numer PESEL jest niepoprawny\")","v":"Podany numer PESEL jest niepoprawny"}]
[null,null,{"$f":"IF(Walidacja!B174,\"Poprawny\",\"Podany numer PESEL jest niepoprawny\")","v":"Podany numer PESEL jest niepoprawny"}]
[null,null,{"$f":"IF(Walidacja!B175,\"Poprawny\",\"Podany numer PESEL jest niepoprawny\")","v":"Podany numer PESEL jest niepoprawny"}]
[null,null,{"$f":"IF(Walidacja!B176,\"Poprawny\",\"Podany numer PESEL jest niepoprawny\")","v":"Podany numer PESEL jest niepoprawny"}]
[null,null,{"$f":"IF(Walidacja!B177,\"Poprawny\",\"Podany numer PESEL jest niepoprawny\")","v":"Podany numer PESEL jest niepoprawny"}]
[null,null,{"$f":"IF(Walidacja!B178,\"Poprawny\",\"Podany numer PESEL jest niepoprawny\")","v":"Podany numer PESEL jest niepoprawny"}]
[null,null,{"$f":"IF(Walidacja!B179,\"Poprawny\",\"Podany numer PESEL jest niepoprawny\")","v":"Podany numer PESEL jest niepoprawny"}]
[null,null,{"$f":"IF(Walidacja!B180,\"Poprawny\",\"Podany numer PESEL jest niepoprawny\")","v":"Podany numer PESEL jest niepoprawny"}]
[null,null,{"$f":"IF(Walidacja!B181,\"Poprawny\",\"Podany numer PESEL jest niepoprawny\")","v":"Podany numer PESEL jest niepoprawny"}]
[null,null,{"$f":"IF(Walidacja!B182,\"Poprawny\",\"Podany numer PESEL jest niepoprawny\")","v":"Podany numer PESEL jest niepoprawny"}]
[null,null,{"$f":"IF(Walidacja!B183,\"Poprawny\",\"Podany numer PESEL jest niepoprawny\")","v":"Podany numer PESEL jest niepoprawny"}]
[null,null,{"$f":"IF(Walidacja!B184,\"Poprawny\",\"Podany numer PESEL jest niepoprawny\")","v":"Podany numer PESEL jest niepoprawny"}]
[null,null,{"$f":"IF(Walidacja!B185,\"Poprawny\",\"Podany numer PESEL jest niepoprawny\")","v":"Podany numer PESEL jest niepoprawny"}]
[null,null,{"$f":"IF(Walidacja!B186,\"Poprawny\",\"Podany numer PESEL jest niepoprawny\")","v":"Podany numer PESEL jest niepoprawny"}]
[null,null,{"$f":"IF(Walidacja!B187,\"Poprawny\",\"Podany numer PESEL jest niepoprawny\")","v":"Podany numer PESEL jest niepoprawny"}]
[null,null,{"$f":"IF(Walidacja!B188,\"Poprawny\",\"Podany numer PESEL jest niepoprawny\")","v":"Podany numer PESEL jest niepoprawny"}]
[null,null,{"$f":"IF(Walidacja!B189,\"Poprawny\",\"Podany numer PESEL jest niepoprawny\")","v":"Podany numer PESEL jest niepoprawny"}]
[null,null,{"$f":"IF(Walidacja!B190,\"Poprawny\",\"Podany numer PESEL jest niepoprawny\")","v":"Podany numer PESEL jest niepoprawny"}]
[null,null,{"$f":"IF(Walidacja!B191,\"Poprawny\",\"Podany numer PESEL jest niepoprawny\")","v":"Podany numer PESEL jest niepoprawny"}]
[null,null,{"$f":"IF(Walidacja!B192,\"Poprawny\",\"Podany numer PESEL jest niepoprawny\")","v":"Podany numer PESEL jest niepoprawny"}]
[null,null,{"$f":"IF(Walidacja!B193,\"Poprawny\",\"Podany numer PESEL jest niepoprawny\")","v":"Podany numer PESEL jest niepoprawny"}]
[null,null,{"$f":"IF(Walidacja!B194,\"Poprawny\",\"Podany numer PESEL jest niepoprawny\")","v":"Podany numer PESEL jest niepoprawny"}]
[null,null,{"$f":"IF(Walidacja!B195,\"Poprawny\",\"Podany numer PESEL jest niepoprawny\")","v":"Podany numer PESEL jest niepoprawny"}]
[null,null,{"$f":"IF(Walidacja!B196,\"Poprawny\",\"Podany numer PESEL jest niepoprawny\")","v":"Podany numer PESEL jest niepoprawny"}]
[null,null,{"$f":"IF(Walidacja!B197,\"Poprawny\",\"Podany numer PESEL jest niepoprawny\")","v":"Podany numer PESEL jest niepoprawny"}]
[null,null,{"$f":"IF(Walidacja!B198,\"Poprawny\",\"Podany numer PESEL jest niepoprawny\")","v":"Podany numer PESEL jest niepoprawny"}]
[null,null,{"$f":"IF(Walidacja!B199,\"Poprawny\",\"Podany numer PESEL jest niepoprawny\")","v":"Podany numer PESEL jest niepoprawny"}]
[null,null,{"$f":"IF(Walidacja!B200,\"Poprawny\",\"Podany numer PESEL jest niepoprawny\")","v":"Podany numer PESEL jest niepoprawny"}]
[null,null,{"$f":"IF(Walidacja!B201,\"Poprawny\",\"Podany numer PESEL jest niepoprawny\")","v":"Podany numer PESEL jest niepoprawny"}]
[null,null,{"$f":"IF(Walidacja!B202,\"Poprawny\",\"Podany numer PESEL jest niepoprawny\")","v":"Podany numer PESEL jest niepoprawny"}]
[null,null,{"$f":"IF(Walidacja!B203,\"Poprawny\",\"Podany numer PESEL jest niepoprawny\")","v":"Podany numer PESEL jest niepoprawny"}]
[null,null,{"$f":"IF(Walidacja!B204,\"Poprawny\",\"Podany numer PESEL jest niepoprawny\")","v":"Podany numer PESEL jest niepoprawny"}]
[null,null,{"$f":"IF(Walidacja!B205,\"Poprawny\",\"Podany numer PESEL jest niepoprawny\")","v":"Podany numer PESEL jest niepoprawny"}]
[null,null,{"$f":"IF(Walidacja!B206,\"Poprawny\",\"Podany numer PESEL jest niepoprawny\")","v":"Podany numer PESEL jest niepoprawny"}]
[null,null,{"$f":"IF(Walidacja!B207,\"Poprawny\",\"Podany numer PESEL jest niepoprawny\")","v":"Podany numer PESEL jest niepoprawny"}]
[null,null,{"$f":"IF(Walidacja!B208,\"Poprawny\",\"Podany numer PESEL jest niepoprawny\")","v":"Podany numer PESEL jest niepoprawny"}]
[null,null,{"$f":"IF(Walidacja!B209,\"Poprawny\",\"Podany numer PESEL jest niepoprawny\")","v":"Podany numer PESEL jest niepoprawny"}]
[null,null,{"$f":"IF(Walidacja!B210,\"Poprawny\",\"Podany numer PESEL jest niepoprawny\")","v":"Podany numer PESEL jest niepoprawny"}]
[null,null,{"$f":"IF(Walidacja!B211,\"Poprawny\",\"Podany numer PESEL jest niepoprawny\")","v":"Podany numer PESEL jest niepoprawny"}]
[null,null,{"$f":"IF(Walidacja!B212,\"Poprawny\",\"Podany numer PESEL jest niepoprawny\")","v":"Podany numer PESEL jest niepoprawny"}]
[null,null,{"$f":"IF(Walidacja!B213,\"Poprawny\",\"Podany numer PESEL jest niepoprawny\")","v":"Podany numer PESEL jest niepoprawny"}]
[null,null,{"$f":"IF(Walidacja!B214,\"Poprawny\",\"Podany numer PESEL jest niepoprawny\")","v":"Podany numer PESEL jest niepoprawny"}]
[null,null,{"$f":"IF(Walidacja!B215,\"Poprawny\",\"Podany numer PESEL jest niepoprawny\")","v":"Podany numer PESEL jest niepoprawny"}]
[null,null,{"$f":"IF(Walidacja!B216,\"Poprawny\",\"Podany numer PESEL jest niepoprawny\")","v":"Podany numer PESEL jest niepoprawny"}]
[null,null,{"$f":"IF(Walidacja!B217,\"Poprawny\",\"Podany numer PESEL jest niepoprawny\")","v":"Podany numer PESEL jest niepoprawny"}]
[null,null,{"$f":"IF(Walidacja!B218,\"Poprawny\",\"Podany numer PESEL jest niepoprawny\")","v":"Podany numer PESEL jest niepoprawny"}]
[null,null,{"$f":"IF(Walidacja!B219,\"Poprawny\",\"Podany numer PESEL jest niepoprawny\")","v":"Podany numer PESEL jest niepoprawny"}]
[null,null,{"$f":"IF(Walidacja!B220,\"Poprawny\",\"Podany numer PESEL jest niepoprawny\")","v":"Podany numer PESEL jest niepoprawny"}]
[null,null,{"$f":"IF(Walidacja!B221,\"Poprawny\",\"Podany numer PESEL jest niepoprawny\")","v":"Podany numer PESEL jest niepoprawny"}]
[null,null,{"$f":"IF(Walidacja!B222,\"Poprawny\",\"Podany numer PESEL jest niepoprawny\")","v":"Podany numer PESEL jest niepoprawny"}]
[null,null,{"$f":"IF(Walidacja!B223,\"Poprawny\",\"Podany numer PESEL jest niepoprawny\")","v":"Podany numer PESEL jest niepoprawny"}]
[null,null,{"$f":"IF(Walidacja!B224,\"Poprawny\",\"Podany numer PESEL jest niepoprawny\")","v":"Podany numer PESEL jest niepoprawny"}]
[null,null,{"$f":"IF(Walidacja!B225,\"Poprawny\",\"Podany numer PESEL jest niepoprawny\")","v":"Podany numer PESEL jest niepoprawny"}]
[null,null,{"$f":"IF(Walidacja!B226,\"Poprawny\",\"Podany numer PESEL jest niepoprawny\")","v":"Podany numer PESEL jest niepoprawny"}]
[null,null,{"$f":"IF(Walidacja!B227,\"Poprawny\",\"Podany numer PESEL jest niepoprawny\")","v":"Podany numer PESEL jest niepoprawny"}]
[null,null,{"$f":"IF(Walidacja!B228,\"Poprawny\",\"Podany numer PESEL jest niepoprawny\")","v":"Podany numer PESEL jest niepoprawny"}]
[null,null,{"$f":"IF(Walidacja!B229,\"Poprawny\",\"Podany numer PESEL jest niepoprawny\")","v":"Podany numer PESEL jest niepoprawny"}]
[null,null,{"$f":"IF(Walidacja!B230,\"Poprawny\",\"Podany numer PESEL jest niepoprawny\")","v":"Podany numer PESEL jest niepoprawny"}]
[null,null,{"$f":"IF(Walidacja!B231,\"Poprawny\",\"Podany numer PESEL jest niepoprawny\")","v":"Podany numer PESEL jest niepoprawny"}]
[null,null,{"$f":"IF(Walidacja!B232,\"Poprawny\",\"Podany numer PESEL jest niepoprawny\")","v":"Podany numer PESEL jest niepoprawny"}]
[null,null,{"$f":"IF(Walidacja!B233,\"Poprawny\",\"Podany numer PESEL jest niepoprawny\")","v":"Podany numer PESEL jest niepoprawny"}]
[null,null,{"$f":"IF(Walidacja!B234,\"Poprawny\",\"Podany numer PESEL jest niepoprawny\")","v":"Podany numer PESEL jest niepoprawny"}]
[null,null,{"$f":"IF(Walidacja!B235,\"Poprawny\",\"Podany numer PESEL jest niepoprawny\")","v":"Podany numer PESEL jest niepoprawny"}]
[null,null,{"$f":"IF(Walidacja!B236,\"Poprawny\",\"Podany numer PESEL jest niepoprawny\")","v":"Podany numer PESEL jest niepoprawny"}]
[null,null,{"$f":"IF(Walidacja!B237,\"Poprawny\",\"Podany numer PESEL jest niepoprawny\")","v":"Podany numer PESEL jest niepoprawny"}]
[null,null,{"$f":"IF(Walidacja!B238,\"Poprawny\",\"Podany numer PESEL jest niepoprawny\")","v":"Podany numer PESEL jest niepoprawny"}]
[null,null,{"$f":"IF(Walidacja!B239,\"Poprawny\",\"Podany numer PESEL jest niepoprawny\")","v":"Podany numer PESEL jest niepoprawny"}]
[null,null,{"$f":"IF(Walidacja!B240,\"Poprawny\",\"Podany numer PESEL jest niepoprawny\")","v":"Podany numer PESEL jest niepoprawny"}]
[null,null,{"$f":"IF(Walidacja!B241,\"Poprawny\",\"Podany numer PESEL jest niepoprawny\")","v":"Podany numer PESEL jest niepoprawny"}]
[null,null,{"$f":"IF(Walidacja!B242,\"Poprawny\",\"Podany numer PESEL jest niepoprawny\")","v":"Podany numer PESEL jest niepoprawny"}]
[null,null,{"$f":"IF(Walidacja!B243,\"Poprawny\",\"Podany numer PESEL jest niepoprawny\")","v":"Podany numer PESEL jest niepoprawny"}]
[null,null,{"$f":"IF(Walidacja!B244,\"Poprawny\",\"Podany numer PESEL jest niepoprawny\")","v":"Podany numer PESEL jest niepoprawny"}]
[null,null,{"$f":"IF(Walidacja!B245,\"Poprawny\",\"Podany numer PESEL jest niepoprawny\")","v":"Podany numer PESEL jest niepoprawny"}]
[null,null,{"$f":"IF(Walidacja!B246,\"Poprawny\",\"Podany numer PESEL jest niepoprawny\")","v":"Podany numer PESEL jest niepoprawny"}]
[null,null,{"$f":"IF(Walidacja!B247,\"Poprawny\",\"Podany numer PESEL jest niepoprawny\")","v":"Podany numer PESEL jest niepoprawny"}]
[null,null,{"$f":"IF(Walidacja!B248,\"Poprawny\",\"Podany numer PESEL jest niepoprawny\")","v":"Podany numer PESEL jest niepoprawny"}]
[null,null,{"$f":"IF(Walidacja!B249,\"Poprawny\",\"Podany numer PESEL jest niepoprawny\")","v":"Podany numer PESEL jest niepoprawny"}]
[null,null,{"$f":"IF(Walidacja!B250,\"Poprawny\",\"Podany numer PESEL jest niepoprawny\")","v":"Podany numer PESEL jest niepoprawny"}]
[null,null,{"$f":"IF(Walidacja!B251,\"Poprawny\",\"Podany numer PESEL jest niepoprawny\")","v":"Podany numer PESEL jest niepoprawny"}]
[null,null,{"$f":"IF(Walidacja!B252,\"Poprawny\",\"Podany numer PESEL jest niepoprawny\")","v":"Podany numer PESEL jest niepoprawny"}]
[null,null,{"$f":"IF(Walidacja!B253,\"Poprawny\",\"Podany numer PESEL jest niepoprawny\")","v":"Podany numer PESEL jest niepoprawny"}]
[null,null,{"$f":"IF(Walidacja!B254,\"Poprawny\",\"Podany numer PESEL jest niepoprawny\")","v":"Podany numer PESEL jest niepoprawny"}]
[null,null,{"$f":"IF(Walidacja!B255,\"Poprawny\",\"Podany numer PESEL jest niepoprawny\")","v":"Podany numer PESEL jest niepoprawny"}]
[null,null,{"$f":"IF(Walidacja!B256,\"Poprawny\",\"Podany numer PESEL jest niepoprawny\")","v":"Podany numer PESEL jest niepoprawny"}]
[null,null,{"$f":"IF(Walidacja!B257,\"Poprawny\",\"Podany numer PESEL jest niepoprawny\")","v":"Podany numer PESEL jest niepoprawny"}]
[null,null,{"$f":"IF(Walidacja!B258,\"Poprawny\",\"Podany numer PESEL jest niepoprawny\")","v":"Podany numer PESEL jest niepoprawny"}]
[null,null,{"$f":"IF(Walidacja!B259,\"Poprawny\",\"Podany numer PESEL jest niepoprawny\")","v":"Podany numer PESEL jest niepoprawny"}]
[null,null,{"$f":"IF(Walidacja!B260,\"Poprawny\",\"Podany numer PESEL jest niepoprawny\")","v":"Podany numer PESEL jest niepoprawny"}]
[null,null,{"$f":"IF(Walidacja!B261,\"Poprawny\",\"Podany numer PESEL jest niepoprawny\")","v":"Podany numer PESEL jest niepoprawny"}]
[null,null,{"$f":"IF(Walidacja!B262,\"Poprawny\",\"Podany numer PESEL jest niepoprawny\")","v":"Podany numer PESEL jest niepoprawny"}]
[null,null,{"$f":"IF(Walidacja!B263,\"Poprawny\",\"Podany numer PESEL jest niepoprawny\")","v":"Podany numer PESEL jest niepoprawny"}]
[null,null,{"$f":"IF(Walidacja!B264,\"Poprawny\",\"Podany numer PESEL jest niepoprawny\")","v":"Podany numer PESEL jest niepoprawny"}]
[null,null,{"$f":"IF(Walidacja!B265,\"Poprawny\",\"Podany numer PESEL jest niepoprawny\")","v":"Podany numer PESEL jest niepoprawny"}]
[null,null,{"$f":"IF(Walidacja!B266,\"Poprawny\",\"Podany numer PESEL jest niepoprawny\")","v":"Podany numer PESEL jest niepoprawny"}]
[null,null,{"$f":"IF(Walidacja!B267,\"Poprawny\",\"Podany numer PESEL jest niepoprawny\")","v":"Podany numer PESEL jest niepoprawny"}]
[null,null,{"$f":"IF(Walidacja!B268,\"Poprawny\",\"Podany numer PESEL jest niepoprawny\")","v":"Podany numer PESEL jest niepoprawny"}]
[null,null,{"$f":"IF(Walidacja!B269,\"Poprawny\",\"Podany numer PESEL jest niepoprawny\")","v":"Podany numer PESEL jest niepoprawny"}]
[null,null,{"$f":"IF(Walidacja!B270,\"Poprawny\",\"Podany numer PESEL jest niepoprawny\")","v":"Podany numer PESEL jest niepoprawny"}]
[null,null,{"$f":"IF(Walidacja!B271,\"Poprawny\",\"Podany numer PESEL jest niepoprawny\")","v":"Podany numer PESEL jest niepoprawny"}]
[null,null,{"$f":"IF(Walidacja!B272,\"Poprawny\",\"Podany numer PESEL jest niepoprawny\")","v":"Podany numer PESEL jest niepoprawny"}]
[null,null,{"$f":"IF(Walidacja!B273,\"Poprawny\",\"Podany numer PESEL jest niepoprawny\")","v":"Podany numer PESEL jest niepoprawny"}]
[null,null,{"$f":"IF(Walidacja!B274,\"Poprawny\",\"Podany numer PESEL jest niepoprawny\")","v":"Podany numer PESEL jest niepoprawny"}]
[null,null,{"$f":"IF(Walidacja!B275,\"Poprawny\",\"Podany numer PESEL jest niepoprawny\")","v":"Podany numer PESEL jest niepoprawny"}]
[null,null,{"$f":"IF(Walidacja!B276,\"Poprawny\",\"Podany numer PESEL jest niepoprawny\")","v":"Podany numer PESEL jest niepoprawny"}]
[null,null,{"$f":"IF(Walidacja!B277,\"Poprawny\",\"Podany numer PESEL jest niepoprawny\")","v":"Podany numer PESEL jest niepoprawny"}]
[null,null,{"$f":"IF(Walidacja!B278,\"Poprawny\",\"Podany numer PESEL jest niepoprawny\")","v":"Podany numer PESEL jest niepoprawny"}]
[null,null,{"$f":"IF(Walidacja!B279,\"Poprawny\",\"Podany numer PESEL jest niepoprawny\")","v":"Podany numer PESEL jest niepoprawny"}]
[null,null,{"$f":"IF(Walidacja!B280,\"Poprawny\",\"Podany numer PESEL jest niepoprawny\")","v":"Podany numer PESEL jest niepoprawny"}]
[null,null,{"$f":"IF(Walidacja!B281,\"Poprawny\",\"Podany numer PESEL jest niepoprawny\")","v":"Podany numer PESEL jest niepoprawny"}]
[null,null,{"$f":"IF(Walidacja!B282,\"Poprawny\",\"Podany numer PESEL jest niepoprawny\")","v":"Podany numer PESEL jest niepoprawny"}]
[null,null,{"$f":"IF(Walidacja!B283,\"Poprawny\",\"Podany numer PESEL jest niepoprawny\")","v":"Podany numer PESEL jest niepoprawny"}]
[null,null,{"$f":"IF(Walidacja!B284,\"Poprawny\",\"Podany numer PESEL jest niepoprawny\")","v":"Podany numer PESEL jest niepoprawny"}]
[null,null,{"$f":"IF(Walidacja!B285,\"Poprawny\",\"Podany numer PESEL jest niepoprawny\")","v":"Podany numer PESEL jest niepoprawny"}]
[null,null,{"$f":"IF(Walidacja!B286,\"Poprawny\",\"Podany numer PESEL jest niepoprawny\")","v":"Podany numer PESEL jest niepoprawny"}]
[null,null,{"$f":"IF(Walidacja!B287,\"Poprawny\",\"Podany numer PESEL jest niepoprawny\")","v":"Podany numer PESEL jest niepoprawny"}]
[null,null,{"$f":"IF(Walidacja!B288,\"Poprawny\",\"Podany numer PESEL jest niepoprawny\")","v":"Podany numer PESEL jest niepoprawny"}]
[null,null,{"$f":"IF(Walidacja!B289,\"Poprawny\",\"Podany numer PESEL jest niepoprawny\")","v":"Podany numer PESEL jest niepoprawny"}]
[null,null,{"$f":"IF(Walidacja!B290,\"Poprawny\",\"Podany numer PESEL jest niepoprawny\")","v":"Podany numer PESEL jest niepoprawny"}]
[null,null,{"$f":"IF(Walidacja!B291,\"Poprawny\",\"Podany numer PESEL jest niepoprawny\")","v":"Podany numer PESEL jest niepoprawny"}]
[null,null,{"$f":"IF(Walidacja!B292,\"Poprawny\",\"Podany numer PESEL jest niepoprawny\")","v":"Podany numer PESEL jest niepoprawny"}]
[null,null,{"$f":"IF(Walidacja!B293,\"Poprawny\",\"Podany numer PESEL jest niepoprawny\")","v":"Podany numer PESEL jest niepoprawny"}]
[null,null,{"$f":"IF(Walidacja!B294,\"Poprawny\",\"Podany numer PESEL jest niepoprawny\")","v":"Podany numer PESEL jest niepoprawny"}]
[null,null,{"$f":"IF(Walidacja!B295,\"Poprawny\",\"Podany numer PESEL jest niepoprawny\")","v":"Podany numer PESEL jest niepoprawny"}]
[null,null,{"$f":"IF(Walidacja!B296,\"Poprawny\",\"Podany numer PESEL jest niepoprawny\")","v":"Podany numer PESEL jest niepoprawny"}]
[null,null,{"$f":"IF(Walidacja!B297,\"Poprawny\",\"Podany numer PESEL jest niepoprawny\")","v":"Podany numer PESEL jest niepoprawny"}]
[null,null,{"$f":"IF(Walidacja!B298,\"Poprawny\",\"Podany numer PESEL jest niepoprawny\")","v":"Podany numer PESEL jest niepoprawny"}]
[null,null,{"$f":"IF(Walidacja!B299,\"Poprawny\",\"Podany numer PESEL jest niepoprawny\")","v":"Podany numer PESEL jest niepoprawny"}]
[null,null,{"$f":"IF(Walidacja!B300,\"Poprawny\",\"Podany numer PESEL jest niepoprawny\")","v":"Podany numer PESEL jest niepoprawny"}]
[null,null,{"$f":"IF(Walidacja!B301,\"Poprawny\",\"Podany numer PESEL jest niepoprawny\")","v":"Podany numer PESEL jest niepoprawny"}]
[null,null,{"$f":"IF(Walidacja!B302,\"Poprawny\",\"Podany numer PESEL jest niepoprawny\")","v":"Podany numer PESEL jest niepoprawny"}]
[null,null,{"$f":"IF(Walidacja!B303,\"Poprawny\",\"Podany numer PESEL jest niepoprawny\")","v":"Podany numer PESEL jest niepoprawny"}]
[null,null,{"$f":"IF(Walidacja!B304,\"Poprawny\",\"Podany numer PESEL jest niepoprawny\")","v":"Podany numer PESEL jest niepoprawny"}]
[null,null,{"$f":"IF(Walidacja!B305,\"Poprawny\",\"Podany numer PESEL jest niepoprawny\")","v":"Podany numer PESEL jest niepoprawny"}]
[null,null,{"$f":"IF(Walidacja!B306,\"Poprawny\",\"Podany numer PESEL jest niepoprawny\")","v":"Podany numer PESEL jest niepoprawny"}]
[null,null,{"$f":"IF(Walidacja!B307,\"Poprawny\",\"Podany numer PESEL jest niepoprawny\")","v":"Podany numer PESEL jest niepoprawny"}]
[null,null,{"$f":"IF(Walidacja!B308,\"Poprawny\",\"Podany numer PESEL jest niepoprawny\")","v":"Podany numer PESEL jest niepoprawny"}]
[null,null,{"$f":"IF(Walidacja!B309,\"Poprawny\",\"Podany numer PESEL jest niepoprawny\")","v":"Podany numer PESEL jest niepoprawny"}]
[null,null,{"$f":"IF(Walidacja!B310,\"Poprawny\",\"Podany numer PESEL jest niepoprawny\")","v":"Podany numer PESEL jest niepoprawny"}]
[null,null,{"$f":"IF(Walidacja!B311,\"Poprawny\",\"Podany numer PESEL jest niepoprawny\")","v":"Podany numer PESEL jest niepoprawny"}]
[null,null,{"$f":"IF(Walidacja!B312,\"Poprawny\",\"Podany numer PESEL jest niepoprawny\")","v":"Podany numer PESEL jest niepoprawny"}]
[null,null,{"$f":"IF(Walidacja!B313,\"Poprawny\",\"Podany numer PESEL jest niepoprawny\")","v":"Podany numer PESEL jest niepoprawny"}]
[null,null,{"$f":"IF(Walidacja!B314,\"Poprawny\",\"Podany numer PESEL jest niepoprawny\")","v":"Podany numer PESEL jest niepoprawny"}]
[null,null,{"$f":"IF(Walidacja!B315,\"Poprawny\",\"Podany numer PESEL jest niepoprawny\")","v":"Podany numer PESEL jest niepoprawny"}]
[null,null,{"$f":"IF(Walidacja!B316,\"Poprawny\",\"Podany numer PESEL jest niepoprawny\")","v":"Podany numer PESEL jest niepoprawny"}]
[null,null,{"$f":"IF(Walidacja!B317,\"Poprawny\",\"Podany numer PESEL jest niepoprawny\")","v":"Podany numer PESEL jest niepoprawny"}]
[null,null,{"$f":"IF(Walidacja!B318,\"Poprawny\",\"Podany numer PESEL jest niepoprawny\")","v":"Podany numer PESEL jest niepoprawny"}]
[null,null,{"$f":"IF(Walidacja!B319,\"Poprawny\",\"Podany numer PESEL jest niepoprawny\")","v":"Podany numer PESEL jest niepoprawny"}]
[null,null,{"$f":"IF(Walidacja!B320,\"Poprawny\",\"Podany numer PESEL jest niepoprawny\")","v":"Podany numer PESEL jest niepoprawny"}]
[null,null,{"$f":"IF(Walidacja!B321,\"Poprawny\",\"Podany numer PESEL jest niepoprawny\")","v":"Podany numer PESEL jest niepoprawny"}]
[null,null,{"$f":"IF(Walidacja!B322,\"Poprawny\",\"Podany numer PESEL jest niepoprawny\")","v":"Podany numer PESEL jest niepoprawny"}]
[null,null,{"$f":"IF(Walidacja!B323,\"Poprawny\",\"Podany numer PESEL jest niepoprawny\")","v":"Podany numer PESEL jest niepoprawny"}]
[null,null,{"$f":"IF(Walidacja!B324,\"Poprawny\",\"Podany numer PESEL jest niepoprawny\")","v":"Podany numer PESEL jest niepoprawny"}]
[null,null,{"$f":"IF(Walidacja!B325,\"Poprawny\",\"Podany numer PESEL jest niepoprawny\")","v":"Podany numer PESEL jest niepoprawny"}]
[null,null,{"$f":"IF(Walidacja!B326,\"Poprawny\",\"Podany numer PESEL jest niepoprawny\")","v":"Podany numer PESEL jest niepoprawny"}]
[null,null,{"$f":"IF(Walidacja!B327,\"Poprawny\",\"Podany numer PESEL jest niepoprawny\")","v":"Podany numer PESEL jest niepoprawny"}]
[null,null,{"$f":"IF(Walidacja!B328,\"Poprawny\",\"Podany numer PESEL jest niepoprawny\")","v":"Podany numer PESEL jest niepoprawny"}]
[null,null,{"$f":"IF(Walidacja!B329,\"Poprawny\",\"Podany numer PESEL jest niepoprawny\")","v":"Podany numer PESEL jest niepoprawny"}]
[null,null,{"$f":"IF(Walidacja!B330,\"Poprawny\",\"Podany numer PESEL jest niepoprawny\")","v":"Podany numer PESEL jest niepoprawny"}]
[null,null,{"$f":"IF(Walidacja!B331,\"Poprawny\",\"Podany numer PESEL jest niepoprawny\")","v":"Podany numer PESEL jest niepoprawny"}]
[null,null,{"$f":"IF(Walidacja!B332,\"Poprawny\",\"Podany numer PESEL jest niepoprawny\")","v":"Podany numer PESEL jest niepoprawny"}]
[null,null,{"$f":"IF(Walidacja!B333,\"Poprawny\",\"Podany numer PESEL jest niepoprawny\")","v":"Podany numer PESEL jest niepoprawny"}]
[null,null,{"$f":"IF(Walidacja!B334,\"Poprawny\",\"Podany numer PESEL jest niepoprawny\")","v":"Podany numer PESEL jest niepoprawny"}]
[null,null,{"$f":"IF(Walidacja!B335,\"Poprawny\",\"Podany numer PESEL jest niepoprawny\")","v":"Podany numer PESEL jest niepoprawny"}]
[null,null,{"$f":"IF(Walidacja!B336,\"Poprawny\",\"Podany numer PESEL jest niepoprawny\")","v":"Podany numer PESEL jest niepoprawny"}]
[null,null,{"$f":"IF(Walidacja!B337,\"Poprawny\",\"Podany numer PESEL jest niepoprawny\")","v":"Podany numer PESEL jest niepoprawny"}]
[null,null,{"$f":"IF(Walidacja!B338,\"Poprawny\",\"Podany numer PESEL jest niepoprawny\")","v":"Podany numer PESEL jest niepoprawny"}]
[null,null,{"$f":"IF(Walidacja!B339,\"Poprawny\",\"Podany numer PESEL jest niepoprawny\")","v":"Podany numer PESEL jest niepoprawny"}]
[null,null,{"$f":"IF(Walidacja!B340,\"Poprawny\",\"Podany numer PESEL jest niepoprawny\")","v":"Podany numer PESEL jest niepoprawny"}]
[null,null,{"$f":"IF(Walidacja!B341,\"Poprawny\",\"Podany numer PESEL jest niepoprawny\")","v":"Podany numer PESEL jest niepoprawny"}]
[null,null,{"$f":"IF(Walidacja!B342,\"Poprawny\",\"Podany numer PESEL jest niepoprawny\")","v":"Podany numer PESEL jest niepoprawny"}]
[null,null,{"$f":"IF(Walidacja!B343,\"Poprawny\",\"Podany numer PESEL jest niepoprawny\")","v":"Podany numer PESEL jest niepoprawny"}]
[null,null,{"$f":"IF(Walidacja!B344,\"Poprawny\",\"Podany numer PESEL jest niepoprawny\")","v":"Podany numer PESEL jest niepoprawny"}]
[null,null,{"$f":"IF(Walidacja!B345,\"Poprawny\",\"Podany numer PESEL jest niepoprawny\")","v":"Podany numer PESEL jest niepoprawny"}]
[null,null,{"$f":"IF(Walidacja!B346,\"Poprawny\",\"Podany numer PESEL jest niepoprawny\")","v":"Podany numer PESEL jest niepoprawny"}]
[null,null,{"$f":"IF(Walidacja!B347,\"Poprawny\",\"Podany numer PESEL jest niepoprawny\")","v":"Podany numer PESEL jest niepoprawny"}]
[null,null,{"$f":"IF(Walidacja!B348,\"Poprawny\",\"Podany numer PESEL jest niepoprawny\")","v":"Podany numer PESEL jest niepoprawny"}]
[null,null,{"$f":"IF(Walidacja!B349,\"Poprawny\",\"Podany numer PESEL jest niepoprawny\")","v":"Podany numer PESEL jest niepoprawny"}]
[null,null,{"$f":"IF(Walidacja!B350,\"Poprawny\",\"Podany numer PESEL jest niepoprawny\")","v":"Podany numer PESEL jest niepoprawny"}]
[null,null,{"$f":"IF(Walidacja!B351,\"Poprawny\",\"Podany numer PESEL jest niepoprawny\")","v":"Podany numer PESEL jest niepoprawny"}]
[null,null,{"$f":"IF(Walidacja!B352,\"Poprawny\",\"Podany numer PESEL jest niepoprawny\")","v":"Podany numer PESEL jest niepoprawny"}]
[null,null,{"$f":"IF(Walidacja!B353,\"Poprawny\",\"Podany numer PESEL jest niepoprawny\")","v":"Podany numer PESEL jest niepoprawny"}]
[null,null,{"$f":"IF(Walidacja!B354,\"Poprawny\",\"Podany numer PESEL jest niepoprawny\")","v":"Podany numer PESEL jest niepoprawny"}]
[null,null,{"$f":"IF(Walidacja!B355,\"Poprawny\",\"Podany numer PESEL jest niepoprawny\")","v":"Podany numer PESEL jest niepoprawny"}]
[null,null,{"$f":"IF(Walidacja!B356,\"Poprawny\",\"Podany numer PESEL jest niepoprawny\")","v":"Podany numer PESEL jest niepoprawny"}]
[null,null,{"$f":"IF(Walidacja!B357,\"Poprawny\",\"Podany numer PESEL jest niepoprawny\")","v":"Podany numer PESEL jest niepoprawny"}]
[null,null,{"$f":"IF(Walidacja!B358,\"Poprawny\",\"Podany numer PESEL jest niepoprawny\")","v":"Podany numer PESEL jest niepoprawny"}]
[null,null,{"$f":"IF(Walidacja!B359,\"Poprawny\",\"Podany numer PESEL jest niepoprawny\")","v":"Podany numer PESEL jest niepoprawny"}]
[null,null,{"$f":"IF(Walidacja!B360,\"Poprawny\",\"Podany numer PESEL jest niepoprawny\")","v":"Podany numer PESEL jest niepoprawny"}]
[null,null,{"$f":"IF(Walidacja!B361,\"Poprawny\",\"Podany numer PESEL jest niepoprawny\")","v":"Podany numer PESEL jest niepoprawny"}]
[null,null,{"$f":"IF(Walidacja!B362,\"Poprawny\",\"Podany numer PESEL jest niepoprawny\")","v":"Podany numer PESEL jest niepoprawny"}]
[null,null,{"$f":"IF(Walidacja!B363,\"Poprawny\",\"Podany numer PESEL jest niepoprawny\")","v":"Podany numer PESEL jest niepoprawny"}]
[null,null,{"$f":"IF(Walidacja!B364,\"Poprawny\",\"Podany numer PESEL jest niepoprawny\")","v":"Podany numer PESEL jest niepoprawny"}]
[null,null,{"$f":"IF(Walidacja!B365,\"Poprawny\",\"Podany numer PESEL jest niepoprawny\")","v":"Podany numer PESEL jest niepoprawny"}]
[null,null,{"$f":"IF(Walidacja!B366,\"Poprawny\",\"Podany numer PESEL jest niepoprawny\")","v":"Podany numer PESEL jest niepoprawny"}]
[null,null,{"$f":"IF(Walidacja!B367,\"Poprawny\",\"Podany numer PESEL jest niepoprawny\")","v":"Podany numer PESEL jest niepoprawny"}]
[null,null,{"$f":"IF(Walidacja!B368,\"Poprawny\",\"Podany numer PESEL jest niepoprawny\")","v":"Podany numer PESEL jest niepoprawny"}]
[null,null,{"$f":"IF(Walidacja!B369,\"Poprawny\",\"Podany numer PESEL jest niepoprawny\")","v":"Podany numer PESEL jest niepoprawny"}]
[null,null,{"$f":"IF(Walidacja!B370,\"Poprawny\",\"Podany numer PESEL jest niepoprawny\")","v":"Podany numer PESEL jest niepoprawny"}]
[null,null,{"$f":"IF(Walidacja!B371,\"Poprawny\",\"Podany numer PESEL jest niepoprawny\")","v":"Podany numer PESEL jest niepoprawny"}]
[null,null,{"$f":"IF(Walidacja!B372,\"Poprawny\",\"Podany numer PESEL jest niepoprawny\")","v":"Podany numer PESEL jest niepoprawny"}]
[null,null,{"$f":"IF(Walidacja!B373,\"Poprawny\",\"Podany numer PESEL jest niepoprawny\")","v":"Podany numer PESEL jest niepoprawny"}]
[null,null,{"$f":"IF(Walidacja!B374,\"Poprawny\",\"Podany numer PESEL jest niepoprawny\")","v":"Podany numer PESEL jest niepoprawny"}]
[null,null,{"$f":"IF(Walidacja!B375,\"Poprawny\",\"Podany numer PESEL jest niepoprawny\")","v":"Podany numer PESEL jest niepoprawny"}]
[null,null,{"$f":"IF(Walidacja!B376,\"Poprawny\",\"Podany numer PESEL jest niepoprawny\")","v":"Podany numer PESEL jest niepoprawny"}]
[null,null,{"$f":"IF(Walidacja!B377,\"Poprawny\",\"Podany numer PESEL jest niepoprawny\")","v":"Podany numer PESEL jest niepoprawny"}]
[null,null,{"$f":"IF(Walidacja!B378,\"Poprawny\",\"Podany numer PESEL jest niepoprawny\")","v":"Podany numer PESEL jest niepoprawny"}]
[null,null,{"$f":"IF(Walidacja!B379,\"Poprawny\",\"Podany numer PESEL jest niepoprawny\")","v":"Podany numer PESEL jest niepoprawny"}]
[null,null,{"$f":"IF(Walidacja!B380,\"Poprawny\",\"Podany numer PESEL jest niepoprawny\")","v":"Podany numer PESEL jest niepoprawny"}]
[null,null,{"$f":"IF(Walidacja!B381,\"Poprawny\",\"Podany numer PESEL jest niepoprawny\")","v":"Podany numer PESEL jest niepoprawny"}]
[null,null,{"$f":"IF(Walidacja!B382,\"Poprawny\",\"Podany numer PESEL jest niepoprawny\")","v":"Podany numer PESEL jest niepoprawny"}]
[null,null,{"$f":"IF(Walidacja!B383,\"Poprawny\",\"Podany numer PESEL jest niepoprawny\")","v":"Podany numer PESEL jest niepoprawny"}]
[null,null,{"$f":"IF(Walidacja!B384,\"Poprawny\",\"Podany numer PESEL jest niepoprawny\")","v":"Podany numer PESEL jest niepoprawny"}]
[null,null,{"$f":"IF(Walidacja!B385,\"Poprawny\",\"Podany numer PESEL jest niepoprawny\")","v":"Podany numer PESEL jest niepoprawny"}]
[null,null,{"$f":"IF(Walidacja!B386,\"Poprawny\",\"Podany numer PESEL jest niepoprawny\")","v":"Podany numer PESEL jest niepoprawny"}]
[null,null,{"$f":"IF(Walidacja!B387,\"Poprawny\",\"Podany numer PESEL jest niepoprawny\")","v":"Podany numer PESEL jest niepoprawny"}]
[null,null,{"$f":"IF(Walidacja!B388,\"Poprawny\",\"Podany numer PESEL jest niepoprawny\")","v":"Podany numer PESEL jest niepoprawny"}]
[null,null,{"$f":"IF(Walidacja!B389,\"Poprawny\",\"Podany numer PESEL jest niepoprawny\")","v":"Podany numer PESEL jest niepoprawny"}]
[null,null,{"$f":"IF(Walidacja!B390,\"Poprawny\",\"Podany numer PESEL jest niepoprawny\")","v":"Podany numer PESEL jest niepoprawny"}]
[null,null,{"$f":"IF(Walidacja!B391,\"Poprawny\",\"Podany numer PESEL jest niepoprawny\")","v":"Podany numer PESEL jest niepoprawny"}]
[null,null,{"$f":"IF(Walidacja!B392,\"Poprawny\",\"Podany numer PESEL jest niepoprawny\")","v":"Podany numer PESEL jest niepoprawny"}]
[null,null,{"$f":"IF(Walidacja!B393,\"Poprawny\",\"Podany numer PESEL jest niepoprawny\")","v":"Podany numer PESEL jest niepoprawny"}]
[null,null,{"$f":"IF(Walidacja!B394,\"Poprawny\",\"Podany numer PESEL jest niepoprawny\")","v":"Podany numer PESEL jest niepoprawny"}]
[null,null,{"$f":"IF(Walidacja!B395,\"Poprawny\",\"Podany numer PESEL jest niepoprawny\")","v":"Podany numer PESEL jest niepoprawny"}]
[null,null,{"$f":"IF(Walidacja!B396,\"Poprawny\",\"Podany numer PESEL jest niepoprawny\")","v":"Podany numer PESEL jest niepoprawny"}]
[null,null,{"$f":"IF(Walidacja!B397,\"Poprawny\",\"Podany numer PESEL jest niepoprawny\")","v":"Podany numer PESEL jest niepoprawny"}]
[null,null,{"$f":"IF(Walidacja!B398,\"Poprawny\",\"Podany numer PESEL jest niepoprawny\")","v":"Podany numer PESEL jest niepoprawny"}]
[null,null,{"$f":"IF(Walidacja!B399,\"Poprawny\",\"Podany numer PESEL jest niepoprawny\")","v":"Podany numer PESEL jest niepoprawny"}]
[null,null,{"$f":"IF(Walidacja!B400,\"Poprawny\",\"Podany numer PESEL jest niepoprawny\")","v":"Podany numer PESEL jest niepoprawny"}]
[null,null,{"$f":"IF(Walidacja!B401,\"Poprawny\",\"Podany numer PESEL jest niepoprawny\")","v":"Podany numer PESEL jest niepoprawny"}]
[null,null,{"$f":"IF(Walidacja!B402,\"Poprawny\",\"Podany numer PESEL jest niepoprawny\")","v":"Podany numer PESEL jest niepoprawny"}]
[null,null,{"$f":"IF(Walidacja!B403,\"Poprawny\",\"Podany numer PESEL jest niepoprawny\")","v":"Podany numer PESEL jest niepoprawny"}]
[null,null,{"$f":"IF(Walidacja!B404,\"Poprawny\",\"Podany numer PESEL jest niepoprawny\")","v":"Podany numer PESEL jest niepoprawny"}]
[null,null,{"$f":"IF(Walidacja!B405,\"Poprawny\",\"Podany numer PESEL jest niepoprawny\")","v":"Podany numer PESEL jest niepoprawny"}]
[null,null,{"$f":"IF(Walidacja!B406,\"Poprawny\",\"Podany numer PESEL jest niepoprawny\")","v":"Podany numer PESEL jest niepoprawny"}]
[null,null,{"$f":"IF(Walidacja!B407,\"Poprawny\",\"Podany numer PESEL jest niepoprawny\")","v":"Podany numer PESEL jest niepoprawny"}]
[null,null,{"$f":"IF(Walidacja!B408,\"Poprawny\",\"Podany numer PESEL jest niepoprawny\")","v":"Podany numer PESEL jest niepoprawny"}]
[null,null,{"$f":"IF(Walidacja!B409,\"Poprawny\",\"Podany numer PESEL jest niepoprawny\")","v":"Podany numer PESEL jest niepoprawny"}]
[null,null,{"$f":"IF(Walidacja!B410,\"Poprawny\",\"Podany numer PESEL jest niepoprawny\")","v":"Podany numer PESEL jest niepoprawny"}]
[null,null,{"$f":"IF(Walidacja!B411,\"Poprawny\",\"Podany numer PESEL jest niepoprawny\")","v":"Podany numer PESEL jest niepoprawny"}]
[null,null,{"$f":"IF(Walidacja!B412,\"Poprawny\",\"Podany numer PESEL jest niepoprawny\")","v":"Podany numer PESEL jest niepoprawny"}]
[null,null,{"$f":"IF(Walidacja!B413,\"Poprawny\",\"Podany numer PESEL jest niepoprawny\")","v":"Podany numer PESEL jest niepoprawny"}]
[null,null,{"$f":"IF(Walidacja!B414,\"Poprawny\",\"Podany numer PESEL jest niepoprawny\")","v":"Podany numer PESEL jest niepoprawny"}]
[null,null,{"$f":"IF(Walidacja!B415,\"Poprawny\",\"Podany numer PESEL jest niepoprawny\")","v":"Podany numer PESEL jest niepoprawny"}]
[null,null,{"$f":"IF(Walidacja!B416,\"Poprawny\",\"Podany numer PESEL jest niepoprawny\")","v":"Podany numer PESEL jest niepoprawny"}]
[null,null,{"$f":"IF(Walidacja!B417,\"Poprawny\",\"Podany numer PESEL jest niepoprawny\")","v":"Podany numer PESEL jest niepoprawny"}]
[null,null,{"$f":"IF(Walidacja!B418,\"Poprawny\",\"Podany numer PESEL jest niepoprawny\")","v":"Podany numer PESEL jest niepoprawny"}]
[null,null,{"$f":"IF(Walidacja!B419,\"Poprawny\",\"Podany numer PESEL jest niepoprawny\")","v":"Podany numer PESEL jest niepoprawny"}]
[null,null,{"$f":"IF(Walidacja!B420,\"Poprawny\",\"Podany numer PESEL jest niepoprawny\")","v":"Podany numer PESEL jest niepoprawny"}]
[null,null,{"$f":"IF(Walidacja!B421,\"Poprawny\",\"Podany numer PESEL jest niepoprawny\")","v":"Podany numer PESEL jest niepoprawny"}]
[null,null,{"$f":"IF(Walidacja!B422,\"Poprawny\",\"Podany numer PESEL jest niepoprawny\")","v":"Podany numer PESEL jest niepoprawny"}]
[null,null,{"$f":"IF(Walidacja!B423,\"Poprawny\",\"Podany numer PESEL jest niepoprawny\")","v":"Podany numer PESEL jest niepoprawny"}]
[null,null,{"$f":"IF(Walidacja!B424,\"Poprawny\",\"Podany numer PESEL jest niepoprawny\")","v":"Podany numer PESEL jest niepoprawny"}]
[null,null,{"$f":"IF(Walidacja!B425,\"Poprawny\",\"Podany numer PESEL jest niepoprawny\")","v":"Podany numer PESEL jest niepoprawny"}]
[null,null,{"$f":"IF(Walidacja!B426,\"Poprawny\",\"Podany numer PESEL jest niepoprawny\")","v":"Podany numer PESEL jest niepoprawny"}]
[null,null,{"$f":"IF(Walidacja!B427,\"Poprawny\",\"Podany numer PESEL jest niepoprawny\")","v":"Podany numer PESEL jest niepoprawny"}]
[null,null,{"$f":"IF(Walidacja!B428,\"Poprawny\",\"Podany numer PESEL jest niepoprawny\")","v":"Podany numer PESEL jest niepoprawny"}]
[null,null,{"$f":"IF(Walidacja!B429,\"Poprawny\",\"Podany numer PESEL jest niepoprawny\")","v":"Podany numer PESEL jest niepoprawny"}]
[null,null,{"$f":"IF(Walidacja!B430,\"Poprawny\",\"Podany numer PESEL jest niepoprawny\")","v":"Podany numer PESEL jest niepoprawny"}]
[null,null,{"$f":"IF(Walidacja!B431,\"Poprawny\",\"Podany numer PESEL jest niepoprawny\")","v":"Podany numer PESEL jest niepoprawny"}]
[null,null,{"$f":"IF(Walidacja!B432,\"Poprawny\",\"Podany numer PESEL jest niepoprawny\")","v":"Podany numer PESEL jest niepoprawny"}]
[null,null,{"$f":"IF(Walidacja!B433,\"Poprawny\",\"Podany numer PESEL jest niepoprawny\")","v":"Podany numer PESEL jest niepoprawny"}]
[null,null,{"$f":"IF(Walidacja!B434,\"Poprawny\",\"Podany numer PESEL jest niepoprawny\")","v":"Podany numer PESEL jest niepoprawny"}]
[null,null,{"$f":"IF(Walidacja!B435,\"Poprawny\",\"Podany numer PESEL jest niepoprawny\")","v":"Podany numer PESEL jest niepoprawny"}]
[null,null,{"$f":"IF(Walidacja!B436,\"Poprawny\",\"Podany numer PESEL jest niepoprawny\")","v":"Podany numer PESEL jest niepoprawny"}]
[null,null,{"$f":"IF(Walidacja!B437,\"Poprawny\",\"Podany numer PESEL jest niepoprawny\")","v":"Podany numer PESEL jest niepoprawny"}]
[null,null,{"$f":"IF(Walidacja!B438,\"Poprawny\",\"Podany numer PESEL jest niepoprawny\")","v":"Podany numer PESEL jest niepoprawny"}]
[null,null,{"$f":"IF(Walidacja!B439,\"Poprawny\",\"Podany numer PESEL jest niepoprawny\")","v":"Podany numer PESEL jest niepoprawny"}]
[null,null,{"$f":"IF(Walidacja!B440,\"Poprawny\",\"Podany numer PESEL jest niepoprawny\")","v":"Podany numer PESEL jest niepoprawny"}]
[null,null,{"$f":"IF(Walidacja!B441,\"Poprawny\",\"Podany numer PESEL jest niepoprawny\")","v":"Podany numer PESEL jest niepoprawny"}]
[null,null,{"$f":"IF(Walidacja!B442,\"Poprawny\",\"Podany numer PESEL jest niepoprawny\")","v":"Podany numer PESEL jest niepoprawny"}]
[null,null,{"$f":"IF(Walidacja!B443,\"Poprawny\",\"Podany numer PESEL jest niepoprawny\")","v":"Podany numer PESEL jest niepoprawny"}]
[null,null,{"$f":"IF(Walidacja!B444,\"Poprawny\",\"Podany numer PESEL jest niepoprawny\")","v":"Podany numer PESEL jest niepoprawny"}]
[null,null,{"$f":"IF(Walidacja!B445,\"Poprawny\",\"Podany numer PESEL jest niepoprawny\")","v":"Podany numer PESEL jest niepoprawny"}]
[null,null,{"$f":"IF(Walidacja!B446,\"Poprawny\",\"Podany numer PESEL jest niepoprawny\")","v":"Podany numer PESEL jest niepoprawny"}]
[null,null,{"$f":"IF(Walidacja!B447,\"Poprawny\",\"Podany numer PESEL jest niepoprawny\")","v":"Podany numer PESEL jest niepoprawny"}]
[null,null,{"$f":"IF(Walidacja!B448,\"Poprawny\",\"Podany numer PESEL jest niepoprawny\")","v":"Podany numer PESEL jest niepoprawny"}]
[null,null,{"$f":"IF(Walidacja!B449,\"Poprawny\",\"Podany numer PESEL jest niepoprawny\")","v":"Podany numer PESEL jest niepoprawny"}]
[null,null,{"$f":"IF(Walidacja!B450,\"Poprawny\",\"Podany numer PESEL jest niepoprawny\")","v":"Podany numer PESEL jest niepoprawny"}]
[null,null,{"$f":"IF(Walidacja!B451,\"Poprawny\",\"Podany numer PESEL jest niepoprawny\")","v":"Podany numer PESEL jest niepoprawny"}]
[null,null,{"$f":"IF(Walidacja!B452,\"Poprawny\",\"Podany numer PESEL jest niepoprawny\")","v":"Podany numer PESEL jest niepoprawny"}]
[null,null,{"$f":"IF(Walidacja!B453,\"Poprawny\",\"Podany numer PESEL jest niepoprawny\")","v":"Podany numer PESEL jest niepoprawny"}]
[null,null,{"$f":"IF(Walidacja!B454,\"Poprawny\",\"Podany numer PESEL jest niepoprawny\")","v":"Podany numer PESEL jest niepoprawny"}]
[null,null,{"$f":"IF(Walidacja!B455,\"Poprawny\",\"Podany numer PESEL jest niepoprawny\")","v":"Podany numer PESEL jest niepoprawny"}]
[null,null,{"$f":"IF(Walidacja!B456,\"Poprawny\",\"Podany numer PESEL jest niepoprawny\")","v":"Podany numer PESEL jest niepoprawny"}]
[null,null,{"$f":"IF(Walidacja!B457,\"Poprawny\",\"Podany numer PESEL jest niepoprawny\")","v":"Podany numer PESEL jest niepoprawny"}]
[null,null,{"$f":"IF(Walidacja!B458,\"Poprawny\",\"Podany numer PESEL jest niepoprawny\")","v":"Podany numer PESEL jest niepoprawny"}]
[null,null,{"$f":"IF(Walidacja!B459,\"Poprawny\",\"Podany numer PESEL jest niepoprawny\")","v":"Podany numer PESEL jest niepoprawny"}]
[null,null,{"$f":"IF(Walidacja!B460,\"Poprawny\",\"Podany numer PESEL jest niepoprawny\")","v":"Podany numer PESEL jest niepoprawny"}]
[null,null,{"$f":"IF(Walidacja!B461,\"Poprawny\",\"Podany numer PESEL jest niepoprawny\")","v":"Podany numer PESEL jest niepoprawny"}]
[null,null,{"$f":"IF(Walidacja!B462,\"Poprawny\",\"Podany numer PESEL jest niepoprawny\")","v":"Podany numer PESEL jest niepoprawny"}]
[null,null,{"$f":"IF(Walidacja!B463,\"Poprawny\",\"Podany numer PESEL jest niepoprawny\")","v":"Podany numer PESEL jest niepoprawny"}]
[null,null,{"$f":"IF(Walidacja!B464,\"Poprawny\",\"Podany numer PESEL jest niepoprawny\")","v":"Podany numer PESEL jest niepoprawny"}]
[null,null,{"$f":"IF(Walidacja!B465,\"Poprawny\",\"Podany numer PESEL jest niepoprawny\")","v":"Podany numer PESEL jest niepoprawny"}]
[null,null,{"$f":"IF(Walidacja!B466,\"Poprawny\",\"Podany numer PESEL jest niepoprawny\")","v":"Podany numer PESEL jest niepoprawny"}]
[null,null,{"$f":"IF(Walidacja!B467,\"Poprawny\",\"Podany numer PESEL jest niepoprawny\")","v":"Podany numer PESEL jest niepoprawny"}]
[null,null,{"$f":"IF(Walidacja!B468,\"Poprawny\",\"Podany numer PESEL jest niepoprawny\")","v":"Podany numer PESEL jest niepoprawny"}]
[null,null,{"$f":"IF(Walidacja!B469,\"Poprawny\",\"Podany numer PESEL jest niepoprawny\")","v":"Podany numer PESEL jest niepoprawny"}]
[null,null,{"$f":"IF(Walidacja!B470,\"Poprawny\",\"Podany numer PESEL jest niepoprawny\")","v":"Podany numer PESEL jest niepoprawny"}]
[null,null,{"$f":"IF(Walidacja!B471,\"Poprawny\",\"Podany numer PESEL jest niepoprawny\")","v":"Podany numer PESEL jest niepoprawny"}]
[null,null,{"$f":"IF(Walidacja!B472,\"Poprawny\",\"Podany numer PESEL jest niepoprawny\")","v":"Podany numer PESEL jest niepoprawny"}]
[null,null,{"$f":"IF(Walidacja!B473,\"Poprawny\",\"Podany numer PESEL jest niepoprawny\")","v":"Podany numer PESEL jest niepoprawny"}]
[null,null,{"$f":"IF(Walidacja!B474,\"Poprawny\",\"Podany numer PESEL jest niepoprawny\")","v":"Podany numer PESEL jest niepoprawny"}]
[null,null,{"$f":"IF(Walidacja!B475,\"Poprawny\",\"Podany numer PESEL jest niepoprawny\")","v":"Podany numer PESEL jest niepoprawny"}]
[null,null,{"$f":"IF(Walidacja!B476,\"Poprawny\",\"Podany numer PESEL jest niepoprawny\")","v":"Podany numer PESEL jest niepoprawny"}]
[null,null,{"$f":"IF(Walidacja!B477,\"Poprawny\",\"Podany numer PESEL jest niepoprawny\")","v":"Podany numer PESEL jest niepoprawny"}]
[null,null,{"$f":"IF(Walidacja!B478,\"Poprawny\",\"Podany numer PESEL jest niepoprawny\")","v":"Podany numer PESEL jest niepoprawny"}]
[null,null,{"$f":"IF(Walidacja!B479,\"Poprawny\",\"Podany numer PESEL jest niepoprawny\")","v":"Podany numer PESEL jest niepoprawny"}]
[null,null,{"$f":"IF(Walidacja!B480,\"Poprawny\",\"Podany numer PESEL jest niepoprawny\")","v":"Podany numer PESEL jest niepoprawny"}]
[null,null,{"$f":"IF(Walidacja!B481,\"Poprawny\",\"Podany numer PESEL jest niepoprawny\")","v":"Podany numer PESEL jest niepoprawny"}]
[null,null,{"$f":"IF(Walidacja!B482,\"Poprawny\",\"Podany numer PESEL jest niepoprawny\")","v":"Podany numer PESEL jest niepoprawny"}]
[null,null,{"$f":"IF(Walidacja!B483,\"Poprawny\",\"Podany numer PESEL jest niepoprawny\")","v":"Podany numer PESEL jest niepoprawny"}]
[null,null,{"$f":"IF(Walidacja!B484,\"Poprawny\",\"Podany numer PESEL jest niepoprawny\")","v":"Podany numer PESEL jest niepoprawny"}]
[null,null,{"$f":"IF(Walidacja!B485,\"Poprawny\",\"Podany numer PESEL jest niepoprawny\")","v":"Podany numer PESEL jest niepoprawny"}]
[null,null,{"$f":"IF(Walidacja!B486,\"Poprawny\",\"Podany numer PESEL jest niepoprawny\")","v":"Podany numer PESEL jest niepoprawny"}]
[null,null,{"$f":"IF(Walidacja!B487,\"Poprawny\",\"Podany numer PESEL jest niepoprawny\")","v":"Podany numer PESEL jest niepoprawny"}]
[null,null,{"$f":"IF(Walidacja!B488,\"Poprawny\",\"Podany numer PESEL jest niepoprawny\")","v":"Podany numer PESEL jest niepoprawny"}]
[null,null,{"$f":"IF(Walidacja!B489,\"Poprawny\",\"Podany numer PESEL jest niepoprawny\")","v":"Podany numer PESEL jest niepoprawny"}]
[null,null,{"$f":"IF(Walidacja!B490,\"Poprawny\",\"Podany numer PESEL jest niepoprawny\")","v":"Podany numer PESEL jest niepoprawny"}]
[null,null,{"$f":"IF(Walidacja!B491,\"Poprawny\",\"Podany numer PESEL jest niepoprawny\")","v":"Podany numer PESEL jest niepoprawny"}]
[null,null,{"$f":"IF(Walidacja!B492,\"Poprawny\",\"Podany numer PESEL jest niepoprawny\")","v":"Podany numer PESEL jest niepoprawny"}]
[null,null,{"$f":"IF(Walidacja!B493,\"Poprawny\",\"Podany numer PESEL jest niepoprawny\")","v":"Podany numer PESEL jest niepoprawny"}]
[null,null,{"$f":"IF(Walidacja!B494,\"Poprawny\",\"Podany numer PESEL jest niepoprawny\")","v":"Podany numer PESEL jest niepoprawny"}]
[null,null,{"$f":"IF(Walidacja!B495,\"Poprawny\",\"Podany numer PESEL jest niepoprawny\")","v":"Podany numer PESEL jest niepoprawny"}]
[null,null,{"$f":"IF(Walidacja!B496,\"Poprawny\",\"Podany numer PESEL jest niepoprawny\")","v":"Podany numer PESEL jest niepoprawny"}]
[null,null,{"$f":"IF(Walidacja!B497,\"Poprawny\",\"Podany numer PESEL jest niepoprawny\")","v":"Podany numer PESEL jest niepoprawny"}]
[null,null,{"$f":"IF(Walidacja!B498,\"Poprawny\",\"Podany numer PESEL jest niepoprawny\")","v":"Podany numer PESEL jest niepoprawny"}]
[null,null,{"$f":"IF(Walidacja!B499,\"Poprawny\",\"Podany numer PESEL jest niepoprawny\")","v":"Podany numer PESEL jest niepoprawny"}]
[null,null,{"$f":"IF(Walidacja!B500,\"Poprawny\",\"Podany numer PESEL jest niepoprawny\")","v":"Podany numer PESEL jest niepoprawny"}]
[null,null,{"$f":"IF(Walidacja!B501,\"Poprawny\",\"Podany numer PESEL jest niepoprawny\")","v":"Podany numer PESEL jest niepoprawny"}]
[null,null,{"$f":"IF(Walidacja!B502,\"Poprawny\",\"Podany numer PESEL jest niepoprawny\")","v":"Podany numer PESEL jest niepoprawny"}]
[null,null,{"$f":"IF(Walidacja!B503,\"Poprawny\",\"Podany numer PESEL jest niepoprawny\")","v":"Podany numer PESEL jest niepoprawny"}]
[null,null,{"$f":"IF(Walidacja!B504,\"Poprawny\",\"Podany numer PESEL jest niepoprawny\")","v":"Podany numer PESEL jest niepoprawny"}]
[null,null,{"$f":"IF(Walidacja!B505,\"Poprawny\",\"Podany numer PESEL jest niepoprawny\")","v":"Podany numer PESEL jest niepoprawny"}]
[null,null,{"$f":"IF(Walidacja!B506,\"Poprawny\",\"Podany numer PESEL jest niepoprawny\")","v":"Podany numer PESEL jest niepoprawny"}]
[null,null,{"$f":"IF(Walidacja!B507,\"Poprawny\",\"Podany numer PESEL jest niepoprawny\")","v":"Podany numer PESEL jest niepoprawny"}]
[null,null,{"$f":"IF(Walidacja!B508,\"Poprawny\",\"Podany numer PESEL jest niepoprawny\")","v":"Podany numer PESEL jest niepoprawny"}]
[null,null,{"$f":"IF(Walidacja!B509,\"Poprawny\",\"Podany numer PESEL jest niepoprawny\")","v":"Podany numer PESEL jest niepoprawny"}]
[null,null,{"$f":"IF(Walidacja!B510,\"Poprawny\",\"Podany numer PESEL jest niepoprawny\")","v":"Podany numer PESEL jest niepoprawny"}]
[null,null,{"$f":"IF(Walidacja!B511,\"Poprawny\",\"Podany numer PESEL jest niepoprawny\")","v":"Podany numer PESEL jest niepoprawny"}]
[null,null,{"$f":"IF(Walidacja!B512,\"Poprawny\",\"Podany numer PESEL jest niepoprawny\")","v":"Podany numer PESEL jest niepoprawny"}]
[null,null,{"$f":"IF(Walidacja!B513,\"Poprawny\",\"Podany numer PESEL jest niepoprawny\")","v":"Podany numer PESEL jest niepoprawny"}]
[null,null,{"$f":"IF(Walidacja!B514,\"Poprawny\",\"Podany numer PESEL jest niepoprawny\")","v":"Podany numer PESEL jest niepoprawny"}]
[null,null,{"$f":"IF(Walidacja!B515,\"Poprawny\",\"Podany numer PESEL jest niepoprawny\")","v":"Podany numer PESEL jest niepoprawny"}]
[null,null,{"$f":"IF(Walidacja!B516,\"Poprawny\",\"Podany numer PESEL jest niepoprawny\")","v":"Podany numer PESEL jest niepoprawny"}]
[null,null,{"$f":"IF(Walidacja!B517,\"Poprawny\",\"Podany numer PESEL jest niepoprawny\")","v":"Podany numer PESEL jest niepoprawny"}]
[null,null,{"$f":"IF(Walidacja!B518,\"Poprawny\",\"Podany numer PESEL jest niepoprawny\")","v":"Podany numer PESEL jest niepoprawny"}]
[null,null,{"$f":"IF(Walidacja!B519,\"Poprawny\",\"Podany numer PESEL jest niepoprawny\")","v":"Podany numer PESEL jest niepoprawny"}]
[null,null,{"$f":"IF(Walidacja!B520,\"Poprawny\",\"Podany numer PESEL jest niepoprawny\")","v":"Podany numer PESEL jest niepoprawny"}]
[null,null,{"$f":"IF(Walidacja!B521,\"Poprawny\",\"Podany numer PESEL jest niepoprawny\")","v":"Podany numer PESEL jest niepoprawny"}]
[null,null,{"$f":"IF(Walidacja!B522,\"Poprawny\",\"Podany numer PESEL jest niepoprawny\")","v":"Podany numer PESEL jest niepoprawny"}]
[null,null,{"$f":"IF(Walidacja!B523,\"Poprawny\",\"Podany numer PESEL jest niepoprawny\")","v":"Podany numer PESEL jest niepoprawny"}]
[null,null,{"$f":"IF(Walidacja!B524,\"Poprawny\",\"Podany numer PESEL jest niepoprawny\")","v":"Podany numer PESEL jest niepoprawny"}]
[null,null,{"$f":"IF(Walidacja!B525,\"Poprawny\",\"Podany numer PESEL jest niepoprawny\")","v":"Podany numer PESEL jest niepoprawny"}]
[null,null,{"$f":"IF(Walidacja!B526,\"Poprawny\",\"Podany numer PESEL jest niepoprawny\")","v":"Podany numer PESEL jest niepoprawny"}]
[null,null,{"$f":"IF(Walidacja!B527,\"Poprawny\",\"Podany numer PESEL jest niepoprawny\")","v":"Podany numer PESEL jest niepoprawny"}]
[null,null,{"$f":"IF(Walidacja!B528,\"Poprawny\",\"Podany numer PESEL jest niepoprawny\")","v":"Podany numer PESEL jest niepoprawny"}]
[null,null,{"$f":"IF(Walidacja!B529,\"Poprawny\",\"Podany numer PESEL jest niepoprawny\")","v":"Podany numer PESEL jest niepoprawny"}]
[null,null,{"$f":"IF(Walidacja!B530,\"Poprawny\",\"Podany numer PESEL jest niepoprawny\")","v":"Podany numer PESEL jest niepoprawny"}]
[null,null,{"$f":"IF(Walidacja!B531,\"Poprawny\",\"Podany numer PESEL jest niepoprawny\")","v":"Podany numer PESEL jest niepoprawny"}]
[null,null,{"$f":"IF(Walidacja!B532,\"Poprawny\",\"Podany numer PESEL jest niepoprawny\")","v":"Podany numer PESEL jest niepoprawny"}]
[null,null,{"$f":"IF(Walidacja!B533,\"Poprawny\",\"Podany numer PESEL jest niepoprawny\")","v":"Podany numer PESEL jest niepoprawny"}]
[null,null,{"$f":"IF(Walidacja!B534,\"Poprawny\",\"Podany numer PESEL jest niepoprawny\")","v":"Podany numer PESEL jest niepoprawny"}]
[null,null,{"$f":"IF(Walidacja!B535,\"Poprawny\",\"Podany numer PESEL jest niepoprawny\")","v":"Podany numer PESEL jest niepoprawny"}]
[null,null,{"$f":"IF(Walidacja!B536,\"Poprawny\",\"Podany numer PESEL jest niepoprawny\")","v":"Podany numer PESEL jest niepoprawny"}]
[null,null,{"$f":"IF(Walidacja!B537,\"Poprawny\",\"Podany numer PESEL jest niepoprawny\")","v":"Podany numer PESEL jest niepoprawny"}]
[null,null,{"$f":"IF(Walidacja!B538,\"Poprawny\",\"Podany numer PESEL jest niepoprawny\")","v":"Podany numer PESEL jest niepoprawny"}]
[null,null,{"$f":"IF(Walidacja!B539,\"Poprawny\",\"Podany numer PESEL jest niepoprawny\")","v":"Podany numer PESEL jest niepoprawny"}]
[null,null,{"$f":"IF(Walidacja!B540,\"Poprawny\",\"Podany numer PESEL jest niepoprawny\")","v":"Podany numer PESEL jest niepoprawny"}]
[null,null,{"$f":"IF(Walidacja!B541,\"Poprawny\",\"Podany numer PESEL jest niepoprawny\")","v":"Podany numer PESEL jest niepoprawny"}]
[null,null,{"$f":"IF(Walidacja!B542,\"Poprawny\",\"Podany numer PESEL jest niepoprawny\")","v":"Podany numer PESEL jest niepoprawny"}]
[null,null,{"$f":"IF(Walidacja!B543,\"Poprawny\",\"Podany numer PESEL jest niepoprawny\")","v":"Podany numer PESEL jest niepoprawny"}]
[null,null,{"$f":"IF(Walidacja!B544,\"Poprawny\",\"Podany numer PESEL jest niepoprawny\")","v":"Podany numer PESEL jest niepoprawny"}]
[null,null,{"$f":"IF(Walidacja!B545,\"Poprawny\",\"Podany numer PESEL jest niepoprawny\")","v":"Podany numer PESEL jest niepoprawny"}]
[null,null,{"$f":"IF(Walidacja!B546,\"Poprawny\",\"Podany numer PESEL jest niepoprawny\")","v":"Podany numer PESEL jest niepoprawny"}]
[null,null,{"$f":"IF(Walidacja!B547,\"Poprawny\",\"Podany numer PESEL jest niepoprawny\")","v":"Podany numer PESEL jest niepoprawny"}]
[null,null,{"$f":"IF(Walidacja!B548,\"Poprawny\",\"Podany numer PESEL jest niepoprawny\")","v":"Podany numer PESEL jest niepoprawny"}]
[null,null,{"$f":"IF(Walidacja!B549,\"Poprawny\",\"Podany numer PESEL jest niepoprawny\")","v":"Podany numer PESEL jest niepoprawny"}]
[null,null,{"$f":"IF(Walidacja!B550,\"Poprawny\",\"Podany numer PESEL jest niepoprawny\")","v":"Podany numer PESEL jest niepoprawny"}]
[null,null,{"$f":"IF(Walidacja!B551,\"Poprawny\",\"Podany numer PESEL jest niepoprawny\")","v":"Podany numer PESEL jest niepoprawny"}]
[null,null,{"$f":"IF(Walidacja!B552,\"Poprawny\",\"Podany numer PESEL jest niepoprawny\")","v":"Podany numer PESEL jest niepoprawny"}]
[null,null,{"$f":"IF(Walidacja!B553,\"Poprawny\",\"Podany numer PESEL jest niepoprawny\")","v":"Podany numer PESEL jest niepoprawny"}]
[null,null,{"$f":"IF(Walidacja!B554,\"Poprawny\",\"Podany numer PESEL jest niepoprawny\")","v":"Podany numer PESEL jest niepoprawny"}]
[null,null,{"$f":"IF(Walidacja!B555,\"Poprawny\",\"Podany numer PESEL jest niepoprawny\")","v":"Podany numer PESEL jest niepoprawny"}]
[null,null,{"$f":"IF(Walidacja!B556,\"Poprawny\",\"Podany numer PESEL jest niepoprawny\")","v":"Podany numer PESEL jest niepoprawny"}]
[null,null,{"$f":"IF(Walidacja!B557,\"Poprawny\",\"Podany numer PESEL jest niepoprawny\")","v":"Podany numer PESEL jest niepoprawny"}]
[null,null,{"$f":"IF(Walidacja!B558,\"Poprawny\",\"Podany numer PESEL jest niepoprawny\")","v":"Podany numer PESEL jest niepoprawny"}]
[null,null,{"$f":"IF(Walidacja!B559,\"Poprawny\",\"Podany numer PESEL jest niepoprawny\")","v":"Podany numer PESEL jest niepoprawny"}]
[null,null,{"$f":"IF(Walidacja!B560,\"Poprawny\",\"Podany numer PESEL jest niepoprawny\")","v":"Podany numer PESEL jest niepoprawny"}]
[null,null,{"$f":"IF(Walidacja!B561,\"Poprawny\",\"Podany numer PESEL jest niepoprawny\")","v":"Podany numer PESEL jest niepoprawny"}]
[null,null,{"$f":"IF(Walidacja!B562,\"Poprawny\",\"Podany numer PESEL jest niepoprawny\")","v":"Podany numer PESEL jest niepoprawny"}]
[null,null,{"$f":"IF(Walidacja!B563,\"Poprawny\",\"Podany numer PESEL jest niepoprawny\")","v":"Podany numer PESEL jest niepoprawny"}]
[null,null,{"$f":"IF(Walidacja!B564,\"Poprawny\",\"Podany numer PESEL jest niepoprawny\")","v":"Podany numer PESEL jest niepoprawny"}]
[null,null,{"$f":"IF(Walidacja!B565,\"Poprawny\",\"Podany numer PESEL jest niepoprawny\")","v":"Podany numer PESEL jest niepoprawny"}]
[null,null,{"$f":"IF(Walidacja!B566,\"Poprawny\",\"Podany numer PESEL jest niepoprawny\")","v":"Podany numer PESEL jest niepoprawny"}]
[null,null,{"$f":"IF(Walidacja!B567,\"Poprawny\",\"Podany numer PESEL jest niepoprawny\")","v":"Podany numer PESEL jest niepoprawny"}]
[null,null,{"$f":"IF(Walidacja!B568,\"Poprawny\",\"Podany numer PESEL jest niepoprawny\")","v":"Podany numer PESEL jest niepoprawny"}]
[null,null,{"$f":"IF(Walidacja!B569,\"Poprawny\",\"Podany numer PESEL jest niepoprawny\")","v":"Podany numer PESEL jest niepoprawny"}]
[null,null,{"$f":"IF(Walidacja!B570,\"Poprawny\",\"Podany numer PESEL jest niepoprawny\")","v":"Podany numer PESEL jest niepoprawny"}]
[null,null,{"$f":"IF(Walidacja!B571,\"Poprawny\",\"Podany numer PESEL jest niepoprawny\")","v":"Podany numer PESEL jest niepoprawny"}]
[null,null,{"$f":"IF(Walidacja!B572,\"Poprawny\",\"Podany numer PESEL jest niepoprawny\")","v":"Podany numer PESEL jest niepoprawny"}]
[null,null,{"$f":"IF(Walidacja!B573,\"Poprawny\",\"Podany numer PESEL jest niepoprawny\")","v":"Podany numer PESEL jest niepoprawny"}]
[null,null,{"$f":"IF(Walidacja!B574,\"Poprawny\",\"Podany numer PESEL jest niepoprawny\")","v":"Podany numer PESEL jest niepoprawny"}]
[null,null,{"$f":"IF(Walidacja!B575,\"Poprawny\",\"Podany numer PESEL jest niepoprawny\")","v":"Podany numer PESEL jest niepoprawny"}]
[null,null,{"$f":"IF(Walidacja!B576,\"Poprawny\",\"Podany numer PESEL jest niepoprawny\")","v":"Podany numer PESEL jest niepoprawny"}]
[null,null,{"$f":"IF(Walidacja!B577,\"Poprawny\",\"Podany numer PESEL jest niepoprawny\")","v":"Podany numer PESEL jest niepoprawny"}]
[null,null,{"$f":"IF(Walidacja!B578,\"Poprawny\",\"Podany numer PESEL jest niepoprawny\")","v":"Podany numer PESEL jest niepoprawny"}]
[null,null,{"$f":"IF(Walidacja!B579,\"Poprawny\",\"Podany numer PESEL jest niepoprawny\")","v":"Podany numer PESEL jest niepoprawny"}]
[null,null,{"$f":"IF(Walidacja!B580,\"Poprawny\",\"Podany numer PESEL jest niepoprawny\")","v":"Podany numer PESEL jest niepoprawny"}]
[null,null,{"$f":"IF(Walidacja!B581,\"Poprawny\",\"Podany numer PESEL jest niepoprawny\")","v":"Podany numer PESEL jest niepoprawny"}]
[null,null,{"$f":"IF(Walidacja!B582,\"Poprawny\",\"Podany numer PESEL jest niepoprawny\")","v":"Podany numer PESEL jest niepoprawny"}]
[null,null,{"$f":"IF(Walidacja!B583,\"Poprawny\",\"Podany numer PESEL jest niepoprawny\")","v":"Podany numer PESEL jest niepoprawny"}]
[null,null,{"$f":"IF(Walidacja!B584,\"Poprawny\",\"Podany numer PESEL jest niepoprawny\")","v":"Podany numer PESEL jest niepoprawny"}]
[null,null,{"$f":"IF(Walidacja!B585,\"Poprawny\",\"Podany numer PESEL jest niepoprawny\")","v":"Podany numer PESEL jest niepoprawny"}]
[null,null,{"$f":"IF(Walidacja!B586,\"Poprawny\",\"Podany numer PESEL jest niepoprawny\")","v":"Podany numer PESEL jest niepoprawny"}]
[null,null,{"$f":"IF(Walidacja!B587,\"Poprawny\",\"Podany numer PESEL jest niepoprawny\")","v":"Podany numer PESEL jest niepoprawny"}]
[null,null,{"$f":"IF(Walidacja!B588,\"Poprawny\",\"Podany numer PESEL jest niepoprawny\")","v":"Podany numer PESEL jest niepoprawny"}]
[null,null,{"$f":"IF(Walidacja!B589,\"Poprawny\",\"Podany numer PESEL jest niepoprawny\")","v":"Podany numer PESEL jest niepoprawny"}]
[null,null,{"$f":"IF(Walidacja!B590,\"Poprawny\",\"Podany numer PESEL jest niepoprawny\")","v":"Podany numer PESEL jest niepoprawny"}]
[null,null,{"$f":"IF(Walidacja!B591,\"Poprawny\",\"Podany numer PESEL jest niepoprawny\")","v":"Podany numer PESEL jest niepoprawny"}]
[null,null,{"$f":"IF(Walidacja!B592,\"Poprawny\",\"Podany numer PESEL jest niepoprawny\")","v":"Podany numer PESEL jest niepoprawny"}]
[null,null,{"$f":"IF(Walidacja!B593,\"Poprawny\",\"Podany numer PESEL jest niepoprawny\")","v":"Podany numer PESEL jest niepoprawny"}]
[null,null,{"$f":"IF(Walidacja!B594,\"Poprawny\",\"Podany numer PESEL jest niepoprawny\")","v":"Podany numer PESEL jest niepoprawny"}]
[null,null,{"$f":"IF(Walidacja!B595,\"Poprawny\",\"Podany numer PESEL jest niepoprawny\")","v":"Podany numer PESEL jest niepoprawny"}]
[null,null,{"$f":"IF(Walidacja!B596,\"Poprawny\",\"Podany numer PESEL jest niepoprawny\")","v":"Podany numer PESEL jest niepoprawny"}]
[null,null,{"$f":"IF(Walidacja!B597,\"Poprawny\",\"Podany numer PESEL jest niepoprawny\")","v":"Podany numer PESEL jest niepoprawny"}]
[null,null,{"$f":"IF(Walidacja!B598,\"Poprawny\",\"Podany numer PESEL jest niepoprawny\")","v":"Podany numer PESEL jest niepoprawny"}]
[null,null,{"$f":"IF(Walidacja!B599,\"Poprawny\",\"Podany numer PESEL jest niepoprawny\")","v":"Podany numer PESEL jest niepoprawny"}]
[null,null,{"$f":"IF(Walidacja!B600,\"Poprawny\",\"Podany numer PESEL jest niepoprawny\")","v":"Podany numer PESEL jest niepoprawny"}]
[null,null,{"$f":"IF(Walidacja!B601,\"Poprawny\",\"Podany numer PESEL jest niepoprawny\")","v":"Podany numer PESEL jest niepoprawny"}]
[null,null,{"$f":"IF(Walidacja!B602,\"Poprawny\",\"Podany numer PESEL jest niepoprawny\")","v":"Podany numer PESEL jest niepoprawny"}]
[null,null,{"$f":"IF(Walidacja!B603,\"Poprawny\",\"Podany numer PESEL jest niepoprawny\")","v":"Podany numer PESEL jest niepoprawny"}]
[null,null,{"$f":"IF(Walidacja!B604,\"Poprawny\",\"Podany numer PESEL jest niepoprawny\")","v":"Podany numer PESEL jest niepoprawny"}]
[null,null,{"$f":"IF(Walidacja!B605,\"Poprawny\",\"Podany numer PESEL jest niepoprawny\")","v":"Podany numer PESEL jest niepoprawny"}]
[null,null,{"$f":"IF(Walidacja!B606,\"Poprawny\",\"Podany numer PESEL jest niepoprawny\")","v":"Podany numer PESEL jest niepoprawny"}]
[null,null,{"$f":"IF(Walidacja!B607,\"Poprawny\",\"Podany numer PESEL jest niepoprawny\")","v":"Podany numer PESEL jest niepoprawny"}]
[null,null,{"$f":"IF(Walidacja!B608,\"Poprawny\",\"Podany numer PESEL jest niepoprawny\")","v":"Podany numer PESEL jest niepoprawny"}]
[null,null,{"$f":"IF(Walidacja!B609,\"Poprawny\",\"Podany numer PESEL jest niepoprawny\")","v":"Podany numer PESEL jest niepoprawny"}]
[null,null,{"$f":"IF(Walidacja!B610,\"Poprawny\",\"Podany numer PESEL jest niepoprawny\")","v":"Podany numer PESEL jest niepoprawny"}]
[null,null,{"$f":"IF(Walidacja!B611,\"Poprawny\",\"Podany numer PESEL jest niepoprawny\")","v":"Podany numer PESEL jest niepoprawny"}]
[null,null,{"$f":"IF(Walidacja!B612,\"Poprawny\",\"Podany numer PESEL jest niepoprawny\")","v":"Podany numer PESEL jest niepoprawny"}]
[null,null,{"$f":"IF(Walidacja!B613,\"Poprawny\",\"Podany numer PESEL jest niepoprawny\")","v":"Podany numer PESEL jest niepoprawny"}]
[null,null,{"$f":"IF(Walidacja!B614,\"Poprawny\",\"Podany numer PESEL jest niepoprawny\")","v":"Podany numer PESEL jest niepoprawny"}]
[null,null,{"$f":"IF(Walidacja!B615,\"Poprawny\",\"Podany numer PESEL jest niepoprawny\")","v":"Podany numer PESEL jest niepoprawny"}]
[null,null,{"$f":"IF(Walidacja!B616,\"Poprawny\",\"Podany numer PESEL jest niepoprawny\")","v":"Podany numer PESEL jest niepoprawny"}]
[null,null,{"$f":"IF(Walidacja!B617,\"Poprawny\",\"Podany numer PESEL jest niepoprawny\")","v":"Podany numer PESEL jest niepoprawny"}]
[null,null,{"$f":"IF(Walidacja!B618,\"Poprawny\",\"Podany numer PESEL jest niepoprawny\")","v":"Podany numer PESEL jest niepoprawny"}]
[null,null,{"$f":"IF(Walidacja!B619,\"Poprawny\",\"Podany numer PESEL jest niepoprawny\")","v":"Podany numer PESEL jest niepoprawny"}]
[null,null,{"$f":"IF(Walidacja!B620,\"Poprawny\",\"Podany numer PESEL jest niepoprawny\")","v":"Podany numer PESEL jest niepoprawny"}]
[null,null,{"$f":"IF(Walidacja!B621,\"Poprawny\",\"Podany numer PESEL jest niepoprawny\")","v":"Podany numer PESEL jest niepoprawny"}]
[null,null,{"$f":"IF(Walidacja!B622,\"Poprawny\",\"Podany numer PESEL jest niepoprawny\")","v":"Podany numer PESEL jest niepoprawny"}]
[null,null,{"$f":"IF(Walidacja!B623,\"Poprawny\",\"Podany numer PESEL jest niepoprawny\")","v":"Podany numer PESEL jest niepoprawny"}]
[null,null,{"$f":"IF(Walidacja!B624,\"Poprawny\",\"Podany numer PESEL jest niepoprawny\")","v":"Podany numer PESEL jest niepoprawny"}]
[null,null,{"$f":"IF(Walidacja!B625,\"Poprawny\",\"Podany numer PESEL jest niepoprawny\")","v":"Podany numer PESEL jest niepoprawny"}]
[null,null,{"$f":"IF(Walidacja!B626,\"Poprawny\",\"Podany numer PESEL jest niepoprawny\")","v":"Podany numer PESEL jest niepoprawny"}]
[null,null,{"$f":"IF(Walidacja!B627,\"Poprawny\",\"Podany numer PESEL jest niepoprawny\")","v":"Podany numer PESEL jest niepoprawny"}]
[null,null,{"$f":"IF(Walidacja!B628,\"Poprawny\",\"Podany numer PESEL jest niepoprawny\")","v":"Podany numer PESEL jest niepoprawny"}]
[null,null,{"$f":"IF(Walidacja!B629,\"Poprawny\",\"Podany numer PESEL jest niepoprawny\")","v":"Podany numer PESEL jest niepoprawny"}]
[null,null,{"$f":"IF(Walidacja!B630,\"Poprawny\",\"Podany numer PESEL jest niepoprawny\")","v":"Podany numer PESEL jest niepoprawny"}]
[null,null,{"$f":"IF(Walidacja!B631,\"Poprawny\",\"Podany numer PESEL jest niepoprawny\")","v":"Podany numer PESEL jest niepoprawny"}]
[null,null,{"$f":"IF(Walidacja!B632,\"Poprawny\",\"Podany numer PESEL jest niepoprawny\")","v":"Podany numer PESEL jest niepoprawny"}]
[null,null,{"$f":"IF(Walidacja!B633,\"Poprawny\",\"Podany numer PESEL jest niepoprawny\")","v":"Podany numer PESEL jest niepoprawny"}]
[null,null,{"$f":"IF(Walidacja!B634,\"Poprawny\",\"Podany numer PESEL jest niepoprawny\")","v":"Podany numer PESEL jest niepoprawny"}]
[null,null,{"$f":"IF(Walidacja!B635,\"Poprawny\",\"Podany numer PESEL jest niepoprawny\")","v":"Podany numer PESEL jest niepoprawny"}]
[null,null,{"$f":"IF(Walidacja!B636,\"Poprawny\",\"Podany numer PESEL jest niepoprawny\")","v":"Podany numer PESEL jest niepoprawny"}]
[null,null,{"$f":"IF(Walidacja!B637,\"Poprawny\",\"Podany numer PESEL jest niepoprawny\")","v":"Podany numer PESEL jest niepoprawny"}]
[null,null,{"$f":"IF(Walidacja!B638,\"Poprawny\",\"Podany numer PESEL jest niepoprawny\")","v":"Podany numer PESEL jest niepoprawny"}]
[null,null,{"$f":"IF(Walidacja!B639,\"Poprawny\",\"Podany numer PESEL jest niepoprawny\")","v":"Podany numer PESEL jest niepoprawny"}]
[null,null,{"$f":"IF(Walidacja!B640,\"Poprawny\",\"Podany numer PESEL jest niepoprawny\")","v":"Podany numer PESEL jest niepoprawny"}]
[null,null,{"$f":"IF(Walidacja!B641,\"Poprawny\",\"Podany numer PESEL jest niepoprawny\")","v":"Podany numer PESEL jest niepoprawny"}]
[null,null,{"$f":"IF(Walidacja!B642,\"Poprawny\",\"Podany numer PESEL jest niepoprawny\")","v":"Podany numer PESEL jest niepoprawny"}]
[null,null,{"$f":"IF(Walidacja!B643,\"Poprawny\",\"Podany numer PESEL jest niepoprawny\")","v":"Podany numer PESEL jest niepoprawny"}]
[null,null,{"$f":"IF(Walidacja!B644,\"Poprawny\",\"Podany numer PESEL jest niepoprawny\")","v":"Podany numer PESEL jest niepoprawny"}]
[null,null,{"$f":"IF(Walidacja!B645,\"Poprawny\",\"Podany numer PESEL jest niepoprawny\")","v":"Podany numer PESEL jest niepoprawny"}]
[null,null,{"$f":"IF(Walidacja!B646,\"Poprawny\",\"Podany numer PESEL jest niepoprawny\")","v":"Podany numer PESEL jest niepoprawny"}]
[null,null,{"$f":"IF(Walidacja!B647,\"Poprawny\",\"Podany numer PESEL jest niepoprawny\")","v":"Podany numer PESEL jest niepoprawny"}]
[null,null,{"$f":"IF(Walidacja!B648,\"Poprawny\",\"Podany numer PESEL jest niepoprawny\")","v":"Podany numer PESEL jest niepoprawny"}]
[null,null,{"$f":"IF(Walidacja!B649,\"Poprawny\",\"Podany numer PESEL jest niepoprawny\")","v":"Podany numer PESEL jest niepoprawny"}]
[null,null,{"$f":"IF(Walidacja!B650,\"Poprawny\",\"Podany numer PESEL jest niepoprawny\")","v":"Podany numer PESEL jest niepoprawny"}]
[null,null,{"$f":"IF(Walidacja!B651,\"Poprawny\",\"Podany numer PESEL jest niepoprawny\")","v":"Podany numer PESEL jest niepoprawny"}]
[null,null,{"$f":"IF(Walidacja!B652,\"Poprawny\",\"Podany numer PESEL jest niepoprawny\")","v":"Podany numer PESEL jest niepoprawny"}]
[null,null,{"$f":"IF(Walidacja!B653,\"Poprawny\",\"Podany numer PESEL jest niepoprawny\")","v":"Podany numer PESEL jest niepoprawny"}]
[null,null,{"$f":"IF(Walidacja!B654,\"Poprawny\",\"Podany numer PESEL jest niepoprawny\")","v":"Podany numer PESEL jest niepoprawny"}]
[null,null,{"$f":"IF(Walidacja!B655,\"Poprawny\",\"Podany numer PESEL jest niepoprawny\")","v":"Podany numer PESEL jest niepoprawny"}]
[null,null,{"$f":"IF(Walidacja!B656,\"Poprawny\",\"Podany numer PESEL jest niepoprawny\")","v":"Podany numer PESEL jest niepoprawny"}]
[null,null,{"$f":"IF(Walidacja!B657,\"Poprawny\",\"Podany numer PESEL jest niepoprawny\")","v":"Podany numer PESEL jest niepoprawny"}]
[null,null,{"$f":"IF(Walidacja!B658,\"Poprawny\",\"Podany numer PESEL jest niepoprawny\")","v":"Podany numer PESEL jest niepoprawny"}]
[null,null,{"$f":"IF(Walidacja!B659,\"Poprawny\",\"Podany numer PESEL jest niepoprawny\")","v":"Podany numer PESEL jest niepoprawny"}]
[null,null,{"$f":"IF(Walidacja!B660,\"Poprawny\",\"Podany numer PESEL jest niepoprawny\")","v":"Podany numer PESEL jest niepoprawny"}]
[null,null,{"$f":"IF(Walidacja!B661,\"Poprawny\",\"Podany numer PESEL jest niepoprawny\")","v":"Podany numer PESEL jest niepoprawny"}]
[null,null,{"$f":"IF(Walidacja!B662,\"Poprawny\",\"Podany numer PESEL jest niepoprawny\")","v":"Podany numer PESEL jest niepoprawny"}]
[null,null,{"$f":"IF(Walidacja!B663,\"Poprawny\",\"Podany numer PESEL jest niepoprawny\")","v":"Podany numer PESEL jest niepoprawny"}]
[null,null,{"$f":"IF(Walidacja!B664,\"Poprawny\",\"Podany numer PESEL jest niepoprawny\")","v":"Podany numer PESEL jest niepoprawny"}]
[null,null,{"$f":"IF(Walidacja!B665,\"Poprawny\",\"Podany numer PESEL jest niepoprawny\")","v":"Podany numer PESEL jest niepoprawny"}]
[null,null,{"$f":"IF(Walidacja!B666,\"Poprawny\",\"Podany numer PESEL jest niepoprawny\")","v":"Podany numer PESEL jest niepoprawny"}]
[null,null,{"$f":"IF(Walidacja!B667,\"Poprawny\",\"Podany numer PESEL jest niepoprawny\")","v":"Podany numer PESEL jest niepoprawny"}]
[null,null,{"$f":"IF(Walidacja!B668,\"Poprawny\",\"Podany numer PESEL jest niepoprawny\")","v":"Podany numer PESEL jest niepoprawny"}]
[null,null,{"$f":"IF(Walidacja!B669,\"Poprawny\",\"Podany numer PESEL jest niepoprawny\")","v":"Podany numer PESEL jest niepoprawny"}]
[null,null,{"$f":"IF(Walidacja!B670,\"Poprawny\",\"Podany numer PESEL jest niepoprawny\")","v":"Podany numer PESEL jest niepoprawny"}]
[null,null,{"$f":"IF(Walidacja!B671,\"Poprawny\",\"Podany numer PESEL jest niepoprawny\")","v":"Podany numer PESEL jest niepoprawny"}]
[null,null,{"$f":"IF(Walidacja!B672,\"Poprawny\",\"Podany numer PESEL jest niepoprawny\")","v":"Podany numer PESEL jest niepoprawny"}]
[null,null,{"$f":"IF(Walidacja!B673,\"Poprawny\",\"Podany numer PESEL jest niepoprawny\")","v":"Podany numer PESEL jest niepoprawny"}]
[null,null,{"$f":"IF(Walidacja!B674,\"Poprawny\",\"Podany numer PESEL jest niepoprawny\")","v":"Podany numer PESEL jest niepoprawny"}]
[null,null,{"$f":"IF(Walidacja!B675,\"Poprawny\",\"Podany numer PESEL jest niepoprawny\")","v":"Podany numer PESEL jest niepoprawny"}]
[null,null,{"$f":"IF(Walidacja!B676,\"Poprawny\",\"Podany numer PESEL jest niepoprawny\")","v":"Podany numer PESEL jest niepoprawny"}]
[null,null,{"$f":"IF(Walidacja!B677,\"Poprawny\",\"Podany numer PESEL jest niepoprawny\")","v":"Podany numer PESEL jest niepoprawny"}]
[null,null,{"$f":"IF(Walidacja!B678,\"Poprawny\",\"Podany numer PESEL jest niepoprawny\")","v":"Podany numer PESEL jest niepoprawny"}]
[null,null,{"$f":"IF(Walidacja!B679,\"Poprawny\",\"Podany numer PESEL jest niepoprawny\")","v":"Podany numer PESEL jest niepoprawny"}]
[null,null,{"$f":"IF(Walidacja!B680,\"Poprawny\",\"Podany numer PESEL jest niepoprawny\")","v":"Podany numer PESEL jest niepoprawny"}]
[null,null,{"$f":"IF(Walidacja!B681,\"Poprawny\",\"Podany numer PESEL jest niepoprawny\")","v":"Podany numer PESEL jest niepoprawny"}]
[null,null,{"$f":"IF(Walidacja!B682,\"Poprawny\",\"Podany numer PESEL jest niepoprawny\")","v":"Podany numer PESEL jest niepoprawny"}]
[null,null,{"$f":"IF(Walidacja!B683,\"Poprawny\",\"Podany numer PESEL jest niepoprawny\")","v":"Podany numer PESEL jest niepoprawny"}]
[null,null,{"$f":"IF(Walidacja!B684,\"Poprawny\",\"Podany numer PESEL jest niepoprawny\")","v":"Podany numer PESEL jest niepoprawny"}]
[null,null,{"$f":"IF(Walidacja!B685,\"Poprawny\",\"Podany numer PESEL jest niepoprawny\")","v":"Podany numer PESEL jest niepoprawny"}]
[null,null,{"$f":"IF(Walidacja!B686,\"Poprawny\",\"Podany numer PESEL jest niepoprawny\")","v":"Podany numer PESEL jest niepoprawny"}]
[null,null,{"$f":"IF(Walidacja!B687,\"Poprawny\",\"Podany numer PESEL jest niepoprawny\")","v":"Podany numer PESEL jest niepoprawny"}]
[null,null,{"$f":"IF(Walidacja!B688,\"Poprawny\",\"Podany numer PESEL jest niepoprawny\")","v":"Podany numer PESEL jest niepoprawny"}]
[null,null,{"$f":"IF(Walidacja!B689,\"Poprawny\",\"Podany numer PESEL jest niepoprawny\")","v":"Podany numer PESEL jest niepoprawny"}]
[null,null,{"$f":"IF(Walidacja!B690,\"Poprawny\",\"Podany numer PESEL jest niepoprawny\")","v":"Podany numer PESEL jest niepoprawny"}]
[null,null,{"$f":"IF(Walidacja!B691,\"Poprawny\",\"Podany numer PESEL jest niepoprawny\")","v":"Podany numer PESEL jest niepoprawny"}]
[null,null,{"$f":"IF(Walidacja!B692,\"Poprawny\",\"Podany numer PESEL jest niepoprawny\")","v":"Podany numer PESEL jest niepoprawny"}]
[null,null,{"$f":"IF(Walidacja!B693,\"Poprawny\",\"Podany numer PESEL jest niepoprawny\")","v":"Podany numer PESEL jest niepoprawny"}]
[null,null,{"$f":"IF(Walidacja!B694,\"Poprawny\",\"Podany numer PESEL jest niepoprawny\")","v":"Podany numer PESEL jest niepoprawny"}]
[null,null,{"$f":"IF(Walidacja!B695,\"Poprawny\",\"Podany numer PESEL jest niepoprawny\")","v":"Podany numer PESEL jest niepoprawny"}]
[null,null,{"$f":"IF(Walidacja!B696,\"Poprawny\",\"Podany numer PESEL jest niepoprawny\")","v":"Podany numer PESEL jest niepoprawny"}]
[null,null,{"$f":"IF(Walidacja!B697,\"Poprawny\",\"Podany numer PESEL jest niepoprawny\")","v":"Podany numer PESEL jest niepoprawny"}]
[null,null,{"$f":"IF(Walidacja!B698,\"Poprawny\",\"Podany numer PESEL jest niepoprawny\")","v":"Podany numer PESEL jest niepoprawny"}]
[null,null,{"$f":"IF(Walidacja!B699,\"Poprawny\",\"Podany numer PESEL jest niepoprawny\")","v":"Podany numer PESEL jest niepoprawny"}]
[null,null,{"$f":"IF(Walidacja!B700,\"Poprawny\",\"Podany numer PESEL jest niepoprawny\")","v":"Podany numer PESEL jest niepoprawny"}]
[null,null,{"$f":"IF(Walidacja!B701,\"Poprawny\",\"Podany numer PESEL jest niepoprawny\")","v":"Podany numer PESEL jest niepoprawny"}]
[null,null,{"$f":"IF(Walidacja!B702,\"Poprawny\",\"Podany numer PESEL jest niepoprawny\")","v":"Podany numer PESEL jest niepoprawny"}]
[null,null,{"$f":"IF(Walidacja!B703,\"Poprawny\",\"Podany numer PESEL jest niepoprawny\")","v":"Podany numer PESEL jest niepoprawny"}]
[null,null,{"$f":"IF(Walidacja!B704,\"Poprawny\",\"Podany numer PESEL jest niepoprawny\")","v":"Podany numer PESEL jest niepoprawny"}]
[null,null,{"$f":"IF(Walidacja!B705,\"Poprawny\",\"Podany numer PESEL jest niepoprawny\")","v":"Podany numer PESEL jest niepoprawny"}]
[null,null,{"$f":"IF(Walidacja!B706,\"Poprawny\",\"Podany numer PESEL jest niepoprawny\")","v":"Podany numer PESEL jest niepoprawny"}]
[null,null,{"$f":"IF(Walidacja!B707,\"Poprawny\",\"Podany numer PESEL jest niepoprawny\")","v":"Podany numer PESEL jest niepoprawny"}]
[null,null,{"$f":"IF(Walidacja!B708,\"Poprawny\",\"Podany numer PESEL jest niepoprawny\")","v":"Podany numer PESEL jest niepoprawny"}]
[null,null,{"$f":"IF(Walidacja!B709,\"Poprawny\",\"Podany numer PESEL jest niepoprawny\")","v":"Podany numer PESEL jest niepoprawny"}]
[null,null,{"$f":"IF(Walidacja!B710,\"Poprawny\",\"Podany numer PESEL jest niepoprawny\")","v":"Podany numer PESEL jest niepoprawny"}]
[null,null,{"$f":"IF(Walidacja!B711,\"Poprawny\",\"Podany numer PESEL jest niepoprawny\")","v":"Podany numer PESEL jest niepoprawny"}]
[null,null,{"$f":"IF(Walidacja!B712,\"Poprawny\",\"Podany numer PESEL jest niepoprawny\")","v":"Podany numer PESEL jest niepoprawny"}]
[null,null,{"$f":"IF(Walidacja!B713,\"Poprawny\",\"Podany numer PESEL jest niepoprawny\")","v":"Podany numer PESEL jest niepoprawny"}]
[null,null,{"$f":"IF(Walidacja!B714,\"Poprawny\",\"Podany numer PESEL jest niepoprawny\")","v":"Podany numer PESEL jest niepoprawny"}]
[null,null,{"$f":"IF(Walidacja!B715,\"Poprawny\",\"Podany numer PESEL jest niepoprawny\")","v":"Podany numer PESEL jest niepoprawny"}]
[null,null,{"$f":"IF(Walidacja!B716,\"Poprawny\",\"Podany numer PESEL jest niepoprawny\")","v":"Podany numer PESEL jest niepoprawny"}]
[null,null,{"$f":"IF(Walidacja!B717,\"Poprawny\",\"Podany numer PESEL jest niepoprawny\")","v":"Podany numer PESEL jest niepoprawny"}]
[null,null,{"$f":"IF(Walidacja!B718,\"Poprawny\",\"Podany numer PESEL jest niepoprawny\")","v":"Podany numer PESEL jest niepoprawny"}]
[null,null,{"$f":"IF(Walidacja!B719,\"Poprawny\",\"Podany numer PESEL jest niepoprawny\")","v":"Podany numer PESEL jest niepoprawny"}]
[null,null,{"$f":"IF(Walidacja!B720,\"Poprawny\",\"Podany numer PESEL jest niepoprawny\")","v":"Podany numer PESEL jest niepoprawny"}]
[null,null,{"$f":"IF(Walidacja!B721,\"Poprawny\",\"Podany numer PESEL jest niepoprawny\")","v":"Podany numer PESEL jest niepoprawny"}]
[null,null,{"$f":"IF(Walidacja!B722,\"Poprawny\",\"Podany numer PESEL jest niepoprawny\")","v":"Podany numer PESEL jest niepoprawny"}]
[null,null,{"$f":"IF(Walidacja!B723,\"Poprawny\",\"Podany numer PESEL jest niepoprawny\")","v":"Podany numer PESEL jest niepoprawny"}]
[null,null,{"$f":"IF(Walidacja!B724,\"Poprawny\",\"Podany numer PESEL jest niepoprawny\")","v":"Podany numer PESEL jest niepoprawny"}]
[null,null,{"$f":"IF(Walidacja!B725,\"Poprawny\",\"Podany numer PESEL jest niepoprawny\")","v":"Podany numer PESEL jest niepoprawny"}]
[null,null,{"$f":"IF(Walidacja!B726,\"Poprawny\",\"Podany numer PESEL jest niepoprawny\")","v":"Podany numer PESEL jest niepoprawny"}]
[null,null,{"$f":"IF(Walidacja!B727,\"Poprawny\",\"Podany numer PESEL jest niepoprawny\")","v":"Podany numer PESEL jest niepoprawny"}]
[null,null,{"$f":"IF(Walidacja!B728,\"Poprawny\",\"Podany numer PESEL jest niepoprawny\")","v":"Podany numer PESEL jest niepoprawny"}]
[null,null,{"$f":"IF(Walidacja!B729,\"Poprawny\",\"Podany numer PESEL jest niepoprawny\")","v":"Podany numer PESEL jest niepoprawny"}]
[null,null,{"$f":"IF(Walidacja!B730,\"Poprawny\",\"Podany numer PESEL jest niepoprawny\")","v":"Podany numer PESEL jest niepoprawny"}]
[null,null,{"$f":"IF(Walidacja!B731,\"Poprawny\",\"Podany numer PESEL jest niepoprawny\")","v":"Podany numer PESEL jest niepoprawny"}]
[null,null,{"$f":"IF(Walidacja!B732,\"Poprawny\",\"Podany numer PESEL jest niepoprawny\")","v":"Podany numer PESEL jest niepoprawny"}]
[null,null,{"$f":"IF(Walidacja!B733,\"Poprawny\",\"Podany numer PESEL jest niepoprawny\")","v":"Podany numer PESEL jest niepoprawny"}]
[null,null,{"$f":"IF(Walidacja!B734,\"Poprawny\",\"Podany numer PESEL jest niepoprawny\")","v":"Podany numer PESEL jest niepoprawny"}]
[null,null,{"$f":"IF(Walidacja!B735,\"Poprawny\",\"Podany numer PESEL jest niepoprawny\")","v":"Podany numer PESEL jest niepoprawny"}]
[null,null,{"$f":"IF(Walidacja!B736,\"Poprawny\",\"Podany numer PESEL jest niepoprawny\")","v":"Podany numer PESEL jest niepoprawny"}]
[null,null,{"$f":"IF(Walidacja!B737,\"Poprawny\",\"Podany numer PESEL jest niepoprawny\")","v":"Podany numer PESEL jest niepoprawny"}]
[null,null,{"$f":"IF(Walidacja!B738,\"Poprawny\",\"Podany numer PESEL jest niepoprawny\")","v":"Podany numer PESEL jest niepoprawny"}]
[null,null,{"$f":"IF(Walidacja!B739,\"Poprawny\",\"Podany numer PESEL jest niepoprawny\")","v":"Podany numer PESEL jest niepoprawny"}]
[null,null,{"$f":"IF(Walidacja!B740,\"Poprawny\",\"Podany numer PESEL jest niepoprawny\")","v":"Podany numer PESEL jest niepoprawny"}]
[null,null,{"$f":"IF(Walidacja!B741,\"Poprawny\",\"Podany numer PESEL jest niepoprawny\")","v":"Podany numer PESEL jest niepoprawny"}]
[null,null,{"$f":"IF(Walidacja!B742,\"Poprawny\",\"Podany numer PESEL jest niepoprawny\")","v":"Podany numer PESEL jest niepoprawny"}]
[null,null,{"$f":"IF(Walidacja!B743,\"Poprawny\",\"Podany numer PESEL jest niepoprawny\")","v":"Podany numer PESEL jest niepoprawny"}]
[null,null,{"$f":"IF(Walidacja!B744,\"Poprawny\",\"Podany numer PESEL jest niepoprawny\")","v":"Podany numer PESEL jest niepoprawny"}]
[null,null,{"$f":"IF(Walidacja!B745,\"Poprawny\",\"Podany numer PESEL jest niepoprawny\")","v":"Podany numer PESEL jest niepoprawny"}]
[null,null,{"$f":"IF(Walidacja!B746,\"Poprawny\",\"Podany numer PESEL jest niepoprawny\")","v":"Podany numer PESEL jest niepoprawny"}]
[null,null,{"$f":"IF(Walidacja!B747,\"Poprawny\",\"Podany numer PESEL jest niepoprawny\")","v":"Podany numer PESEL jest niepoprawny"}]
[null,null,{"$f":"IF(Walidacja!B748,\"Poprawny\",\"Podany numer PESEL jest niepoprawny\")","v":"Podany numer PESEL jest niepoprawny"}]
[null,null,{"$f":"IF(Walidacja!B749,\"Poprawny\",\"Podany numer PESEL jest niepoprawny\")","v":"Podany numer PESEL jest niepoprawny"}]
[null,null,{"$f":"IF(Walidacja!B750,\"Poprawny\",\"Podany numer PESEL jest niepoprawny\")","v":"Podany numer PESEL jest niepoprawny"}]
[null,null,{"$f":"IF(Walidacja!B751,\"Poprawny\",\"Podany numer PESEL jest niepoprawny\")","v":"Podany numer PESEL jest niepoprawny"}]
[null,null,{"$f":"IF(Walidacja!B752,\"Poprawny\",\"Podany numer PESEL jest niepoprawny\")","v":"Podany numer PESEL jest niepoprawny"}]
[null,null,{"$f":"IF(Walidacja!B753,\"Poprawny\",\"Podany numer PESEL jest niepoprawny\")","v":"Podany numer PESEL jest niepoprawny"}]
[null,null,{"$f":"IF(Walidacja!B754,\"Poprawny\",\"Podany numer PESEL jest niepoprawny\")","v":"Podany numer PESEL jest niepoprawny"}]
[null,null,{"$f":"IF(Walidacja!B755,\"Poprawny\",\"Podany numer PESEL jest niepoprawny\")","v":"Podany numer PESEL jest niepoprawny"}]
[null,null,{"$f":"IF(Walidacja!B756,\"Poprawny\",\"Podany numer PESEL jest niepoprawny\")","v":"Podany numer PESEL jest niepoprawny"}]
[null,null,{"$f":"IF(Walidacja!B757,\"Poprawny\",\"Podany numer PESEL jest niepoprawny\")","v":"Podany numer PESEL jest niepoprawny"}]
[null,null,{"$f":"IF(Walidacja!B758,\"Poprawny\",\"Podany numer PESEL jest niepoprawny\")","v":"Podany numer PESEL jest niepoprawny"}]
[null,null,{"$f":"IF(Walidacja!B759,\"Poprawny\",\"Podany numer PESEL jest niepoprawny\")","v":"Podany numer PESEL jest niepoprawny"}]
[null,null,{"$f":"IF(Walidacja!B760,\"Poprawny\",\"Podany numer PESEL jest niepoprawny\")","v":"Podany numer PESEL jest niepoprawny"}]
[null,null,{"$f":"IF(Walidacja!B761,\"Poprawny\",\"Podany numer PESEL jest niepoprawny\")","v":"Podany numer PESEL jest niepoprawny"}]
[null,null,{"$f":"IF(Walidacja!B762,\"Poprawny\",\"Podany numer PESEL jest niepoprawny\")","v":"Podany numer PESEL jest niepoprawny"}]
[null,null,{"$f":"IF(Walidacja!B763,\"Poprawny\",\"Podany numer PESEL jest niepoprawny\")","v":"Podany numer PESEL jest niepoprawny"}]
[null,null,{"$f":"IF(Walidacja!B764,\"Poprawny\",\"Podany numer PESEL jest niepoprawny\")","v":"Podany numer PESEL jest niepoprawny"}]
[null,null,{"$f":"IF(Walidacja!B765,\"Poprawny\",\"Podany numer PESEL jest niepoprawny\")","v":"Podany numer PESEL jest niepoprawny"}]
[null,null,{"$f":"IF(Walidacja!B766,\"Poprawny\",\"Podany numer PESEL jest niepoprawny\")","v":"Podany numer PESEL jest niepoprawny"}]
[null,null,{"$f":"IF(Walidacja!B767,\"Poprawny\",\"Podany numer PESEL jest niepoprawny\")","v":"Podany numer PESEL jest niepoprawny"}]
[null,null,{"$f":"IF(Walidacja!B768,\"Poprawny\",\"Podany numer PESEL jest niepoprawny\")","v":"Podany numer PESEL jest niepoprawny"}]
[null,null,{"$f":"IF(Walidacja!B769,\"Poprawny\",\"Podany numer PESEL jest niepoprawny\")","v":"Podany numer PESEL jest niepoprawny"}]
[null,null,{"$f":"IF(Walidacja!B770,\"Poprawny\",\"Podany numer PESEL jest niepoprawny\")","v":"Podany numer PESEL jest niepoprawny"}]
[null,null,{"$f":"IF(Walidacja!B771,\"Poprawny\",\"Podany numer PESEL jest niepoprawny\")","v":"Podany numer PESEL jest niepoprawny"}]
[null,null,{"$f":"IF(Walidacja!B772,\"Poprawny\",\"Podany numer PESEL jest niepoprawny\")","v":"Podany numer PESEL jest niepoprawny"}]
[null,null,{"$f":"IF(Walidacja!B773,\"Poprawny\",\"Podany numer PESEL jest niepoprawny\")","v":"Podany numer PESEL jest niepoprawny"}]
[null,null,{"$f":"IF(Walidacja!B774,\"Poprawny\",\"Podany numer PESEL jest niepoprawny\")","v":"Podany numer PESEL jest niepoprawny"}]
[null,null,{"$f":"IF(Walidacja!B775,\"Poprawny\",\"Podany numer PESEL jest niepoprawny\")","v":"Podany numer PESEL jest niepoprawny"}]
[null,null,{"$f":"IF(Walidacja!B776,\"Poprawny\",\"Podany numer PESEL jest niepoprawny\")","v":"Podany numer PESEL jest niepoprawny"}]
[null,null,{"$f":"IF(Walidacja!B777,\"Poprawny\",\"Podany numer PESEL jest niepoprawny\")","v":"Podany numer PESEL jest niepoprawny"}]
[null,null,{"$f":"IF(Walidacja!B778,\"Poprawny\",\"Podany numer PESEL jest niepoprawny\")","v":"Podany numer PESEL jest niepoprawny"}]
[null,null,{"$f":"IF(Walidacja!B779,\"Poprawny\",\"Podany numer PESEL jest niepoprawny\")","v":"Podany numer PESEL jest niepoprawny"}]
[null,null,{"$f":"IF(Walidacja!B780,\"Poprawny\",\"Podany numer PESEL jest niepoprawny\")","v":"Podany numer PESEL jest niepoprawny"}]
[null,null,{"$f":"IF(Walidacja!B781,\"Poprawny\",\"Podany numer PESEL jest niepoprawny\")","v":"Podany numer PESEL jest niepoprawny"}]
[null,null,{"$f":"IF(Walidacja!B782,\"Poprawny\",\"Podany numer PESEL jest niepoprawny\")","v":"Podany numer PESEL jest niepoprawny"}]
[null,null,{"$f":"IF(Walidacja!B783,\"Poprawny\",\"Podany numer PESEL jest niepoprawny\")","v":"Podany numer PESEL jest niepoprawny"}]
[null,null,{"$f":"IF(Walidacja!B784,\"Poprawny\",\"Podany numer PESEL jest niepoprawny\")","v":"Podany numer PESEL jest niepoprawny"}]
[null,null,{"$f":"IF(Walidacja!B785,\"Poprawny\",\"Podany numer PESEL jest niepoprawny\")","v":"Podany numer PESEL jest niepoprawny"}]
[null,null,{"$f":"IF(Walidacja!B786,\"Poprawny\",\"Podany numer PESEL jest niepoprawny\")","v":"Podany numer PESEL jest niepoprawny"}]
[null,null,{"$f":"IF(Walidacja!B787,\"Poprawny\",\"Podany numer PESEL jest niepoprawny\")","v":"Podany numer PESEL jest niepoprawny"}]
[null,null,{"$f":"IF(Walidacja!B788,\"Poprawny\",\"Podany numer PESEL jest niepoprawny\")","v":"Podany numer PESEL jest niepoprawny"}]
[null,null,{"$f":"IF(Walidacja!B789,\"Poprawny\",\"Podany numer PESEL jest niepoprawny\")","v":"Podany numer PESEL jest niepoprawny"}]
[null,null,{"$f":"IF(Walidacja!B790,\"Poprawny\",\"Podany numer PESEL jest niepoprawny\")","v":"Podany numer PESEL jest niepoprawny"}]
[null,null,{"$f":"IF(Walidacja!B791,\"Poprawny\",\"Podany numer PESEL jest niepoprawny\")","v":"Podany numer PESEL jest niepoprawny"}]
[null,null,{"$f":"IF(Walidacja!B792,\"Poprawny\",\"Podany numer PESEL jest niepoprawny\")","v":"Podany numer PESEL jest niepoprawny"}]
[null,null,{"$f":"IF(Walidacja!B793,\"Poprawny\",\"Podany numer PESEL jest niepoprawny\")","v":"Podany numer PESEL jest niepoprawny"}]
[null,null,{"$f":"IF(Walidacja!B794,\"Poprawny\",\"Podany numer PESEL jest niepoprawny\")","v":"Podany numer PESEL jest niepoprawny"}]
[null,null,{"$f":"IF(Walidacja!B795,\"Poprawny\",\"Podany numer PESEL jest niepoprawny\")","v":"Podany numer PESEL jest niepoprawny"}]
[null,null,{"$f":"IF(Walidacja!B796,\"Poprawny\",\"Podany numer PESEL jest niepoprawny\")","v":"Podany numer PESEL jest niepoprawny"}]
[null,null,{"$f":"IF(Walidacja!B797,\"Poprawny\",\"Podany numer PESEL jest niepoprawny\")","v":"Podany numer PESEL jest niepoprawny"}]
[null,null,{"$f":"IF(Walidacja!B798,\"Poprawny\",\"Podany numer PESEL jest niepoprawny\")","v":"Podany numer PESEL jest niepoprawny"}]
[null,null,{"$f":"IF(Walidacja!B799,\"Poprawny\",\"Podany numer PESEL jest niepoprawny\")","v":"Podany numer PESEL jest niepoprawny"}]
[null,null,{"$f":"IF(Walidacja!B800,\"Poprawny\",\"Podany numer PESEL jest niepoprawny\")","v":"Podany numer PESEL jest niepoprawny"}]
[null,null,{"$f":"IF(Walidacja!B801,\"Poprawny\",\"Podany numer PESEL jest niepoprawny\")","v":"Podany numer PESEL jest niepoprawny"}]
[null,null,{"$f":"IF(Walidacja!B802,\"Poprawny\",\"Podany numer PESEL jest niepoprawny\")","v":"Podany numer PESEL jest niepoprawny"}]
[null,null,{"$f":"IF(Walidacja!B803,\"Poprawny\",\"Podany numer PESEL jest niepoprawny\")","v":"Podany numer PESEL jest niepoprawny"}]
[null,null,{"$f":"IF(Walidacja!B804,\"Poprawny\",\"Podany numer PESEL jest niepoprawny\")","v":"Podany numer PESEL jest niepoprawny"}]
[null,null,{"$f":"IF(Walidacja!B805,\"Poprawny\",\"Podany numer PESEL jest niepoprawny\")","v":"Podany numer PESEL jest niepoprawny"}]
[null,null,{"$f":"IF(Walidacja!B806,\"Poprawny\",\"Podany numer PESEL jest niepoprawny\")","v":"Podany numer PESEL jest niepoprawny"}]
[null,null,{"$f":"IF(Walidacja!B807,\"Poprawny\",\"Podany numer PESEL jest niepoprawny\")","v":"Podany numer PESEL jest niepoprawny"}]
[null,null,{"$f":"IF(Walidacja!B808,\"Poprawny\",\"Podany numer PESEL jest niepoprawny\")","v":"Podany numer PESEL jest niepoprawny"}]
[null,null,{"$f":"IF(Walidacja!B809,\"Poprawny\",\"Podany numer PESEL jest niepoprawny\")","v":"Podany numer PESEL jest niepoprawny"}]
[null,null,{"$f":"IF(Walidacja!B810,\"Poprawny\",\"Podany numer PESEL jest niepoprawny\")","v":"Podany numer PESEL jest niepoprawny"}]
[null,null,{"$f":"IF(Walidacja!B811,\"Poprawny\",\"Podany numer PESEL jest niepoprawny\")","v":"Podany numer PESEL jest niepoprawny"}]
[null,null,{"$f":"IF(Walidacja!B812,\"Poprawny\",\"Podany numer PESEL jest niepoprawny\")","v":"Podany numer PESEL jest niepoprawny"}]
[null,null,{"$f":"IF(Walidacja!B813,\"Poprawny\",\"Podany numer PESEL jest niepoprawny\")","v":"Podany numer PESEL jest niepoprawny"}]
[null,null,{"$f":"IF(Walidacja!B814,\"Poprawny\",\"Podany numer PESEL jest niepoprawny\")","v":"Podany numer PESEL jest niepoprawny"}]
[null,null,{"$f":"IF(Walidacja!B815,\"Poprawny\",\"Podany numer PESEL jest niepoprawny\")","v":"Podany numer PESEL jest niepoprawny"}]
[null,null,{"$f":"IF(Walidacja!B816,\"Poprawny\",\"Podany numer PESEL jest niepoprawny\")","v":"Podany numer PESEL jest niepoprawny"}]
[null,null,{"$f":"IF(Walidacja!B817,\"Poprawny\",\"Podany numer PESEL jest niepoprawny\")","v":"Podany numer PESEL jest niepoprawny"}]
[null,null,{"$f":"IF(Walidacja!B818,\"Poprawny\",\"Podany numer PESEL jest niepoprawny\")","v":"Podany numer PESEL jest niepoprawny"}]
[null,null,{"$f":"IF(Walidacja!B819,\"Poprawny\",\"Podany numer PESEL jest niepoprawny\")","v":"Podany numer PESEL jest niepoprawny"}]
[null,null,{"$f":"IF(Walidacja!B820,\"Poprawny\",\"Podany numer PESEL jest niepoprawny\")","v":"Podany numer PESEL jest niepoprawny"}]
[null,null,{"$f":"IF(Walidacja!B821,\"Poprawny\",\"Podany numer PESEL jest niepoprawny\")","v":"Podany numer PESEL jest niepoprawny"}]
[null,null,{"$f":"IF(Walidacja!B822,\"Poprawny\",\"Podany numer PESEL jest niepoprawny\")","v":"Podany numer PESEL jest niepoprawny"}]
[null,null,{"$f":"IF(Walidacja!B823,\"Poprawny\",\"Podany numer PESEL jest niepoprawny\")","v":"Podany numer PESEL jest niepoprawny"}]
[null,null,{"$f":"IF(Walidacja!B824,\"Poprawny\",\"Podany numer PESEL jest niepoprawny\")","v":"Podany numer PESEL jest niepoprawny"}]
[null,null,{"$f":"IF(Walidacja!B825,\"Poprawny\",\"Podany numer PESEL jest niepoprawny\")","v":"Podany numer PESEL jest niepoprawny"}]
[null,null,{"$f":"IF(Walidacja!B826,\"Poprawny\",\"Podany numer PESEL jest niepoprawny\")","v":"Podany numer PESEL jest niepoprawny"}]
[null,null,{"$f":"IF(Walidacja!B827,\"Poprawny\",\"Podany numer PESEL jest niepoprawny\")","v":"Podany numer PESEL jest niepoprawny"}]
[null,null,{"$f":"IF(Walidacja!B828,\"Poprawny\",\"Podany numer PESEL jest niepoprawny\")","v":"Podany numer PESEL jest niepoprawny"}]
[null,null,{"$f":"IF(Walidacja!B829,\"Poprawny\",\"Podany numer PESEL jest niepoprawny\")","v":"Podany numer PESEL jest niepoprawny"}]
[null,null,{"$f":"IF(Walidacja!B830,\"Poprawny\",\"Podany numer PESEL jest niepoprawny\")","v":"Podany numer PESEL jest niepoprawny"}]
[null,null,{"$f":"IF(Walidacja!B831,\"Poprawny\",\"Podany numer PESEL jest niepoprawny\")","v":"Podany numer PESEL jest niepoprawny"}]
[null,null,{"$f":"IF(Walidacja!B832,\"Poprawny\",\"Podany numer PESEL jest niepoprawny\")","v":"Podany numer PESEL jest niepoprawny"}]
[null,null,{"$f":"IF(Walidacja!B833,\"Poprawny\",\"Podany numer PESEL jest niepoprawny\")","v":"Podany numer PESEL jest niepoprawny"}]
[null,null,{"$f":"IF(Walidacja!B834,\"Poprawny\",\"Podany numer PESEL jest niepoprawny\")","v":"Podany numer PESEL jest niepoprawny"}]
[null,null,{"$f":"IF(Walidacja!B835,\"Poprawny\",\"Podany numer PESEL jest niepoprawny\")","v":"Podany numer PESEL jest niepoprawny"}]
[null,null,{"$f":"IF(Walidacja!B836,\"Poprawny\",\"Podany numer PESEL jest niepoprawny\")","v":"Podany numer PESEL jest niepoprawny"}]
[null,null,{"$f":"IF(Walidacja!B837,\"Poprawny\",\"Podany numer PESEL jest niepoprawny\")","v":"Podany numer PESEL jest niepoprawny"}]
[null,null,{"$f":"IF(Walidacja!B838,\"Poprawny\",\"Podany numer PESEL jest niepoprawny\")","v":"Podany numer PESEL jest niepoprawny"}]
[null,null,{"$f":"IF(Walidacja!B839,\"Poprawny\",\"Podany numer PESEL jest niepoprawny\")","v":"Podany numer PESEL jest niepoprawny"}]
[null,null,{"$f":"IF(Walidacja!B840,\"Poprawny\",\"Podany numer PESEL jest niepoprawny\")","v":"Podany numer PESEL jest niepoprawny"}]
[null,null,{"$f":"IF(Walidacja!B841,\"Poprawny\",\"Podany numer PESEL jest niepoprawny\")","v":"Podany numer PESEL jest niepoprawny"}]
[null,null,{"$f":"IF(Walidacja!B842,\"Poprawny\",\"Podany numer PESEL jest niepoprawny\")","v":"Podany numer PESEL jest niepoprawny"}]
[null,null,{"$f":"IF(Walidacja!B843,\"Poprawny\",\"Podany numer PESEL jest niepoprawny\")","v":"Podany numer PESEL jest niepoprawny"}]
[null,null,{"$f":"IF(Walidacja!B844,\"Poprawny\",\"Podany numer PESEL jest niepoprawny\")","v":"Podany numer PESEL jest niepoprawny"}]
[null,null,{"$f":"IF(Walidacja!B845,\"Poprawny\",\"Podany numer PESEL jest niepoprawny\")","v":"Podany numer PESEL jest niepoprawny"}]
[null,null,{"$f":"IF(Walidacja!B846,\"Poprawny\",\"Podany numer PESEL jest niepoprawny\")","v":"Podany numer PESEL jest niepoprawny"}]
[null,null,{"$f":"IF(Walidacja!B847,\"Poprawny\",\"Podany numer PESEL jest niepoprawny\")","v":"Podany numer PESEL jest niepoprawny"}]
[null,null,{"$f":"IF(Walidacja!B848,\"Poprawny\",\"Podany numer PESEL jest niepoprawny\")","v":"Podany numer PESEL jest niepoprawny"}]
[null,null,{"$f":"IF(Walidacja!B849,\"Poprawny\",\"Podany numer PESEL jest niepoprawny\")","v":"Podany numer PESEL jest niepoprawny"}]
[null,null,{"$f":"IF(Walidacja!B850,\"Poprawny\",\"Podany numer PESEL jest niepoprawny\")","v":"Podany numer PESEL jest niepoprawny"}]
[null,null,{"$f":"IF(Walidacja!B851,\"Poprawny\",\"Podany numer PESEL jest niepoprawny\")","v":"Podany numer PESEL jest niepoprawny"}]
[null,null,{"$f":"IF(Walidacja!B852,\"Poprawny\",\"Podany numer PESEL jest niepoprawny\")","v":"Podany numer PESEL jest niepoprawny"}]
[null,null,{"$f":"IF(Walidacja!B853,\"Poprawny\",\"Podany numer PESEL jest niepoprawny\")","v":"Podany numer PESEL jest niepoprawny"}]
[null,null,{"$f":"IF(Walidacja!B854,\"Poprawny\",\"Podany numer PESEL jest niepoprawny\")","v":"Podany numer PESEL jest niepoprawny"}]
[null,null,{"$f":"IF(Walidacja!B855,\"Poprawny\",\"Podany numer PESEL jest niepoprawny\")","v":"Podany numer PESEL jest niepoprawny"}]
[null,null,{"$f":"IF(Walidacja!B856,\"Poprawny\",\"Podany numer PESEL jest niepoprawny\")","v":"Podany numer PESEL jest niepoprawny"}]
[null,null,{"$f":"IF(Walidacja!B857,\"Poprawny\",\"Podany numer PESEL jest niepoprawny\")","v":"Podany numer PESEL jest niepoprawny"}]
[null,null,{"$f":"IF(Walidacja!B858,\"Poprawny\",\"Podany numer PESEL jest niepoprawny\")","v":"Podany numer PESEL jest niepoprawny"}]
[null,null,{"$f":"IF(Walidacja!B859,\"Poprawny\",\"Podany numer PESEL jest niepoprawny\")","v":"Podany numer PESEL jest niepoprawny"}]
[null,null,{"$f":"IF(Walidacja!B860,\"Poprawny\",\"Podany numer PESEL jest niepoprawny\")","v":"Podany numer PESEL jest niepoprawny"}]
[null,null,{"$f":"IF(Walidacja!B861,\"Poprawny\",\"Podany numer PESEL jest niepoprawny\")","v":"Podany numer PESEL jest niepoprawny"}]
[null,null,{"$f":"IF(Walidacja!B862,\"Poprawny\",\"Podany numer PESEL jest niepoprawny\")","v":"Podany numer PESEL jest niepoprawny"}]
[null,null,{"$f":"IF(Walidacja!B863,\"Poprawny\",\"Podany numer PESEL jest niepoprawny\")","v":"Podany numer PESEL jest niepoprawny"}]
[null,null,{"$f":"IF(Walidacja!B864,\"Poprawny\",\"Podany numer PESEL jest niepoprawny\")","v":"Podany numer PESEL jest niepoprawny"}]
[null,null,{"$f":"IF(Walidacja!B865,\"Poprawny\",\"Podany numer PESEL jest niepoprawny\")","v":"Podany numer PESEL jest niepoprawny"}]
[null,null,{"$f":"IF(Walidacja!B866,\"Poprawny\",\"Podany numer PESEL jest niepoprawny\")","v":"Podany numer PESEL jest niepoprawny"}]
[null,null,{"$f":"IF(Walidacja!B867,\"Poprawny\",\"Podany numer PESEL jest niepoprawny\")","v":"Podany numer PESEL jest niepoprawny"}]
[null,null,{"$f":"IF(Walidacja!B868,\"Poprawny\",\"Podany numer PESEL jest niepoprawny\")","v":"Podany numer PESEL jest niepoprawny"}]
[null,null,{"$f":"IF(Walidacja!B869,\"Poprawny\",\"Podany numer PESEL jest niepoprawny\")","v":"Podany numer PESEL jest niepoprawny"}]
[null,null,{"$f":"IF(Walidacja!B870,\"Poprawny\",\"Podany numer PESEL jest niepoprawny\")","v":"Podany numer PESEL jest niepoprawny"}]
[null,null,{"$f":"IF(Walidacja!B871,\"Poprawny\",\"Podany numer PESEL jest niepoprawny\")","v":"Podany numer PESEL jest niepoprawny"}]
[null,null,{"$f":"IF(Walidacja!B872,\"Poprawny\",\"Podany numer PESEL jest niepoprawny\")","v":"Podany numer PESEL jest niepoprawny"}]
[null,null,{"$f":"IF(Walidacja!B873,\"Poprawny\",\"Podany numer PESEL jest niepoprawny\")","v":"Podany numer PESEL jest niepoprawny"}]
[null,null,{"$f":"IF(Walidacja!B874,\"Poprawny\",\"Podany numer PESEL jest niepoprawny\")","v":"Podany numer PESEL jest niepoprawny"}]
[null,null,{"$f":"IF(Walidacja!B875,\"Poprawny\",\"Podany numer PESEL jest niepoprawny\")","v":"Podany numer PESEL jest niepoprawny"}]
[null,null,{"$f":"IF(Walidacja!B876,\"Poprawny\",\"Podany numer PESEL jest niepoprawny\")","v":"Podany numer PESEL jest niepoprawny"}]
[null,null,{"$f":"IF(Walidacja!B877,\"Poprawny\",\"Podany numer PESEL jest niepoprawny\")","v":"Podany numer PESEL jest niepoprawny"}]
[null,null,{"$f":"IF(Walidacja!B878,\"Poprawny\",\"Podany numer PESEL jest niepoprawny\")","v":"Podany numer PESEL jest niepoprawny"}]
[null,null,{"$f":"IF(Walidacja!B879,\"Poprawny\",\"Podany numer PESEL jest niepoprawny\")","v":"Podany numer PESEL jest niepoprawny"}]
[null,null,{"$f":"IF(Walidacja!B880,\"Poprawny\",\"Podany numer PESEL jest niepoprawny\")","v":"Podany numer PESEL jest niepoprawny"}]
[null,null,{"$f":"IF(Walidacja!B881,\"Poprawny\",\"Podany numer PESEL jest niepoprawny\")","v":"Podany numer PESEL jest niepoprawny"}]
[null,null,{"$f":"IF(Walidacja!B882,\"Poprawny\",\"Podany numer PESEL jest niepoprawny\")","v":"Podany numer PESEL jest niepoprawny"}]
[null,null,{"$f":"IF(Walidacja!B883,\"Poprawny\",\"Podany numer PESEL jest niepoprawny\")","v":"Podany numer PESEL jest niepoprawny"}]
[null,null,{"$f":"IF(Walidacja!B884,\"Poprawny\",\"Podany numer PESEL jest niepoprawny\")","v":"Podany numer PESEL jest niepoprawny"}]
[null,null,{"$f":"IF(Walidacja!B885,\"Poprawny\",\"Podany numer PESEL jest niepoprawny\")","v":"Podany numer PESEL jest niepoprawny"}]
[null,null,{"$f":"IF(Walidacja!B886,\"Poprawny\",\"Podany numer PESEL jest niepoprawny\")","v":"Podany numer PESEL jest niepoprawny"}]
[null,null,{"$f":"IF(Walidacja!B887,\"Poprawny\",\"Podany numer PESEL jest niepoprawny\")","v":"Podany numer PESEL jest niepoprawny"}]
[null,null,{"$f":"IF(Walidacja!B888,\"Poprawny\",\"Podany numer PESEL jest niepoprawny\")","v":"Podany numer PESEL jest niepoprawny"}]
[null,null,{"$f":"IF(Walidacja!B889,\"Poprawny\",\"Podany numer PESEL jest niepoprawny\")","v":"Podany numer PESEL jest niepoprawny"}]
[null,null,{"$f":"IF(Walidacja!B890,\"Poprawny\",\"Podany numer PESEL jest niepoprawny\")","v":"Podany numer PESEL jest niepoprawny"}]
[null,null,{"$f":"IF(Walidacja!B891,\"Poprawny\",\"Podany numer PESEL jest niepoprawny\")","v":"Podany numer PESEL jest niepoprawny"}]
[null,null,{"$f":"IF(Walidacja!B892,\"Poprawny\",\"Podany numer PESEL jest niepoprawny\")","v":"Podany numer PESEL jest niepoprawny"}]
[null,null,{"$f":"IF(Walidacja!B893,\"Poprawny\",\"Podany numer PESEL jest niepoprawny\")","v":"Podany numer PESEL jest niepoprawny"}]
[null,null,{"$f":"IF(Walidacja!B894,\"Poprawny\",\"Podany numer PESEL jest niepoprawny\")","v":"Podany numer PESEL jest niepoprawny"}]
[null,null,{"$f":"IF(Walidacja!B895,\"Poprawny\",\"Podany numer PESEL jest niepoprawny\")","v":"Podany numer PESEL jest niepoprawny"}]
[null,null,{"$f":"IF(Walidacja!B896,\"Poprawny\",\"Podany numer PESEL jest niepoprawny\")","v":"Podany numer PESEL jest niepoprawny"}]
[null,null,{"$f":"IF(Walidacja!B897,\"Poprawny\",\"Podany numer PESEL jest niepoprawny\")","v":"Podany numer PESEL jest niepoprawny"}]
[null,null,{"$f":"IF(Walidacja!B898,\"Poprawny\",\"Podany numer PESEL jest niepoprawny\")","v":"Podany numer PESEL jest niepoprawny"}]
[null,null,{"$f":"IF(Walidacja!B899,\"Poprawny\",\"Podany numer PESEL jest niepoprawny\")","v":"Podany numer PESEL jest niepoprawny"}]
[null,null,{"$f":"IF(Walidacja!B900,\"Poprawny\",\"Podany numer PESEL jest niepoprawny\")","v":"Podany numer PESEL jest niepoprawny"}]
[null,null,{"$f":"IF(Walidacja!B901,\"Poprawny\",\"Podany numer PESEL jest niepoprawny\")","v":"Podany numer PESEL jest niepoprawny"}]
[null,null,{"$f":"IF(Walidacja!B902,\"Poprawny\",\"Podany numer PESEL jest niepoprawny\")","v":"Podany numer PESEL jest niepoprawny"}]
[null,null,{"$f":"IF(Walidacja!B903,\"Poprawny\",\"Podany numer PESEL jest niepoprawny\")","v":"Podany numer PESEL jest niepoprawny"}]
[null,null,{"$f":"IF(Walidacja!B904,\"Poprawny\",\"Podany numer PESEL jest niepoprawny\")","v":"Podany numer PESEL jest niepoprawny"}]
[null,null,{"$f":"IF(Walidacja!B905,\"Poprawny\",\"Podany numer PESEL jest niepoprawny\")","v":"Podany numer PESEL jest niepoprawny"}]
[null,null,{"$f":"IF(Walidacja!B906,\"Poprawny\",\"Podany numer PESEL jest niepoprawny\")","v":"Podany numer PESEL jest niepoprawny"}]
[null,null,{"$f":"IF(Walidacja!B907,\"Poprawny\",\"Podany numer PESEL jest niepoprawny\")","v":"Podany numer PESEL jest niepoprawny"}]
[null,null,{"$f":"IF(Walidacja!B908,\"Poprawny\",\"Podany numer PESEL jest niepoprawny\")","v":"Podany numer PESEL jest niepoprawny"}]
[null,null,{"$f":"IF(Walidacja!B909,\"Poprawny\",\"Podany numer PESEL jest niepoprawny\")","v":"Podany numer PESEL jest niepoprawny"}]
[null,null,{"$f":"IF(Walidacja!B910,\"Poprawny\",\"Podany numer PESEL jest niepoprawny\")","v":"Podany numer PESEL jest niepoprawny"}]
[null,null,{"$f":"IF(Walidacja!B911,\"Poprawny\",\"Podany numer PESEL jest niepoprawny\")","v":"Podany numer PESEL jest niepoprawny"}]
[null,null,{"$f":"IF(Walidacja!B912,\"Poprawny\",\"Podany numer PESEL jest niepoprawny\")","v":"Podany numer PESEL jest niepoprawny"}]
[null,null,{"$f":"IF(Walidacja!B913,\"Poprawny\",\"Podany numer PESEL jest niepoprawny\")","v":"Podany numer PESEL jest niepoprawny"}]
[null,null,{"$f":"IF(Walidacja!B914,\"Poprawny\",\"Podany numer PESEL jest niepoprawny\")","v":"Podany numer PESEL jest niepoprawny"}]
[null,null,{"$f":"IF(Walidacja!B915,\"Poprawny\",\"Podany numer PESEL jest niepoprawny\")","v":"Podany numer PESEL jest niepoprawny"}]
[null,null,{"$f":"IF(Walidacja!B916,\"Poprawny\",\"Podany numer PESEL jest niepoprawny\")","v":"Podany numer PESEL jest niepoprawny"}]
[null,null,{"$f":"IF(Walidacja!B917,\"Poprawny\",\"Podany numer PESEL jest niepoprawny\")","v":"Podany numer PESEL jest niepoprawny"}]
[null,null,{"$f":"IF(Walidacja!B918,\"Poprawny\",\"Podany numer PESEL jest niepoprawny\")","v":"Podany numer PESEL jest niepoprawny"}]
[null,null,{"$f":"IF(Walidacja!B919,\"Poprawny\",\"Podany numer PESEL jest niepoprawny\")","v":"Podany numer PESEL jest niepoprawny"}]
[null,null,{"$f":"IF(Walidacja!B920,\"Poprawny\",\"Podany numer PESEL jest niepoprawny\")","v":"Podany numer PESEL jest niepoprawny"}]
[null,null,{"$f":"IF(Walidacja!B921,\"Poprawny\",\"Podany numer PESEL jest niepoprawny\")","v":"Podany numer PESEL jest niepoprawny"}]
[null,null,{"$f":"IF(Walidacja!B922,\"Poprawny\",\"Podany numer PESEL jest niepoprawny\")","v":"Podany numer PESEL jest niepoprawny"}]
[null,null,{"$f":"IF(Walidacja!B923,\"Poprawny\",\"Podany numer PESEL jest niepoprawny\")","v":"Podany numer PESEL jest niepoprawny"}]
[null,null,{"$f":"IF(Walidacja!B924,\"Poprawny\",\"Podany numer PESEL jest niepoprawny\")","v":"Podany numer PESEL jest niepoprawny"}]
[null,null,{"$f":"IF(Walidacja!B925,\"Poprawny\",\"Podany numer PESEL jest niepoprawny\")","v":"Podany numer PESEL jest niepoprawny"}]
[null,null,{"$f":"IF(Walidacja!B926,\"Poprawny\",\"Podany numer PESEL jest niepoprawny\")","v":"Podany numer PESEL jest niepoprawny"}]
[null,null,{"$f":"IF(Walidacja!B927,\"Poprawny\",\"Podany numer PESEL jest niepoprawny\")","v":"Podany numer PESEL jest niepoprawny"}]
[null,null,{"$f":"IF(Walidacja!B928,\"Poprawny\",\"Podany numer PESEL jest niepoprawny\")","v":"Podany numer PESEL jest niepoprawny"}]
[null,null,{"$f":"IF(Walidacja!B929,\"Poprawny\",\"Podany numer PESEL jest niepoprawny\")","v":"Podany numer PESEL jest niepoprawny"}]
[null,null,{"$f":"IF(Walidacja!B930,\"Poprawny\",\"Podany numer PESEL jest niepoprawny\")","v":"Podany numer PESEL jest niepoprawny"}]
[null,null,{"$f":"IF(Walidacja!B931,\"Poprawny\",\"Podany numer PESEL jest niepoprawny\")","v":"Podany numer PESEL jest niepoprawny"}]
[null,null,{"$f":"IF(Walidacja!B932,\"Poprawny\",\"Podany numer PESEL jest niepoprawny\")","v":"Podany numer PESEL jest niepoprawny"}]
[null,null,{"$f":"IF(Walidacja!B933,\"Poprawny\",\"Podany numer PESEL jest niepoprawny\")","v":"Podany numer PESEL jest niepoprawny"}]
[null,null,{"$f":"IF(Walidacja!B934,\"Poprawny\",\"Podany numer PESEL jest niepoprawny\")","v":"Podany numer PESEL jest niepoprawny"}]
[null,null,{"$f":"IF(Walidacja!B935,\"Poprawny\",\"Podany numer PESEL jest niepoprawny\")","v":"Podany numer PESEL jest niepoprawny"}]
[null,null,{"$f":"IF(Walidacja!B936,\"Poprawny\",\"Podany numer PESEL jest niepoprawny\")","v":"Podany numer PESEL jest niepoprawny"}]
[null,null,{"$f":"IF(Walidacja!B937,\"Poprawny\",\"Podany numer PESEL jest niepoprawny\")","v":"Podany numer PESEL jest niepoprawny"}]
[null,null,{"$f":"IF(Walidacja!B938,\"Poprawny\",\"Podany numer PESEL jest niepoprawny\")","v":"Podany numer PESEL jest niepoprawny"}]
[null,null,{"$f":"IF(Walidacja!B939,\"Poprawny\",\"Podany numer PESEL jest niepoprawny\")","v":"Podany numer PESEL jest niepoprawny"}]
[null,null,{"$f":"IF(Walidacja!B940,\"Poprawny\",\"Podany numer PESEL jest niepoprawny\")","v":"Podany numer PESEL jest niepoprawny"}]
[null,null,{"$f":"IF(Walidacja!B941,\"Poprawny\",\"Podany numer PESEL jest niepoprawny\")","v":"Podany numer PESEL jest niepoprawny"}]
[null,null,{"$f":"IF(Walidacja!B942,\"Poprawny\",\"Podany numer PESEL jest niepoprawny\")","v":"Podany numer PESEL jest niepoprawny"}]
[null,null,{"$f":"IF(Walidacja!B943,\"Poprawny\",\"Podany numer PESEL jest niepoprawny\")","v":"Podany numer PESEL jest niepoprawny"}]
[null,null,{"$f":"IF(Walidacja!B944,\"Poprawny\",\"Podany numer PESEL jest niepoprawny\")","v":"Podany numer PESEL jest niepoprawny"}]
[null,null,{"$f":"IF(Walidacja!B945,\"Poprawny\",\"Podany numer PESEL jest niepoprawny\")","v":"Podany numer PESEL jest niepoprawny"}]
[null,null,{"$f":"IF(Walidacja!B946,\"Poprawny\",\"Podany numer PESEL jest niepoprawny\")","v":"Podany numer PESEL jest niepoprawny"}]
[null,null,{"$f":"IF(Walidacja!B947,\"Poprawny\",\"Podany numer PESEL jest niepoprawny\")","v":"Podany numer PESEL jest niepoprawny"}]
[null,null,{"$f":"IF(Walidacja!B948,\"Poprawny\",\"Podany numer PESEL jest niepoprawny\")","v":"Podany numer PESEL jest niepoprawny"}]
[null,null,{"$f":"IF(Walidacja!B949,\"Poprawny\",\"Podany numer PESEL jest niepoprawny\")","v":"Podany numer PESEL jest niepoprawny"}]
[null,null,{"$f":"IF(Walidacja!B950,\"Poprawny\",\"Podany numer PESEL jest niepoprawny\")","v":"Podany numer PESEL jest niepoprawny"}]
[null,null,{"$f":"IF(Walidacja!B951,\"Poprawny\",\"Podany numer PESEL jest niepoprawny\")","v":"Podany numer PESEL jest niepoprawny"}]
[null,null,{"$f":"IF(Walidacja!B952,\"Poprawny\",\"Podany numer PESEL jest niepoprawny\")","v":"Podany numer PESEL jest niepoprawny"}]
[null,null,{"$f":"IF(Walidacja!B953,\"Poprawny\",\"Podany numer PESEL jest niepoprawny\")","v":"Podany numer PESEL jest niepoprawny"}]
[null,null,{"$f":"IF(Walidacja!B954,\"Poprawny\",\"Podany numer PESEL jest niepoprawny\")","v":"Podany numer PESEL jest niepoprawny"}]
[null,null,{"$f":"IF(Walidacja!B955,\"Poprawny\",\"Podany numer PESEL jest niepoprawny\")","v":"Podany numer PESEL jest niepoprawny"}]
[null,null,{"$f":"IF(Walidacja!B956,\"Poprawny\",\"Podany numer PESEL jest niepoprawny\")","v":"Podany numer PESEL jest niepoprawny"}]
[null,null,{"$f":"IF(Walidacja!B957,\"Poprawny\",\"Podany numer PESEL jest niepoprawny\")","v":"Podany numer PESEL jest niepoprawny"}]
[null,null,{"$f":"IF(Walidacja!B958,\"Poprawny\",\"Podany numer PESEL jest niepoprawny\")","v":"Podany numer PESEL jest niepoprawny"}]
[null,null,{"$f":"IF(Walidacja!B959,\"Poprawny\",\"Podany numer PESEL jest niepoprawny\")","v":"Podany numer PESEL jest niepoprawny"}]
[null,null,{"$f":"IF(Walidacja!B960,\"Poprawny\",\"Podany numer PESEL jest niepoprawny\")","v":"Podany numer PESEL jest niepoprawny"}]
[null,null,{"$f":"IF(Walidacja!B961,\"Poprawny\",\"Podany numer PESEL jest niepoprawny\")","v":"Podany numer PESEL jest niepoprawny"}]
[null,null,{"$f":"IF(Walidacja!B962,\"Poprawny\",\"Podany numer PESEL jest niepoprawny\")","v":"Podany numer PESEL jest niepoprawny"}]
[null,null,{"$f":"IF(Walidacja!B963,\"Poprawny\",\"Podany numer PESEL jest niepoprawny\")","v":"Podany numer PESEL jest niepoprawny"}]
[null,null,{"$f":"IF(Walidacja!B964,\"Poprawny\",\"Podany numer PESEL jest niepoprawny\")","v":"Podany numer PESEL jest niepoprawny"}]
[null,null,{"$f":"IF(Walidacja!B965,\"Poprawny\",\"Podany numer PESEL jest niepoprawny\")","v":"Podany numer PESEL jest niepoprawny"}]
[null,null,{"$f":"IF(Walidacja!B966,\"Poprawny\",\"Podany numer PESEL jest niepoprawny\")","v":"Podany numer PESEL jest niepoprawny"}]
[null,null,{"$f":"IF(Walidacja!B967,\"Poprawny\",\"Podany numer PESEL jest niepoprawny\")","v":"Podany numer PESEL jest niepoprawny"}]
[null,null,{"$f":"IF(Walidacja!B968,\"Poprawny\",\"Podany numer PESEL jest niepoprawny\")","v":"Podany numer PESEL jest niepoprawny"}]
[null,null,{"$f":"IF(Walidacja!B969,\"Poprawny\",\"Podany numer PESEL jest niepoprawny\")","v":"Podany numer PESEL jest niepoprawny"}]
[null,null,{"$f":"IF(Walidacja!B970,\"Poprawny\",\"Podany numer PESEL jest niepoprawny\")","v":"Podany numer PESEL jest niepoprawny"}]
[null,null,{"$f":"IF(Walidacja!B971,\"Poprawny\",\"Podany numer PESEL jest niepoprawny\")","v":"Podany numer PESEL jest niepoprawny"}]
[null,null,{"$f":"IF(Walidacja!B972,\"Poprawny\",\"Podany numer PESEL jest niepoprawny\")","v":"Podany numer PESEL jest niepoprawny"}]
[null,null,{"$f":"IF(Walidacja!B973,\"Poprawny\",\"Podany numer PESEL jest niepoprawny\")","v":"Podany numer PESEL jest niepoprawny"}]
[null,null,{"$f":"IF(Walidacja!B974,\"Poprawny\",\"Podany numer PESEL jest niepoprawny\")","v":"Podany numer PESEL jest niepoprawny"}]
[null,null,{"$f":"IF(Walidacja!B975,\"Poprawny\",\"Podany numer PESEL jest niepoprawny\")","v":"Podany numer PESEL jest niepoprawny"}]
[null,null,{"$f":"IF(Walidacja!B976,\"Poprawny\",\"Podany numer PESEL jest niepoprawny\")","v":"Podany numer PESEL jest niepoprawny"}]
[null,null,{"$f":"IF(Walidacja!B977,\"Poprawny\",\"Podany numer PESEL jest niepoprawny\")","v":"Podany numer PESEL jest niepoprawny"}]
[null,null,{"$f":"IF(Walidacja!B978,\"Poprawny\",\"Podany numer PESEL jest niepoprawny\")","v":"Podany numer PESEL jest niepoprawny"}]
[null,null,{"$f":"IF(Walidacja!B979,\"Poprawny\",\"Podany numer PESEL jest niepoprawny\")","v":"Podany numer PESEL jest niepoprawny"}]
[null,null,{"$f":"IF(Walidacja!B980,\"Poprawny\",\"Podany numer PESEL jest niepoprawny\")","v":"Podany numer PESEL jest niepoprawny"}]
[null,null,{"$f":"IF(Walidacja!B981,\"Poprawny\",\"Podany numer PESEL jest niepoprawny\")","v":"Podany numer PESEL jest niepoprawny"}]
[null,null,{"$f":"IF(Walidacja!B982,\"Poprawny\",\"Podany numer PESEL jest niepoprawny\")","v":"Podany numer PESEL jest niepoprawny"}]
[null,null,{"$f":"IF(Walidacja!B983,\"Poprawny\",\"Podany numer PESEL jest niepoprawny\")","v":"Podany numer PESEL jest niepoprawny"}]
[null,null,{"$f":"IF(Walidacja!B984,\"Poprawny\",\"Podany numer PESEL jest niepoprawny\")","v":"Podany numer PESEL jest niepoprawny"}]
[null,null,{"$f":"IF(Walidacja!B985,\"Poprawny\",\"Podany numer PESEL jest niepoprawny\")","v":"Podany numer PESEL jest niepoprawny"}]
[null,null,{"$f":"IF(Walidacja!B986,\"Poprawny\",\"Podany numer PESEL jest niepoprawny\")","v":"Podany numer PESEL jest niepoprawny"}]
[null,null,{"$f":"IF(Walidacja!B987,\"Poprawny\",\"Podany numer PESEL jest niepoprawny\")","v":"Podany numer PESEL jest niepoprawny"}]
[null,null,{"$f":"IF(Walidacja!B988,\"Poprawny\",\"Podany numer PESEL jest niepoprawny\")","v":"Podany numer PESEL jest niepoprawny"}]
[null,null,{"$f":"IF(Walidacja!B989,\"Poprawny\",\"Podany numer PESEL jest niepoprawny\")","v":"Podany numer PESEL jest niepoprawny"}]
[null,null,{"$f":"IF(Walidacja!B990,\"Poprawny\",\"Podany numer PESEL jest niepoprawny\")","v":"Podany numer PESEL jest niepoprawny"}]
[null,null,{"$f":"IF(Walidacja!B991,\"Poprawny\",\"Podany numer PESEL jest niepoprawny\")","v":"Podany numer PESEL jest niepoprawny"}]
[null,null,{"$f":"IF(Walidacja!B992,\"Poprawny\",\"Podany numer PESEL jest niepoprawny\")","v":"Podany numer PESEL jest niepoprawny"}]
[null,null,{"$f":"IF(Walidacja!B993,\"Poprawny\",\"Podany numer PESEL jest niepoprawny\")","v":"Podany numer PESEL jest niepoprawny"}]
[null,null,{"$f":"IF(Walidacja!B994,\"Poprawny\",\"Podany numer PESEL jest niepoprawny\")","v":"Podany numer PESEL jest niepoprawny"}]
[null,null,{"$f":"IF(Walidacja!B995,\"Poprawny\",\"Podany numer PESEL jest niepoprawny\")","v":"Podany numer PESEL jest niepoprawny"}]
[null,null,{"$f":"IF(Walidacja!B996,\"Poprawny\",\"Podany numer PESEL jest niepoprawny\")","v":"Podany numer PESEL jest niepoprawny"}]
[null,null,{"$f":"IF(Walidacja!B997,\"Poprawny\",\"Podany numer PESEL jest niepoprawny\")","v":"Podany numer PESEL jest niepoprawny"}]
[null,null,{"$f":"IF(Walidacja!B998,\"Poprawny\",\"Podany numer PESEL jest niepoprawny\")","v":"Podany numer PESEL jest niepoprawny"}]
[null,null,{"$f":"IF(Walidacja!B999,\"Poprawny\",\"Podany numer PESEL jest niepoprawny\")","v":"Podany numer PESEL jest niepoprawny"}]

{"sheet":"Arkusz1","index":1,"n_rows":0,"n_cols":0,"rows_kept":0,"cut":false,"hidden":false,"merged":[]}

{"sheet":"Walidacja","index":2,"n_rows":10000,"n_cols":2,"rows_kept":10000,"cut":false,"hidden":false,"merged":[]}
["Tak",{"$f":"Sprawdz_pesel(Formularz!#REF!)","v":{"$error":"#VALUE!"}}]
["Nie",{"$f":"Sprawdz_pesel(Formularz!A13)","v":false}]
[null,{"$f":"Sprawdz_pesel(Formularz!A14)","v":false}]
[null,{"$f":"Sprawdz_pesel(Formularz!A15)","v":false}]
[null,{"$f":"Sprawdz_pesel(Formularz!A16)","v":false}]
[null,{"$f":"Sprawdz_pesel(Formularz!A17)","v":false}]
[null,{"$f":"Sprawdz_pesel(Formularz!A18)","v":false}]
[null,{"$f":"Sprawdz_pesel(Formularz!A19)","v":false}]
[null,{"$f":"Sprawdz_pesel(Formularz!A20)","v":false}]
[null,{"$f":"Sprawdz_pesel(Formularz!A21)","v":false}]
[null,{"$f":"Sprawdz_pesel(Formularz!A22)","v":false}]
[null,{"$f":"Sprawdz_pesel(Formularz!A23)","v":false}]
[null,{"$f":"Sprawdz_pesel(Formularz!A24)","v":false}]
[null,{"$f":"Sprawdz_pesel(Formularz!A25)","v":false}]
[null,{"$f":"Sprawdz_pesel(Formularz!A26)","v":false}]
[null,{"$f":"Sprawdz_pesel(Formularz!A27)","v":false}]
[null,{"$f":"Sprawdz_pesel(Formularz!A28)","v":false}]
[null,{"$f":"Sprawdz_pesel(Formularz!A29)","v":false}]
[null,{"$f":"Sprawdz_pesel(Formularz!A30)","v":false}]
[null,{"$f":"Sprawdz_pesel(Formularz!A31)","v":false}]
[null,{"$f":"Sprawdz_pesel(Formularz!A32)","v":false}]
[null,{"$f":"Sprawdz_pesel(Formularz!A33)","v":false}]
[null,{"$f":"Sprawdz_pesel(Formularz!A34)","v":false}]
[null,{"$f":"Sprawdz_pesel(Formularz!A35)","v":false}]
[null,{"$f":"Sprawdz_pesel(Formularz!A36)","v":false}]
[null,{"$f":"Sprawdz_pesel(Formularz!A37)","v":false}]
[null,{"$f":"Sprawdz_pesel(Formularz!A38)","v":false}]
[null,{"$f":"Sprawdz_pesel(Formularz!A39)","v":false}]
[null,{"$f":"Sprawdz_pesel(Formularz!A40)","v":false}]
[null,{"$f":"Sprawdz_pesel(Formularz!A41)","v":false}]
[null,{"$f":"Sprawdz_pesel(Formularz!A42)","v":false}]
[null,{"$f":"Sprawdz_pesel(Formularz!A43)","v":false}]
[null,{"$f":"Sprawdz_pesel(Formularz!A44)","v":false}]
[null,{"$f":"Sprawdz_pesel(Formularz!A45)","v":false}]
[null,{"$f":"Sprawdz_pesel(Formularz!A46)","v":false}]
[null,{"$f":"Sprawdz_pesel(Formularz!A47)","v":false}]
[null,{"$f":"Sprawdz_pesel(Formularz!A48)","v":false}]
[null,{"$f":"Sprawdz_pesel(Formularz!A49)","v":false}]
[null,{"$f":"Sprawdz_pesel(Formularz!A50)","v":false}]
[null,{"$f":"Sprawdz_pesel(Formularz!A51)","v":false}]
[null,{"$f":"Sprawdz_pesel(Formularz!A52)","v":false}]
[null,{"$f":"Sprawdz_pesel(Formularz!A53)","v":false}]
[null,{"$f":"Sprawdz_pesel(Formularz!A54)","v":false}]
[null,{"$f":"Sprawdz_pesel(Formularz!A55)","v":false}]
[null,{"$f":"Sprawdz_pesel(Formularz!A56)","v":false}]
[null,{"$f":"Sprawdz_pesel(Formularz!A57)","v":false}]
[null,{"$f":"Sprawdz_pesel(Formularz!A58)","v":false}]
[null,{"$f":"Sprawdz_pesel(Formularz!A59)","v":false}]
[null,{"$f":"Sprawdz_pesel(Formularz!A60)","v":false}]
[null,{"$f":"Sprawdz_pesel(Formularz!A61)","v":false}]
[null,{"$f":"Sprawdz_pesel(Formularz!A62)","v":false}]
[null,{"$f":"Sprawdz_pesel(Formularz!A63)","v":false}]
[null,{"$f":"Sprawdz_pesel(Formularz!A64)","v":false}]
[null,{"$f":"Sprawdz_pesel(Formularz!A65)","v":false}]
[null,{"$f":"Sprawdz_pesel(Formularz!A66)","v":false}]
[null,{"$f":"Sprawdz_pesel(Formularz!A67)","v":false}]
[null,{"$f":"Sprawdz_pesel(Formularz!A68)","v":false}]
[null,{"$f":"Sprawdz_pesel(Formularz!A69)","v":false}]
[null,{"$f":"Sprawdz_pesel(Formularz!A70)","v":false}]
[null,{"$f":"Sprawdz_pesel(Formularz!A71)","v":false}]
[null,{"$f":"Sprawdz_pesel(Formularz!A72)","v":false}]
[null,{"$f":"Sprawdz_pesel(Formularz!A73)","v":false}]
[null,{"$f":"Sprawdz_pesel(Formularz!A74)","v":false}]
[null,{"$f":"Sprawdz_pesel(Formularz!A75)","v":false}]
[null,{"$f":"Sprawdz_pesel(Formularz!A76)","v":false}]
[null,{"$f":"Sprawdz_pesel(Formularz!A77)","v":false}]
[null,{"$f":"Sprawdz_pesel(Formularz!A78)","v":false}]
[null,{"$f":"Sprawdz_pesel(Formularz!A79)","v":false}]
[null,{"$f":"Sprawdz_pesel(Formularz!A80)","v":false}]
[null,{"$f":"Sprawdz_pesel(Formularz!A81)","v":false}]
[null,{"$f":"Sprawdz_pesel(Formularz!A82)","v":false}]
[null,{"$f":"Sprawdz_pesel(Formularz!A83)","v":false}]
[null,{"$f":"Sprawdz_pesel(Formularz!A84)","v":false}]
[null,{"$f":"Sprawdz_pesel(Formularz!A85)","v":false}]
[null,{"$f":"Sprawdz_pesel(Formularz!A86)","v":false}]
[null,{"$f":"Sprawdz_pesel(Formularz!A87)","v":false}]
[null,{"$f":"Sprawdz_pesel(Formularz!A88)","v":false}]
[null,{"$f":"Sprawdz_pesel(Formularz!A89)","v":false}]
[null,{"$f":"Sprawdz_pesel(Formularz!A90)","v":false}]
[null,{"$f":"Sprawdz_pesel(Formularz!A91)","v":false}]
[null,{"$f":"Sprawdz_pesel(Formularz!A92)","v":false}]
[null,{"$f":"Sprawdz_pesel(Formularz!A93)","v":false}]
[null,{"$f":"Sprawdz_pesel(Formularz!A94)","v":false}]
[null,{"$f":"Sprawdz_pesel(Formularz!A95)","v":false}]
[null,{"$f":"Sprawdz_pesel(Formularz!A96)","v":false}]
[null,{"$f":"Sprawdz_pesel(Formularz!A97)","v":false}]
[null,{"$f":"Sprawdz_pesel(Formularz!A98)","v":false}]
[null,{"$f":"Sprawdz_pesel(Formularz!A99)","v":false}]
[null,{"$f":"Sprawdz_pesel(Formularz!A100)","v":false}]
[null,{"$f":"Sprawdz_pesel(Formularz!A101)","v":false}]
[null,{"$f":"Sprawdz_pesel(Formularz!A102)","v":false}]
[null,{"$f":"Sprawdz_pesel(Formularz!A103)","v":false}]
[null,{"$f":"Sprawdz_pesel(Formularz!A104)","v":false}]
[null,{"$f":"Sprawdz_pesel(Formularz!A105)","v":false}]
[null,{"$f":"Sprawdz_pesel(Formularz!A106)","v":false}]
[null,{"$f":"Sprawdz_pesel(Formularz!A107)","v":false}]
[null,{"$f":"Sprawdz_pesel(Formularz!A108)","v":false}]
[null,{"$f":"Sprawdz_pesel(Formularz!A109)","v":false}]
[null,{"$f":"Sprawdz_pesel(Formularz!A110)","v":false}]
[null,{"$f":"Sprawdz_pesel(Formularz!A111)","v":false}]
[null,{"$f":"Sprawdz_pesel(Formularz!A112)","v":false}]
[null,{"$f":"Sprawdz_pesel(Formularz!A113)","v":false}]
[null,{"$f":"Sprawdz_pesel(Formularz!A114)","v":false}]
[null,{"$f":"Sprawdz_pesel(Formularz!A115)","v":false}]
[null,{"$f":"Sprawdz_pesel(Formularz!A116)","v":false}]
[null,{"$f":"Sprawdz_pesel(Formularz!A117)","v":false}]
[null,{"$f":"Sprawdz_pesel(Formularz!A118)","v":false}]
[null,{"$f":"Sprawdz_pesel(Formularz!A119)","v":false}]
[null,{"$f":"Sprawdz_pesel(Formularz!A120)","v":false}]
[null,{"$f":"Sprawdz_pesel(Formularz!A121)","v":false}]
[null,{"$f":"Sprawdz_pesel(Formularz!A122)","v":false}]
[null,{"$f":"Sprawdz_pesel(Formularz!A123)","v":false}]
[null,{"$f":"Sprawdz_pesel(Formularz!A124)","v":false}]
[null,{"$f":"Sprawdz_pesel(Formularz!A125)","v":false}]
[null,{"$f":"Sprawdz_pesel(Formularz!A126)","v":false}]
[null,{"$f":"Sprawdz_pesel(Formularz!A127)","v":false}]
[null,{"$f":"Sprawdz_pesel(Formularz!A128)","v":false}]
[null,{"$f":"Sprawdz_pesel(Formularz!A129)","v":false}]
[null,{"$f":"Sprawdz_pesel(Formularz!A130)","v":false}]
[null,{"$f":"Sprawdz_pesel(Formularz!A131)","v":false}]
[null,{"$f":"Sprawdz_pesel(Formularz!A132)","v":false}]
[null,{"$f":"Sprawdz_pesel(Formularz!A133)","v":false}]
[null,{"$f":"Sprawdz_pesel(Formularz!A134)","v":false}]
[null,{"$f":"Sprawdz_pesel(Formularz!A135)","v":false}]
[null,{"$f":"Sprawdz_pesel(Formularz!A136)","v":false}]
[null,{"$f":"Sprawdz_pesel(Formularz!A137)","v":false}]
[null,{"$f":"Sprawdz_pesel(Formularz!A138)","v":false}]
[null,{"$f":"Sprawdz_pesel(Formularz!A139)","v":false}]
[null,{"$f":"Sprawdz_pesel(Formularz!A140)","v":false}]
[null,{"$f":"Sprawdz_pesel(Formularz!A141)","v":false}]
[null,{"$f":"Sprawdz_pesel(Formularz!A142)","v":false}]
[null,{"$f":"Sprawdz_pesel(Formularz!A143)","v":false}]
[null,{"$f":"Sprawdz_pesel(Formularz!A144)","v":false}]
[null,{"$f":"Sprawdz_pesel(Formularz!A145)","v":false}]
[null,{"$f":"Sprawdz_pesel(Formularz!A146)","v":false}]
[null,{"$f":"Sprawdz_pesel(Formularz!A147)","v":false}]
[null,{"$f":"Sprawdz_pesel(Formularz!A148)","v":false}]
[null,{"$f":"Sprawdz_pesel(Formularz!A149)","v":false}]
[null,{"$f":"Sprawdz_pesel(Formularz!A150)","v":false}]
[null,{"$f":"Sprawdz_pesel(Formularz!A151)","v":false}]
[null,{"$f":"Sprawdz_pesel(Formularz!A152)","v":false}]
[null,{"$f":"Sprawdz_pesel(Formularz!A153)","v":false}]
[null,{"$f":"Sprawdz_pesel(Formularz!A154)","v":false}]
[null,{"$f":"Sprawdz_pesel(Formularz!A155)","v":false}]
[null,{"$f":"Sprawdz_pesel(Formularz!A156)","v":false}]
[null,{"$f":"Sprawdz_pesel(Formularz!A157)","v":false}]
[null,{"$f":"Sprawdz_pesel(Formularz!A158)","v":false}]
[null,{"$f":"Sprawdz_pesel(Formularz!A159)","v":false}]
[null,{"$f":"Sprawdz_pesel(Formularz!A160)","v":false}]
[null,{"$f":"Sprawdz_pesel(Formularz!A161)","v":false}]
[null,{"$f":"Sprawdz_pesel(Formularz!A162)","v":false}]
[null,{"$f":"Sprawdz_pesel(Formularz!A163)","v":false}]
[null,{"$f":"Sprawdz_pesel(Formularz!A164)","v":false}]
[null,{"$f":"Sprawdz_pesel(Formularz!A165)","v":false}]
[null,{"$f":"Sprawdz_pesel(Formularz!A166)","v":false}]
[null,{"$f":"Sprawdz_pesel(Formularz!A167)","v":false}]
[null,{"$f":"Sprawdz_pesel(Formularz!A168)","v":false}]
[null,{"$f":"Sprawdz_pesel(Formularz!A169)","v":false}]
[null,{"$f":"Sprawdz_pesel(Formularz!A170)","v":false}]
[null,{"$f":"Sprawdz_pesel(Formularz!A171)","v":false}]
[null,{"$f":"Sprawdz_pesel(Formularz!A172)","v":false}]
[null,{"$f":"Sprawdz_pesel(Formularz!A173)","v":false}]
[null,{"$f":"Sprawdz_pesel(Formularz!A174)","v":false}]
[null,{"$f":"Sprawdz_pesel(Formularz!A175)","v":false}]
[null,{"$f":"Sprawdz_pesel(Formularz!A176)","v":false}]
[null,{"$f":"Sprawdz_pesel(Formularz!A177)","v":false}]
[null,{"$f":"Sprawdz_pesel(Formularz!A178)","v":false}]
[null,{"$f":"Sprawdz_pesel(Formularz!A179)","v":false}]
[null,{"$f":"Sprawdz_pesel(Formularz!A180)","v":false}]
[null,{"$f":"Sprawdz_pesel(Formularz!A181)","v":false}]
[null,{"$f":"Sprawdz_pesel(Formularz!A182)","v":false}]
[null,{"$f":"Sprawdz_pesel(Formularz!A183)","v":false}]
[null,{"$f":"Sprawdz_pesel(Formularz!A184)","v":false}]
[null,{"$f":"Sprawdz_pesel(Formularz!A185)","v":false}]
[null,{"$f":"Sprawdz_pesel(Formularz!A186)","v":false}]
[null,{"$f":"Sprawdz_pesel(Formularz!A187)","v":false}]
[null,{"$f":"Sprawdz_pesel(Formularz!A188)","v":false}]
[null,{"$f":"Sprawdz_pesel(Formularz!A189)","v":false}]
[null,{"$f":"Sprawdz_pesel(Formularz!A190)","v":false}]
[null,{"$f":"Sprawdz_pesel(Formularz!A191)","v":false}]
[null,{"$f":"Sprawdz_pesel(Formularz!A192)","v":false}]
[null,{"$f":"Sprawdz_pesel(Formularz!A193)","v":false}]
[null,{"$f":"Sprawdz_pesel(Formularz!A194)","v":false}]
[null,{"$f":"Sprawdz_pesel(Formularz!A195)","v":false}]
[null,{"$f":"Sprawdz_pesel(Formularz!A196)","v":false}]
[null,{"$f":"Sprawdz_pesel(Formularz!A197)","v":false}]
[null,{"$f":"Sprawdz_pesel(Formularz!A198)","v":false}]
[null,{"$f":"Sprawdz_pesel(Formularz!A199)","v":false}]
[null,{"$f":"Sprawdz_pesel(Formularz!A200)","v":false}]
[null,{"$f":"Sprawdz_pesel(Formularz!A201)","v":false}]
[null,{"$f":"Sprawdz_pesel(Formularz!A202)","v":false}]
[null,{"$f":"Sprawdz_pesel(Formularz!A203)","v":false}]
[null,{"$f":"Sprawdz_pesel(Formularz!A204)","v":false}]
[null,{"$f":"Sprawdz_pesel(Formularz!A205)","v":false}]
[null,{"$f":"Sprawdz_pesel(Formularz!A206)","v":false}]
[null,{"$f":"Sprawdz_pesel(Formularz!A207)","v":false}]
[null,{"$f":"Sprawdz_pesel(Formularz!A208)","v":false}]
[null,{"$f":"Sprawdz_pesel(Formularz!A209)","v":false}]
[null,{"$f":"Sprawdz_pesel(Formularz!A210)","v":false}]
[null,{"$f":"Sprawdz_pesel(Formularz!A211)","v":false}]
[null,{"$f":"Sprawdz_pesel(Formularz!A212)","v":false}]
[null,{"$f":"Sprawdz_pesel(Formularz!A213)","v":false}]
[null,{"$f":"Sprawdz_pesel(Formularz!A214)","v":false}]
[null,{"$f":"Sprawdz_pesel(Formularz!A215)","v":false}]
[null,{"$f":"Sprawdz_pesel(Formularz!A216)","v":false}]
[null,{"$f":"Sprawdz_pesel(Formularz!A217)","v":false}]
[null,{"$f":"Sprawdz_pesel(Formularz!A218)","v":false}]
[null,{"$f":"Sprawdz_pesel(Formularz!A219)","v":false}]
[null,{"$f":"Sprawdz_pesel(Formularz!A220)","v":false}]
[null,{"$f":"Sprawdz_pesel(Formularz!A221)","v":false}]
[null,{"$f":"Sprawdz_pesel(Formularz!A222)","v":false}]
[null,{"$f":"Sprawdz_pesel(Formularz!A223)","v":false}]
[null,{"$f":"Sprawdz_pesel(Formularz!A224)","v":false}]
[null,{"$f":"Sprawdz_pesel(Formularz!A225)","v":false}]
[null,{"$f":"Sprawdz_pesel(Formularz!A226)","v":false}]
[null,{"$f":"Sprawdz_pesel(Formularz!A227)","v":false}]
[null,{"$f":"Sprawdz_pesel(Formularz!A228)","v":false}]
[null,{"$f":"Sprawdz_pesel(Formularz!A229)","v":false}]
[null,{"$f":"Sprawdz_pesel(Formularz!A230)","v":false}]
[null,{"$f":"Sprawdz_pesel(Formularz!A231)","v":false}]
[null,{"$f":"Sprawdz_pesel(Formularz!A232)","v":false}]
[null,{"$f":"Sprawdz_pesel(Formularz!A233)","v":false}]
[null,{"$f":"Sprawdz_pesel(Formularz!A234)","v":false}]
[null,{"$f":"Sprawdz_pesel(Formularz!A235)","v":false}]
[null,{"$f":"Sprawdz_pesel(Formularz!A236)","v":false}]
[null,{"$f":"Sprawdz_pesel(Formularz!A237)","v":false}]
[null,{"$f":"Sprawdz_pesel(Formularz!A238)","v":false}]
[null,{"$f":"Sprawdz_pesel(Formularz!A239)","v":false}]
[null,{"$f":"Sprawdz_pesel(Formularz!A240)","v":false}]
[null,{"$f":"Sprawdz_pesel(Formularz!A241)","v":false}]
[null,{"$f":"Sprawdz_pesel(Formularz!A242)","v":false}]
[null,{"$f":"Sprawdz_pesel(Formularz!A243)","v":false}]
[null,{"$f":"Sprawdz_pesel(Formularz!A244)","v":false}]
[null,{"$f":"Sprawdz_pesel(Formularz!A245)","v":false}]
[null,{"$f":"Sprawdz_pesel(Formularz!A246)","v":false}]
[null,{"$f":"Sprawdz_pesel(Formularz!A247)","v":false}]
[null,{"$f":"Sprawdz_pesel(Formularz!A248)","v":false}]
[null,{"$f":"Sprawdz_pesel(Formularz!A249)","v":false}]
[null,{"$f":"Sprawdz_pesel(Formularz!A250)","v":false}]
[null,{"$f":"Sprawdz_pesel(Formularz!A251)","v":false}]
[null,{"$f":"Sprawdz_pesel(Formularz!A252)","v":false}]
[null,{"$f":"Sprawdz_pesel(Formularz!A253)","v":false}]
[null,{"$f":"Sprawdz_pesel(Formularz!A254)","v":false}]
[null,{"$f":"Sprawdz_pesel(Formularz!A255)","v":false}]
[null,{"$f":"Sprawdz_pesel(Formularz!A256)","v":false}]
[null,{"$f":"Sprawdz_pesel(Formularz!A257)","v":false}]
[null,{"$f":"Sprawdz_pesel(Formularz!A258)","v":false}]
[null,{"$f":"Sprawdz_pesel(Formularz!A259)","v":false}]
[null,{"$f":"Sprawdz_pesel(Formularz!A260)","v":false}]
[null,{"$f":"Sprawdz_pesel(Formularz!A261)","v":false}]
[null,{"$f":"Sprawdz_pesel(Formularz!A262)","v":false}]
[null,{"$f":"Sprawdz_pesel(Formularz!A263)","v":false}]
[null,{"$f":"Sprawdz_pesel(Formularz!A264)","v":false}]
[null,{"$f":"Sprawdz_pesel(Formularz!A265)","v":false}]
[null,{"$f":"Sprawdz_pesel(Formularz!A266)","v":false}]
[null,{"$f":"Sprawdz_pesel(Formularz!A267)","v":false}]
[null,{"$f":"Sprawdz_pesel(Formularz!A268)","v":false}]
[null,{"$f":"Sprawdz_pesel(Formularz!A269)","v":false}]
[null,{"$f":"Sprawdz_pesel(Formularz!A270)","v":false}]
[null,{"$f":"Sprawdz_pesel(Formularz!A271)","v":false}]
[null,{"$f":"Sprawdz_pesel(Formularz!A272)","v":false}]
[null,{"$f":"Sprawdz_pesel(Formularz!A273)","v":false}]
[null,{"$f":"Sprawdz_pesel(Formularz!A274)","v":false}]
[null,{"$f":"Sprawdz_pesel(Formularz!A275)","v":false}]
[null,{"$f":"Sprawdz_pesel(Formularz!A276)","v":false}]
[null,{"$f":"Sprawdz_pesel(Formularz!A277)","v":false}]
[null,{"$f":"Sprawdz_pesel(Formularz!A278)","v":false}]
[null,{"$f":"Sprawdz_pesel(Formularz!A279)","v":false}]
[null,{"$f":"Sprawdz_pesel(Formularz!A280)","v":false}]
[null,{"$f":"Sprawdz_pesel(Formularz!A281)","v":false}]
[null,{"$f":"Sprawdz_pesel(Formularz!A282)","v":false}]
[null,{"$f":"Sprawdz_pesel(Formularz!A283)","v":false}]
[null,{"$f":"Sprawdz_pesel(Formularz!A284)","v":false}]
[null,{"$f":"Sprawdz_pesel(Formularz!A285)","v":false}]
[null,{"$f":"Sprawdz_pesel(Formularz!A286)","v":false}]
[null,{"$f":"Sprawdz_pesel(Formularz!A287)","v":false}]
[null,{"$f":"Sprawdz_pesel(Formularz!A288)","v":false}]
[null,{"$f":"Sprawdz_pesel(Formularz!A289)","v":false}]
[null,{"$f":"Sprawdz_pesel(Formularz!A290)","v":false}]
[null,{"$f":"Sprawdz_pesel(Formularz!A291)","v":false}]
[null,{"$f":"Sprawdz_pesel(Formularz!A292)","v":false}]
[null,{"$f":"Sprawdz_pesel(Formularz!A293)","v":false}]
[null,{"$f":"Sprawdz_pesel(Formularz!A294)","v":false}]
[null,{"$f":"Sprawdz_pesel(Formularz!A295)","v":false}]
[null,{"$f":"Sprawdz_pesel(Formularz!A296)","v":false}]
[null,{"$f":"Sprawdz_pesel(Formularz!A297)","v":false}]
[null,{"$f":"Sprawdz_pesel(Formularz!A298)","v":false}]
[null,{"$f":"Sprawdz_pesel(Formularz!A299)","v":false}]
[null,{"$f":"Sprawdz_pesel(Formularz!A300)","v":false}]
[null,{"$f":"Sprawdz_pesel(Formularz!A301)","v":false}]
[null,{"$f":"Sprawdz_pesel(Formularz!A302)","v":false}]
[null,{"$f":"Sprawdz_pesel(Formularz!A303)","v":false}]
[null,{"$f":"Sprawdz_pesel(Formularz!A304)","v":false}]
[null,{"$f":"Sprawdz_pesel(Formularz!A305)","v":false}]
[null,{"$f":"Sprawdz_pesel(Formularz!A306)","v":false}]
[null,{"$f":"Sprawdz_pesel(Formularz!A307)","v":false}]
[null,{"$f":"Sprawdz_pesel(Formularz!A308)","v":false}]
[null,{"$f":"Sprawdz_pesel(Formularz!A309)","v":false}]
[null,{"$f":"Sprawdz_pesel(Formularz!A310)","v":false}]
[null,{"$f":"Sprawdz_pesel(Formularz!A311)","v":false}]
[null,{"$f":"Sprawdz_pesel(Formularz!A312)","v":false}]
[null,{"$f":"Sprawdz_pesel(Formularz!A313)","v":false}]
[null,{"$f":"Sprawdz_pesel(Formularz!A314)","v":false}]
[null,{"$f":"Sprawdz_pesel(Formularz!A315)","v":false}]
[null,{"$f":"Sprawdz_pesel(Formularz!A316)","v":false}]
[null,{"$f":"Sprawdz_pesel(Formularz!A317)","v":false}]
[null,{"$f":"Sprawdz_pesel(Formularz!A318)","v":false}]
[null,{"$f":"Sprawdz_pesel(Formularz!A319)","v":false}]
[null,{"$f":"Sprawdz_pesel(Formularz!A320)","v":false}]
[null,{"$f":"Sprawdz_pesel(Formularz!A321)","v":false}]
[null,{"$f":"Sprawdz_pesel(Formularz!A322)","v":false}]
[null,{"$f":"Sprawdz_pesel(Formularz!A323)","v":false}]
[null,{"$f":"Sprawdz_pesel(Formularz!A324)","v":false}]
[null,{"$f":"Sprawdz_pesel(Formularz!A325)","v":false}]
[null,{"$f":"Sprawdz_pesel(Formularz!A326)","v":false}]
[null,{"$f":"Sprawdz_pesel(Formularz!A327)","v":false}]
[null,{"$f":"Sprawdz_pesel(Formularz!A328)","v":false}]
[null,{"$f":"Sprawdz_pesel(Formularz!A329)","v":false}]
[null,{"$f":"Sprawdz_pesel(Formularz!A330)","v":false}]
[null,{"$f":"Sprawdz_pesel(Formularz!A331)","v":false}]
[null,{"$f":"Sprawdz_pesel(Formularz!A332)","v":false}]
[null,{"$f":"Sprawdz_pesel(Formularz!A333)","v":false}]
[null,{"$f":"Sprawdz_pesel(Formularz!A334)","v":false}]
[null,{"$f":"Sprawdz_pesel(Formularz!A335)","v":false}]
[null,{"$f":"Sprawdz_pesel(Formularz!A336)","v":false}]
[null,{"$f":"Sprawdz_pesel(Formularz!A337)","v":false}]
[null,{"$f":"Sprawdz_pesel(Formularz!A338)","v":false}]
[null,{"$f":"Sprawdz_pesel(Formularz!A339)","v":false}]
[null,{"$f":"Sprawdz_pesel(Formularz!A340)","v":false}]
[null,{"$f":"Sprawdz_pesel(Formularz!A341)","v":false}]
[null,{"$f":"Sprawdz_pesel(Formularz!A342)","v":false}]
[null,{"$f":"Sprawdz_pesel(Formularz!A343)","v":false}]
[null,{"$f":"Sprawdz_pesel(Formularz!A344)","v":false}]
[null,{"$f":"Sprawdz_pesel(Formularz!A345)","v":false}]
[null,{"$f":"Sprawdz_pesel(Formularz!A346)","v":false}]
[null,{"$f":"Sprawdz_pesel(Formularz!A347)","v":false}]
[null,{"$f":"Sprawdz_pesel(Formularz!A348)","v":false}]
[null,{"$f":"Sprawdz_pesel(Formularz!A349)","v":false}]
[null,{"$f":"Sprawdz_pesel(Formularz!A350)","v":false}]
[null,{"$f":"Sprawdz_pesel(Formularz!A351)","v":false}]
[null,{"$f":"Sprawdz_pesel(Formularz!A352)","v":false}]
[null,{"$f":"Sprawdz_pesel(Formularz!A353)","v":false}]
[null,{"$f":"Sprawdz_pesel(Formularz!A354)","v":false}]
[null,{"$f":"Sprawdz_pesel(Formularz!A355)","v":false}]
[null,{"$f":"Sprawdz_pesel(Formularz!A356)","v":false}]
[null,{"$f":"Sprawdz_pesel(Formularz!A357)","v":false}]
[null,{"$f":"Sprawdz_pesel(Formularz!A358)","v":false}]
[null,{"$f":"Sprawdz_pesel(Formularz!A359)","v":false}]
[null,{"$f":"Sprawdz_pesel(Formularz!A360)","v":false}]
[null,{"$f":"Sprawdz_pesel(Formularz!A361)","v":false}]
[null,{"$f":"Sprawdz_pesel(Formularz!A362)","v":false}]
[null,{"$f":"Sprawdz_pesel(Formularz!A363)","v":false}]
[null,{"$f":"Sprawdz_pesel(Formularz!A364)","v":false}]
[null,{"$f":"Sprawdz_pesel(Formularz!A365)","v":false}]
[null,{"$f":"Sprawdz_pesel(Formularz!A366)","v":false}]
[null,{"$f":"Sprawdz_pesel(Formularz!A367)","v":false}]
[null,{"$f":"Sprawdz_pesel(Formularz!A368)","v":false}]
[null,{"$f":"Sprawdz_pesel(Formularz!A369)","v":false}]
[null,{"$f":"Sprawdz_pesel(Formularz!A370)","v":false}]
[null,{"$f":"Sprawdz_pesel(Formularz!A371)","v":false}]
[null,{"$f":"Sprawdz_pesel(Formularz!A372)","v":false}]
[null,{"$f":"Sprawdz_pesel(Formularz!A373)","v":false}]
[null,{"$f":"Sprawdz_pesel(Formularz!A374)","v":false}]
[null,{"$f":"Sprawdz_pesel(Formularz!A375)","v":false}]
[null,{"$f":"Sprawdz_pesel(Formularz!A376)","v":false}]
[null,{"$f":"Sprawdz_pesel(Formularz!A377)","v":false}]
[null,{"$f":"Sprawdz_pesel(Formularz!A378)","v":false}]
[null,{"$f":"Sprawdz_pesel(Formularz!A379)","v":false}]
[null,{"$f":"Sprawdz_pesel(Formularz!A380)","v":false}]
[null,{"$f":"Sprawdz_pesel(Formularz!A381)","v":false}]
[null,{"$f":"Sprawdz_pesel(Formularz!A382)","v":false}]
[null,{"$f":"Sprawdz_pesel(Formularz!A383)","v":false}]
[null,{"$f":"Sprawdz_pesel(Formularz!A384)","v":false}]
[null,{"$f":"Sprawdz_pesel(Formularz!A385)","v":false}]
[null,{"$f":"Sprawdz_pesel(Formularz!A386)","v":false}]
[null,{"$f":"Sprawdz_pesel(Formularz!A387)","v":false}]
[null,{"$f":"Sprawdz_pesel(Formularz!A388)","v":false}]
[null,{"$f":"Sprawdz_pesel(Formularz!A389)","v":false}]
[null,{"$f":"Sprawdz_pesel(Formularz!A390)","v":false}]
[null,{"$f":"Sprawdz_pesel(Formularz!A391)","v":false}]
[null,{"$f":"Sprawdz_pesel(Formularz!A392)","v":false}]
[null,{"$f":"Sprawdz_pesel(Formularz!A393)","v":false}]
[null,{"$f":"Sprawdz_pesel(Formularz!A394)","v":false}]
[null,{"$f":"Sprawdz_pesel(Formularz!A395)","v":false}]
[null,{"$f":"Sprawdz_pesel(Formularz!A396)","v":false}]
[null,{"$f":"Sprawdz_pesel(Formularz!A397)","v":false}]
[null,{"$f":"Sprawdz_pesel(Formularz!A398)","v":false}]
[null,{"$f":"Sprawdz_pesel(Formularz!A399)","v":false}]
[null,{"$f":"Sprawdz_pesel(Formularz!A400)","v":false}]
[null,{"$f":"Sprawdz_pesel(Formularz!A401)","v":false}]
[null,{"$f":"Sprawdz_pesel(Formularz!A402)","v":false}]
[null,{"$f":"Sprawdz_pesel(Formularz!A403)","v":false}]
[null,{"$f":"Sprawdz_pesel(Formularz!A404)","v":false}]
[null,{"$f":"Sprawdz_pesel(Formularz!A405)","v":false}]
[null,{"$f":"Sprawdz_pesel(Formularz!A406)","v":false}]
[null,{"$f":"Sprawdz_pesel(Formularz!A407)","v":false}]
[null,{"$f":"Sprawdz_pesel(Formularz!A408)","v":false}]
[null,{"$f":"Sprawdz_pesel(Formularz!A409)","v":false}]
[null,{"$f":"Sprawdz_pesel(Formularz!A410)","v":false}]
[null,{"$f":"Sprawdz_pesel(Formularz!A411)","v":false}]
[null,{"$f":"Sprawdz_pesel(Formularz!A412)","v":false}]
[null,{"$f":"Sprawdz_pesel(Formularz!A413)","v":false}]
[null,{"$f":"Sprawdz_pesel(Formularz!A414)","v":false}]
[null,{"$f":"Sprawdz_pesel(Formularz!A415)","v":false}]
[null,{"$f":"Sprawdz_pesel(Formularz!A416)","v":false}]
[null,{"$f":"Sprawdz_pesel(Formularz!A417)","v":false}]
[null,{"$f":"Sprawdz_pesel(Formularz!A418)","v":false}]
[null,{"$f":"Sprawdz_pesel(Formularz!A419)","v":false}]
[null,{"$f":"Sprawdz_pesel(Formularz!A420)","v":false}]
[null,{"$f":"Sprawdz_pesel(Formularz!A421)","v":false}]
[null,{"$f":"Sprawdz_pesel(Formularz!A422)","v":false}]
[null,{"$f":"Sprawdz_pesel(Formularz!A423)","v":false}]
[null,{"$f":"Sprawdz_pesel(Formularz!A424)","v":false}]
[null,{"$f":"Sprawdz_pesel(Formularz!A425)","v":false}]
[null,{"$f":"Sprawdz_pesel(Formularz!A426)","v":false}]
[null,{"$f":"Sprawdz_pesel(Formularz!A427)","v":false}]
[null,{"$f":"Sprawdz_pesel(Formularz!A428)","v":false}]
[null,{"$f":"Sprawdz_pesel(Formularz!A429)","v":false}]
[null,{"$f":"Sprawdz_pesel(Formularz!A430)","v":false}]
[null,{"$f":"Sprawdz_pesel(Formularz!A431)","v":false}]
[null,{"$f":"Sprawdz_pesel(Formularz!A432)","v":false}]
[null,{"$f":"Sprawdz_pesel(Formularz!A433)","v":false}]
[null,{"$f":"Sprawdz_pesel(Formularz!A434)","v":false}]
[null,{"$f":"Sprawdz_pesel(Formularz!A435)","v":false}]
[null,{"$f":"Sprawdz_pesel(Formularz!A436)","v":false}]
[null,{"$f":"Sprawdz_pesel(Formularz!A437)","v":false}]
[null,{"$f":"Sprawdz_pesel(Formularz!A438)","v":false}]
[null,{"$f":"Sprawdz_pesel(Formularz!A439)","v":false}]
[null,{"$f":"Sprawdz_pesel(Formularz!A440)","v":false}]
[null,{"$f":"Sprawdz_pesel(Formularz!A441)","v":false}]
[null,{"$f":"Sprawdz_pesel(Formularz!A442)","v":false}]
[null,{"$f":"Sprawdz_pesel(Formularz!A443)","v":false}]
[null,{"$f":"Sprawdz_pesel(Formularz!A444)","v":false}]
[null,{"$f":"Sprawdz_pesel(Formularz!A445)","v":false}]
[null,{"$f":"Sprawdz_pesel(Formularz!A446)","v":false}]
[null,{"$f":"Sprawdz_pesel(Formularz!A447)","v":false}]
[null,{"$f":"Sprawdz_pesel(Formularz!A448)","v":false}]
[null,{"$f":"Sprawdz_pesel(Formularz!A449)","v":false}]
[null,{"$f":"Sprawdz_pesel(Formularz!A450)","v":false}]
[null,{"$f":"Sprawdz_pesel(Formularz!A451)","v":false}]
[null,{"$f":"Sprawdz_pesel(Formularz!A452)","v":false}]
[null,{"$f":"Sprawdz_pesel(Formularz!A453)","v":false}]
[null,{"$f":"Sprawdz_pesel(Formularz!A454)","v":false}]
[null,{"$f":"Sprawdz_pesel(Formularz!A455)","v":false}]
[null,{"$f":"Sprawdz_pesel(Formularz!A456)","v":false}]
[null,{"$f":"Sprawdz_pesel(Formularz!A457)","v":false}]
[null,{"$f":"Sprawdz_pesel(Formularz!A458)","v":false}]
[null,{"$f":"Sprawdz_pesel(Formularz!A459)","v":false}]
[null,{"$f":"Sprawdz_pesel(Formularz!A460)","v":false}]
[null,{"$f":"Sprawdz_pesel(Formularz!A461)","v":false}]
[null,{"$f":"Sprawdz_pesel(Formularz!A462)","v":false}]
[null,{"$f":"Sprawdz_pesel(Formularz!A463)","v":false}]
[null,{"$f":"Sprawdz_pesel(Formularz!A464)","v":false}]
[null,{"$f":"Sprawdz_pesel(Formularz!A465)","v":false}]
[null,{"$f":"Sprawdz_pesel(Formularz!A466)","v":false}]
[null,{"$f":"Sprawdz_pesel(Formularz!A467)","v":false}]
[null,{"$f":"Sprawdz_pesel(Formularz!A468)","v":false}]
[null,{"$f":"Sprawdz_pesel(Formularz!A469)","v":false}]
[null,{"$f":"Sprawdz_pesel(Formularz!A470)","v":false}]
[null,{"$f":"Sprawdz_pesel(Formularz!A471)","v":false}]
[null,{"$f":"Sprawdz_pesel(Formularz!A472)","v":false}]
[null,{"$f":"Sprawdz_pesel(Formularz!A473)","v":false}]
[null,{"$f":"Sprawdz_pesel(Formularz!A474)","v":false}]
[null,{"$f":"Sprawdz_pesel(Formularz!A475)","v":false}]
[null,{"$f":"Sprawdz_pesel(Formularz!A476)","v":false}]
[null,{"$f":"Sprawdz_pesel(Formularz!A477)","v":false}]
[null,{"$f":"Sprawdz_pesel(Formularz!A478)","v":false}]
[null,{"$f":"Sprawdz_pesel(Formularz!A479)","v":false}]
[null,{"$f":"Sprawdz_pesel(Formularz!A480)","v":false}]
[null,{"$f":"Sprawdz_pesel(Formularz!A481)","v":false}]
[null,{"$f":"Sprawdz_pesel(Formularz!A482)","v":false}]
[null,{"$f":"Sprawdz_pesel(Formularz!A483)","v":false}]
[null,{"$f":"Sprawdz_pesel(Formularz!A484)","v":false}]
[null,{"$f":"Sprawdz_pesel(Formularz!A485)","v":false}]
[null,{"$f":"Sprawdz_pesel(Formularz!A486)","v":false}]
[null,{"$f":"Sprawdz_pesel(Formularz!A487)","v":false}]
[null,{"$f":"Sprawdz_pesel(Formularz!A488)","v":false}]
[null,{"$f":"Sprawdz_pesel(Formularz!A489)","v":false}]
[null,{"$f":"Sprawdz_pesel(Formularz!A490)","v":false}]
[null,{"$f":"Sprawdz_pesel(Formularz!A491)","v":false}]
[null,{"$f":"Sprawdz_pesel(Formularz!A492)","v":false}]
[null,{"$f":"Sprawdz_pesel(Formularz!A493)","v":false}]
[null,{"$f":"Sprawdz_pesel(Formularz!A494)","v":false}]
[null,{"$f":"Sprawdz_pesel(Formularz!A495)","v":false}]
[null,{"$f":"Sprawdz_pesel(Formularz!A496)","v":false}]
[null,{"$f":"Sprawdz_pesel(Formularz!A497)","v":false}]
[null,{"$f":"Sprawdz_pesel(Formularz!A498)","v":false}]
[null,{"$f":"Sprawdz_pesel(Formularz!A499)","v":false}]
[null,{"$f":"Sprawdz_pesel(Formularz!A500)","v":false}]
[null,{"$f":"Sprawdz_pesel(Formularz!A501)","v":false}]
[null,{"$f":"Sprawdz_pesel(Formularz!A502)","v":false}]
[null,{"$f":"Sprawdz_pesel(Formularz!A503)","v":false}]
[null,{"$f":"Sprawdz_pesel(Formularz!A504)","v":false}]
[null,{"$f":"Sprawdz_pesel(Formularz!A505)","v":false}]
[null,{"$f":"Sprawdz_pesel(Formularz!A506)","v":false}]
[null,{"$f":"Sprawdz_pesel(Formularz!A507)","v":false}]
[null,{"$f":"Sprawdz_pesel(Formularz!A508)","v":false}]
[null,{"$f":"Sprawdz_pesel(Formularz!A509)","v":false}]
[null,{"$f":"Sprawdz_pesel(Formularz!A510)","v":false}]
[null,{"$f":"Sprawdz_pesel(Formularz!A511)","v":false}]
[null,{"$f":"Sprawdz_pesel(Formularz!A512)","v":false}]
[null,{"$f":"Sprawdz_pesel(Formularz!A513)","v":false}]
[null,{"$f":"Sprawdz_pesel(Formularz!A514)","v":false}]
[null,{"$f":"Sprawdz_pesel(Formularz!A515)","v":false}]
[null,{"$f":"Sprawdz_pesel(Formularz!A516)","v":false}]
[null,{"$f":"Sprawdz_pesel(Formularz!A517)","v":false}]
[null,{"$f":"Sprawdz_pesel(Formularz!A518)","v":false}]
[null,{"$f":"Sprawdz_pesel(Formularz!A519)","v":false}]
[null,{"$f":"Sprawdz_pesel(Formularz!A520)","v":false}]
[null,{"$f":"Sprawdz_pesel(Formularz!A521)","v":false}]
[null,{"$f":"Sprawdz_pesel(Formularz!A522)","v":false}]
[null,{"$f":"Sprawdz_pesel(Formularz!A523)","v":false}]
[null,{"$f":"Sprawdz_pesel(Formularz!A524)","v":false}]
[null,{"$f":"Sprawdz_pesel(Formularz!A525)","v":false}]
[null,{"$f":"Sprawdz_pesel(Formularz!A526)","v":false}]
[null,{"$f":"Sprawdz_pesel(Formularz!A527)","v":false}]
[null,{"$f":"Sprawdz_pesel(Formularz!A528)","v":false}]
[null,{"$f":"Sprawdz_pesel(Formularz!A529)","v":false}]
[null,{"$f":"Sprawdz_pesel(Formularz!A530)","v":false}]
[null,{"$f":"Sprawdz_pesel(Formularz!A531)","v":false}]
[null,{"$f":"Sprawdz_pesel(Formularz!A532)","v":false}]
[null,{"$f":"Sprawdz_pesel(Formularz!A533)","v":false}]
[null,{"$f":"Sprawdz_pesel(Formularz!A534)","v":false}]
[null,{"$f":"Sprawdz_pesel(Formularz!A535)","v":false}]
[null,{"$f":"Sprawdz_pesel(Formularz!A536)","v":false}]
[null,{"$f":"Sprawdz_pesel(Formularz!A537)","v":false}]
[null,{"$f":"Sprawdz_pesel(Formularz!A538)","v":false}]
[null,{"$f":"Sprawdz_pesel(Formularz!A539)","v":false}]
[null,{"$f":"Sprawdz_pesel(Formularz!A540)","v":false}]
[null,{"$f":"Sprawdz_pesel(Formularz!A541)","v":false}]
[null,{"$f":"Sprawdz_pesel(Formularz!A542)","v":false}]
[null,{"$f":"Sprawdz_pesel(Formularz!A543)","v":false}]
[null,{"$f":"Sprawdz_pesel(Formularz!A544)","v":false}]
[null,{"$f":"Sprawdz_pesel(Formularz!A545)","v":false}]
[null,{"$f":"Sprawdz_pesel(Formularz!A546)","v":false}]
[null,{"$f":"Sprawdz_pesel(Formularz!A547)","v":false}]
[null,{"$f":"Sprawdz_pesel(Formularz!A548)","v":false}]
[null,{"$f":"Sprawdz_pesel(Formularz!A549)","v":false}]
[null,{"$f":"Sprawdz_pesel(Formularz!A550)","v":false}]
[null,{"$f":"Sprawdz_pesel(Formularz!A551)","v":false}]
[null,{"$f":"Sprawdz_pesel(Formularz!A552)","v":false}]
[null,{"$f":"Sprawdz_pesel(Formularz!A553)","v":false}]
[null,{"$f":"Sprawdz_pesel(Formularz!A554)","v":false}]
[null,{"$f":"Sprawdz_pesel(Formularz!A555)","v":false}]
[null,{"$f":"Sprawdz_pesel(Formularz!A556)","v":false}]
[null,{"$f":"Sprawdz_pesel(Formularz!A557)","v":false}]
[null,{"$f":"Sprawdz_pesel(Formularz!A558)","v":false}]
[null,{"$f":"Sprawdz_pesel(Formularz!A559)","v":false}]
[null,{"$f":"Sprawdz_pesel(Formularz!A560)","v":false}]
[null,{"$f":"Sprawdz_pesel(Formularz!A561)","v":false}]
[null,{"$f":"Sprawdz_pesel(Formularz!A562)","v":false}]
[null,{"$f":"Sprawdz_pesel(Formularz!A563)","v":false}]
[null,{"$f":"Sprawdz_pesel(Formularz!A564)","v":false}]
[null,{"$f":"Sprawdz_pesel(Formularz!A565)","v":false}]
[null,{"$f":"Sprawdz_pesel(Formularz!A566)","v":false}]
[null,{"$f":"Sprawdz_pesel(Formularz!A567)","v":false}]
[null,{"$f":"Sprawdz_pesel(Formularz!A568)","v":false}]
[null,{"$f":"Sprawdz_pesel(Formularz!A569)","v":false}]
[null,{"$f":"Sprawdz_pesel(Formularz!A570)","v":false}]
[null,{"$f":"Sprawdz_pesel(Formularz!A571)","v":false}]
[null,{"$f":"Sprawdz_pesel(Formularz!A572)","v":false}]
[null,{"$f":"Sprawdz_pesel(Formularz!A573)","v":false}]
[null,{"$f":"Sprawdz_pesel(Formularz!A574)","v":false}]
[null,{"$f":"Sprawdz_pesel(Formularz!A575)","v":false}]
[null,{"$f":"Sprawdz_pesel(Formularz!A576)","v":false}]
[null,{"$f":"Sprawdz_pesel(Formularz!A577)","v":false}]
[null,{"$f":"Sprawdz_pesel(Formularz!A578)","v":false}]
[null,{"$f":"Sprawdz_pesel(Formularz!A579)","v":false}]
[null,{"$f":"Sprawdz_pesel(Formularz!A580)","v":false}]
[null,{"$f":"Sprawdz_pesel(Formularz!A581)","v":false}]
[null,{"$f":"Sprawdz_pesel(Formularz!A582)","v":false}]
[null,{"$f":"Sprawdz_pesel(Formularz!A583)","v":false}]
[null,{"$f":"Sprawdz_pesel(Formularz!A584)","v":false}]
[null,{"$f":"Sprawdz_pesel(Formularz!A585)","v":false}]
[null,{"$f":"Sprawdz_pesel(Formularz!A586)","v":false}]
[null,{"$f":"Sprawdz_pesel(Formularz!A587)","v":false}]
[null,{"$f":"Sprawdz_pesel(Formularz!A588)","v":false}]
[null,{"$f":"Sprawdz_pesel(Formularz!A589)","v":false}]
[null,{"$f":"Sprawdz_pesel(Formularz!A590)","v":false}]
[null,{"$f":"Sprawdz_pesel(Formularz!A591)","v":false}]
[null,{"$f":"Sprawdz_pesel(Formularz!A592)","v":false}]
[null,{"$f":"Sprawdz_pesel(Formularz!A593)","v":false}]
[null,{"$f":"Sprawdz_pesel(Formularz!A594)","v":false}]
[null,{"$f":"Sprawdz_pesel(Formularz!A595)","v":false}]
[null,{"$f":"Sprawdz_pesel(Formularz!A596)","v":false}]
[null,{"$f":"Sprawdz_pesel(Formularz!A597)","v":false}]
[null,{"$f":"Sprawdz_pesel(Formularz!A598)","v":false}]
[null,{"$f":"Sprawdz_pesel(Formularz!A599)","v":false}]
[null,{"$f":"Sprawdz_pesel(Formularz!A600)","v":false}]
[null,{"$f":"Sprawdz_pesel(Formularz!A601)","v":false}]
[null,{"$f":"Sprawdz_pesel(Formularz!A602)","v":false}]
[null,{"$f":"Sprawdz_pesel(Formularz!A603)","v":false}]
[null,{"$f":"Sprawdz_pesel(Formularz!A604)","v":false}]
[null,{"$f":"Sprawdz_pesel(Formularz!A605)","v":false}]
[null,{"$f":"Sprawdz_pesel(Formularz!A606)","v":false}]
[null,{"$f":"Sprawdz_pesel(Formularz!A607)","v":false}]
[null,{"$f":"Sprawdz_pesel(Formularz!A608)","v":false}]
[null,{"$f":"Sprawdz_pesel(Formularz!A609)","v":false}]
[null,{"$f":"Sprawdz_pesel(Formularz!A610)","v":false}]
[null,{"$f":"Sprawdz_pesel(Formularz!A611)","v":false}]
[null,{"$f":"Sprawdz_pesel(Formularz!A612)","v":false}]
[null,{"$f":"Sprawdz_pesel(Formularz!A613)","v":false}]
[null,{"$f":"Sprawdz_pesel(Formularz!A614)","v":false}]
[null,{"$f":"Sprawdz_pesel(Formularz!A615)","v":false}]
[null,{"$f":"Sprawdz_pesel(Formularz!A616)","v":false}]
[null,{"$f":"Sprawdz_pesel(Formularz!A617)","v":false}]
[null,{"$f":"Sprawdz_pesel(Formularz!A618)","v":false}]
[null,{"$f":"Sprawdz_pesel(Formularz!A619)","v":false}]
[null,{"$f":"Sprawdz_pesel(Formularz!A620)","v":false}]
[null,{"$f":"Sprawdz_pesel(Formularz!A621)","v":false}]
[null,{"$f":"Sprawdz_pesel(Formularz!A622)","v":false}]
[null,{"$f":"Sprawdz_pesel(Formularz!A623)","v":false}]
[null,{"$f":"Sprawdz_pesel(Formularz!A624)","v":false}]
[null,{"$f":"Sprawdz_pesel(Formularz!A625)","v":false}]
[null,{"$f":"Sprawdz_pesel(Formularz!A626)","v":false}]
[null,{"$f":"Sprawdz_pesel(Formularz!A627)","v":false}]
[null,{"$f":"Sprawdz_pesel(Formularz!A628)","v":false}]
[null,{"$f":"Sprawdz_pesel(Formularz!A629)","v":false}]
[null,{"$f":"Sprawdz_pesel(Formularz!A630)","v":false}]
[null,{"$f":"Sprawdz_pesel(Formularz!A631)","v":false}]
[null,{"$f":"Sprawdz_pesel(Formularz!A632)","v":false}]
[null,{"$f":"Sprawdz_pesel(Formularz!A633)","v":false}]
[null,{"$f":"Sprawdz_pesel(Formularz!A634)","v":false}]
[null,{"$f":"Sprawdz_pesel(Formularz!A635)","v":false}]
[null,{"$f":"Sprawdz_pesel(Formularz!A636)","v":false}]
[null,{"$f":"Sprawdz_pesel(Formularz!A637)","v":false}]
[null,{"$f":"Sprawdz_pesel(Formularz!A638)","v":false}]
[null,{"$f":"Sprawdz_pesel(Formularz!A639)","v":false}]
[null,{"$f":"Sprawdz_pesel(Formularz!A640)","v":false}]
[null,{"$f":"Sprawdz_pesel(Formularz!A641)","v":false}]
[null,{"$f":"Sprawdz_pesel(Formularz!A642)","v":false}]
[null,{"$f":"Sprawdz_pesel(Formularz!A643)","v":false}]
[null,{"$f":"Sprawdz_pesel(Formularz!A644)","v":false}]
[null,{"$f":"Sprawdz_pesel(Formularz!A645)","v":false}]
[null,{"$f":"Sprawdz_pesel(Formularz!A646)","v":false}]
[null,{"$f":"Sprawdz_pesel(Formularz!A647)","v":false}]
[null,{"$f":"Sprawdz_pesel(Formularz!A648)","v":false}]
[null,{"$f":"Sprawdz_pesel(Formularz!A649)","v":false}]
[null,{"$f":"Sprawdz_pesel(Formularz!A650)","v":false}]
[null,{"$f":"Sprawdz_pesel(Formularz!A651)","v":false}]
[null,{"$f":"Sprawdz_pesel(Formularz!A652)","v":false}]
[null,{"$f":"Sprawdz_pesel(Formularz!A653)","v":false}]
[null,{"$f":"Sprawdz_pesel(Formularz!A654)","v":false}]
[null,{"$f":"Sprawdz_pesel(Formularz!A655)","v":false}]
[null,{"$f":"Sprawdz_pesel(Formularz!A656)","v":false}]
[null,{"$f":"Sprawdz_pesel(Formularz!A657)","v":false}]
[null,{"$f":"Sprawdz_pesel(Formularz!A658)","v":false}]
[null,{"$f":"Sprawdz_pesel(Formularz!A659)","v":false}]
[null,{"$f":"Sprawdz_pesel(Formularz!A660)","v":false}]
[null,{"$f":"Sprawdz_pesel(Formularz!A661)","v":false}]
[null,{"$f":"Sprawdz_pesel(Formularz!A662)","v":false}]
[null,{"$f":"Sprawdz_pesel(Formularz!A663)","v":false}]
[null,{"$f":"Sprawdz_pesel(Formularz!A664)","v":false}]
[null,{"$f":"Sprawdz_pesel(Formularz!A665)","v":false}]
[null,{"$f":"Sprawdz_pesel(Formularz!A666)","v":false}]
[null,{"$f":"Sprawdz_pesel(Formularz!A667)","v":false}]
[null,{"$f":"Sprawdz_pesel(Formularz!A668)","v":false}]
[null,{"$f":"Sprawdz_pesel(Formularz!A669)","v":false}]
[null,{"$f":"Sprawdz_pesel(Formularz!A670)","v":false}]
[null,{"$f":"Sprawdz_pesel(Formularz!A671)","v":false}]
[null,{"$f":"Sprawdz_pesel(Formularz!A672)","v":false}]
[null,{"$f":"Sprawdz_pesel(Formularz!A673)","v":false}]
[null,{"$f":"Sprawdz_pesel(Formularz!A674)","v":false}]
[null,{"$f":"Sprawdz_pesel(Formularz!A675)","v":false}]
[null,{"$f":"Sprawdz_pesel(Formularz!A676)","v":false}]
[null,{"$f":"Sprawdz_pesel(Formularz!A677)","v":false}]
[null,{"$f":"Sprawdz_pesel(Formularz!A678)","v":false}]
[null,{"$f":"Sprawdz_pesel(Formularz!A679)","v":false}]
[null,{"$f":"Sprawdz_pesel(Formularz!A680)","v":false}]
[null,{"$f":"Sprawdz_pesel(Formularz!A681)","v":false}]
[null,{"$f":"Sprawdz_pesel(Formularz!A682)","v":false}]
[null,{"$f":"Sprawdz_pesel(Formularz!A683)","v":false}]
[null,{"$f":"Sprawdz_pesel(Formularz!A684)","v":false}]
[null,{"$f":"Sprawdz_pesel(Formularz!A685)","v":false}]
[null,{"$f":"Sprawdz_pesel(Formularz!A686)","v":false}]
[null,{"$f":"Sprawdz_pesel(Formularz!A687)","v":false}]
[null,{"$f":"Sprawdz_pesel(Formularz!A688)","v":false}]
[null,{"$f":"Sprawdz_pesel(Formularz!A689)","v":false}]
[null,{"$f":"Sprawdz_pesel(Formularz!A690)","v":false}]
[null,{"$f":"Sprawdz_pesel(Formularz!A691)","v":false}]
[null,{"$f":"Sprawdz_pesel(Formularz!A692)","v":false}]
[null,{"$f":"Sprawdz_pesel(Formularz!A693)","v":false}]
[null,{"$f":"Sprawdz_pesel(Formularz!A694)","v":false}]
[null,{"$f":"Sprawdz_pesel(Formularz!A695)","v":false}]
[null,{"$f":"Sprawdz_pesel(Formularz!A696)","v":false}]
[null,{"$f":"Sprawdz_pesel(Formularz!A697)","v":false}]
[null,{"$f":"Sprawdz_pesel(Formularz!A698)","v":false}]
[null,{"$f":"Sprawdz_pesel(Formularz!A699)","v":false}]
[null,{"$f":"Sprawdz_pesel(Formularz!A700)","v":false}]
[null,{"$f":"Sprawdz_pesel(Formularz!A701)","v":false}]
[null,{"$f":"Sprawdz_pesel(Formularz!A702)","v":false}]
[null,{"$f":"Sprawdz_pesel(Formularz!A703)","v":false}]
[null,{"$f":"Sprawdz_pesel(Formularz!A704)","v":false}]
[null,{"$f":"Sprawdz_pesel(Formularz!A705)","v":false}]
[null,{"$f":"Sprawdz_pesel(Formularz!A706)","v":false}]
[null,{"$f":"Sprawdz_pesel(Formularz!A707)","v":false}]
[null,{"$f":"Sprawdz_pesel(Formularz!A708)","v":false}]
[null,{"$f":"Sprawdz_pesel(Formularz!A709)","v":false}]
[null,{"$f":"Sprawdz_pesel(Formularz!A710)","v":false}]
[null,{"$f":"Sprawdz_pesel(Formularz!A711)","v":false}]
[null,{"$f":"Sprawdz_pesel(Formularz!A712)","v":false}]
[null,{"$f":"Sprawdz_pesel(Formularz!A713)","v":false}]
[null,{"$f":"Sprawdz_pesel(Formularz!A714)","v":false}]
[null,{"$f":"Sprawdz_pesel(Formularz!A715)","v":false}]
[null,{"$f":"Sprawdz_pesel(Formularz!A716)","v":false}]
[null,{"$f":"Sprawdz_pesel(Formularz!A717)","v":false}]
[null,{"$f":"Sprawdz_pesel(Formularz!A718)","v":false}]
[null,{"$f":"Sprawdz_pesel(Formularz!A719)","v":false}]
[null,{"$f":"Sprawdz_pesel(Formularz!A720)","v":false}]
[null,{"$f":"Sprawdz_pesel(Formularz!A721)","v":false}]
[null,{"$f":"Sprawdz_pesel(Formularz!A722)","v":false}]
[null,{"$f":"Sprawdz_pesel(Formularz!A723)","v":false}]
[null,{"$f":"Sprawdz_pesel(Formularz!A724)","v":false}]
[null,{"$f":"Sprawdz_pesel(Formularz!A725)","v":false}]
[null,{"$f":"Sprawdz_pesel(Formularz!A726)","v":false}]
[null,{"$f":"Sprawdz_pesel(Formularz!A727)","v":false}]
[null,{"$f":"Sprawdz_pesel(Formularz!A728)","v":false}]
[null,{"$f":"Sprawdz_pesel(Formularz!A729)","v":false}]
[null,{"$f":"Sprawdz_pesel(Formularz!A730)","v":false}]
[null,{"$f":"Sprawdz_pesel(Formularz!A731)","v":false}]
[null,{"$f":"Sprawdz_pesel(Formularz!A732)","v":false}]
[null,{"$f":"Sprawdz_pesel(Formularz!A733)","v":false}]
[null,{"$f":"Sprawdz_pesel(Formularz!A734)","v":false}]
[null,{"$f":"Sprawdz_pesel(Formularz!A735)","v":false}]
[null,{"$f":"Sprawdz_pesel(Formularz!A736)","v":false}]
[null,{"$f":"Sprawdz_pesel(Formularz!A737)","v":false}]
[null,{"$f":"Sprawdz_pesel(Formularz!A738)","v":false}]
[null,{"$f":"Sprawdz_pesel(Formularz!A739)","v":false}]
[null,{"$f":"Sprawdz_pesel(Formularz!A740)","v":false}]
[null,{"$f":"Sprawdz_pesel(Formularz!A741)","v":false}]
[null,{"$f":"Sprawdz_pesel(Formularz!A742)","v":false}]
[null,{"$f":"Sprawdz_pesel(Formularz!A743)","v":false}]
[null,{"$f":"Sprawdz_pesel(Formularz!A744)","v":false}]
[null,{"$f":"Sprawdz_pesel(Formularz!A745)","v":false}]
[null,{"$f":"Sprawdz_pesel(Formularz!A746)","v":false}]
[null,{"$f":"Sprawdz_pesel(Formularz!A747)","v":false}]
[null,{"$f":"Sprawdz_pesel(Formularz!A748)","v":false}]
[null,{"$f":"Sprawdz_pesel(Formularz!A749)","v":false}]
[null,{"$f":"Sprawdz_pesel(Formularz!A750)","v":false}]
[null,{"$f":"Sprawdz_pesel(Formularz!A751)","v":false}]
[null,{"$f":"Sprawdz_pesel(Formularz!A752)","v":false}]
[null,{"$f":"Sprawdz_pesel(Formularz!A753)","v":false}]
[null,{"$f":"Sprawdz_pesel(Formularz!A754)","v":false}]
[null,{"$f":"Sprawdz_pesel(Formularz!A755)","v":false}]
[null,{"$f":"Sprawdz_pesel(Formularz!A756)","v":false}]
[null,{"$f":"Sprawdz_pesel(Formularz!A757)","v":false}]
[null,{"$f":"Sprawdz_pesel(Formularz!A758)","v":false}]
[null,{"$f":"Sprawdz_pesel(Formularz!A759)","v":false}]
[null,{"$f":"Sprawdz_pesel(Formularz!A760)","v":false}]
[null,{"$f":"Sprawdz_pesel(Formularz!A761)","v":false}]
[null,{"$f":"Sprawdz_pesel(Formularz!A762)","v":false}]
[null,{"$f":"Sprawdz_pesel(Formularz!A763)","v":false}]
[null,{"$f":"Sprawdz_pesel(Formularz!A764)","v":false}]
[null,{"$f":"Sprawdz_pesel(Formularz!A765)","v":false}]
[null,{"$f":"Sprawdz_pesel(Formularz!A766)","v":false}]
[null,{"$f":"Sprawdz_pesel(Formularz!A767)","v":false}]
[null,{"$f":"Sprawdz_pesel(Formularz!A768)","v":false}]
[null,{"$f":"Sprawdz_pesel(Formularz!A769)","v":false}]
[null,{"$f":"Sprawdz_pesel(Formularz!A770)","v":false}]
[null,{"$f":"Sprawdz_pesel(Formularz!A771)","v":false}]
[null,{"$f":"Sprawdz_pesel(Formularz!A772)","v":false}]
[null,{"$f":"Sprawdz_pesel(Formularz!A773)","v":false}]
[null,{"$f":"Sprawdz_pesel(Formularz!A774)","v":false}]
[null,{"$f":"Sprawdz_pesel(Formularz!A775)","v":false}]
[null,{"$f":"Sprawdz_pesel(Formularz!A776)","v":false}]
[null,{"$f":"Sprawdz_pesel(Formularz!A777)","v":false}]
[null,{"$f":"Sprawdz_pesel(Formularz!A778)","v":false}]
[null,{"$f":"Sprawdz_pesel(Formularz!A779)","v":false}]
[null,{"$f":"Sprawdz_pesel(Formularz!A780)","v":false}]
[null,{"$f":"Sprawdz_pesel(Formularz!A781)","v":false}]
[null,{"$f":"Sprawdz_pesel(Formularz!A782)","v":false}]
[null,{"$f":"Sprawdz_pesel(Formularz!A783)","v":false}]
[null,{"$f":"Sprawdz_pesel(Formularz!A784)","v":false}]
[null,{"$f":"Sprawdz_pesel(Formularz!A785)","v":false}]
[null,{"$f":"Sprawdz_pesel(Formularz!A786)","v":false}]
[null,{"$f":"Sprawdz_pesel(Formularz!A787)","v":false}]
[null,{"$f":"Sprawdz_pesel(Formularz!A788)","v":false}]
[null,{"$f":"Sprawdz_pesel(Formularz!A789)","v":false}]
[null,{"$f":"Sprawdz_pesel(Formularz!A790)","v":false}]
[null,{"$f":"Sprawdz_pesel(Formularz!A791)","v":false}]
[null,{"$f":"Sprawdz_pesel(Formularz!A792)","v":false}]
[null,{"$f":"Sprawdz_pesel(Formularz!A793)","v":false}]
[null,{"$f":"Sprawdz_pesel(Formularz!A794)","v":false}]
[null,{"$f":"Sprawdz_pesel(Formularz!A795)","v":false}]
[null,{"$f":"Sprawdz_pesel(Formularz!A796)","v":false}]
[null,{"$f":"Sprawdz_pesel(Formularz!A797)","v":false}]
[null,{"$f":"Sprawdz_pesel(Formularz!A798)","v":false}]
[null,{"$f":"Sprawdz_pesel(Formularz!A799)","v":false}]
[null,{"$f":"Sprawdz_pesel(Formularz!A800)","v":false}]
[null,{"$f":"Sprawdz_pesel(Formularz!A801)","v":false}]
[null,{"$f":"Sprawdz_pesel(Formularz!A802)","v":false}]
[null,{"$f":"Sprawdz_pesel(Formularz!A803)","v":false}]
[null,{"$f":"Sprawdz_pesel(Formularz!A804)","v":false}]
[null,{"$f":"Sprawdz_pesel(Formularz!A805)","v":false}]
[null,{"$f":"Sprawdz_pesel(Formularz!A806)","v":false}]
[null,{"$f":"Sprawdz_pesel(Formularz!A807)","v":false}]
[null,{"$f":"Sprawdz_pesel(Formularz!A808)","v":false}]
[null,{"$f":"Sprawdz_pesel(Formularz!A809)","v":false}]
[null,{"$f":"Sprawdz_pesel(Formularz!A810)","v":false}]
[null,{"$f":"Sprawdz_pesel(Formularz!A811)","v":false}]
[null,{"$f":"Sprawdz_pesel(Formularz!A812)","v":false}]
[null,{"$f":"Sprawdz_pesel(Formularz!A813)","v":false}]
[null,{"$f":"Sprawdz_pesel(Formularz!A814)","v":false}]
[null,{"$f":"Sprawdz_pesel(Formularz!A815)","v":false}]
[null,{"$f":"Sprawdz_pesel(Formularz!A816)","v":false}]
[null,{"$f":"Sprawdz_pesel(Formularz!A817)","v":false}]
[null,{"$f":"Sprawdz_pesel(Formularz!A818)","v":false}]
[null,{"$f":"Sprawdz_pesel(Formularz!A819)","v":false}]
[null,{"$f":"Sprawdz_pesel(Formularz!A820)","v":false}]
[null,{"$f":"Sprawdz_pesel(Formularz!A821)","v":false}]
[null,{"$f":"Sprawdz_pesel(Formularz!A822)","v":false}]
[null,{"$f":"Sprawdz_pesel(Formularz!A823)","v":false}]
[null,{"$f":"Sprawdz_pesel(Formularz!A824)","v":false}]
[null,{"$f":"Sprawdz_pesel(Formularz!A825)","v":false}]
[null,{"$f":"Sprawdz_pesel(Formularz!A826)","v":false}]
[null,{"$f":"Sprawdz_pesel(Formularz!A827)","v":false}]
[null,{"$f":"Sprawdz_pesel(Formularz!A828)","v":false}]
[null,{"$f":"Sprawdz_pesel(Formularz!A829)","v":false}]
[null,{"$f":"Sprawdz_pesel(Formularz!A830)","v":false}]
[null,{"$f":"Sprawdz_pesel(Formularz!A831)","v":false}]
[null,{"$f":"Sprawdz_pesel(Formularz!A832)","v":false}]
[null,{"$f":"Sprawdz_pesel(Formularz!A833)","v":false}]
[null,{"$f":"Sprawdz_pesel(Formularz!A834)","v":false}]
[null,{"$f":"Sprawdz_pesel(Formularz!A835)","v":false}]
[null,{"$f":"Sprawdz_pesel(Formularz!A836)","v":false}]
[null,{"$f":"Sprawdz_pesel(Formularz!A837)","v":false}]
[null,{"$f":"Sprawdz_pesel(Formularz!A838)","v":false}]
[null,{"$f":"Sprawdz_pesel(Formularz!A839)","v":false}]
[null,{"$f":"Sprawdz_pesel(Formularz!A840)","v":false}]
[null,{"$f":"Sprawdz_pesel(Formularz!A841)","v":false}]
[null,{"$f":"Sprawdz_pesel(Formularz!A842)","v":false}]
[null,{"$f":"Sprawdz_pesel(Formularz!A843)","v":false}]
[null,{"$f":"Sprawdz_pesel(Formularz!A844)","v":false}]
[null,{"$f":"Sprawdz_pesel(Formularz!A845)","v":false}]
[null,{"$f":"Sprawdz_pesel(Formularz!A846)","v":false}]
[null,{"$f":"Sprawdz_pesel(Formularz!A847)","v":false}]
[null,{"$f":"Sprawdz_pesel(Formularz!A848)","v":false}]
[null,{"$f":"Sprawdz_pesel(Formularz!A849)","v":false}]
[null,{"$f":"Sprawdz_pesel(Formularz!A850)","v":false}]
[null,{"$f":"Sprawdz_pesel(Formularz!A851)","v":false}]
[null,{"$f":"Sprawdz_pesel(Formularz!A852)","v":false}]
[null,{"$f":"Sprawdz_pesel(Formularz!A853)","v":false}]
[null,{"$f":"Sprawdz_pesel(Formularz!A854)","v":false}]
[null,{"$f":"Sprawdz_pesel(Formularz!A855)","v":false}]
[null,{"$f":"Sprawdz_pesel(Formularz!A856)","v":false}]
[null,{"$f":"Sprawdz_pesel(Formularz!A857)","v":false}]
[null,{"$f":"Sprawdz_pesel(Formularz!A858)","v":false}]
[null,{"$f":"Sprawdz_pesel(Formularz!A859)","v":false}]
[null,{"$f":"Sprawdz_pesel(Formularz!A860)","v":false}]
[null,{"$f":"Sprawdz_pesel(Formularz!A861)","v":false}]
[null,{"$f":"Sprawdz_pesel(Formularz!A862)","v":false}]
[null,{"$f":"Sprawdz_pesel(Formularz!A863)","v":false}]
[null,{"$f":"Sprawdz_pesel(Formularz!A864)","v":false}]
[null,{"$f":"Sprawdz_pesel(Formularz!A865)","v":false}]
[null,{"$f":"Sprawdz_pesel(Formularz!A866)","v":false}]
[null,{"$f":"Sprawdz_pesel(Formularz!A867)","v":false}]
[null,{"$f":"Sprawdz_pesel(Formularz!A868)","v":false}]
[null,{"$f":"Sprawdz_pesel(Formularz!A869)","v":false}]
[null,{"$f":"Sprawdz_pesel(Formularz!A870)","v":false}]
[null,{"$f":"Sprawdz_pesel(Formularz!A871)","v":false}]
[null,{"$f":"Sprawdz_pesel(Formularz!A872)","v":false}]
[null,{"$f":"Sprawdz_pesel(Formularz!A873)","v":false}]
[null,{"$f":"Sprawdz_pesel(Formularz!A874)","v":false}]
[null,{"$f":"Sprawdz_pesel(Formularz!A875)","v":false}]
[null,{"$f":"Sprawdz_pesel(Formularz!A876)","v":false}]
[null,{"$f":"Sprawdz_pesel(Formularz!A877)","v":false}]
[null,{"$f":"Sprawdz_pesel(Formularz!A878)","v":false}]
[null,{"$f":"Sprawdz_pesel(Formularz!A879)","v":false}]
[null,{"$f":"Sprawdz_pesel(Formularz!A880)","v":false}]
[null,{"$f":"Sprawdz_pesel(Formularz!A881)","v":false}]
[null,{"$f":"Sprawdz_pesel(Formularz!A882)","v":false}]
[null,{"$f":"Sprawdz_pesel(Formularz!A883)","v":false}]
[null,{"$f":"Sprawdz_pesel(Formularz!A884)","v":false}]
[null,{"$f":"Sprawdz_pesel(Formularz!A885)","v":false}]
[null,{"$f":"Sprawdz_pesel(Formularz!A886)","v":false}]
[null,{"$f":"Sprawdz_pesel(Formularz!A887)","v":false}]
[null,{"$f":"Sprawdz_pesel(Formularz!A888)","v":false}]
[null,{"$f":"Sprawdz_pesel(Formularz!A889)","v":false}]
[null,{"$f":"Sprawdz_pesel(Formularz!A890)","v":false}]
[null,{"$f":"Sprawdz_pesel(Formularz!A891)","v":false}]
[null,{"$f":"Sprawdz_pesel(Formularz!A892)","v":false}]
[null,{"$f":"Sprawdz_pesel(Formularz!A893)","v":false}]
[null,{"$f":"Sprawdz_pesel(Formularz!A894)","v":false}]
[null,{"$f":"Sprawdz_pesel(Formularz!A895)","v":false}]
[null,{"$f":"Sprawdz_pesel(Formularz!A896)","v":false}]
[null,{"$f":"Sprawdz_pesel(Formularz!A897)","v":false}]
[null,{"$f":"Sprawdz_pesel(Formularz!A898)","v":false}]
[null,{"$f":"Sprawdz_pesel(Formularz!A899)","v":false}]
[null,{"$f":"Sprawdz_pesel(Formularz!A900)","v":false}]
[null,{"$f":"Sprawdz_pesel(Formularz!A901)","v":false}]
[null,{"$f":"Sprawdz_pesel(Formularz!A902)","v":false}]
[null,{"$f":"Sprawdz_pesel(Formularz!A903)","v":false}]
[null,{"$f":"Sprawdz_pesel(Formularz!A904)","v":false}]
[null,{"$f":"Sprawdz_pesel(Formularz!A905)","v":false}]
[null,{"$f":"Sprawdz_pesel(Formularz!A906)","v":false}]
[null,{"$f":"Sprawdz_pesel(Formularz!A907)","v":false}]
[null,{"$f":"Sprawdz_pesel(Formularz!A908)","v":false}]
[null,{"$f":"Sprawdz_pesel(Formularz!A909)","v":false}]
[null,{"$f":"Sprawdz_pesel(Formularz!A910)","v":false}]
[null,{"$f":"Sprawdz_pesel(Formularz!A911)","v":false}]
[null,{"$f":"Sprawdz_pesel(Formularz!A912)","v":false}]
[null,{"$f":"Sprawdz_pesel(Formularz!A913)","v":false}]
[null,{"$f":"Sprawdz_pesel(Formularz!A914)","v":false}]
[null,{"$f":"Sprawdz_pesel(Formularz!A915)","v":false}]
[null,{"$f":"Sprawdz_pesel(Formularz!A916)","v":false}]
[null,{"$f":"Sprawdz_pesel(Formularz!A917)","v":false}]
[null,{"$f":"Sprawdz_pesel(Formularz!A918)","v":false}]
[null,{"$f":"Sprawdz_pesel(Formularz!A919)","v":false}]
[null,{"$f":"Sprawdz_pesel(Formularz!A920)","v":false}]
[null,{"$f":"Sprawdz_pesel(Formularz!A921)","v":false}]
[null,{"$f":"Sprawdz_pesel(Formularz!A922)","v":false}]
[null,{"$f":"Sprawdz_pesel(Formularz!A923)","v":false}]
[null,{"$f":"Sprawdz_pesel(Formularz!A924)","v":false}]
[null,{"$f":"Sprawdz_pesel(Formularz!A925)","v":false}]
[null,{"$f":"Sprawdz_pesel(Formularz!A926)","v":false}]
[null,{"$f":"Sprawdz_pesel(Formularz!A927)","v":false}]
[null,{"$f":"Sprawdz_pesel(Formularz!A928)","v":false}]
[null,{"$f":"Sprawdz_pesel(Formularz!A929)","v":false}]
[null,{"$f":"Sprawdz_pesel(Formularz!A930)","v":false}]
[null,{"$f":"Sprawdz_pesel(Formularz!A931)","v":false}]
[null,{"$f":"Sprawdz_pesel(Formularz!A932)","v":false}]
[null,{"$f":"Sprawdz_pesel(Formularz!A933)","v":false}]
[null,{"$f":"Sprawdz_pesel(Formularz!A934)","v":false}]
[null,{"$f":"Sprawdz_pesel(Formularz!A935)","v":false}]
[null,{"$f":"Sprawdz_pesel(Formularz!A936)","v":false}]
[null,{"$f":"Sprawdz_pesel(Formularz!A937)","v":false}]
[null,{"$f":"Sprawdz_pesel(Formularz!A938)","v":false}]
[null,{"$f":"Sprawdz_pesel(Formularz!A939)","v":false}]
[null,{"$f":"Sprawdz_pesel(Formularz!A940)","v":false}]
[null,{"$f":"Sprawdz_pesel(Formularz!A941)","v":false}]
[null,{"$f":"Sprawdz_pesel(Formularz!A942)","v":false}]
[null,{"$f":"Sprawdz_pesel(Formularz!A943)","v":false}]
[null,{"$f":"Sprawdz_pesel(Formularz!A944)","v":false}]
[null,{"$f":"Sprawdz_pesel(Formularz!A945)","v":false}]
[null,{"$f":"Sprawdz_pesel(Formularz!A946)","v":false}]
[null,{"$f":"Sprawdz_pesel(Formularz!A947)","v":false}]
[null,{"$f":"Sprawdz_pesel(Formularz!A948)","v":false}]
[null,{"$f":"Sprawdz_pesel(Formularz!A949)","v":false}]
[null,{"$f":"Sprawdz_pesel(Formularz!A950)","v":false}]
[null,{"$f":"Sprawdz_pesel(Formularz!A951)","v":false}]
[null,{"$f":"Sprawdz_pesel(Formularz!A952)","v":false}]
[null,{"$f":"Sprawdz_pesel(Formularz!A953)","v":false}]
[null,{"$f":"Sprawdz_pesel(Formularz!A954)","v":false}]
[null,{"$f":"Sprawdz_pesel(Formularz!A955)","v":false}]
[null,{"$f":"Sprawdz_pesel(Formularz!A956)","v":false}]
[null,{"$f":"Sprawdz_pesel(Formularz!A957)","v":false}]
[null,{"$f":"Sprawdz_pesel(Formularz!A958)","v":false}]
[null,{"$f":"Sprawdz_pesel(Formularz!A959)","v":false}]
[null,{"$f":"Sprawdz_pesel(Formularz!A960)","v":false}]
[null,{"$f":"Sprawdz_pesel(Formularz!A961)","v":false}]
[null,{"$f":"Sprawdz_pesel(Formularz!A962)","v":false}]
[null,{"$f":"Sprawdz_pesel(Formularz!A963)","v":false}]
[null,{"$f":"Sprawdz_pesel(Formularz!A964)","v":false}]
[null,{"$f":"Sprawdz_pesel(Formularz!A965)","v":false}]
[null,{"$f":"Sprawdz_pesel(Formularz!A966)","v":false}]
[null,{"$f":"Sprawdz_pesel(Formularz!A967)","v":false}]
[null,{"$f":"Sprawdz_pesel(Formularz!A968)","v":false}]
[null,{"$f":"Sprawdz_pesel(Formularz!A969)","v":false}]
[null,{"$f":"Sprawdz_pesel(Formularz!A970)","v":false}]
[null,{"$f":"Sprawdz_pesel(Formularz!A971)","v":false}]
[null,{"$f":"Sprawdz_pesel(Formularz!A972)","v":false}]
[null,{"$f":"Sprawdz_pesel(Formularz!A973)","v":false}]
[null,{"$f":"Sprawdz_pesel(Formularz!A974)","v":false}]
[null,{"$f":"Sprawdz_pesel(Formularz!A975)","v":false}]
[null,{"$f":"Sprawdz_pesel(Formularz!A976)","v":false}]
[null,{"$f":"Sprawdz_pesel(Formularz!A977)","v":false}]
[null,{"$f":"Sprawdz_pesel(Formularz!A978)","v":false}]
[null,{"$f":"Sprawdz_pesel(Formularz!A979)","v":false}]
[null,{"$f":"Sprawdz_pesel(Formularz!A980)","v":false}]
[null,{"$f":"Sprawdz_pesel(Formularz!A981)","v":false}]
[null,{"$f":"Sprawdz_pesel(Formularz!A982)","v":false}]
[null,{"$f":"Sprawdz_pesel(Formularz!A983)","v":false}]
[null,{"$f":"Sprawdz_pesel(Formularz!A984)","v":false}]
[null,{"$f":"Sprawdz_pesel(Formularz!A985)","v":false}]
[null,{"$f":"Sprawdz_pesel(Formularz!A986)","v":false}]
[null,{"$f":"Sprawdz_pesel(Formularz!A987)","v":false}]
[null,{"$f":"Sprawdz_pesel(Formularz!A988)","v":false}]
[null,{"$f":"Sprawdz_pesel(Formularz!A989)","v":false}]
[null,{"$f":"Sprawdz_pesel(Formularz!A990)","v":false}]
[null,{"$f":"Sprawdz_pesel(Formularz!A991)","v":false}]
[null,{"$f":"Sprawdz_pesel(Formularz!A992)","v":false}]
[null,{"$f":"Sprawdz_pesel(Formularz!A993)","v":false}]
[null,{"$f":"Sprawdz_pesel(Formularz!A994)","v":false}]
[null,{"$f":"Sprawdz_pesel(Formularz!A995)","v":false}]
[null,{"$f":"Sprawdz_pesel(Formularz!A996)","v":false}]
[null,{"$f":"Sprawdz_pesel(Formularz!A997)","v":false}]
[null,{"$f":"Sprawdz_pesel(Formularz!A998)","v":false}]
[null,{"$f":"Sprawdz_pesel(Formularz!A999)","v":false}]
[null,{"$f":"Sprawdz_pesel(Formularz!A1000)","v":false}]
[null,{"$f":"Sprawdz_pesel(Formularz!A1001)","v":false}]
[null,{"$f":"Sprawdz_pesel(Formularz!A1002)","v":false}]
[null,{"$f":"Sprawdz_pesel(Formularz!A1003)","v":false}]
[null,{"$f":"Sprawdz_pesel(Formularz!A1004)","v":false}]
[null,{"$f":"Sprawdz_pesel(Formularz!A1005)","v":false}]
[null,{"$f":"Sprawdz_pesel(Formularz!A1006)","v":false}]
[null,{"$f":"Sprawdz_pesel(Formularz!A1007)","v":false}]
[null,{"$f":"Sprawdz_pesel(Formularz!A1008)","v":false}]
[null,{"$f":"Sprawdz_pesel(Formularz!A1009)","v":false}]
[null,{"$f":"Sprawdz_pesel(Formularz!A1010)","v":false}]
[null,{"$f":"Sprawdz_pesel(Formularz!#REF!)","v":{"$error":"#VALUE!"}}]
[null,{"$f":"Sprawdz_pesel(Formularz!#REF!)","v":{"$error":"#VALUE!"}}]
[null,{"$f":"Sprawdz_pesel(Formularz!#REF!)","v":{"$error":"#VALUE!"}}]
[null,{"$f":"Sprawdz_pesel(Formularz!#REF!)","v":{"$error":"#VALUE!"}}]
[null,{"$f":"Sprawdz_pesel(Formularz!#REF!)","v":{"$error":"#VALUE!"}}]
[null,{"$f":"Sprawdz_pesel(Formularz!#REF!)","v":{"$error":"#VALUE!"}}]
[null,{"$f":"Sprawdz_pesel(Formularz!#REF!)","v":{"$error":"#VALUE!"}}]
[null,{"$f":"Sprawdz_pesel(Formularz!#REF!)","v":{"$error":"#VALUE!"}}]
[null,{"$f":"Sprawdz_pesel(Formularz!#REF!)","v":{"$error":"#VALUE!"}}]
[null,{"$f":"Sprawdz_pesel(Formularz!#REF!)","v":{"$error":"#VALUE!"}}]
[null,{"$f":"Sprawdz_pesel(Formularz!#REF!)","v":{"$error":"#VALUE!"}}]
[null,{"$f":"Sprawdz_pesel(Formularz!#REF!)","v":{"$error":"#VALUE!"}}]
[null,{"$f":"Sprawdz_pesel(Formularz!#REF!)","v":{"$error":"#VALUE!"}}]
[null,{"$f":"Sprawdz_pesel(Formularz!#REF!)","v":{"$error":"#VALUE!"}}]
[null,{"$f":"Sprawdz_pesel(Formularz!#REF!)","v":{"$error":"#VALUE!"}}]
[null,{"$f":"Sprawdz_pesel(Formularz!#REF!)","v":{"$error":"#VALUE!"}}]
[null,{"$f":"Sprawdz_pesel(Formularz!#REF!)","v":{"$error":"#VALUE!"}}]
[null,{"$f":"Sprawdz_pesel(Formularz!#REF!)","v":{"$error":"#VALUE!"}}]
[null,{"$f":"Sprawdz_pesel(Formularz!#REF!)","v":{"$error":"#VALUE!"}}]
[null,{"$f":"Sprawdz_pesel(Formularz!#REF!)","v":{"$error":"#VALUE!"}}]
[null,{"$f":"Sprawdz_pesel(Formularz!#REF!)","v":{"$error":"#VALUE!"}}]
[null,{"$f":"Sprawdz_pesel(Formularz!#REF!)","v":{"$error":"#VALUE!"}}]
[null,{"$f":"Sprawdz_pesel(Formularz!#REF!)","v":{"$error":"#VALUE!"}}]
[null,{"$f":"Sprawdz_pesel(Formularz!#REF!)","v":{"$error":"#VALUE!"}}]
[null,{"$f":"Sprawdz_pesel(Formularz!#REF!)","v":{"$error":"#VALUE!"}}]
[null,{"$f":"Sprawdz_pesel(Formularz!#REF!)","v":{"$error":"#VALUE!"}}]
[null,{"$f":"Sprawdz_pesel(Formularz!#REF!)","v":{"$error":"#VALUE!"}}]
[null,{"$f":"Sprawdz_pesel(Formularz!#REF!)","v":{"$error":"#VALUE!"}}]
[null,{"$f":"Sprawdz_pesel(Formularz!#REF!)","v":{"$error":"#VALUE!"}}]
[null,{"$f":"Sprawdz_pesel(Formularz!#REF!)","v":{"$error":"#VALUE!"}}]
[null,{"$f":"Sprawdz_pesel(Formularz!#REF!)","v":{"$error":"#VALUE!"}}]
[null,{"$f":"Sprawdz_pesel(Formularz!#REF!)","v":{"$error":"#VALUE!"}}]
[null,{"$f":"Sprawdz_pesel(Formularz!#REF!)","v":{"$error":"#VALUE!"}}]
[null,{"$f":"Sprawdz_pesel(Formularz!#REF!)","v":{"$error":"#VALUE!"}}]
[null,{"$f":"Sprawdz_pesel(Formularz!#REF!)","v":{"$error":"#VALUE!"}}]
[null,{"$f":"Sprawdz_pesel(Formularz!#REF!)","v":{"$error":"#VALUE!"}}]
[null,{"$f":"Sprawdz_pesel(Formularz!#REF!)","v":{"$error":"#VALUE!"}}]
[null,{"$f":"Sprawdz_pesel(Formularz!#REF!)","v":{"$error":"#VALUE!"}}]
[null,{"$f":"Sprawdz_pesel(Formularz!#REF!)","v":{"$error":"#VALUE!"}}]
[null,{"$f":"Sprawdz_pesel(Formularz!#REF!)","v":{"$error":"#VALUE!"}}]
[null,{"$f":"Sprawdz_pesel(Formularz!#REF!)","v":{"$error":"#VALUE!"}}]
[null,{"$f":"Sprawdz_pesel(Formularz!#REF!)","v":{"$error":"#VALUE!"}}]
[null,{"$f":"Sprawdz_pesel(Formularz!#REF!)","v":{"$error":"#VALUE!"}}]
[null,{"$f":"Sprawdz_pesel(Formularz!#REF!)","v":{"$error":"#VALUE!"}}]
[null,{"$f":"Sprawdz_pesel(Formularz!#REF!)","v":{"$error":"#VALUE!"}}]
[null,{"$f":"Sprawdz_pesel(Formularz!#REF!)","v":{"$error":"#VALUE!"}}]
[null,{"$f":"Sprawdz_pesel(Formularz!#REF!)","v":{"$error":"#VALUE!"}}]
[null,{"$f":"Sprawdz_pesel(Formularz!#REF!)","v":{"$error":"#VALUE!"}}]
[null,{"$f":"Sprawdz_pesel(Formularz!#REF!)","v":{"$error":"#VALUE!"}}]
[null,{"$f":"Sprawdz_pesel(Formularz!#REF!)","v":{"$error":"#VALUE!"}}]
[null,{"$f":"Sprawdz_pesel(Formularz!#REF!)","v":{"$error":"#VALUE!"}}]
[null,{"$f":"Sprawdz_pesel(Formularz!#REF!)","v":{"$error":"#VALUE!"}}]
[null,{"$f":"Sprawdz_pesel(Formularz!#REF!)","v":{"$error":"#VALUE!"}}]
[null,{"$f":"Sprawdz_pesel(Formularz!#REF!)","v":{"$error":"#VALUE!"}}]
[null,{"$f":"Sprawdz_pesel(Formularz!#REF!)","v":{"$error":"#VALUE!"}}]
[null,{"$f":"Sprawdz_pesel(Formularz!#REF!)","v":{"$error":"#VALUE!"}}]
[null,{"$f":"Sprawdz_pesel(Formularz!#REF!)","v":{"$error":"#VALUE!"}}]
[null,{"$f":"Sprawdz_pesel(Formularz!#REF!)","v":{"$error":"#VALUE!"}}]
[null,{"$f":"Sprawdz_pesel(Formularz!#REF!)","v":{"$error":"#VALUE!"}}]
[null,{"$f":"Sprawdz_pesel(Formularz!#REF!)","v":{"$error":"#VALUE!"}}]
[null,{"$f":"Sprawdz_pesel(Formularz!#REF!)","v":{"$error":"#VALUE!"}}]
[null,{"$f":"Sprawdz_pesel(Formularz!#REF!)","v":{"$error":"#VALUE!"}}]
[null,{"$f":"Sprawdz_pesel(Formularz!#REF!)","v":{"$error":"#VALUE!"}}]
[null,{"$f":"Sprawdz_pesel(Formularz!#REF!)","v":{"$error":"#VALUE!"}}]
[null,{"$f":"Sprawdz_pesel(Formularz!#REF!)","v":{"$error":"#VALUE!"}}]
[null,{"$f":"Sprawdz_pesel(Formularz!#REF!)","v":{"$error":"#VALUE!"}}]
[null,{"$f":"Sprawdz_pesel(Formularz!#REF!)","v":{"$error":"#VALUE!"}}]
[null,{"$f":"Sprawdz_pesel(Formularz!#REF!)","v":{"$error":"#VALUE!"}}]
[null,{"$f":"Sprawdz_pesel(Formularz!#REF!)","v":{"$error":"#VALUE!"}}]
[null,{"$f":"Sprawdz_pesel(Formularz!#REF!)","v":{"$error":"#VALUE!"}}]
[null,{"$f":"Sprawdz_pesel(Formularz!#REF!)","v":{"$error":"#VALUE!"}}]
[null,{"$f":"Sprawdz_pesel(Formularz!#REF!)","v":{"$error":"#VALUE!"}}]
[null,{"$f":"Sprawdz_pesel(Formularz!#REF!)","v":{"$error":"#VALUE!"}}]
[null,{"$f":"Sprawdz_pesel(Formularz!#REF!)","v":{"$error":"#VALUE!"}}]
[null,{"$f":"Sprawdz_pesel(Formularz!#REF!)","v":{"$error":"#VALUE!"}}]
[null,{"$f":"Sprawdz_pesel(Formularz!#REF!)","v":{"$error":"#VALUE!"}}]
[null,{"$f":"Sprawdz_pesel(Formularz!#REF!)","v":{"$error":"#VALUE!"}}]
[null,{"$f":"Sprawdz_pesel(Formularz!#REF!)","v":{"$error":"#VALUE!"}}]
[null,{"$f":"Sprawdz_pesel(Formularz!#REF!)","v":{"$error":"#VALUE!"}}]
[null,{"$f":"Sprawdz_pesel(Formularz!#REF!)","v":{"$error":"#VALUE!"}}]
[null,{"$f":"Sprawdz_pesel(Formularz!#REF!)","v":{"$error":"#VALUE!"}}]
[null,{"$f":"Sprawdz_pesel(Formularz!#REF!)","v":{"$error":"#VALUE!"}}]
[null,{"$f":"Sprawdz_pesel(Formularz!#REF!)","v":{"$error":"#VALUE!"}}]
[null,{"$f":"Sprawdz_pesel(Formularz!#REF!)","v":{"$error":"#VALUE!"}}]
[null,{"$f":"Sprawdz_pesel(Formularz!#REF!)","v":{"$error":"#VALUE!"}}]
[null,{"$f":"Sprawdz_pesel(Formularz!#REF!)","v":{"$error":"#VALUE!"}}]
[null,{"$f":"Sprawdz_pesel(Formularz!#REF!)","v":{"$error":"#VALUE!"}}]
[null,{"$f":"Sprawdz_pesel(Formularz!#REF!)","v":{"$error":"#VALUE!"}}]
[null,{"$f":"Sprawdz_pesel(Formularz!#REF!)","v":{"$error":"#VALUE!"}}]
[null,{"$f":"Sprawdz_pesel(Formularz!#REF!)","v":{"$error":"#VALUE!"}}]
[null,{"$f":"Sprawdz_pesel(Formularz!#REF!)","v":{"$error":"#VALUE!"}}]
[null,{"$f":"Sprawdz_pesel(Formularz!#REF!)","v":{"$error":"#VALUE!"}}]
[null,{"$f":"Sprawdz_pesel(Formularz!#REF!)","v":{"$error":"#VALUE!"}}]
[null,{"$f":"Sprawdz_pesel(Formularz!#REF!)","v":{"$error":"#VALUE!"}}]
[null,{"$f":"Sprawdz_pesel(Formularz!#REF!)","v":{"$error":"#VALUE!"}}]
[null,{"$f":"Sprawdz_pesel(Formularz!#REF!)","v":{"$error":"#VALUE!"}}]
[null,{"$f":"Sprawdz_pesel(Formularz!#REF!)","v":{"$error":"#VALUE!"}}]
[null,{"$f":"Sprawdz_pesel(Formularz!#REF!)","v":{"$error":"#VALUE!"}}]
[null,{"$f":"Sprawdz_pesel(Formularz!#REF!)","v":{"$error":"#VALUE!"}}]
[null,{"$f":"Sprawdz_pesel(Formularz!#REF!)","v":{"$error":"#VALUE!"}}]
[null,{"$f":"Sprawdz_pesel(Formularz!#REF!)","v":{"$error":"#VALUE!"}}]
[null,{"$f":"Sprawdz_pesel(Formularz!#REF!)","v":{"$error":"#VALUE!"}}]
[null,{"$f":"Sprawdz_pesel(Formularz!#REF!)","v":{"$error":"#VALUE!"}}]
[null,{"$f":"Sprawdz_pesel(Formularz!#REF!)","v":{"$error":"#VALUE!"}}]
[null,{"$f":"Sprawdz_pesel(Formularz!#REF!)","v":{"$error":"#VALUE!"}}]
[null,{"$f":"Sprawdz_pesel(Formularz!#REF!)","v":{"$error":"#VALUE!"}}]
[null,{"$f":"Sprawdz_pesel(Formularz!#REF!)","v":{"$error":"#VALUE!"}}]
[null,{"$f":"Sprawdz_pesel(Formularz!#REF!)","v":{"$error":"#VALUE!"}}]
[null,{"$f":"Sprawdz_pesel(Formularz!#REF!)","v":{"$error":"#VALUE!"}}]
[null,{"$f":"Sprawdz_pesel(Formularz!#REF!)","v":{"$error":"#VALUE!"}}]
[null,{"$f":"Sprawdz_pesel(Formularz!#REF!)","v":{"$error":"#VALUE!"}}]
[null,{"$f":"Sprawdz_pesel(Formularz!#REF!)","v":{"$error":"#VALUE!"}}]
[null,{"$f":"Sprawdz_pesel(Formularz!#REF!)","v":{"$error":"#VALUE!"}}]
[null,{"$f":"Sprawdz_pesel(Formularz!#REF!)","v":{"$error":"#VALUE!"}}]
[null,{"$f":"Sprawdz_pesel(Formularz!#REF!)","v":{"$error":"#VALUE!"}}]
[null,{"$f":"Sprawdz_pesel(Formularz!#REF!)","v":{"$error":"#VALUE!"}}]
[null,{"$f":"Sprawdz_pesel(Formularz!#REF!)","v":{"$error":"#VALUE!"}}]
[null,{"$f":"Sprawdz_pesel(Formularz!#REF!)","v":{"$error":"#VALUE!"}}]
[null,{"$f":"Sprawdz_pesel(Formularz!#REF!)","v":{"$error":"#VALUE!"}}]
[null,{"$f":"Sprawdz_pesel(Formularz!#REF!)","v":{"$error":"#VALUE!"}}]
[null,{"$f":"Sprawdz_pesel(Formularz!#REF!)","v":{"$error":"#VALUE!"}}]
[null,{"$f":"Sprawdz_pesel(Formularz!#REF!)","v":{"$error":"#VALUE!"}}]
[null,{"$f":"Sprawdz_pesel(Formularz!#REF!)","v":{"$error":"#VALUE!"}}]
[null,{"$f":"Sprawdz_pesel(Formularz!#REF!)","v":{"$error":"#VALUE!"}}]
[null,{"$f":"Sprawdz_pesel(Formularz!#REF!)","v":{"$error":"#VALUE!"}}]
[null,{"$f":"Sprawdz_pesel(Formularz!#REF!)","v":{"$error":"#VALUE!"}}]
[null,{"$f":"Sprawdz_pesel(Formularz!#REF!)","v":{"$error":"#VALUE!"}}]
[null,{"$f":"Sprawdz_pesel(Formularz!#REF!)","v":{"$error":"#VALUE!"}}]
[null,{"$f":"Sprawdz_pesel(Formularz!#REF!)","v":{"$error":"#VALUE!"}}]
[null,{"$f":"Sprawdz_pesel(Formularz!#REF!)","v":{"$error":"#VALUE!"}}]
[null,{"$f":"Sprawdz_pesel(Formularz!#REF!)","v":{"$error":"#VALUE!"}}]
[null,{"$f":"Sprawdz_pesel(Formularz!#REF!)","v":{"$error":"#VALUE!"}}]
[null,{"$f":"Sprawdz_pesel(Formularz!#REF!)","v":{"$error":"#VALUE!"}}]
[null,{"$f":"Sprawdz_pesel(Formularz!#REF!)","v":{"$error":"#VALUE!"}}]
[null,{"$f":"Sprawdz_pesel(Formularz!#REF!)","v":{"$error":"#VALUE!"}}]
[null,{"$f":"Sprawdz_pesel(Formularz!#REF!)","v":{"$error":"#VALUE!"}}]
[null,{"$f":"Sprawdz_pesel(Formularz!#REF!)","v":{"$error":"#VALUE!"}}]
[null,{"$f":"Sprawdz_pesel(Formularz!#REF!)","v":{"$error":"#VALUE!"}}]
[null,{"$f":"Sprawdz_pesel(Formularz!#REF!)","v":{"$error":"#VALUE!"}}]
[null,{"$f":"Sprawdz_pesel(Formularz!#REF!)","v":{"$error":"#VALUE!"}}]
[null,{"$f":"Sprawdz_pesel(Formularz!#REF!)","v":{"$error":"#VALUE!"}}]
[null,{"$f":"Sprawdz_pesel(Formularz!#REF!)","v":{"$error":"#VALUE!"}}]
[null,{"$f":"Sprawdz_pesel(Formularz!#REF!)","v":{"$error":"#VALUE!"}}]
[null,{"$f":"Sprawdz_pesel(Formularz!#REF!)","v":{"$error":"#VALUE!"}}]
[null,{"$f":"Sprawdz_pesel(Formularz!#REF!)","v":{"$error":"#VALUE!"}}]
[null,{"$f":"Sprawdz_pesel(Formularz!#REF!)","v":{"$error":"#VALUE!"}}]
[null,{"$f":"Sprawdz_pesel(Formularz!#REF!)","v":{"$error":"#VALUE!"}}]
[null,{"$f":"Sprawdz_pesel(Formularz!#REF!)","v":{"$error":"#VALUE!"}}]
[null,{"$f":"Sprawdz_pesel(Formularz!#REF!)","v":{"$error":"#VALUE!"}}]
[null,{"$f":"Sprawdz_pesel(Formularz!#REF!)","v":{"$error":"#VALUE!"}}]
[null,{"$f":"Sprawdz_pesel(Formularz!#REF!)","v":{"$error":"#VALUE!"}}]
[null,{"$f":"Sprawdz_pesel(Formularz!#REF!)","v":{"$error":"#VALUE!"}}]
[null,{"$f":"Sprawdz_pesel(Formularz!#REF!)","v":{"$error":"#VALUE!"}}]
[null,{"$f":"Sprawdz_pesel(Formularz!#REF!)","v":{"$error":"#VALUE!"}}]
[null,{"$f":"Sprawdz_pesel(Formularz!#REF!)","v":{"$error":"#VALUE!"}}]
[null,{"$f":"Sprawdz_pesel(Formularz!#REF!)","v":{"$error":"#VALUE!"}}]
[null,{"$f":"Sprawdz_pesel(Formularz!#REF!)","v":{"$error":"#VALUE!"}}]
[null,{"$f":"Sprawdz_pesel(Formularz!#REF!)","v":{"$error":"#VALUE!"}}]
[null,{"$f":"Sprawdz_pesel(Formularz!#REF!)","v":{"$error":"#VALUE!"}}]
[null,{"$f":"Sprawdz_pesel(Formularz!#REF!)","v":{"$error":"#VALUE!"}}]
[null,{"$f":"Sprawdz_pesel(Formularz!#REF!)","v":{"$error":"#VALUE!"}}]
[null,{"$f":"Sprawdz_pesel(Formularz!#REF!)","v":{"$error":"#VALUE!"}}]
[null,{"$f":"Sprawdz_pesel(Formularz!#REF!)","v":{"$error":"#VALUE!"}}]
[null,{"$f":"Sprawdz_pesel(Formularz!#REF!)","v":{"$error":"#VALUE!"}}]
[null,{"$f":"Sprawdz_pesel(Formularz!#REF!)","v":{"$error":"#VALUE!"}}]
[null,{"$f":"Sprawdz_pesel(Formularz!#REF!)","v":{"$error":"#VALUE!"}}]
[null,{"$f":"Sprawdz_pesel(Formularz!#REF!)","v":{"$error":"#VALUE!"}}]
[null,{"$f":"Sprawdz_pesel(Formularz!#REF!)","v":{"$error":"#VALUE!"}}]
[null,{"$f":"Sprawdz_pesel(Formularz!#REF!)","v":{"$error":"#VALUE!"}}]
[null,{"$f":"Sprawdz_pesel(Formularz!#REF!)","v":{"$error":"#VALUE!"}}]
[null,{"$f":"Sprawdz_pesel(Formularz!#REF!)","v":{"$error":"#VALUE!"}}]
[null,{"$f":"Sprawdz_pesel(Formularz!#REF!)","v":{"$error":"#VALUE!"}}]
[null,{"$f":"Sprawdz_pesel(Formularz!#REF!)","v":{"$error":"#VALUE!"}}]
[null,{"$f":"Sprawdz_pesel(Formularz!#REF!)","v":{"$error":"#VALUE!"}}]
[null,{"$f":"Sprawdz_pesel(Formularz!#REF!)","v":{"$error":"#VALUE!"}}]
[null,{"$f":"Sprawdz_pesel(Formularz!#REF!)","v":{"$error":"#VALUE!"}}]
[null,{"$f":"Sprawdz_pesel(Formularz!#REF!)","v":{"$error":"#VALUE!"}}]
[null,{"$f":"Sprawdz_pesel(Formularz!#REF!)","v":{"$error":"#VALUE!"}}]
[null,{"$f":"Sprawdz_pesel(Formularz!#REF!)","v":{"$error":"#VALUE!"}}]
[null,{"$f":"Sprawdz_pesel(Formularz!#REF!)","v":{"$error":"#VALUE!"}}]
[null,{"$f":"Sprawdz_pesel(Formularz!#REF!)","v":{"$error":"#VALUE!"}}]
[null,{"$f":"Sprawdz_pesel(Formularz!#REF!)","v":{"$error":"#VALUE!"}}]
[null,{"$f":"Sprawdz_pesel(Formularz!#REF!)","v":{"$error":"#VALUE!"}}]
[null,{"$f":"Sprawdz_pesel(Formularz!#REF!)","v":{"$error":"#VALUE!"}}]
[null,{"$f":"Sprawdz_pesel(Formularz!#REF!)","v":{"$error":"#VALUE!"}}]
[null,{"$f":"Sprawdz_pesel(Formularz!#REF!)","v":{"$error":"#VALUE!"}}]
[null,{"$f":"Sprawdz_pesel(Formularz!#REF!)","v":{"$error":"#VALUE!"}}]
[null,{"$f":"Sprawdz_pesel(Formularz!#REF!)","v":{"$error":"#VALUE!"}}]
[null,{"$f":"Sprawdz_pesel(Formularz!#REF!)","v":{"$error":"#VALUE!"}}]
[null,{"$f":"Sprawdz_pesel(Formularz!#REF!)","v":{"$error":"#VALUE!"}}]
[null,{"$f":"Sprawdz_pesel(Formularz!#REF!)","v":{"$error":"#VALUE!"}}]
[null,{"$f":"Sprawdz_pesel(Formularz!#REF!)","v":{"$error":"#VALUE!"}}]
[null,{"$f":"Sprawdz_pesel(Formularz!#REF!)","v":{"$error":"#VALUE!"}}]
[null,{"$f":"Sprawdz_pesel(Formularz!#REF!)","v":{"$error":"#VALUE!"}}]
[null,{"$f":"Sprawdz_pesel(Formularz!#REF!)","v":{"$error":"#VALUE!"}}]
[null,{"$f":"Sprawdz_pesel(Formularz!#REF!)","v":{"$error":"#VALUE!"}}]
[null,{"$f":"Sprawdz_pesel(Formularz!#REF!)","v":{"$error":"#VALUE!"}}]
[null,{"$f":"Sprawdz_pesel(Formularz!#REF!)","v":{"$error":"#VALUE!"}}]
[null,{"$f":"Sprawdz_pesel(Formularz!#REF!)","v":{"$error":"#VALUE!"}}]
[null,{"$f":"Sprawdz_pesel(Formularz!#REF!)","v":{"$error":"#VALUE!"}}]
[null,{"$f":"Sprawdz_pesel(Formularz!#REF!)","v":{"$error":"#VALUE!"}}]
[null,{"$f":"Sprawdz_pesel(Formularz!#REF!)","v":{"$error":"#VALUE!"}}]
[null,{"$f":"Sprawdz_pesel(Formularz!#REF!)","v":{"$error":"#VALUE!"}}]
[null,{"$f":"Sprawdz_pesel(Formularz!#REF!)","v":{"$error":"#VALUE!"}}]
[null,{"$f":"Sprawdz_pesel(Formularz!#REF!)","v":{"$error":"#VALUE!"}}]
[null,{"$f":"Sprawdz_pesel(Formularz!#REF!)","v":{"$error":"#VALUE!"}}]
[null,{"$f":"Sprawdz_pesel(Formularz!#REF!)","v":{"$error":"#VALUE!"}}]
[null,{"$f":"Sprawdz_pesel(Formularz!#REF!)","v":{"$error":"#VALUE!"}}]
[null,{"$f":"Sprawdz_pesel(Formularz!#REF!)","v":{"$error":"#VALUE!"}}]
[null,{"$f":"Sprawdz_pesel(Formularz!#REF!)","v":{"$error":"#VALUE!"}}]
[null,{"$f":"Sprawdz_pesel(Formularz!#REF!)","v":{"$error":"#VALUE!"}}]
[null,{"$f":"Sprawdz_pesel(Formularz!#REF!)","v":{"$error":"#VALUE!"}}]
[null,{"$f":"Sprawdz_pesel(Formularz!#REF!)","v":{"$error":"#VALUE!"}}]
[null,{"$f":"Sprawdz_pesel(Formularz!#REF!)","v":{"$error":"#VALUE!"}}]
[null,{"$f":"Sprawdz_pesel(Formularz!#REF!)","v":{"$error":"#VALUE!"}}]
[null,{"$f":"Sprawdz_pesel(Formularz!#REF!)","v":{"$error":"#VALUE!"}}]
[null,{"$f":"Sprawdz_pesel(Formularz!#REF!)","v":{"$error":"#VALUE!"}}]
[null,{"$f":"Sprawdz_pesel(Formularz!#REF!)","v":{"$error":"#VALUE!"}}]
[null,{"$f":"Sprawdz_pesel(Formularz!#REF!)","v":{"$error":"#VALUE!"}}]
[null,{"$f":"Sprawdz_pesel(Formularz!#REF!)","v":{"$error":"#VALUE!"}}]
[null,{"$f":"Sprawdz_pesel(Formularz!#REF!)","v":{"$error":"#VALUE!"}}]
[null,{"$f":"Sprawdz_pesel(Formularz!#REF!)","v":{"$error":"#VALUE!"}}]
[null,{"$f":"Sprawdz_pesel(Formularz!#REF!)","v":{"$error":"#VALUE!"}}]
[null,{"$f":"Sprawdz_pesel(Formularz!#REF!)","v":{"$error":"#VALUE!"}}]
[null,{"$f":"Sprawdz_pesel(Formularz!#REF!)","v":{"$error":"#VALUE!"}}]
[null,{"$f":"Sprawdz_pesel(Formularz!#REF!)","v":{"$error":"#VALUE!"}}]
[null,{"$f":"Sprawdz_pesel(Formularz!#REF!)","v":{"$error":"#VALUE!"}}]
[null,{"$f":"Sprawdz_pesel(Formularz!#REF!)","v":{"$error":"#VALUE!"}}]
[null,{"$f":"Sprawdz_pesel(Formularz!#REF!)","v":{"$error":"#VALUE!"}}]
[null,{"$f":"Sprawdz_pesel(Formularz!#REF!)","v":{"$error":"#VALUE!"}}]
[null,{"$f":"Sprawdz_pesel(Formularz!#REF!)","v":{"$error":"#VALUE!"}}]
[null,{"$f":"Sprawdz_pesel(Formularz!#REF!)","v":{"$error":"#VALUE!"}}]
[null,{"$f":"Sprawdz_pesel(Formularz!#REF!)","v":{"$error":"#VALUE!"}}]
[null,{"$f":"Sprawdz_pesel(Formularz!#REF!)","v":{"$error":"#VALUE!"}}]
[null,{"$f":"Sprawdz_pesel(Formularz!#REF!)","v":{"$error":"#VALUE!"}}]
[null,{"$f":"Sprawdz_pesel(Formularz!#REF!)","v":{"$error":"#VALUE!"}}]
[null,{"$f":"Sprawdz_pesel(Formularz!#REF!)","v":{"$error":"#VALUE!"}}]
[null,{"$f":"Sprawdz_pesel(Formularz!#REF!)","v":{"$error":"#VALUE!"}}]
[null,{"$f":"Sprawdz_pesel(Formularz!#REF!)","v":{"$error":"#VALUE!"}}]
[null,{"$f":"Sprawdz_pesel(Formularz!#REF!)","v":{"$error":"#VALUE!"}}]
[null,{"$f":"Sprawdz_pesel(Formularz!#REF!)","v":{"$error":"#VALUE!"}}]
[null,{"$f":"Sprawdz_pesel(Formularz!#REF!)","v":{"$error":"#VALUE!"}}]
[null,{"$f":"Sprawdz_pesel(Formularz!#REF!)","v":{"$error":"#VALUE!"}}]
[null,{"$f":"Sprawdz_pesel(Formularz!#REF!)","v":{"$error":"#VALUE!"}}]
[null,{"$f":"Sprawdz_pesel(Formularz!#REF!)","v":{"$error":"#VALUE!"}}]
[null,{"$f":"Sprawdz_pesel(Formularz!#REF!)","v":{"$error":"#VALUE!"}}]
[null,{"$f":"Sprawdz_pesel(Formularz!#REF!)","v":{"$error":"#VALUE!"}}]
[null,{"$f":"Sprawdz_pesel(Formularz!#REF!)","v":{"$error":"#VALUE!"}}]
[null,{"$f":"Sprawdz_pesel(Formularz!#REF!)","v":{"$error":"#VALUE!"}}]
[null,{"$f":"Sprawdz_pesel(Formularz!#REF!)","v":{"$error":"#VALUE!"}}]
[null,{"$f":"Sprawdz_pesel(Formularz!#REF!)","v":{"$error":"#VALUE!"}}]
[null,{"$f":"Sprawdz_pesel(Formularz!#REF!)","v":{"$error":"#VALUE!"}}]
[null,{"$f":"Sprawdz_pesel(Formularz!#REF!)","v":{"$error":"#VALUE!"}}]
[null,{"$f":"Sprawdz_pesel(Formularz!#REF!)","v":{"$error":"#VALUE!"}}]
[null,{"$f":"Sprawdz_pesel(Formularz!#REF!)","v":{"$error":"#VALUE!"}}]
[null,{"$f":"Sprawdz_pesel(Formularz!#REF!)","v":{"$error":"#VALUE!"}}]
[null,{"$f":"Sprawdz_pesel(Formularz!#REF!)","v":{"$error":"#VALUE!"}}]
[null,{"$f":"Sprawdz_pesel(Formularz!#REF!)","v":{"$error":"#VALUE!"}}]
[null,{"$f":"Sprawdz_pesel(Formularz!#REF!)","v":{"$error":"#VALUE!"}}]
[null,{"$f":"Sprawdz_pesel(Formularz!#REF!)","v":{"$error":"#VALUE!"}}]
[null,{"$f":"Sprawdz_pesel(Formularz!#REF!)","v":{"$error":"#VALUE!"}}]
[null,{"$f":"Sprawdz_pesel(Formularz!#REF!)","v":{"$error":"#VALUE!"}}]
[null,{"$f":"Sprawdz_pesel(Formularz!#REF!)","v":{"$error":"#VALUE!"}}]
[null,{"$f":"Sprawdz_pesel(Formularz!#REF!)","v":{"$error":"#VALUE!"}}]
[null,{"$f":"Sprawdz_pesel(Formularz!#REF!)","v":{"$error":"#VALUE!"}}]
[null,{"$f":"Sprawdz_pesel(Formularz!#REF!)","v":{"$error":"#VALUE!"}}]
[null,{"$f":"Sprawdz_pesel(Formularz!#REF!)","v":{"$error":"#VALUE!"}}]
[null,{"$f":"Sprawdz_pesel(Formularz!#REF!)","v":{"$error":"#VALUE!"}}]
[null,{"$f":"Sprawdz_pesel(Formularz!#REF!)","v":{"$error":"#VALUE!"}}]
[null,{"$f":"Sprawdz_pesel(Formularz!#REF!)","v":{"$error":"#VALUE!"}}]
[null,{"$f":"Sprawdz_pesel(Formularz!#REF!)","v":{"$error":"#VALUE!"}}]
[null,{"$f":"Sprawdz_pesel(Formularz!#REF!)","v":{"$error":"#VALUE!"}}]
[null,{"$f":"Sprawdz_pesel(Formularz!#REF!)","v":{"$error":"#VALUE!"}}]
[null,{"$f":"Sprawdz_pesel(Formularz!#REF!)","v":{"$error":"#VALUE!"}}]
[null,{"$f":"Sprawdz_pesel(Formularz!#REF!)","v":{"$error":"#VALUE!"}}]
[null,{"$f":"Sprawdz_pesel(Formularz!#REF!)","v":{"$error":"#VALUE!"}}]
[null,{"$f":"Sprawdz_pesel(Formularz!#REF!)","v":{"$error":"#VALUE!"}}]
[null,{"$f":"Sprawdz_pesel(Formularz!#REF!)","v":{"$error":"#VALUE!"}}]
[null,{"$f":"Sprawdz_pesel(Formularz!#REF!)","v":{"$error":"#VALUE!"}}]
[null,{"$f":"Sprawdz_pesel(Formularz!#REF!)","v":{"$error":"#VALUE!"}}]
[null,{"$f":"Sprawdz_pesel(Formularz!#REF!)","v":{"$error":"#VALUE!"}}]
[null,{"$f":"Sprawdz_pesel(Formularz!#REF!)","v":{"$error":"#VALUE!"}}]
[null,{"$f":"Sprawdz_pesel(Formularz!#REF!)","v":{"$error":"#VALUE!"}}]
[null,{"$f":"Sprawdz_pesel(Formularz!#REF!)","v":{"$error":"#VALUE!"}}]
[null,{"$f":"Sprawdz_pesel(Formularz!#REF!)","v":{"$error":"#VALUE!"}}]
[null,{"$f":"Sprawdz_pesel(Formularz!#REF!)","v":{"$error":"#VALUE!"}}]
[null,{"$f":"Sprawdz_pesel(Formularz!#REF!)","v":{"$error":"#VALUE!"}}]
[null,{"$f":"Sprawdz_pesel(Formularz!#REF!)","v":{"$error":"#VALUE!"}}]
[null,{"$f":"Sprawdz_pesel(Formularz!#REF!)","v":{"$error":"#VALUE!"}}]
[null,{"$f":"Sprawdz_pesel(Formularz!#REF!)","v":{"$error":"#VALUE!"}}]
[null,{"$f":"Sprawdz_pesel(Formularz!#REF!)","v":{"$error":"#VALUE!"}}]
[null,{"$f":"Sprawdz_pesel(Formularz!#REF!)","v":{"$error":"#VALUE!"}}]
[null,{"$f":"Sprawdz_pesel(Formularz!#REF!)","v":{"$error":"#VALUE!"}}]
[null,{"$f":"Sprawdz_pesel(Formularz!#REF!)","v":{"$error":"#VALUE!"}}]
[null,{"$f":"Sprawdz_pesel(Formularz!#REF!)","v":{"$error":"#VALUE!"}}]
[null,{"$f":"Sprawdz_pesel(Formularz!#REF!)","v":{"$error":"#VALUE!"}}]
[null,{"$f":"Sprawdz_pesel(Formularz!#REF!)","v":{"$error":"#VALUE!"}}]
[null,{"$f":"Sprawdz_pesel(Formularz!#REF!)","v":{"$error":"#VALUE!"}}]
[null,{"$f":"Sprawdz_pesel(Formularz!#REF!)","v":{"$error":"#VALUE!"}}]
[null,{"$f":"Sprawdz_pesel(Formularz!#REF!)","v":{"$error":"#VALUE!"}}]
[null,{"$f":"Sprawdz_pesel(Formularz!#REF!)","v":{"$error":"#VALUE!"}}]
[null,{"$f":"Sprawdz_pesel(Formularz!#REF!)","v":{"$error":"#VALUE!"}}]
[null,{"$f":"Sprawdz_pesel(Formularz!#REF!)","v":{"$error":"#VALUE!"}}]
[null,{"$f":"Sprawdz_pesel(Formularz!#REF!)","v":{"$error":"#VALUE!"}}]
[null,{"$f":"Sprawdz_pesel(Formularz!#REF!)","v":{"$error":"#VALUE!"}}]
[null,{"$f":"Sprawdz_pesel(Formularz!#REF!)","v":{"$error":"#VALUE!"}}]
[null,{"$f":"Sprawdz_pesel(Formularz!#REF!)","v":{"$error":"#VALUE!"}}]
[null,{"$f":"Sprawdz_pesel(Formularz!#REF!)","v":{"$error":"#VALUE!"}}]
[null,{"$f":"Sprawdz_pesel(Formularz!#REF!)","v":{"$error":"#VALUE!"}}]
[null,{"$f":"Sprawdz_pesel(Formularz!#REF!)","v":{"$error":"#VALUE!"}}]
[null,{"$f":"Sprawdz_pesel(Formularz!#REF!)","v":{"$error":"#VALUE!"}}]
[null,{"$f":"Sprawdz_pesel(Formularz!#REF!)","v":{"$error":"#VALUE!"}}]
[null,{"$f":"Sprawdz_pesel(Formularz!#REF!)","v":{"$error":"#VALUE!"}}]
[null,{"$f":"Sprawdz_pesel(Formularz!#REF!)","v":{"$error":"#VALUE!"}}]
[null,{"$f":"Sprawdz_pesel(Formularz!#REF!)","v":{"$error":"#VALUE!"}}]
[null,{"$f":"Sprawdz_pesel(Formularz!#REF!)","v":{"$error":"#VALUE!"}}]
[null,{"$f":"Sprawdz_pesel(Formularz!#REF!)","v":{"$error":"#VALUE!"}}]
[null,{"$f":"Sprawdz_pesel(Formularz!#REF!)","v":{"$error":"#VALUE!"}}]
[null,{"$f":"Sprawdz_pesel(Formularz!#REF!)","v":{"$error":"#VALUE!"}}]
[null,{"$f":"Sprawdz_pesel(Formularz!#REF!)","v":{"$error":"#VALUE!"}}]
[null,{"$f":"Sprawdz_pesel(Formularz!#REF!)","v":{"$error":"#VALUE!"}}]
[null,{"$f":"Sprawdz_pesel(Formularz!#REF!)","v":{"$error":"#VALUE!"}}]
[null,{"$f":"Sprawdz_pesel(Formularz!#REF!)","v":{"$error":"#VALUE!"}}]
[null,{"$f":"Sprawdz_pesel(Formularz!#REF!)","v":{"$error":"#VALUE!"}}]
[null,{"$f":"Sprawdz_pesel(Formularz!#REF!)","v":{"$error":"#VALUE!"}}]
[null,{"$f":"Sprawdz_pesel(Formularz!#REF!)","v":{"$error":"#VALUE!"}}]
[null,{"$f":"Sprawdz_pesel(Formularz!#REF!)","v":{"$error":"#VALUE!"}}]
[null,{"$f":"Sprawdz_pesel(Formularz!#REF!)","v":{"$error":"#VALUE!"}}]
[null,{"$f":"Sprawdz_pesel(Formularz!#REF!)","v":{"$error":"#VALUE!"}}]
[null,{"$f":"Sprawdz_pesel(Formularz!#REF!)","v":{"$error":"#VALUE!"}}]
[null,{"$f":"Sprawdz_pesel(Formularz!#REF!)","v":{"$error":"#VALUE!"}}]
[null,{"$f":"Sprawdz_pesel(Formularz!#REF!)","v":{"$error":"#VALUE!"}}]
[null,{"$f":"Sprawdz_pesel(Formularz!#REF!)","v":{"$error":"#VALUE!"}}]
[null,{"$f":"Sprawdz_pesel(Formularz!#REF!)","v":{"$error":"#VALUE!"}}]
[null,{"$f":"Sprawdz_pesel(Formularz!#REF!)","v":{"$error":"#VALUE!"}}]
[null,{"$f":"Sprawdz_pesel(Formularz!#REF!)","v":{"$error":"#VALUE!"}}]
[null,{"$f":"Sprawdz_pesel(Formularz!#REF!)","v":{"$error":"#VALUE!"}}]
[null,{"$f":"Sprawdz_pesel(Formularz!#REF!)","v":{"$error":"#VALUE!"}}]
[null,{"$f":"Sprawdz_pesel(Formularz!#REF!)","v":{"$error":"#VALUE!"}}]
[null,{"$f":"Sprawdz_pesel(Formularz!#REF!)","v":{"$error":"#VALUE!"}}]
[null,{"$f":"Sprawdz_pesel(Formularz!#REF!)","v":{"$error":"#VALUE!"}}]
[null,{"$f":"Sprawdz_pesel(Formularz!#REF!)","v":{"$error":"#VALUE!"}}]
[null,{"$f":"Sprawdz_pesel(Formularz!#REF!)","v":{"$error":"#VALUE!"}}]
[null,{"$f":"Sprawdz_pesel(Formularz!#REF!)","v":{"$error":"#VALUE!"}}]
[null,{"$f":"Sprawdz_pesel(Formularz!#REF!)","v":{"$error":"#VALUE!"}}]
[null,{"$f":"Sprawdz_pesel(Formularz!#REF!)","v":{"$error":"#VALUE!"}}]
[null,{"$f":"Sprawdz_pesel(Formularz!#REF!)","v":{"$error":"#VALUE!"}}]
[null,{"$f":"Sprawdz_pesel(Formularz!#REF!)","v":{"$error":"#VALUE!"}}]
[null,{"$f":"Sprawdz_pesel(Formularz!#REF!)","v":{"$error":"#VALUE!"}}]
[null,{"$f":"Sprawdz_pesel(Formularz!#REF!)","v":{"$error":"#VALUE!"}}]
[null,{"$f":"Sprawdz_pesel(Formularz!#REF!)","v":{"$error":"#VALUE!"}}]
[null,{"$f":"Sprawdz_pesel(Formularz!#REF!)","v":{"$error":"#VALUE!"}}]
[null,{"$f":"Sprawdz_pesel(Formularz!#REF!)","v":{"$error":"#VALUE!"}}]
[null,{"$f":"Sprawdz_pesel(Formularz!#REF!)","v":{"$error":"#VALUE!"}}]
[null,{"$f":"Sprawdz_pesel(Formularz!#REF!)","v":{"$error":"#VALUE!"}}]
[null,{"$f":"Sprawdz_pesel(Formularz!#REF!)","v":{"$error":"#VALUE!"}}]
[null,{"$f":"Sprawdz_pesel(Formularz!#REF!)","v":{"$error":"#VALUE!"}}]
[null,{"$f":"Sprawdz_pesel(Formularz!#REF!)","v":{"$error":"#VALUE!"}}]
[null,{"$f":"Sprawdz_pesel(Formularz!#REF!)","v":{"$error":"#VALUE!"}}]
[null,{"$f":"Sprawdz_pesel(Formularz!#REF!)","v":{"$error":"#VALUE!"}}]
[null,{"$f":"Sprawdz_pesel(Formularz!#REF!)","v":{"$error":"#VALUE!"}}]
[null,{"$f":"Sprawdz_pesel(Formularz!#REF!)","v":{"$error":"#VALUE!"}}]
[null,{"$f":"Sprawdz_pesel(Formularz!#REF!)","v":{"$error":"#VALUE!"}}]
[null,{"$f":"Sprawdz_pesel(Formularz!#REF!)","v":{"$error":"#VALUE!"}}]
[null,{"$f":"Sprawdz_pesel(Formularz!#REF!)","v":{"$error":"#VALUE!"}}]
[null,{"$f":"Sprawdz_pesel(Formularz!#REF!)","v":{"$error":"#VALUE!"}}]
[null,{"$f":"Sprawdz_pesel(Formularz!#REF!)","v":{"$error":"#VALUE!"}}]
[null,{"$f":"Sprawdz_pesel(Formularz!#REF!)","v":{"$error":"#VALUE!"}}]
[null,{"$f":"Sprawdz_pesel(Formularz!#REF!)","v":{"$error":"#VALUE!"}}]
[null,{"$f":"Sprawdz_pesel(Formularz!#REF!)","v":{"$error":"#VALUE!"}}]
[null,{"$f":"Sprawdz_pesel(Formularz!#REF!)","v":{"$error":"#VALUE!"}}]
[null,{"$f":"Sprawdz_pesel(Formularz!#REF!)","v":{"$error":"#VALUE!"}}]
[null,{"$f":"Sprawdz_pesel(Formularz!#REF!)","v":{"$error":"#VALUE!"}}]
[null,{"$f":"Sprawdz_pesel(Formularz!#REF!)","v":{"$error":"#VALUE!"}}]
[null,{"$f":"Sprawdz_pesel(Formularz!#REF!)","v":{"$error":"#VALUE!"}}]
[null,{"$f":"Sprawdz_pesel(Formularz!#REF!)","v":{"$error":"#VALUE!"}}]
[null,{"$f":"Sprawdz_pesel(Formularz!#REF!)","v":{"$error":"#VALUE!"}}]
[null,{"$f":"Sprawdz_pesel(Formularz!#REF!)","v":{"$error":"#VALUE!"}}]
[null,{"$f":"Sprawdz_pesel(Formularz!#REF!)","v":{"$error":"#VALUE!"}}]
[null,{"$f":"Sprawdz_pesel(Formularz!#REF!)","v":{"$error":"#VALUE!"}}]
[null,{"$f":"Sprawdz_pesel(Formularz!#REF!)","v":{"$error":"#VALUE!"}}]
[null,{"$f":"Sprawdz_pesel(Formularz!#REF!)","v":{"$error":"#VALUE!"}}]
[null,{"$f":"Sprawdz_pesel(Formularz!#REF!)","v":{"$error":"#VALUE!"}}]
[null,{"$f":"Sprawdz_pesel(Formularz!#REF!)","v":{"$error":"#VALUE!"}}]
[null,{"$f":"Sprawdz_pesel(Formularz!#REF!)","v":{"$error":"#VALUE!"}}]
[null,{"$f":"Sprawdz_pesel(Formularz!#REF!)","v":{"$error":"#VALUE!"}}]
[null,{"$f":"Sprawdz_pesel(Formularz!#REF!)","v":{"$error":"#VALUE!"}}]
[null,{"$f":"Sprawdz_pesel(Formularz!#REF!)","v":{"$error":"#VALUE!"}}]
[null,{"$f":"Sprawdz_pesel(Formularz!#REF!)","v":{"$error":"#VALUE!"}}]
[null,{"$f":"Sprawdz_pesel(Formularz!#REF!)","v":{"$error":"#VALUE!"}}]
[null,{"$f":"Sprawdz_pesel(Formularz!#REF!)","v":{"$error":"#VALUE!"}}]
[null,{"$f":"Sprawdz_pesel(Formularz!#REF!)","v":{"$error":"#VALUE!"}}]
[null,{"$f":"Sprawdz_pesel(Formularz!#REF!)","v":{"$error":"#VALUE!"}}]
[null,{"$f":"Sprawdz_pesel(Formularz!#REF!)","v":{"$error":"#VALUE!"}}]
[null,{"$f":"Sprawdz_pesel(Formularz!#REF!)","v":{"$error":"#VALUE!"}}]
[null,{"$f":"Sprawdz_pesel(Formularz!#REF!)","v":{"$error":"#VALUE!"}}]
[null,{"$f":"Sprawdz_pesel(Formularz!#REF!)","v":{"$error":"#VALUE!"}}]
[null,{"$f":"Sprawdz_pesel(Formularz!#REF!)","v":{"$error":"#VALUE!"}}]
[null,{"$f":"Sprawdz_pesel(Formularz!#REF!)","v":{"$error":"#VALUE!"}}]
[null,{"$f":"Sprawdz_pesel(Formularz!#REF!)","v":{"$error":"#VALUE!"}}]
[null,{"$f":"Sprawdz_pesel(Formularz!#REF!)","v":{"$error":"#VALUE!"}}]
[null,{"$f":"Sprawdz_pesel(Formularz!#REF!)","v":{"$error":"#VALUE!"}}]
[null,{"$f":"Sprawdz_pesel(Formularz!#REF!)","v":{"$error":"#VALUE!"}}]
[null,{"$f":"Sprawdz_pesel(Formularz!#REF!)","v":{"$error":"#VALUE!"}}]
[null,{"$f":"Sprawdz_pesel(Formularz!#REF!)","v":{"$error":"#VALUE!"}}]
[null,{"$f":"Sprawdz_pesel(Formularz!#REF!)","v":{"$error":"#VALUE!"}}]
[null,{"$f":"Sprawdz_pesel(Formularz!#REF!)","v":{"$error":"#VALUE!"}}]
[null,{"$f":"Sprawdz_pesel(Formularz!#REF!)","v":{"$error":"#VALUE!"}}]
[null,{"$f":"Sprawdz_pesel(Formularz!#REF!)","v":{"$error":"#VALUE!"}}]
[null,{"$f":"Sprawdz_pesel(Formularz!#REF!)","v":{"$error":"#VALUE!"}}]
[null,{"$f":"Sprawdz_pesel(Formularz!#REF!)","v":{"$error":"#VALUE!"}}]
[null,{"$f":"Sprawdz_pesel(Formularz!#REF!)","v":{"$error":"#VALUE!"}}]
[null,{"$f":"Sprawdz_pesel(Formularz!#REF!)","v":{"$error":"#VALUE!"}}]
[null,{"$f":"Sprawdz_pesel(Formularz!#REF!)","v":{"$error":"#VALUE!"}}]
[null,{"$f":"Sprawdz_pesel(Formularz!#REF!)","v":{"$error":"#VALUE!"}}]
[null,{"$f":"Sprawdz_pesel(Formularz!#REF!)","v":{"$error":"#VALUE!"}}]
[null,{"$f":"Sprawdz_pesel(Formularz!#REF!)","v":{"$error":"#VALUE!"}}]
[null,{"$f":"Sprawdz_pesel(Formularz!#REF!)","v":{"$error":"#VALUE!"}}]
[null,{"$f":"Sprawdz_pesel(Formularz!#REF!)","v":{"$error":"#VALUE!"}}]
[null,{"$f":"Sprawdz_pesel(Formularz!#REF!)","v":{"$error":"#VALUE!"}}]
[null,{"$f":"Sprawdz_pesel(Formularz!#REF!)","v":{"$error":"#VALUE!"}}]
[null,{"$f":"Sprawdz_pesel(Formularz!#REF!)","v":{"$error":"#VALUE!"}}]
[null,{"$f":"Sprawdz_pesel(Formularz!#REF!)","v":{"$error":"#VALUE!"}}]
[null,{"$f":"Sprawdz_pesel(Formularz!#REF!)","v":{"$error":"#VALUE!"}}]
[null,{"$f":"Sprawdz_pesel(Formularz!#REF!)","v":{"$error":"#VALUE!"}}]
[null,{"$f":"Sprawdz_pesel(Formularz!#REF!)","v":{"$error":"#VALUE!"}}]
[null,{"$f":"Sprawdz_pesel(Formularz!#REF!)","v":{"$error":"#VALUE!"}}]
[null,{"$f":"Sprawdz_pesel(Formularz!#REF!)","v":{"$error":"#VALUE!"}}]
[null,{"$f":"Sprawdz_pesel(Formularz!#REF!)","v":{"$error":"#VALUE!"}}]
[null,{"$f":"Sprawdz_pesel(Formularz!#REF!)","v":{"$error":"#VALUE!"}}]
[null,{"$f":"Sprawdz_pesel(Formularz!#REF!)","v":{"$error":"#VALUE!"}}]
[null,{"$f":"Sprawdz_pesel(Formularz!#REF!)","v":{"$error":"#VALUE!"}}]
[null,{"$f":"Sprawdz_pesel(Formularz!#REF!)","v":{"$error":"#VALUE!"}}]
[null,{"$f":"Sprawdz_pesel(Formularz!#REF!)","v":{"$error":"#VALUE!"}}]
[null,{"$f":"Sprawdz_pesel(Formularz!#REF!)","v":{"$error":"#VALUE!"}}]
[null,{"$f":"Sprawdz_pesel(Formularz!#REF!)","v":{"$error":"#VALUE!"}}]
[null,{"$f":"Sprawdz_pesel(Formularz!#REF!)","v":{"$error":"#VALUE!"}}]
[null,{"$f":"Sprawdz_pesel(Formularz!#REF!)","v":{"$error":"#VALUE!"}}]
[null,{"$f":"Sprawdz_pesel(Formularz!#REF!)","v":{"$error":"#VALUE!"}}]
[null,{"$f":"Sprawdz_pesel(Formularz!#REF!)","v":{"$error":"#VALUE!"}}]
[null,{"$f":"Sprawdz_pesel(Formularz!#REF!)","v":{"$error":"#VALUE!"}}]
[null,{"$f":"Sprawdz_pesel(Formularz!#REF!)","v":{"$error":"#VALUE!"}}]
[null,{"$f":"Sprawdz_pesel(Formularz!#REF!)","v":{"$error":"#VALUE!"}}]
[null,{"$f":"Sprawdz_pesel(Formularz!#REF!)","v":{"$error":"#VALUE!"}}]
[null,{"$f":"Sprawdz_pesel(Formularz!#REF!)","v":{"$error":"#VALUE!"}}]
[null,{"$f":"Sprawdz_pesel(Formularz!#REF!)","v":{"$error":"#VALUE!"}}]
[null,{"$f":"Sprawdz_pesel(Formularz!#REF!)","v":{"$error":"#VALUE!"}}]
[null,{"$f":"Sprawdz_pesel(Formularz!#REF!)","v":{"$error":"#VALUE!"}}]
[null,{"$f":"Sprawdz_pesel(Formularz!#REF!)","v":{"$error":"#VALUE!"}}]
[null,{"$f":"Sprawdz_pesel(Formularz!#REF!)","v":{"$error":"#VALUE!"}}]
[null,{"$f":"Sprawdz_pesel(Formularz!#REF!)","v":{"$error":"#VALUE!"}}]
[null,{"$f":"Sprawdz_pesel(Formularz!#REF!)","v":{"$error":"#VALUE!"}}]
[null,{"$f":"Sprawdz_pesel(Formularz!#REF!)","v":{"$error":"#VALUE!"}}]
[null,{"$f":"Sprawdz_pesel(Formularz!#REF!)","v":{"$error":"#VALUE!"}}]
[null,{"$f":"Sprawdz_pesel(Formularz!#REF!)","v":{"$error":"#VALUE!"}}]
[null,{"$f":"Sprawdz_pesel(Formularz!#REF!)","v":{"$error":"#VALUE!"}}]
[null,{"$f":"Sprawdz_pesel(Formularz!#REF!)","v":{"$error":"#VALUE!"}}]
[null,{"$f":"Sprawdz_pesel(Formularz!#REF!)","v":{"$error":"#VALUE!"}}]
[null,{"$f":"Sprawdz_pesel(Formularz!#REF!)","v":{"$error":"#VALUE!"}}]
[null,{"$f":"Sprawdz_pesel(Formularz!#REF!)","v":{"$error":"#VALUE!"}}]
[null,{"$f":"Sprawdz_pesel(Formularz!#REF!)","v":{"$error":"#VALUE!"}}]
[null,{"$f":"Sprawdz_pesel(Formularz!#REF!)","v":{"$error":"#VALUE!"}}]
[null,{"$f":"Sprawdz_pesel(Formularz!#REF!)","v":{"$error":"#VALUE!"}}]
[null,{"$f":"Sprawdz_pesel(Formularz!#REF!)","v":{"$error":"#VALUE!"}}]
[null,{"$f":"Sprawdz_pesel(Formularz!#REF!)","v":{"$error":"#VALUE!"}}]
[null,{"$f":"Sprawdz_pesel(Formularz!#REF!)","v":{"$error":"#VALUE!"}}]
[null,{"$f":"Sprawdz_pesel(Formularz!#REF!)","v":{"$error":"#VALUE!"}}]
[null,{"$f":"Sprawdz_pesel(Formularz!#REF!)","v":{"$error":"#VALUE!"}}]
[null,{"$f":"Sprawdz_pesel(Formularz!#REF!)","v":{"$error":"#VALUE!"}}]
[null,{"$f":"Sprawdz_pesel(Formularz!#REF!)","v":{"$error":"#VALUE!"}}]
[null,{"$f":"Sprawdz_pesel(Formularz!#REF!)","v":{"$error":"#VALUE!"}}]
[null,{"$f":"Sprawdz_pesel(Formularz!#REF!)","v":{"$error":"#VALUE!"}}]
[null,{"$f":"Sprawdz_pesel(Formularz!#REF!)","v":{"$error":"#VALUE!"}}]
[null,{"$f":"Sprawdz_pesel(Formularz!#REF!)","v":{"$error":"#VALUE!"}}]
[null,{"$f":"Sprawdz_pesel(Formularz!#REF!)","v":{"$error":"#VALUE!"}}]
[null,{"$f":"Sprawdz_pesel(Formularz!#REF!)","v":{"$error":"#VALUE!"}}]
[null,{"$f":"Sprawdz_pesel(Formularz!#REF!)","v":{"$error":"#VALUE!"}}]
[null,{"$f":"Sprawdz_pesel(Formularz!#REF!)","v":{"$error":"#VALUE!"}}]
[null,{"$f":"Sprawdz_pesel(Formularz!#REF!)","v":{"$error":"#VALUE!"}}]
[null,{"$f":"Sprawdz_pesel(Formularz!#REF!)","v":{"$error":"#VALUE!"}}]
[null,{"$f":"Sprawdz_pesel(Formularz!#REF!)","v":{"$error":"#VALUE!"}}]
[null,{"$f":"Sprawdz_pesel(Formularz!#REF!)","v":{"$error":"#VALUE!"}}]
[null,{"$f":"Sprawdz_pesel(Formularz!#REF!)","v":{"$error":"#VALUE!"}}]
[null,{"$f":"Sprawdz_pesel(Formularz!#REF!)","v":{"$error":"#VALUE!"}}]
[null,{"$f":"Sprawdz_pesel(Formularz!#REF!)","v":{"$error":"#VALUE!"}}]
[null,{"$f":"Sprawdz_pesel(Formularz!#REF!)","v":{"$error":"#VALUE!"}}]
[null,{"$f":"Sprawdz_pesel(Formularz!#REF!)","v":{"$error":"#VALUE!"}}]
[null,{"$f":"Sprawdz_pesel(Formularz!#REF!)","v":{"$error":"#VALUE!"}}]
[null,{"$f":"Sprawdz_pesel(Formularz!#REF!)","v":{"$error":"#VALUE!"}}]
[null,{"$f":"Sprawdz_pesel(Formularz!#REF!)","v":{"$error":"#VALUE!"}}]
[null,{"$f":"Sprawdz_pesel(Formularz!#REF!)","v":{"$error":"#VALUE!"}}]
[null,{"$f":"Sprawdz_pesel(Formularz!#REF!)","v":{"$error":"#VALUE!"}}]
[null,{"$f":"Sprawdz_pesel(Formularz!#REF!)","v":{"$error":"#VALUE!"}}]
[null,{"$f":"Sprawdz_pesel(Formularz!#REF!)","v":{"$error":"#VALUE!"}}]
[null,{"$f":"Sprawdz_pesel(Formularz!#REF!)","v":{"$error":"#VALUE!"}}]
[null,{"$f":"Sprawdz_pesel(Formularz!#REF!)","v":{"$error":"#VALUE!"}}]
[null,{"$f":"Sprawdz_pesel(Formularz!#REF!)","v":{"$error":"#VALUE!"}}]
[null,{"$f":"Sprawdz_pesel(Formularz!#REF!)","v":{"$error":"#VALUE!"}}]
[null,{"$f":"Sprawdz_pesel(Formularz!#REF!)","v":{"$error":"#VALUE!"}}]
[null,{"$f":"Sprawdz_pesel(Formularz!#REF!)","v":{"$error":"#VALUE!"}}]
[null,{"$f":"Sprawdz_pesel(Formularz!#REF!)","v":{"$error":"#VALUE!"}}]
[null,{"$f":"Sprawdz_pesel(Formularz!#REF!)","v":{"$error":"#VALUE!"}}]
[null,{"$f":"Sprawdz_pesel(Formularz!#REF!)","v":{"$error":"#VALUE!"}}]
[null,{"$f":"Sprawdz_pesel(Formularz!#REF!)","v":{"$error":"#VALUE!"}}]
[null,{"$f":"Sprawdz_pesel(Formularz!#REF!)","v":{"$error":"#VALUE!"}}]
[null,{"$f":"Sprawdz_pesel(Formularz!#REF!)","v":{"$error":"#VALUE!"}}]
[null,{"$f":"Sprawdz_pesel(Formularz!#REF!)","v":{"$error":"#VALUE!"}}]
[null,{"$f":"Sprawdz_pesel(Formularz!#REF!)","v":{"$error":"#VALUE!"}}]
[null,{"$f":"Sprawdz_pesel(Formularz!#REF!)","v":{"$error":"#VALUE!"}}]
[null,{"$f":"Sprawdz_pesel(Formularz!#REF!)","v":{"$error":"#VALUE!"}}]
[null,{"$f":"Sprawdz_pesel(Formularz!#REF!)","v":{"$error":"#VALUE!"}}]
[null,{"$f":"Sprawdz_pesel(Formularz!#REF!)","v":{"$error":"#VALUE!"}}]
[null,{"$f":"Sprawdz_pesel(Formularz!#REF!)","v":{"$error":"#VALUE!"}}]
[null,{"$f":"Sprawdz_pesel(Formularz!#REF!)","v":{"$error":"#VALUE!"}}]
[null,{"$f":"Sprawdz_pesel(Formularz!#REF!)","v":{"$error":"#VALUE!"}}]
[null,{"$f":"Sprawdz_pesel(Formularz!#REF!)","v":{"$error":"#VALUE!"}}]
[null,{"$f":"Sprawdz_pesel(Formularz!#REF!)","v":{"$error":"#VALUE!"}}]
[null,{"$f":"Sprawdz_pesel(Formularz!#REF!)","v":{"$error":"#VALUE!"}}]
[null,{"$f":"Sprawdz_pesel(Formularz!#REF!)","v":{"$error":"#VALUE!"}}]
[null,{"$f":"Sprawdz_pesel(Formularz!#REF!)","v":{"$error":"#VALUE!"}}]
[null,{"$f":"Sprawdz_pesel(Formularz!#REF!)","v":{"$error":"#VALUE!"}}]
[null,{"$f":"Sprawdz_pesel(Formularz!#REF!)","v":{"$error":"#VALUE!"}}]
[null,{"$f":"Sprawdz_pesel(Formularz!#REF!)","v":{"$error":"#VALUE!"}}]
[null,{"$f":"Sprawdz_pesel(Formularz!#REF!)","v":{"$error":"#VALUE!"}}]
[null,{"$f":"Sprawdz_pesel(Formularz!#REF!)","v":{"$error":"#VALUE!"}}]
[null,{"$f":"Sprawdz_pesel(Formularz!#REF!)","v":{"$error":"#VALUE!"}}]
[null,{"$f":"Sprawdz_pesel(Formularz!#REF!)","v":{"$error":"#VALUE!"}}]
[null,{"$f":"Sprawdz_pesel(Formularz!#REF!)","v":{"$error":"#VALUE!"}}]
[null,{"$f":"Sprawdz_pesel(Formularz!#REF!)","v":{"$error":"#VALUE!"}}]
[null,{"$f":"Sprawdz_pesel(Formularz!#REF!)","v":{"$error":"#VALUE!"}}]
[null,{"$f":"Sprawdz_pesel(Formularz!#REF!)","v":{"$error":"#VALUE!"}}]
[null,{"$f":"Sprawdz_pesel(Formularz!#REF!)","v":{"$error":"#VALUE!"}}]
[null,{"$f":"Sprawdz_pesel(Formularz!#REF!)","v":{"$error":"#VALUE!"}}]
[null,{"$f":"Sprawdz_pesel(Formularz!#REF!)","v":{"$error":"#VALUE!"}}]
[null,{"$f":"Sprawdz_pesel(Formularz!#REF!)","v":{"$error":"#VALUE!"}}]
[null,{"$f":"Sprawdz_pesel(Formularz!#REF!)","v":{"$error":"#VALUE!"}}]
[null,{"$f":"Sprawdz_pesel(Formularz!#REF!)","v":{"$error":"#VALUE!"}}]
[null,{"$f":"Sprawdz_pesel(Formularz!#REF!)","v":{"$error":"#VALUE!"}}]
[null,{"$f":"Sprawdz_pesel(Formularz!#REF!)","v":{"$error":"#VALUE!"}}]
[null,{"$f":"Sprawdz_pesel(Formularz!#REF!)","v":{"$error":"#VALUE!"}}]
[null,{"$f":"Sprawdz_pesel(Formularz!#REF!)","v":{"$error":"#VALUE!"}}]
[null,{"$f":"Sprawdz_pesel(Formularz!#REF!)","v":{"$error":"#VALUE!"}}]
[null,{"$f":"Sprawdz_pesel(Formularz!#REF!)","v":{"$error":"#VALUE!"}}]
[null,{"$f":"Sprawdz_pesel(Formularz!#REF!)","v":{"$error":"#VALUE!"}}]
[null,{"$f":"Sprawdz_pesel(Formularz!#REF!)","v":{"$error":"#VALUE!"}}]
[null,{"$f":"Sprawdz_pesel(Formularz!#REF!)","v":{"$error":"#VALUE!"}}]
[null,{"$f":"Sprawdz_pesel(Formularz!#REF!)","v":{"$error":"#VALUE!"}}]
[null,{"$f":"Sprawdz_pesel(Formularz!#REF!)","v":{"$error":"#VALUE!"}}]
[null,{"$f":"Sprawdz_pesel(Formularz!#REF!)","v":{"$error":"#VALUE!"}}]
[null,{"$f":"Sprawdz_pesel(Formularz!#REF!)","v":{"$error":"#VALUE!"}}]
[null,{"$f":"Sprawdz_pesel(Formularz!#REF!)","v":{"$error":"#VALUE!"}}]
[null,{"$f":"Sprawdz_pesel(Formularz!#REF!)","v":{"$error":"#VALUE!"}}]
[null,{"$f":"Sprawdz_pesel(Formularz!#REF!)","v":{"$error":"#VALUE!"}}]
[null,{"$f":"Sprawdz_pesel(Formularz!#REF!)","v":{"$error":"#VALUE!"}}]
[null,{"$f":"Sprawdz_pesel(Formularz!#REF!)","v":{"$error":"#VALUE!"}}]
[null,{"$f":"Sprawdz_pesel(Formularz!#REF!)","v":{"$error":"#VALUE!"}}]
[null,{"$f":"Sprawdz_pesel(Formularz!#REF!)","v":{"$error":"#VALUE!"}}]
[null,{"$f":"Sprawdz_pesel(Formularz!#REF!)","v":{"$error":"#VALUE!"}}]
[null,{"$f":"Sprawdz_pesel(Formularz!#REF!)","v":{"$error":"#VALUE!"}}]
[null,{"$f":"Sprawdz_pesel(Formularz!#REF!)","v":{"$error":"#VALUE!"}}]
[null,{"$f":"Sprawdz_pesel(Formularz!#REF!)","v":{"$error":"#VALUE!"}}]
[null,{"$f":"Sprawdz_pesel(Formularz!#REF!)","v":{"$error":"#VALUE!"}}]
[null,{"$f":"Sprawdz_pesel(Formularz!#REF!)","v":{"$error":"#VALUE!"}}]
[null,{"$f":"Sprawdz_pesel(Formularz!#REF!)","v":{"$error":"#VALUE!"}}]
[null,{"$f":"Sprawdz_pesel(Formularz!#REF!)","v":{"$error":"#VALUE!"}}]
[null,{"$f":"Sprawdz_pesel(Formularz!#REF!)","v":{"$error":"#VALUE!"}}]
[null,{"$f":"Sprawdz_pesel(Formularz!#REF!)","v":{"$error":"#VALUE!"}}]
[null,{"$f":"Sprawdz_pesel(Formularz!#REF!)","v":{"$error":"#VALUE!"}}]
[null,{"$f":"Sprawdz_pesel(Formularz!#REF!)","v":{"$error":"#VALUE!"}}]
[null,{"$f":"Sprawdz_pesel(Formularz!#REF!)","v":{"$error":"#VALUE!"}}]
[null,{"$f":"Sprawdz_pesel(Formularz!#REF!)","v":{"$error":"#VALUE!"}}]
[null,{"$f":"Sprawdz_pesel(Formularz!#REF!)","v":{"$error":"#VALUE!"}}]
[null,{"$f":"Sprawdz_pesel(Formularz!#REF!)","v":{"$error":"#VALUE!"}}]
[null,{"$f":"Sprawdz_pesel(Formularz!#REF!)","v":{"$error":"#VALUE!"}}]
[null,{"$f":"Sprawdz_pesel(Formularz!#REF!)","v":{"$error":"#VALUE!"}}]
[null,{"$f":"Sprawdz_pesel(Formularz!#REF!)","v":{"$error":"#VALUE!"}}]
[null,{"$f":"Sprawdz_pesel(Formularz!#REF!)","v":{"$error":"#VALUE!"}}]
[null,{"$f":"Sprawdz_pesel(Formularz!#REF!)","v":{"$error":"#VALUE!"}}]
[null,{"$f":"Sprawdz_pesel(Formularz!#REF!)","v":{"$error":"#VALUE!"}}]
[null,{"$f":"Sprawdz_pesel(Formularz!#REF!)","v":{"$error":"#VALUE!"}}]
[null,{"$f":"Sprawdz_pesel(Formularz!#REF!)","v":{"$error":"#VALUE!"}}]
[null,{"$f":"Sprawdz_pesel(Formularz!#REF!)","v":{"$error":"#VALUE!"}}]
[null,{"$f":"Sprawdz_pesel(Formularz!#REF!)","v":{"$error":"#VALUE!"}}]
[null,{"$f":"Sprawdz_pesel(Formularz!#REF!)","v":{"$error":"#VALUE!"}}]
[null,{"$f":"Sprawdz_pesel(Formularz!#REF!)","v":{"$error":"#VALUE!"}}]
[null,{"$f":"Sprawdz_pesel(Formularz!#REF!)","v":{"$error":"#VALUE!"}}]
[null,{"$f":"Sprawdz_pesel(Formularz!#REF!)","v":{"$error":"#VALUE!"}}]
[null,{"$f":"Sprawdz_pesel(Formularz!#REF!)","v":{"$error":"#VALUE!"}}]
[null,{"$f":"Sprawdz_pesel(Formularz!#REF!)","v":{"$error":"#VALUE!"}}]
[null,{"$f":"Sprawdz_pesel(Formularz!#REF!)","v":{"$error":"#VALUE!"}}]
[null,{"$f":"Sprawdz_pesel(Formularz!#REF!)","v":{"$error":"#VALUE!"}}]
[null,{"$f":"Sprawdz_pesel(Formularz!#REF!)","v":{"$error":"#VALUE!"}}]
[null,{"$f":"Sprawdz_pesel(Formularz!#REF!)","v":{"$error":"#VALUE!"}}]
[null,{"$f":"Sprawdz_pesel(Formularz!#REF!)","v":{"$error":"#VALUE!"}}]
[null,{"$f":"Sprawdz_pesel(Formularz!#REF!)","v":{"$error":"#VALUE!"}}]
[null,{"$f":"Sprawdz_pesel(Formularz!#REF!)","v":{"$error":"#VALUE!"}}]
[null,{"$f":"Sprawdz_pesel(Formularz!#REF!)","v":{"$error":"#VALUE!"}}]
[null,{"$f":"Sprawdz_pesel(Formularz!#REF!)","v":{"$error":"#VALUE!"}}]
[null,{"$f":"Sprawdz_pesel(Formularz!#REF!)","v":{"$error":"#VALUE!"}}]
[null,{"$f":"Sprawdz_pesel(Formularz!#REF!)","v":{"$error":"#VALUE!"}}]
[null,{"$f":"Sprawdz_pesel(Formularz!#REF!)","v":{"$error":"#VALUE!"}}]
[null,{"$f":"Sprawdz_pesel(Formularz!#REF!)","v":{"$error":"#VALUE!"}}]
[null,{"$f":"Sprawdz_pesel(Formularz!#REF!)","v":{"$error":"#VALUE!"}}]
[null,{"$f":"Sprawdz_pesel(Formularz!#REF!)","v":{"$error":"#VALUE!"}}]
[null,{"$f":"Sprawdz_pesel(Formularz!#REF!)","v":{"$error":"#VALUE!"}}]
[null,{"$f":"Sprawdz_pesel(Formularz!#REF!)","v":{"$error":"#VALUE!"}}]
[null,{"$f":"Sprawdz_pesel(Formularz!#REF!)","v":{"$error":"#VALUE!"}}]
[null,{"$f":"Sprawdz_pesel(Formularz!#REF!)","v":{"$error":"#VALUE!"}}]
[null,{"$f":"Sprawdz_pesel(Formularz!#REF!)","v":{"$error":"#VALUE!"}}]
[null,{"$f":"Sprawdz_pesel(Formularz!#REF!)","v":{"$error":"#VALUE!"}}]
[null,{"$f":"Sprawdz_pesel(Formularz!#REF!)","v":{"$error":"#VALUE!"}}]
[null,{"$f":"Sprawdz_pesel(Formularz!#REF!)","v":{"$error":"#VALUE!"}}]
[null,{"$f":"Sprawdz_pesel(Formularz!#REF!)","v":{"$error":"#VALUE!"}}]
[null,{"$f":"Sprawdz_pesel(Formularz!#REF!)","v":{"$error":"#VALUE!"}}]
[null,{"$f":"Sprawdz_pesel(Formularz!#REF!)","v":{"$error":"#VALUE!"}}]
[null,{"$f":"Sprawdz_pesel(Formularz!#REF!)","v":{"$error":"#VALUE!"}}]
[null,{"$f":"Sprawdz_pesel(Formularz!#REF!)","v":{"$error":"#VALUE!"}}]
[null,{"$f":"Sprawdz_pesel(Formularz!#REF!)","v":{"$error":"#VALUE!"}}]
[null,{"$f":"Sprawdz_pesel(Formularz!#REF!)","v":{"$error":"#VALUE!"}}]
[null,{"$f":"Sprawdz_pesel(Formularz!#REF!)","v":{"$error":"#VALUE!"}}]
[null,{"$f":"Sprawdz_pesel(Formularz!#REF!)","v":{"$error":"#VALUE!"}}]
[null,{"$f":"Sprawdz_pesel(Formularz!#REF!)","v":{"$error":"#VALUE!"}}]
[null,{"$f":"Sprawdz_pesel(Formularz!#REF!)","v":{"$error":"#VALUE!"}}]
[null,{"$f":"Sprawdz_pesel(Formularz!#REF!)","v":{"$error":"#VALUE!"}}]
[null,{"$f":"Sprawdz_pesel(Formularz!#REF!)","v":{"$error":"#VALUE!"}}]
[null,{"$f":"Sprawdz_pesel(Formularz!#REF!)","v":{"$error":"#VALUE!"}}]
[null,{"$f":"Sprawdz_pesel(Formularz!#REF!)","v":{"$error":"#VALUE!"}}]
[null,{"$f":"Sprawdz_pesel(Formularz!#REF!)","v":{"$error":"#VALUE!"}}]
[null,{"$f":"Sprawdz_pesel(Formularz!#REF!)","v":{"$error":"#VALUE!"}}]
[null,{"$f":"Sprawdz_pesel(Formularz!#REF!)","v":{"$error":"#VALUE!"}}]
[null,{"$f":"Sprawdz_pesel(Formularz!#REF!)","v":{"$error":"#VALUE!"}}]
[null,{"$f":"Sprawdz_pesel(Formularz!#REF!)","v":{"$error":"#VALUE!"}}]
[null,{"$f":"Sprawdz_pesel(Formularz!#REF!)","v":{"$error":"#VALUE!"}}]
[null,{"$f":"Sprawdz_pesel(Formularz!#REF!)","v":{"$error":"#VALUE!"}}]
[null,{"$f":"Sprawdz_pesel(Formularz!#REF!)","v":{"$error":"#VALUE!"}}]
[null,{"$f":"Sprawdz_pesel(Formularz!#REF!)","v":{"$error":"#VALUE!"}}]
[null,{"$f":"Sprawdz_pesel(Formularz!#REF!)","v":{"$error":"#VALUE!"}}]
[null,{"$f":"Sprawdz_pesel(Formularz!#REF!)","v":{"$error":"#VALUE!"}}]
[null,{"$f":"Sprawdz_pesel(Formularz!#REF!)","v":{"$error":"#VALUE!"}}]
[null,{"$f":"Sprawdz_pesel(Formularz!#REF!)","v":{"$error":"#VALUE!"}}]
[null,{"$f":"Sprawdz_pesel(Formularz!#REF!)","v":{"$error":"#VALUE!"}}]
[null,{"$f":"Sprawdz_pesel(Formularz!#REF!)","v":{"$error":"#VALUE!"}}]
[null,{"$f":"Sprawdz_pesel(Formularz!#REF!)","v":{"$error":"#VALUE!"}}]
[null,{"$f":"Sprawdz_pesel(Formularz!#REF!)","v":{"$error":"#VALUE!"}}]
[null,{"$f":"Sprawdz_pesel(Formularz!#REF!)","v":{"$error":"#VALUE!"}}]
[null,{"$f":"Sprawdz_pesel(Formularz!#REF!)","v":{"$error":"#VALUE!"}}]
[null,{"$f":"Sprawdz_pesel(Formularz!#REF!)","v":{"$error":"#VALUE!"}}]
[null,{"$f":"Sprawdz_pesel(Formularz!#REF!)","v":{"$error":"#VALUE!"}}]
[null,{"$f":"Sprawdz_pesel(Formularz!#REF!)","v":{"$error":"#VALUE!"}}]
[null,{"$f":"Sprawdz_pesel(Formularz!#REF!)","v":{"$error":"#VALUE!"}}]
[null,{"$f":"Sprawdz_pesel(Formularz!#REF!)","v":{"$error":"#VALUE!"}}]
[null,{"$f":"Sprawdz_pesel(Formularz!#REF!)","v":{"$error":"#VALUE!"}}]
[null,{"$f":"Sprawdz_pesel(Formularz!#REF!)","v":{"$error":"#VALUE!"}}]
[null,{"$f":"Sprawdz_pesel(Formularz!#REF!)","v":{"$error":"#VALUE!"}}]
[null,{"$f":"Sprawdz_pesel(Formularz!#REF!)","v":{"$error":"#VALUE!"}}]
[null,{"$f":"Sprawdz_pesel(Formularz!#REF!)","v":{"$error":"#VALUE!"}}]
[null,{"$f":"Sprawdz_pesel(Formularz!#REF!)","v":{"$error":"#VALUE!"}}]
[null,{"$f":"Sprawdz_pesel(Formularz!#REF!)","v":{"$error":"#VALUE!"}}]
[null,{"$f":"Sprawdz_pesel(Formularz!#REF!)","v":{"$error":"#VALUE!"}}]
[null,{"$f":"Sprawdz_pesel(Formularz!#REF!)","v":{"$error":"#VALUE!"}}]
[null,{"$f":"Sprawdz_pesel(Formularz!#REF!)","v":{"$error":"#VALUE!"}}]
[null,{"$f":"Sprawdz_pesel(Formularz!#REF!)","v":{"$error":"#VALUE!"}}]
[null,{"$f":"Sprawdz_pesel(Formularz!#REF!)","v":{"$error":"#VALUE!"}}]
[null,{"$f":"Sprawdz_pesel(Formularz!#REF!)","v":{"$error":"#VALUE!"}}]
[null,{"$f":"Sprawdz_pesel(Formularz!#REF!)","v":{"$error":"#VALUE!"}}]
[null,{"$f":"Sprawdz_pesel(Formularz!#REF!)","v":{"$error":"#VALUE!"}}]
[null,{"$f":"Sprawdz_pesel(Formularz!#REF!)","v":{"$error":"#VALUE!"}}]
[null,{"$f":"Sprawdz_pesel(Formularz!#REF!)","v":{"$error":"#VALUE!"}}]
[null,{"$f":"Sprawdz_pesel(Formularz!#REF!)","v":{"$error":"#VALUE!"}}]
[null,{"$f":"Sprawdz_pesel(Formularz!#REF!)","v":{"$error":"#VALUE!"}}]
[null,{"$f":"Sprawdz_pesel(Formularz!#REF!)","v":{"$error":"#VALUE!"}}]
[null,{"$f":"Sprawdz_pesel(Formularz!#REF!)","v":{"$error":"#VALUE!"}}]
[null,{"$f":"Sprawdz_pesel(Formularz!#REF!)","v":{"$error":"#VALUE!"}}]
[null,{"$f":"Sprawdz_pesel(Formularz!#REF!)","v":{"$error":"#VALUE!"}}]
[null,{"$f":"Sprawdz_pesel(Formularz!#REF!)","v":{"$error":"#VALUE!"}}]
[null,{"$f":"Sprawdz_pesel(Formularz!#REF!)","v":{"$error":"#VALUE!"}}]
[null,{"$f":"Sprawdz_pesel(Formularz!#REF!)","v":{"$error":"#VALUE!"}}]
[null,{"$f":"Sprawdz_pesel(Formularz!#REF!)","v":{"$error":"#VALUE!"}}]
[null,{"$f":"Sprawdz_pesel(Formularz!#REF!)","v":{"$error":"#VALUE!"}}]
[null,{"$f":"Sprawdz_pesel(Formularz!#REF!)","v":{"$error":"#VALUE!"}}]
[null,{"$f":"Sprawdz_pesel(Formularz!#REF!)","v":{"$error":"#VALUE!"}}]
[null,{"$f":"Sprawdz_pesel(Formularz!#REF!)","v":{"$error":"#VALUE!"}}]
[null,{"$f":"Sprawdz_pesel(Formularz!#REF!)","v":{"$error":"#VALUE!"}}]
[null,{"$f":"Sprawdz_pesel(Formularz!#REF!)","v":{"$error":"#VALUE!"}}]
[null,{"$f":"Sprawdz_pesel(Formularz!#REF!)","v":{"$error":"#VALUE!"}}]
[null,{"$f":"Sprawdz_pesel(Formularz!#REF!)","v":{"$error":"#VALUE!"}}]
[null,{"$f":"Sprawdz_pesel(Formularz!#REF!)","v":{"$error":"#VALUE!"}}]
[null,{"$f":"Sprawdz_pesel(Formularz!#REF!)","v":{"$error":"#VALUE!"}}]
[null,{"$f":"Sprawdz_pesel(Formularz!#REF!)","v":{"$error":"#VALUE!"}}]
[null,{"$f":"Sprawdz_pesel(Formularz!#REF!)","v":{"$error":"#VALUE!"}}]
[null,{"$f":"Sprawdz_pesel(Formularz!#REF!)","v":{"$error":"#VALUE!"}}]
[null,{"$f":"Sprawdz_pesel(Formularz!#REF!)","v":{"$error":"#VALUE!"}}]
[null,{"$f":"Sprawdz_pesel(Formularz!#REF!)","v":{"$error":"#VALUE!"}}]
[null,{"$f":"Sprawdz_pesel(Formularz!#REF!)","v":{"$error":"#VALUE!"}}]
[null,{"$f":"Sprawdz_pesel(Formularz!#REF!)","v":{"$error":"#VALUE!"}}]
[null,{"$f":"Sprawdz_pesel(Formularz!#REF!)","v":{"$error":"#VALUE!"}}]
[null,{"$f":"Sprawdz_pesel(Formularz!#REF!)","v":{"$error":"#VALUE!"}}]
[null,{"$f":"Sprawdz_pesel(Formularz!#REF!)","v":{"$error":"#VALUE!"}}]
[null,{"$f":"Sprawdz_pesel(Formularz!#REF!)","v":{"$error":"#VALUE!"}}]
[null,{"$f":"Sprawdz_pesel(Formularz!#REF!)","v":{"$error":"#VALUE!"}}]
[null,{"$f":"Sprawdz_pesel(Formularz!#REF!)","v":{"$error":"#VALUE!"}}]
[null,{"$f":"Sprawdz_pesel(Formularz!#REF!)","v":{"$error":"#VALUE!"}}]
[null,{"$f":"Sprawdz_pesel(Formularz!#REF!)","v":{"$error":"#VALUE!"}}]
[null,{"$f":"Sprawdz_pesel(Formularz!#REF!)","v":{"$error":"#VALUE!"}}]
[null,{"$f":"Sprawdz_pesel(Formularz!#REF!)","v":{"$error":"#VALUE!"}}]
[null,{"$f":"Sprawdz_pesel(Formularz!#REF!)","v":{"$error":"#VALUE!"}}]
[null,{"$f":"Sprawdz_pesel(Formularz!#REF!)","v":{"$error":"#VALUE!"}}]
[null,{"$f":"Sprawdz_pesel(Formularz!#REF!)","v":{"$error":"#VALUE!"}}]
[null,{"$f":"Sprawdz_pesel(Formularz!#REF!)","v":{"$error":"#VALUE!"}}]
[null,{"$f":"Sprawdz_pesel(Formularz!#REF!)","v":{"$error":"#VALUE!"}}]
[null,{"$f":"Sprawdz_pesel(Formularz!#REF!)","v":{"$error":"#VALUE!"}}]
[null,{"$f":"Sprawdz_pesel(Formularz!#REF!)","v":{"$error":"#VALUE!"}}]
[null,{"$f":"Sprawdz_pesel(Formularz!#REF!)","v":{"$error":"#VALUE!"}}]
[null,{"$f":"Sprawdz_pesel(Formularz!#REF!)","v":{"$error":"#VALUE!"}}]
[null,{"$f":"Sprawdz_pesel(Formularz!#REF!)","v":{"$error":"#VALUE!"}}]
[null,{"$f":"Sprawdz_pesel(Formularz!#REF!)","v":{"$error":"#VALUE!"}}]
[null,{"$f":"Sprawdz_pesel(Formularz!#REF!)","v":{"$error":"#VALUE!"}}]
[null,{"$f":"Sprawdz_pesel(Formularz!#REF!)","v":{"$error":"#VALUE!"}}]
[null,{"$f":"Sprawdz_pesel(Formularz!#REF!)","v":{"$error":"#VALUE!"}}]
[null,{"$f":"Sprawdz_pesel(Formularz!#REF!)","v":{"$error":"#VALUE!"}}]
[null,{"$f":"Sprawdz_pesel(Formularz!#REF!)","v":{"$error":"#VALUE!"}}]
[null,{"$f":"Sprawdz_pesel(Formularz!#REF!)","v":{"$error":"#VALUE!"}}]
[null,{"$f":"Sprawdz_pesel(Formularz!#REF!)","v":{"$error":"#VALUE!"}}]
[null,{"$f":"Sprawdz_pesel(Formularz!#REF!)","v":{"$error":"#VALUE!"}}]
[null,{"$f":"Sprawdz_pesel(Formularz!#REF!)","v":{"$error":"#VALUE!"}}]
[null,{"$f":"Sprawdz_pesel(Formularz!#REF!)","v":{"$error":"#VALUE!"}}]
[null,{"$f":"Sprawdz_pesel(Formularz!#REF!)","v":{"$error":"#VALUE!"}}]
[null,{"$f":"Sprawdz_pesel(Formularz!#REF!)","v":{"$error":"#VALUE!"}}]
[null,{"$f":"Sprawdz_pesel(Formularz!#REF!)","v":{"$error":"#VALUE!"}}]
[null,{"$f":"Sprawdz_pesel(Formularz!#REF!)","v":{"$error":"#VALUE!"}}]
[null,{"$f":"Sprawdz_pesel(Formularz!#REF!)","v":{"$error":"#VALUE!"}}]
[null,{"$f":"Sprawdz_pesel(Formularz!#REF!)","v":{"$error":"#VALUE!"}}]
[null,{"$f":"Sprawdz_pesel(Formularz!#REF!)","v":{"$error":"#VALUE!"}}]
[null,{"$f":"Sprawdz_pesel(Formularz!#REF!)","v":{"$error":"#VALUE!"}}]
[null,{"$f":"Sprawdz_pesel(Formularz!#REF!)","v":{"$error":"#VALUE!"}}]
[null,{"$f":"Sprawdz_pesel(Formularz!#REF!)","v":{"$error":"#VALUE!"}}]
[null,{"$f":"Sprawdz_pesel(Formularz!#REF!)","v":{"$error":"#VALUE!"}}]
[null,{"$f":"Sprawdz_pesel(Formularz!#REF!)","v":{"$error":"#VALUE!"}}]
[null,{"$f":"Sprawdz_pesel(Formularz!#REF!)","v":{"$error":"#VALUE!"}}]
[null,{"$f":"Sprawdz_pesel(Formularz!#REF!)","v":{"$error":"#VALUE!"}}]
[null,{"$f":"Sprawdz_pesel(Formularz!#REF!)","v":{"$error":"#VALUE!"}}]
[null,{"$f":"Sprawdz_pesel(Formularz!#REF!)","v":{"$error":"#VALUE!"}}]
[null,{"$f":"Sprawdz_pesel(Formularz!#REF!)","v":{"$error":"#VALUE!"}}]
[null,{"$f":"Sprawdz_pesel(Formularz!#REF!)","v":{"$error":"#VALUE!"}}]
[null,{"$f":"Sprawdz_pesel(Formularz!#REF!)","v":{"$error":"#VALUE!"}}]
[null,{"$f":"Sprawdz_pesel(Formularz!#REF!)","v":{"$error":"#VALUE!"}}]
[null,{"$f":"Sprawdz_pesel(Formularz!#REF!)","v":{"$error":"#VALUE!"}}]
[null,{"$f":"Sprawdz_pesel(Formularz!#REF!)","v":{"$error":"#VALUE!"}}]
[null,{"$f":"Sprawdz_pesel(Formularz!#REF!)","v":{"$error":"#VALUE!"}}]
[null,{"$f":"Sprawdz_pesel(Formularz!#REF!)","v":{"$error":"#VALUE!"}}]
[null,{"$f":"Sprawdz_pesel(Formularz!#REF!)","v":{"$error":"#VALUE!"}}]
[null,{"$f":"Sprawdz_pesel(Formularz!#REF!)","v":{"$error":"#VALUE!"}}]
[null,{"$f":"Sprawdz_pesel(Formularz!#REF!)","v":{"$error":"#VALUE!"}}]
[null,{"$f":"Sprawdz_pesel(Formularz!#REF!)","v":{"$error":"#VALUE!"}}]
[null,{"$f":"Sprawdz_pesel(Formularz!#REF!)","v":{"$error":"#VALUE!"}}]
[null,{"$f":"Sprawdz_pesel(Formularz!#REF!)","v":{"$error":"#VALUE!"}}]
[null,{"$f":"Sprawdz_pesel(Formularz!#REF!)","v":{"$error":"#VALUE!"}}]
[null,{"$f":"Sprawdz_pesel(Formularz!#REF!)","v":{"$error":"#VALUE!"}}]
[null,{"$f":"Sprawdz_pesel(Formularz!#REF!)","v":{"$error":"#VALUE!"}}]
[null,{"$f":"Sprawdz_pesel(Formularz!#REF!)","v":{"$error":"#VALUE!"}}]
[null,{"$f":"Sprawdz_pesel(Formularz!#REF!)","v":{"$error":"#VALUE!"}}]
[null,{"$f":"Sprawdz_pesel(Formularz!#REF!)","v":{"$error":"#VALUE!"}}]
[null,{"$f":"Sprawdz_pesel(Formularz!#REF!)","v":{"$error":"#VALUE!"}}]
[null,{"$f":"Sprawdz_pesel(Formularz!#REF!)","v":{"$error":"#VALUE!"}}]
[null,{"$f":"Sprawdz_pesel(Formularz!#REF!)","v":{"$error":"#VALUE!"}}]
[null,{"$f":"Sprawdz_pesel(Formularz!#REF!)","v":{"$error":"#VALUE!"}}]
[null,{"$f":"Sprawdz_pesel(Formularz!#REF!)","v":{"$error":"#VALUE!"}}]
[null,{"$f":"Sprawdz_pesel(Formularz!#REF!)","v":{"$error":"#VALUE!"}}]
[null,{"$f":"Sprawdz_pesel(Formularz!#REF!)","v":{"$error":"#VALUE!"}}]
[null,{"$f":"Sprawdz_pesel(Formularz!#REF!)","v":{"$error":"#VALUE!"}}]
[null,{"$f":"Sprawdz_pesel(Formularz!#REF!)","v":{"$error":"#VALUE!"}}]
[null,{"$f":"Sprawdz_pesel(Formularz!#REF!)","v":{"$error":"#VALUE!"}}]
[null,{"$f":"Sprawdz_pesel(Formularz!#REF!)","v":{"$error":"#VALUE!"}}]
[null,{"$f":"Sprawdz_pesel(Formularz!#REF!)","v":{"$error":"#VALUE!"}}]
[null,{"$f":"Sprawdz_pesel(Formularz!#REF!)","v":{"$error":"#VALUE!"}}]
[null,{"$f":"Sprawdz_pesel(Formularz!#REF!)","v":{"$error":"#VALUE!"}}]
[null,{"$f":"Sprawdz_pesel(Formularz!#REF!)","v":{"$error":"#VALUE!"}}]
[null,{"$f":"Sprawdz_pesel(Formularz!#REF!)","v":{"$error":"#VALUE!"}}]
[null,{"$f":"Sprawdz_pesel(Formularz!#REF!)","v":{"$error":"#VALUE!"}}]
[null,{"$f":"Sprawdz_pesel(Formularz!#REF!)","v":{"$error":"#VALUE!"}}]
[null,{"$f":"Sprawdz_pesel(Formularz!#REF!)","v":{"$error":"#VALUE!"}}]
[null,{"$f":"Sprawdz_pesel(Formularz!#REF!)","v":{"$error":"#VALUE!"}}]
[null,{"$f":"Sprawdz_pesel(Formularz!#REF!)","v":{"$error":"#VALUE!"}}]
[null,{"$f":"Sprawdz_pesel(Formularz!#REF!)","v":{"$error":"#VALUE!"}}]
[null,{"$f":"Sprawdz_pesel(Formularz!#REF!)","v":{"$error":"#VALUE!"}}]
[null,{"$f":"Sprawdz_pesel(Formularz!#REF!)","v":{"$error":"#VALUE!"}}]
[null,{"$f":"Sprawdz_pesel(Formularz!#REF!)","v":{"$error":"#VALUE!"}}]
[null,{"$f":"Sprawdz_pesel(Formularz!#REF!)","v":{"$error":"#VALUE!"}}]
[null,{"$f":"Sprawdz_pesel(Formularz!#REF!)","v":{"$error":"#VALUE!"}}]
[null,{"$f":"Sprawdz_pesel(Formularz!#REF!)","v":{"$error":"#VALUE!"}}]
[null,{"$f":"Sprawdz_pesel(Formularz!#REF!)","v":{"$error":"#VALUE!"}}]
[null,{"$f":"Sprawdz_pesel(Formularz!#REF!)","v":{"$error":"#VALUE!"}}]
[null,{"$f":"Sprawdz_pesel(Formularz!#REF!)","v":{"$error":"#VALUE!"}}]
[null,{"$f":"Sprawdz_pesel(Formularz!#REF!)","v":{"$error":"#VALUE!"}}]
[null,{"$f":"Sprawdz_pesel(Formularz!#REF!)","v":{"$error":"#VALUE!"}}]
[null,{"$f":"Sprawdz_pesel(Formularz!#REF!)","v":{"$error":"#VALUE!"}}]
[null,{"$f":"Sprawdz_pesel(Formularz!#REF!)","v":{"$error":"#VALUE!"}}]
[null,{"$f":"Sprawdz_pesel(Formularz!#REF!)","v":{"$error":"#VALUE!"}}]
[null,{"$f":"Sprawdz_pesel(Formularz!#REF!)","v":{"$error":"#VALUE!"}}]
[null,{"$f":"Sprawdz_pesel(Formularz!#REF!)","v":{"$error":"#VALUE!"}}]
[null,{"$f":"Sprawdz_pesel(Formularz!#REF!)","v":{"$error":"#VALUE!"}}]
[null,{"$f":"Sprawdz_pesel(Formularz!#REF!)","v":{"$error":"#VALUE!"}}]
[null,{"$f":"Sprawdz_pesel(Formularz!#REF!)","v":{"$error":"#VALUE!"}}]
[null,{"$f":"Sprawdz_pesel(Formularz!#REF!)","v":{"$error":"#VALUE!"}}]
[null,{"$f":"Sprawdz_pesel(Formularz!#REF!)","v":{"$error":"#VALUE!"}}]
[null,{"$f":"Sprawdz_pesel(Formularz!#REF!)","v":{"$error":"#VALUE!"}}]
[null,{"$f":"Sprawdz_pesel(Formularz!#REF!)","v":{"$error":"#VALUE!"}}]
[null,{"$f":"Sprawdz_pesel(Formularz!#REF!)","v":{"$error":"#VALUE!"}}]
[null,{"$f":"Sprawdz_pesel(Formularz!#REF!)","v":{"$error":"#VALUE!"}}]
[null,{"$f":"Sprawdz_pesel(Formularz!#REF!)","v":{"$error":"#VALUE!"}}]
[null,{"$f":"Sprawdz_pesel(Formularz!#REF!)","v":{"$error":"#VALUE!"}}]
[null,{"$f":"Sprawdz_pesel(Formularz!#REF!)","v":{"$error":"#VALUE!"}}]
[null,{"$f":"Sprawdz_pesel(Formularz!#REF!)","v":{"$error":"#VALUE!"}}]
[null,{"$f":"Sprawdz_pesel(Formularz!#REF!)","v":{"$error":"#VALUE!"}}]
[null,{"$f":"Sprawdz_pesel(Formularz!#REF!)","v":{"$error":"#VALUE!"}}]
[null,{"$f":"Sprawdz_pesel(Formularz!#REF!)","v":{"$error":"#VALUE!"}}]
[null,{"$f":"Sprawdz_pesel(Formularz!#REF!)","v":{"$error":"#VALUE!"}}]
[null,{"$f":"Sprawdz_pesel(Formularz!#REF!)","v":{"$error":"#VALUE!"}}]
[null,{"$f":"Sprawdz_pesel(Formularz!#REF!)","v":{"$error":"#VALUE!"}}]
[null,{"$f":"Sprawdz_pesel(Formularz!#REF!)","v":{"$error":"#VALUE!"}}]
[null,{"$f":"Sprawdz_pesel(Formularz!#REF!)","v":{"$error":"#VALUE!"}}]
[null,{"$f":"Sprawdz_pesel(Formularz!#REF!)","v":{"$error":"#VALUE!"}}]
[null,{"$f":"Sprawdz_pesel(Formularz!#REF!)","v":{"$error":"#VALUE!"}}]
[null,{"$f":"Sprawdz_pesel(Formularz!#REF!)","v":{"$error":"#VALUE!"}}]
[null,{"$f":"Sprawdz_pesel(Formularz!#REF!)","v":{"$error":"#VALUE!"}}]
[null,{"$f":"Sprawdz_pesel(Formularz!#REF!)","v":{"$error":"#VALUE!"}}]
[null,{"$f":"Sprawdz_pesel(Formularz!#REF!)","v":{"$error":"#VALUE!"}}]
[null,{"$f":"Sprawdz_pesel(Formularz!#REF!)","v":{"$error":"#VALUE!"}}]
[null,{"$f":"Sprawdz_pesel(Formularz!#REF!)","v":{"$error":"#VALUE!"}}]
[null,{"$f":"Sprawdz_pesel(Formularz!#REF!)","v":{"$error":"#VALUE!"}}]
[null,{"$f":"Sprawdz_pesel(Formularz!#REF!)","v":{"$error":"#VALUE!"}}]
[null,{"$f":"Sprawdz_pesel(Formularz!#REF!)","v":{"$error":"#VALUE!"}}]
[null,{"$f":"Sprawdz_pesel(Formularz!#REF!)","v":{"$error":"#VALUE!"}}]
[null,{"$f":"Sprawdz_pesel(Formularz!#REF!)","v":{"$error":"#VALUE!"}}]
[null,{"$f":"Sprawdz_pesel(Formularz!#REF!)","v":{"$error":"#VALUE!"}}]
[null,{"$f":"Sprawdz_pesel(Formularz!#REF!)","v":{"$error":"#VALUE!"}}]
[null,{"$f":"Sprawdz_pesel(Formularz!#REF!)","v":{"$error":"#VALUE!"}}]
[null,{"$f":"Sprawdz_pesel(Formularz!#REF!)","v":{"$error":"#VALUE!"}}]
[null,{"$f":"Sprawdz_pesel(Formularz!#REF!)","v":{"$error":"#VALUE!"}}]
[null,{"$f":"Sprawdz_pesel(Formularz!#REF!)","v":{"$error":"#VALUE!"}}]
[null,{"$f":"Sprawdz_pesel(Formularz!#REF!)","v":{"$error":"#VALUE!"}}]
[null,{"$f":"Sprawdz_pesel(Formularz!#REF!)","v":{"$error":"#VALUE!"}}]
[null,{"$f":"Sprawdz_pesel(Formularz!#REF!)","v":{"$error":"#VALUE!"}}]
[null,{"$f":"Sprawdz_pesel(Formularz!#REF!)","v":{"$error":"#VALUE!"}}]
[null,{"$f":"Sprawdz_pesel(Formularz!#REF!)","v":{"$error":"#VALUE!"}}]
[null,{"$f":"Sprawdz_pesel(Formularz!#REF!)","v":{"$error":"#VALUE!"}}]
[null,{"$f":"Sprawdz_pesel(Formularz!#REF!)","v":{"$error":"#VALUE!"}}]
[null,{"$f":"Sprawdz_pesel(Formularz!#REF!)","v":{"$error":"#VALUE!"}}]
[null,{"$f":"Sprawdz_pesel(Formularz!#REF!)","v":{"$error":"#VALUE!"}}]
[null,{"$f":"Sprawdz_pesel(Formularz!#REF!)","v":{"$error":"#VALUE!"}}]
[null,{"$f":"Sprawdz_pesel(Formularz!#REF!)","v":{"$error":"#VALUE!"}}]
[null,{"$f":"Sprawdz_pesel(Formularz!#REF!)","v":{"$error":"#VALUE!"}}]
[null,{"$f":"Sprawdz_pesel(Formularz!#REF!)","v":{"$error":"#VALUE!"}}]
[null,{"$f":"Sprawdz_pesel(Formularz!#REF!)","v":{"$error":"#VALUE!"}}]
[null,{"$f":"Sprawdz_pesel(Formularz!#REF!)","v":{"$error":"#VALUE!"}}]
[null,{"$f":"Sprawdz_pesel(Formularz!#REF!)","v":{"$error":"#VALUE!"}}]
[null,{"$f":"Sprawdz_pesel(Formularz!#REF!)","v":{"$error":"#VALUE!"}}]
[null,{"$f":"Sprawdz_pesel(Formularz!#REF!)","v":{"$error":"#VALUE!"}}]
[null,{"$f":"Sprawdz_pesel(Formularz!#REF!)","v":{"$error":"#VALUE!"}}]
[null,{"$f":"Sprawdz_pesel(Formularz!#REF!)","v":{"$error":"#VALUE!"}}]
[null,{"$f":"Sprawdz_pesel(Formularz!#REF!)","v":{"$error":"#VALUE!"}}]
[null,{"$f":"Sprawdz_pesel(Formularz!#REF!)","v":{"$error":"#VALUE!"}}]
[null,{"$f":"Sprawdz_pesel(Formularz!#REF!)","v":{"$error":"#VALUE!"}}]
[null,{"$f":"Sprawdz_pesel(Formularz!#REF!)","v":{"$error":"#VALUE!"}}]
[null,{"$f":"Sprawdz_pesel(Formularz!#REF!)","v":{"$error":"#VALUE!"}}]
[null,{"$f":"Sprawdz_pesel(Formularz!#REF!)","v":{"$error":"#VALUE!"}}]
[null,{"$f":"Sprawdz_pesel(Formularz!#REF!)","v":{"$error":"#VALUE!"}}]
[null,{"$f":"Sprawdz_pesel(Formularz!#REF!)","v":{"$error":"#VALUE!"}}]
[null,{"$f":"Sprawdz_pesel(Formularz!#REF!)","v":{"$error":"#VALUE!"}}]
[null,{"$f":"Sprawdz_pesel(Formularz!#REF!)","v":{"$error":"#VALUE!"}}]
[null,{"$f":"Sprawdz_pesel(Formularz!#REF!)","v":{"$error":"#VALUE!"}}]
[null,{"$f":"Sprawdz_pesel(Formularz!#REF!)","v":{"$error":"#VALUE!"}}]
[null,{"$f":"Sprawdz_pesel(Formularz!#REF!)","v":{"$error":"#VALUE!"}}]
[null,{"$f":"Sprawdz_pesel(Formularz!#REF!)","v":{"$error":"#VALUE!"}}]
[null,{"$f":"Sprawdz_pesel(Formularz!#REF!)","v":{"$error":"#VALUE!"}}]
[null,{"$f":"Sprawdz_pesel(Formularz!#REF!)","v":{"$error":"#VALUE!"}}]
[null,{"$f":"Sprawdz_pesel(Formularz!#REF!)","v":{"$error":"#VALUE!"}}]
[null,{"$f":"Sprawdz_pesel(Formularz!#REF!)","v":{"$error":"#VALUE!"}}]
[null,{"$f":"Sprawdz_pesel(Formularz!#REF!)","v":{"$error":"#VALUE!"}}]
[null,{"$f":"Sprawdz_pesel(Formularz!#REF!)","v":{"$error":"#VALUE!"}}]
[null,{"$f":"Sprawdz_pesel(Formularz!#REF!)","v":{"$error":"#VALUE!"}}]
[null,{"$f":"Sprawdz_pesel(Formularz!#REF!)","v":{"$error":"#VALUE!"}}]
[null,{"$f":"Sprawdz_pesel(Formularz!#REF!)","v":{"$error":"#VALUE!"}}]
[null,{"$f":"Sprawdz_pesel(Formularz!#REF!)","v":{"$error":"#VALUE!"}}]
[null,{"$f":"Sprawdz_pesel(Formularz!#REF!)","v":{"$error":"#VALUE!"}}]
[null,{"$f":"Sprawdz_pesel(Formularz!#REF!)","v":{"$error":"#VALUE!"}}]
[null,{"$f":"Sprawdz_pesel(Formularz!#REF!)","v":{"$error":"#VALUE!"}}]
[null,{"$f":"Sprawdz_pesel(Formularz!#REF!)","v":{"$error":"#VALUE!"}}]
[null,{"$f":"Sprawdz_pesel(Formularz!#REF!)","v":{"$error":"#VALUE!"}}]
[null,{"$f":"Sprawdz_pesel(Formularz!#REF!)","v":{"$error":"#VALUE!"}}]
[null,{"$f":"Sprawdz_pesel(Formularz!#REF!)","v":{"$error":"#VALUE!"}}]
[null,{"$f":"Sprawdz_pesel(Formularz!#REF!)","v":{"$error":"#VALUE!"}}]
[null,{"$f":"Sprawdz_pesel(Formularz!#REF!)","v":{"$error":"#VALUE!"}}]
[null,{"$f":"Sprawdz_pesel(Formularz!#REF!)","v":{"$error":"#VALUE!"}}]
[null,{"$f":"Sprawdz_pesel(Formularz!#REF!)","v":{"$error":"#VALUE!"}}]
[null,{"$f":"Sprawdz_pesel(Formularz!#REF!)","v":{"$error":"#VALUE!"}}]
[null,{"$f":"Sprawdz_pesel(Formularz!#REF!)","v":{"$error":"#VALUE!"}}]
[null,{"$f":"Sprawdz_pesel(Formularz!#REF!)","v":{"$error":"#VALUE!"}}]
[null,{"$f":"Sprawdz_pesel(Formularz!#REF!)","v":{"$error":"#VALUE!"}}]
[null,{"$f":"Sprawdz_pesel(Formularz!#REF!)","v":{"$error":"#VALUE!"}}]
[null,{"$f":"Sprawdz_pesel(Formularz!#REF!)","v":{"$error":"#VALUE!"}}]
[null,{"$f":"Sprawdz_pesel(Formularz!#REF!)","v":{"$error":"#VALUE!"}}]
[null,{"$f":"Sprawdz_pesel(Formularz!#REF!)","v":{"$error":"#VALUE!"}}]
[null,{"$f":"Sprawdz_pesel(Formularz!#REF!)","v":{"$error":"#VALUE!"}}]
[null,{"$f":"Sprawdz_pesel(Formularz!#REF!)","v":{"$error":"#VALUE!"}}]
[null,{"$f":"Sprawdz_pesel(Formularz!#REF!)","v":{"$error":"#VALUE!"}}]
[null,{"$f":"Sprawdz_pesel(Formularz!#REF!)","v":{"$error":"#VALUE!"}}]
[null,{"$f":"Sprawdz_pesel(Formularz!#REF!)","v":{"$error":"#VALUE!"}}]
[null,{"$f":"Sprawdz_pesel(Formularz!#REF!)","v":{"$error":"#VALUE!"}}]
[null,{"$f":"Sprawdz_pesel(Formularz!#REF!)","v":{"$error":"#VALUE!"}}]
[null,{"$f":"Sprawdz_pesel(Formularz!#REF!)","v":{"$error":"#VALUE!"}}]
[null,{"$f":"Sprawdz_pesel(Formularz!#REF!)","v":{"$error":"#VALUE!"}}]
[null,{"$f":"Sprawdz_pesel(Formularz!#REF!)","v":{"$error":"#VALUE!"}}]
[null,{"$f":"Sprawdz_pesel(Formularz!#REF!)","v":{"$error":"#VALUE!"}}]
[null,{"$f":"Sprawdz_pesel(Formularz!#REF!)","v":{"$error":"#VALUE!"}}]
[null,{"$f":"Sprawdz_pesel(Formularz!#REF!)","v":{"$error":"#VALUE!"}}]
[null,{"$f":"Sprawdz_pesel(Formularz!#REF!)","v":{"$error":"#VALUE!"}}]
[null,{"$f":"Sprawdz_pesel(Formularz!#REF!)","v":{"$error":"#VALUE!"}}]
[null,{"$f":"Sprawdz_pesel(Formularz!#REF!)","v":{"$error":"#VALUE!"}}]
[null,{"$f":"Sprawdz_pesel(Formularz!#REF!)","v":{"$error":"#VALUE!"}}]
[null,{"$f":"Sprawdz_pesel(Formularz!#REF!)","v":{"$error":"#VALUE!"}}]
[null,{"$f":"Sprawdz_pesel(Formularz!#REF!)","v":{"$error":"#VALUE!"}}]
[null,{"$f":"Sprawdz_pesel(Formularz!#REF!)","v":{"$error":"#VALUE!"}}]
[null,{"$f":"Sprawdz_pesel(Formularz!#REF!)","v":{"$error":"#VALUE!"}}]
[null,{"$f":"Sprawdz_pesel(Formularz!#REF!)","v":{"$error":"#VALUE!"}}]
[null,{"$f":"Sprawdz_pesel(Formularz!#REF!)","v":{"$error":"#VALUE!"}}]
[null,{"$f":"Sprawdz_pesel(Formularz!#REF!)","v":{"$error":"#VALUE!"}}]
[null,{"$f":"Sprawdz_pesel(Formularz!#REF!)","v":{"$error":"#VALUE!"}}]
[null,{"$f":"Sprawdz_pesel(Formularz!#REF!)","v":{"$error":"#VALUE!"}}]
[null,{"$f":"Sprawdz_pesel(Formularz!#REF!)","v":{"$error":"#VALUE!"}}]
[null,{"$f":"Sprawdz_pesel(Formularz!#REF!)","v":{"$error":"#VALUE!"}}]
[null,{"$f":"Sprawdz_pesel(Formularz!#REF!)","v":{"$error":"#VALUE!"}}]
[null,{"$f":"Sprawdz_pesel(Formularz!#REF!)","v":{"$error":"#VALUE!"}}]
[null,{"$f":"Sprawdz_pesel(Formularz!#REF!)","v":{"$error":"#VALUE!"}}]
[null,{"$f":"Sprawdz_pesel(Formularz!#REF!)","v":{"$error":"#VALUE!"}}]
[null,{"$f":"Sprawdz_pesel(Formularz!#REF!)","v":{"$error":"#VALUE!"}}]
[null,{"$f":"Sprawdz_pesel(Formularz!#REF!)","v":{"$error":"#VALUE!"}}]
[null,{"$f":"Sprawdz_pesel(Formularz!#REF!)","v":{"$error":"#VALUE!"}}]
[null,{"$f":"Sprawdz_pesel(Formularz!#REF!)","v":{"$error":"#VALUE!"}}]
[null,{"$f":"Sprawdz_pesel(Formularz!#REF!)","v":{"$error":"#VALUE!"}}]
[null,{"$f":"Sprawdz_pesel(Formularz!#REF!)","v":{"$error":"#VALUE!"}}]
[null,{"$f":"Sprawdz_pesel(Formularz!#REF!)","v":{"$error":"#VALUE!"}}]
[null,{"$f":"Sprawdz_pesel(Formularz!#REF!)","v":{"$error":"#VALUE!"}}]
[null,{"$f":"Sprawdz_pesel(Formularz!#REF!)","v":{"$error":"#VALUE!"}}]
[null,{"$f":"Sprawdz_pesel(Formularz!#REF!)","v":{"$error":"#VALUE!"}}]
[null,{"$f":"Sprawdz_pesel(Formularz!#REF!)","v":{"$error":"#VALUE!"}}]
[null,{"$f":"Sprawdz_pesel(Formularz!#REF!)","v":{"$error":"#VALUE!"}}]
[null,{"$f":"Sprawdz_pesel(Formularz!#REF!)","v":{"$error":"#VALUE!"}}]
[null,{"$f":"Sprawdz_pesel(Formularz!#REF!)","v":{"$error":"#VALUE!"}}]
[null,{"$f":"Sprawdz_pesel(Formularz!#REF!)","v":{"$error":"#VALUE!"}}]
[null,{"$f":"Sprawdz_pesel(Formularz!#REF!)","v":{"$error":"#VALUE!"}}]
[null,{"$f":"Sprawdz_pesel(Formularz!#REF!)","v":{"$error":"#VALUE!"}}]
[null,{"$f":"Sprawdz_pesel(Formularz!#REF!)","v":{"$error":"#VALUE!"}}]
[null,{"$f":"Sprawdz_pesel(Formularz!#REF!)","v":{"$error":"#VALUE!"}}]
[null,{"$f":"Sprawdz_pesel(Formularz!#REF!)","v":{"$error":"#VALUE!"}}]
[null,{"$f":"Sprawdz_pesel(Formularz!#REF!)","v":{"$error":"#VALUE!"}}]
[null,{"$f":"Sprawdz_pesel(Formularz!#REF!)","v":{"$error":"#VALUE!"}}]
[null,{"$f":"Sprawdz_pesel(Formularz!#REF!)","v":{"$error":"#VALUE!"}}]
[null,{"$f":"Sprawdz_pesel(Formularz!#REF!)","v":{"$error":"#VALUE!"}}]
[null,{"$f":"Sprawdz_pesel(Formularz!#REF!)","v":{"$error":"#VALUE!"}}]
[null,{"$f":"Sprawdz_pesel(Formularz!#REF!)","v":{"$error":"#VALUE!"}}]
[null,{"$f":"Sprawdz_pesel(Formularz!#REF!)","v":{"$error":"#VALUE!"}}]
[null,{"$f":"Sprawdz_pesel(Formularz!#REF!)","v":{"$error":"#VALUE!"}}]
[null,{"$f":"Sprawdz_pesel(Formularz!#REF!)","v":{"$error":"#VALUE!"}}]
[null,{"$f":"Sprawdz_pesel(Formularz!#REF!)","v":{"$error":"#VALUE!"}}]
[null,{"$f":"Sprawdz_pesel(Formularz!#REF!)","v":{"$error":"#VALUE!"}}]
[null,{"$f":"Sprawdz_pesel(Formularz!#REF!)","v":{"$error":"#VALUE!"}}]
[null,{"$f":"Sprawdz_pesel(Formularz!#REF!)","v":{"$error":"#VALUE!"}}]
[null,{"$f":"Sprawdz_pesel(Formularz!#REF!)","v":{"$error":"#VALUE!"}}]
[null,{"$f":"Sprawdz_pesel(Formularz!#REF!)","v":{"$error":"#VALUE!"}}]
[null,{"$f":"Sprawdz_pesel(Formularz!#REF!)","v":{"$error":"#VALUE!"}}]
[null,{"$f":"Sprawdz_pesel(Formularz!#REF!)","v":{"$error":"#VALUE!"}}]
[null,{"$f":"Sprawdz_pesel(Formularz!#REF!)","v":{"$error":"#VALUE!"}}]
[null,{"$f":"Sprawdz_pesel(Formularz!#REF!)","v":{"$error":"#VALUE!"}}]
[null,{"$f":"Sprawdz_pesel(Formularz!#REF!)","v":{"$error":"#VALUE!"}}]
[null,{"$f":"Sprawdz_pesel(Formularz!#REF!)","v":{"$error":"#VALUE!"}}]
[null,{"$f":"Sprawdz_pesel(Formularz!#REF!)","v":{"$error":"#VALUE!"}}]
[null,{"$f":"Sprawdz_pesel(Formularz!#REF!)","v":{"$error":"#VALUE!"}}]
[null,{"$f":"Sprawdz_pesel(Formularz!#REF!)","v":{"$error":"#VALUE!"}}]
[null,{"$f":"Sprawdz_pesel(Formularz!#REF!)","v":{"$error":"#VALUE!"}}]
[null,{"$f":"Sprawdz_pesel(Formularz!#REF!)","v":{"$error":"#VALUE!"}}]
[null,{"$f":"Sprawdz_pesel(Formularz!#REF!)","v":{"$error":"#VALUE!"}}]
[null,{"$f":"Sprawdz_pesel(Formularz!#REF!)","v":{"$error":"#VALUE!"}}]
[null,{"$f":"Sprawdz_pesel(Formularz!#REF!)","v":{"$error":"#VALUE!"}}]
[null,{"$f":"Sprawdz_pesel(Formularz!#REF!)","v":{"$error":"#VALUE!"}}]
[null,{"$f":"Sprawdz_pesel(Formularz!#REF!)","v":{"$error":"#VALUE!"}}]
[null,{"$f":"Sprawdz_pesel(Formularz!#REF!)","v":{"$error":"#VALUE!"}}]
[null,{"$f":"Sprawdz_pesel(Formularz!#REF!)","v":{"$error":"#VALUE!"}}]
[null,{"$f":"Sprawdz_pesel(Formularz!#REF!)","v":{"$error":"#VALUE!"}}]
[null,{"$f":"Sprawdz_pesel(Formularz!#REF!)","v":{"$error":"#VALUE!"}}]
[null,{"$f":"Sprawdz_pesel(Formularz!#REF!)","v":{"$error":"#VALUE!"}}]
[null,{"$f":"Sprawdz_pesel(Formularz!#REF!)","v":{"$error":"#VALUE!"}}]
[null,{"$f":"Sprawdz_pesel(Formularz!#REF!)","v":{"$error":"#VALUE!"}}]
[null,{"$f":"Sprawdz_pesel(Formularz!#REF!)","v":{"$error":"#VALUE!"}}]
[null,{"$f":"Sprawdz_pesel(Formularz!#REF!)","v":{"$error":"#VALUE!"}}]
[null,{"$f":"Sprawdz_pesel(Formularz!#REF!)","v":{"$error":"#VALUE!"}}]
[null,{"$f":"Sprawdz_pesel(Formularz!#REF!)","v":{"$error":"#VALUE!"}}]
[null,{"$f":"Sprawdz_pesel(Formularz!#REF!)","v":{"$error":"#VALUE!"}}]
[null,{"$f":"Sprawdz_pesel(Formularz!#REF!)","v":{"$error":"#VALUE!"}}]
[null,{"$f":"Sprawdz_pesel(Formularz!#REF!)","v":{"$error":"#VALUE!"}}]
[null,{"$f":"Sprawdz_pesel(Formularz!#REF!)","v":{"$error":"#VALUE!"}}]
[null,{"$f":"Sprawdz_pesel(Formularz!#REF!)","v":{"$error":"#VALUE!"}}]
[null,{"$f":"Sprawdz_pesel(Formularz!#REF!)","v":{"$error":"#VALUE!"}}]
[null,{"$f":"Sprawdz_pesel(Formularz!#REF!)","v":{"$error":"#VALUE!"}}]
[null,{"$f":"Sprawdz_pesel(Formularz!#REF!)","v":{"$error":"#VALUE!"}}]
[null,{"$f":"Sprawdz_pesel(Formularz!#REF!)","v":{"$error":"#VALUE!"}}]
[null,{"$f":"Sprawdz_pesel(Formularz!#REF!)","v":{"$error":"#VALUE!"}}]
[null,{"$f":"Sprawdz_pesel(Formularz!#REF!)","v":{"$error":"#VALUE!"}}]
[null,{"$f":"Sprawdz_pesel(Formularz!#REF!)","v":{"$error":"#VALUE!"}}]
[null,{"$f":"Sprawdz_pesel(Formularz!#REF!)","v":{"$error":"#VALUE!"}}]
[null,{"$f":"Sprawdz_pesel(Formularz!#REF!)","v":{"$error":"#VALUE!"}}]
[null,{"$f":"Sprawdz_pesel(Formularz!#REF!)","v":{"$error":"#VALUE!"}}]
[null,{"$f":"Sprawdz_pesel(Formularz!#REF!)","v":{"$error":"#VALUE!"}}]
[null,{"$f":"Sprawdz_pesel(Formularz!#REF!)","v":{"$error":"#VALUE!"}}]
[null,{"$f":"Sprawdz_pesel(Formularz!#REF!)","v":{"$error":"#VALUE!"}}]
[null,{"$f":"Sprawdz_pesel(Formularz!#REF!)","v":{"$error":"#VALUE!"}}]
[null,{"$f":"Sprawdz_pesel(Formularz!#REF!)","v":{"$error":"#VALUE!"}}]
[null,{"$f":"Sprawdz_pesel(Formularz!#REF!)","v":{"$error":"#VALUE!"}}]
[null,{"$f":"Sprawdz_pesel(Formularz!#REF!)","v":{"$error":"#VALUE!"}}]
[null,{"$f":"Sprawdz_pesel(Formularz!#REF!)","v":{"$error":"#VALUE!"}}]
[null,{"$f":"Sprawdz_pesel(Formularz!#REF!)","v":{"$error":"#VALUE!"}}]
[null,{"$f":"Sprawdz_pesel(Formularz!#REF!)","v":{"$error":"#VALUE!"}}]
[null,{"$f":"Sprawdz_pesel(Formularz!#REF!)","v":{"$error":"#VALUE!"}}]
[null,{"$f":"Sprawdz_pesel(Formularz!#REF!)","v":{"$error":"#VALUE!"}}]
[null,{"$f":"Sprawdz_pesel(Formularz!#REF!)","v":{"$error":"#VALUE!"}}]
[null,{"$f":"Sprawdz_pesel(Formularz!#REF!)","v":{"$error":"#VALUE!"}}]
[null,{"$f":"Sprawdz_pesel(Formularz!#REF!)","v":{"$error":"#VALUE!"}}]
[null,{"$f":"Sprawdz_pesel(Formularz!#REF!)","v":{"$error":"#VALUE!"}}]
[null,{"$f":"Sprawdz_pesel(Formularz!#REF!)","v":{"$error":"#VALUE!"}}]
[null,{"$f":"Sprawdz_pesel(Formularz!#REF!)","v":{"$error":"#VALUE!"}}]
[null,{"$f":"Sprawdz_pesel(Formularz!#REF!)","v":{"$error":"#VALUE!"}}]
[null,{"$f":"Sprawdz_pesel(Formularz!#REF!)","v":{"$error":"#VALUE!"}}]
[null,{"$f":"Sprawdz_pesel(Formularz!#REF!)","v":{"$error":"#VALUE!"}}]
[null,{"$f":"Sprawdz_pesel(Formularz!#REF!)","v":{"$error":"#VALUE!"}}]
[null,{"$f":"Sprawdz_pesel(Formularz!#REF!)","v":{"$error":"#VALUE!"}}]
[null,{"$f":"Sprawdz_pesel(Formularz!#REF!)","v":{"$error":"#VALUE!"}}]
[null,{"$f":"Sprawdz_pesel(Formularz!#REF!)","v":{"$error":"#VALUE!"}}]
[null,{"$f":"Sprawdz_pesel(Formularz!#REF!)","v":{"$error":"#VALUE!"}}]
[null,{"$f":"Sprawdz_pesel(Formularz!#REF!)","v":{"$error":"#VALUE!"}}]
[null,{"$f":"Sprawdz_pesel(Formularz!#REF!)","v":{"$error":"#VALUE!"}}]
[null,{"$f":"Sprawdz_pesel(Formularz!#REF!)","v":{"$error":"#VALUE!"}}]
[null,{"$f":"Sprawdz_pesel(Formularz!#REF!)","v":{"$error":"#VALUE!"}}]
[null,{"$f":"Sprawdz_pesel(Formularz!#REF!)","v":{"$error":"#VALUE!"}}]
[null,{"$f":"Sprawdz_pesel(Formularz!#REF!)","v":{"$error":"#VALUE!"}}]
[null,{"$f":"Sprawdz_pesel(Formularz!#REF!)","v":{"$error":"#VALUE!"}}]
[null,{"$f":"Sprawdz_pesel(Formularz!#REF!)","v":{"$error":"#VALUE!"}}]
[null,{"$f":"Sprawdz_pesel(Formularz!#REF!)","v":{"$error":"#VALUE!"}}]
[null,{"$f":"Sprawdz_pesel(Formularz!#REF!)","v":{"$error":"#VALUE!"}}]
[null,{"$f":"Sprawdz_pesel(Formularz!#REF!)","v":{"$error":"#VALUE!"}}]
[null,{"$f":"Sprawdz_pesel(Formularz!#REF!)","v":{"$error":"#VALUE!"}}]
[null,{"$f":"Sprawdz_pesel(Formularz!#REF!)","v":{"$error":"#VALUE!"}}]
[null,{"$f":"Sprawdz_pesel(Formularz!#REF!)","v":{"$error":"#VALUE!"}}]
[null,{"$f":"Sprawdz_pesel(Formularz!#REF!)","v":{"$error":"#VALUE!"}}]
[null,{"$f":"Sprawdz_pesel(Formularz!#REF!)","v":{"$error":"#VALUE!"}}]
[null,{"$f":"Sprawdz_pesel(Formularz!#REF!)","v":{"$error":"#VALUE!"}}]
[null,{"$f":"Sprawdz_pesel(Formularz!#REF!)","v":{"$error":"#VALUE!"}}]
[null,{"$f":"Sprawdz_pesel(Formularz!#REF!)","v":{"$error":"#VALUE!"}}]
[null,{"$f":"Sprawdz_pesel(Formularz!#REF!)","v":{"$error":"#VALUE!"}}]
[null,{"$f":"Sprawdz_pesel(Formularz!#REF!)","v":{"$error":"#VALUE!"}}]
[null,{"$f":"Sprawdz_pesel(Formularz!#REF!)","v":{"$error":"#VALUE!"}}]
[null,{"$f":"Sprawdz_pesel(Formularz!#REF!)","v":{"$error":"#VALUE!"}}]
[null,{"$f":"Sprawdz_pesel(Formularz!#REF!)","v":{"$error":"#VALUE!"}}]
[null,{"$f":"Sprawdz_pesel(Formularz!#REF!)","v":{"$error":"#VALUE!"}}]
[null,{"$f":"Sprawdz_pesel(Formularz!#REF!)","v":{"$error":"#VALUE!"}}]
[null,{"$f":"Sprawdz_pesel(Formularz!#REF!)","v":{"$error":"#VALUE!"}}]
[null,{"$f":"Sprawdz_pesel(Formularz!#REF!)","v":{"$error":"#VALUE!"}}]
[null,{"$f":"Sprawdz_pesel(Formularz!#REF!)","v":{"$error":"#VALUE!"}}]
[null,{"$f":"Sprawdz_pesel(Formularz!#REF!)","v":{"$error":"#VALUE!"}}]
[null,{"$f":"Sprawdz_pesel(Formularz!#REF!)","v":{"$error":"#VALUE!"}}]
[null,{"$f":"Sprawdz_pesel(Formularz!#REF!)","v":{"$error":"#VALUE!"}}]
[null,{"$f":"Sprawdz_pesel(Formularz!#REF!)","v":{"$error":"#VALUE!"}}]
[null,{"$f":"Sprawdz_pesel(Formularz!#REF!)","v":{"$error":"#VALUE!"}}]
[null,{"$f":"Sprawdz_pesel(Formularz!#REF!)","v":{"$error":"#VALUE!"}}]
[null,{"$f":"Sprawdz_pesel(Formularz!#REF!)","v":{"$error":"#VALUE!"}}]
[null,{"$f":"Sprawdz_pesel(Formularz!#REF!)","v":{"$error":"#VALUE!"}}]
[null,{"$f":"Sprawdz_pesel(Formularz!#REF!)","v":{"$error":"#VALUE!"}}]
[null,{"$f":"Sprawdz_pesel(Formularz!#REF!)","v":{"$error":"#VALUE!"}}]
[null,{"$f":"Sprawdz_pesel(Formularz!#REF!)","v":{"$error":"#VALUE!"}}]
[null,{"$f":"Sprawdz_pesel(Formularz!#REF!)","v":{"$error":"#VALUE!"}}]
[null,{"$f":"Sprawdz_pesel(Formularz!#REF!)","v":{"$error":"#VALUE!"}}]
[null,{"$f":"Sprawdz_pesel(Formularz!#REF!)","v":{"$error":"#VALUE!"}}]
[null,{"$f":"Sprawdz_pesel(Formularz!#REF!)","v":{"$error":"#VALUE!"}}]
[null,{"$f":"Sprawdz_pesel(Formularz!#REF!)","v":{"$error":"#VALUE!"}}]
[null,{"$f":"Sprawdz_pesel(Formularz!#REF!)","v":{"$error":"#VALUE!"}}]
[null,{"$f":"Sprawdz_pesel(Formularz!#REF!)","v":{"$error":"#VALUE!"}}]
[null,{"$f":"Sprawdz_pesel(Formularz!#REF!)","v":{"$error":"#VALUE!"}}]
[null,{"$f":"Sprawdz_pesel(Formularz!#REF!)","v":{"$error":"#VALUE!"}}]
[null,{"$f":"Sprawdz_pesel(Formularz!#REF!)","v":{"$error":"#VALUE!"}}]
[null,{"$f":"Sprawdz_pesel(Formularz!#REF!)","v":{"$error":"#VALUE!"}}]
[null,{"$f":"Sprawdz_pesel(Formularz!#REF!)","v":{"$error":"#VALUE!"}}]
[null,{"$f":"Sprawdz_pesel(Formularz!#REF!)","v":{"$error":"#VALUE!"}}]
[null,{"$f":"Sprawdz_pesel(Formularz!#REF!)","v":{"$error":"#VALUE!"}}]
[null,{"$f":"Sprawdz_pesel(Formularz!#REF!)","v":{"$error":"#VALUE!"}}]
[null,{"$f":"Sprawdz_pesel(Formularz!#REF!)","v":{"$error":"#VALUE!"}}]
[null,{"$f":"Sprawdz_pesel(Formularz!#REF!)","v":{"$error":"#VALUE!"}}]
[null,{"$f":"Sprawdz_pesel(Formularz!#REF!)","v":{"$error":"#VALUE!"}}]
[null,{"$f":"Sprawdz_pesel(Formularz!#REF!)","v":{"$error":"#VALUE!"}}]
[null,{"$f":"Sprawdz_pesel(Formularz!#REF!)","v":{"$error":"#VALUE!"}}]
[null,{"$f":"Sprawdz_pesel(Formularz!#REF!)","v":{"$error":"#VALUE!"}}]
[null,{"$f":"Sprawdz_pesel(Formularz!#REF!)","v":{"$error":"#VALUE!"}}]
[null,{"$f":"Sprawdz_pesel(Formularz!#REF!)","v":{"$error":"#VALUE!"}}]
[null,{"$f":"Sprawdz_pesel(Formularz!#REF!)","v":{"$error":"#VALUE!"}}]
[null,{"$f":"Sprawdz_pesel(Formularz!#REF!)","v":{"$error":"#VALUE!"}}]
[null,{"$f":"Sprawdz_pesel(Formularz!#REF!)","v":{"$error":"#VALUE!"}}]
[null,{"$f":"Sprawdz_pesel(Formularz!#REF!)","v":{"$error":"#VALUE!"}}]
[null,{"$f":"Sprawdz_pesel(Formularz!#REF!)","v":{"$error":"#VALUE!"}}]
[null,{"$f":"Sprawdz_pesel(Formularz!#REF!)","v":{"$error":"#VALUE!"}}]
[null,{"$f":"Sprawdz_pesel(Formularz!#REF!)","v":{"$error":"#VALUE!"}}]
[null,{"$f":"Sprawdz_pesel(Formularz!#REF!)","v":{"$error":"#VALUE!"}}]
[null,{"$f":"Sprawdz_pesel(Formularz!#REF!)","v":{"$error":"#VALUE!"}}]
[null,{"$f":"Sprawdz_pesel(Formularz!#REF!)","v":{"$error":"#VALUE!"}}]
[null,{"$f":"Sprawdz_pesel(Formularz!#REF!)","v":{"$error":"#VALUE!"}}]
[null,{"$f":"Sprawdz_pesel(Formularz!#REF!)","v":{"$error":"#VALUE!"}}]
[null,{"$f":"Sprawdz_pesel(Formularz!#REF!)","v":{"$error":"#VALUE!"}}]
[null,{"$f":"Sprawdz_pesel(Formularz!#REF!)","v":{"$error":"#VALUE!"}}]
[null,{"$f":"Sprawdz_pesel(Formularz!#REF!)","v":{"$error":"#VALUE!"}}]
[null,{"$f":"Sprawdz_pesel(Formularz!#REF!)","v":{"$error":"#VALUE!"}}]
[null,{"$f":"Sprawdz_pesel(Formularz!#REF!)","v":{"$error":"#VALUE!"}}]
[null,{"$f":"Sprawdz_pesel(Formularz!#REF!)","v":{"$error":"#VALUE!"}}]
[null,{"$f":"Sprawdz_pesel(Formularz!#REF!)","v":{"$error":"#VALUE!"}}]
[null,{"$f":"Sprawdz_pesel(Formularz!#REF!)","v":{"$error":"#VALUE!"}}]
[null,{"$f":"Sprawdz_pesel(Formularz!#REF!)","v":{"$error":"#VALUE!"}}]
[null,{"$f":"Sprawdz_pesel(Formularz!#REF!)","v":{"$error":"#VALUE!"}}]
[null,{"$f":"Sprawdz_pesel(Formularz!#REF!)","v":{"$error":"#VALUE!"}}]
[null,{"$f":"Sprawdz_pesel(Formularz!#REF!)","v":{"$error":"#VALUE!"}}]
[null,{"$f":"Sprawdz_pesel(Formularz!#REF!)","v":{"$error":"#VALUE!"}}]
[null,{"$f":"Sprawdz_pesel(Formularz!#REF!)","v":{"$error":"#VALUE!"}}]
[null,{"$f":"Sprawdz_pesel(Formularz!#REF!)","v":{"$error":"#VALUE!"}}]
[null,{"$f":"Sprawdz_pesel(Formularz!#REF!)","v":{"$error":"#VALUE!"}}]
[null,{"$f":"Sprawdz_pesel(Formularz!#REF!)","v":{"$error":"#VALUE!"}}]
[null,{"$f":"Sprawdz_pesel(Formularz!#REF!)","v":{"$error":"#VALUE!"}}]
[null,{"$f":"Sprawdz_pesel(Formularz!#REF!)","v":{"$error":"#VALUE!"}}]
[null,{"$f":"Sprawdz_pesel(Formularz!#REF!)","v":{"$error":"#VALUE!"}}]
[null,{"$f":"Sprawdz_pesel(Formularz!#REF!)","v":{"$error":"#VALUE!"}}]
[null,{"$f":"Sprawdz_pesel(Formularz!#REF!)","v":{"$error":"#VALUE!"}}]
[null,{"$f":"Sprawdz_pesel(Formularz!#REF!)","v":{"$error":"#VALUE!"}}]
[null,{"$f":"Sprawdz_pesel(Formularz!#REF!)","v":{"$error":"#VALUE!"}}]
[null,{"$f":"Sprawdz_pesel(Formularz!#REF!)","v":{"$error":"#VALUE!"}}]
[null,{"$f":"Sprawdz_pesel(Formularz!#REF!)","v":{"$error":"#VALUE!"}}]
[null,{"$f":"Sprawdz_pesel(Formularz!#REF!)","v":{"$error":"#VALUE!"}}]
[null,{"$f":"Sprawdz_pesel(Formularz!#REF!)","v":{"$error":"#VALUE!"}}]
[null,{"$f":"Sprawdz_pesel(Formularz!#REF!)","v":{"$error":"#VALUE!"}}]
[null,{"$f":"Sprawdz_pesel(Formularz!#REF!)","v":{"$error":"#VALUE!"}}]
[null,{"$f":"Sprawdz_pesel(Formularz!#REF!)","v":{"$error":"#VALUE!"}}]
[null,{"$f":"Sprawdz_pesel(Formularz!#REF!)","v":{"$error":"#VALUE!"}}]
[null,{"$f":"Sprawdz_pesel(Formularz!#REF!)","v":{"$error":"#VALUE!"}}]
[null,{"$f":"Sprawdz_pesel(Formularz!#REF!)","v":{"$error":"#VALUE!"}}]
[null,{"$f":"Sprawdz_pesel(Formularz!#REF!)","v":{"$error":"#VALUE!"}}]
[null,{"$f":"Sprawdz_pesel(Formularz!#REF!)","v":{"$error":"#VALUE!"}}]
[null,{"$f":"Sprawdz_pesel(Formularz!#REF!)","v":{"$error":"#VALUE!"}}]
[null,{"$f":"Sprawdz_pesel(Formularz!#REF!)","v":{"$error":"#VALUE!"}}]
[null,{"$f":"Sprawdz_pesel(Formularz!#REF!)","v":{"$error":"#VALUE!"}}]
[null,{"$f":"Sprawdz_pesel(Formularz!#REF!)","v":{"$error":"#VALUE!"}}]
[null,{"$f":"Sprawdz_pesel(Formularz!#REF!)","v":{"$error":"#VALUE!"}}]
[null,{"$f":"Sprawdz_pesel(Formularz!#REF!)","v":{"$error":"#VALUE!"}}]
[null,{"$f":"Sprawdz_pesel(Formularz!#REF!)","v":{"$error":"#VALUE!"}}]
[null,{"$f":"Sprawdz_pesel(Formularz!#REF!)","v":{"$error":"#VALUE!"}}]
[null,{"$f":"Sprawdz_pesel(Formularz!#REF!)","v":{"$error":"#VALUE!"}}]
[null,{"$f":"Sprawdz_pesel(Formularz!#REF!)","v":{"$error":"#VALUE!"}}]
[null,{"$f":"Sprawdz_pesel(Formularz!#REF!)","v":{"$error":"#VALUE!"}}]
[null,{"$f":"Sprawdz_pesel(Formularz!#REF!)","v":{"$error":"#VALUE!"}}]
[null,{"$f":"Sprawdz_pesel(Formularz!#REF!)","v":{"$error":"#VALUE!"}}]
[null,{"$f":"Sprawdz_pesel(Formularz!#REF!)","v":{"$error":"#VALUE!"}}]
[null,{"$f":"Sprawdz_pesel(Formularz!#REF!)","v":{"$error":"#VALUE!"}}]
[null,{"$f":"Sprawdz_pesel(Formularz!#REF!)","v":{"$error":"#VALUE!"}}]
[null,{"$f":"Sprawdz_pesel(Formularz!#REF!)","v":{"$error":"#VALUE!"}}]
[null,{"$f":"Sprawdz_pesel(Formularz!#REF!)","v":{"$error":"#VALUE!"}}]
[null,{"$f":"Sprawdz_pesel(Formularz!#REF!)","v":{"$error":"#VALUE!"}}]
[null,{"$f":"Sprawdz_pesel(Formularz!#REF!)","v":{"$error":"#VALUE!"}}]
[null,{"$f":"Sprawdz_pesel(Formularz!#REF!)","v":{"$error":"#VALUE!"}}]
[null,{"$f":"Sprawdz_pesel(Formularz!#REF!)","v":{"$error":"#VALUE!"}}]
[null,{"$f":"Sprawdz_pesel(Formularz!#REF!)","v":{"$error":"#VALUE!"}}]
[null,{"$f":"Sprawdz_pesel(Formularz!#REF!)","v":{"$error":"#VALUE!"}}]
[null,{"$f":"Sprawdz_pesel(Formularz!#REF!)","v":{"$error":"#VALUE!"}}]
[null,{"$f":"Sprawdz_pesel(Formularz!#REF!)","v":{"$error":"#VALUE!"}}]
[null,{"$f":"Sprawdz_pesel(Formularz!#REF!)","v":{"$error":"#VALUE!"}}]
[null,{"$f":"Sprawdz_pesel(Formularz!#REF!)","v":{"$error":"#VALUE!"}}]
[null,{"$f":"Sprawdz_pesel(Formularz!#REF!)","v":{"$error":"#VALUE!"}}]
[null,{"$f":"Sprawdz_pesel(Formularz!#REF!)","v":{"$error":"#VALUE!"}}]
[null,{"$f":"Sprawdz_pesel(Formularz!#REF!)","v":{"$error":"#VALUE!"}}]
[null,{"$f":"Sprawdz_pesel(Formularz!#REF!)","v":{"$error":"#VALUE!"}}]
[null,{"$f":"Sprawdz_pesel(Formularz!#REF!)","v":{"$error":"#VALUE!"}}]
[null,{"$f":"Sprawdz_pesel(Formularz!#REF!)","v":{"$error":"#VALUE!"}}]
[null,{"$f":"Sprawdz_pesel(Formularz!#REF!)","v":{"$error":"#VALUE!"}}]
[null,{"$f":"Sprawdz_pesel(Formularz!#REF!)","v":{"$error":"#VALUE!"}}]
[null,{"$f":"Sprawdz_pesel(Formularz!#REF!)","v":{"$error":"#VALUE!"}}]
[null,{"$f":"Sprawdz_pesel(Formularz!#REF!)","v":{"$error":"#VALUE!"}}]
[null,{"$f":"Sprawdz_pesel(Formularz!#REF!)","v":{"$error":"#VALUE!"}}]
[null,{"$f":"Sprawdz_pesel(Formularz!#REF!)","v":{"$error":"#VALUE!"}}]
[null,{"$f":"Sprawdz_pesel(Formularz!#REF!)","v":{"$error":"#VALUE!"}}]
[null,{"$f":"Sprawdz_pesel(Formularz!#REF!)","v":{"$error":"#VALUE!"}}]
[null,{"$f":"Sprawdz_pesel(Formularz!#REF!)","v":{"$error":"#VALUE!"}}]
[null,{"$f":"Sprawdz_pesel(Formularz!#REF!)","v":{"$error":"#VALUE!"}}]
[null,{"$f":"Sprawdz_pesel(Formularz!#REF!)","v":{"$error":"#VALUE!"}}]
[null,{"$f":"Sprawdz_pesel(Formularz!#REF!)","v":{"$error":"#VALUE!"}}]
[null,{"$f":"Sprawdz_pesel(Formularz!#REF!)","v":{"$error":"#VALUE!"}}]
[null,{"$f":"Sprawdz_pesel(Formularz!#REF!)","v":{"$error":"#VALUE!"}}]
[null,{"$f":"Sprawdz_pesel(Formularz!#REF!)","v":{"$error":"#VALUE!"}}]
[null,{"$f":"Sprawdz_pesel(Formularz!#REF!)","v":{"$error":"#VALUE!"}}]
[null,{"$f":"Sprawdz_pesel(Formularz!#REF!)","v":{"$error":"#VALUE!"}}]
[null,{"$f":"Sprawdz_pesel(Formularz!#REF!)","v":{"$error":"#VALUE!"}}]
[null,{"$f":"Sprawdz_pesel(Formularz!#REF!)","v":{"$error":"#VALUE!"}}]
[null,{"$f":"Sprawdz_pesel(Formularz!#REF!)","v":{"$error":"#VALUE!"}}]
[null,{"$f":"Sprawdz_pesel(Formularz!#REF!)","v":{"$error":"#VALUE!"}}]
[null,{"$f":"Sprawdz_pesel(Formularz!#REF!)","v":{"$error":"#VALUE!"}}]
[null,{"$f":"Sprawdz_pesel(Formularz!#REF!)","v":{"$error":"#VALUE!"}}]
[null,{"$f":"Sprawdz_pesel(Formularz!#REF!)","v":{"$error":"#VALUE!"}}]
[null,{"$f":"Sprawdz_pesel(Formularz!#REF!)","v":{"$error":"#VALUE!"}}]
[null,{"$f":"Sprawdz_pesel(Formularz!#REF!)","v":{"$error":"#VALUE!"}}]
[null,{"$f":"Sprawdz_pesel(Formularz!#REF!)","v":{"$error":"#VALUE!"}}]
[null,{"$f":"Sprawdz_pesel(Formularz!#REF!)","v":{"$error":"#VALUE!"}}]
[null,{"$f":"Sprawdz_pesel(Formularz!#REF!)","v":{"$error":"#VALUE!"}}]
[null,{"$f":"Sprawdz_pesel(Formularz!#REF!)","v":{"$error":"#VALUE!"}}]
[null,{"$f":"Sprawdz_pesel(Formularz!#REF!)","v":{"$error":"#VALUE!"}}]
[null,{"$f":"Sprawdz_pesel(Formularz!#REF!)","v":{"$error":"#VALUE!"}}]
[null,{"$f":"Sprawdz_pesel(Formularz!#REF!)","v":{"$error":"#VALUE!"}}]
[null,{"$f":"Sprawdz_pesel(Formularz!#REF!)","v":{"$error":"#VALUE!"}}]
[null,{"$f":"Sprawdz_pesel(Formularz!#REF!)","v":{"$error":"#VALUE!"}}]
[null,{"$f":"Sprawdz_pesel(Formularz!#REF!)","v":{"$error":"#VALUE!"}}]
[null,{"$f":"Sprawdz_pesel(Formularz!#REF!)","v":{"$error":"#VALUE!"}}]
[null,{"$f":"Sprawdz_pesel(Formularz!#REF!)","v":{"$error":"#VALUE!"}}]
[null,{"$f":"Sprawdz_pesel(Formularz!#REF!)","v":{"$error":"#VALUE!"}}]
[null,{"$f":"Sprawdz_pesel(Formularz!#REF!)","v":{"$error":"#VALUE!"}}]
[null,{"$f":"Sprawdz_pesel(Formularz!#REF!)","v":{"$error":"#VALUE!"}}]
[null,{"$f":"Sprawdz_pesel(Formularz!#REF!)","v":{"$error":"#VALUE!"}}]
[null,{"$f":"Sprawdz_pesel(Formularz!#REF!)","v":{"$error":"#VALUE!"}}]
[null,{"$f":"Sprawdz_pesel(Formularz!#REF!)","v":{"$error":"#VALUE!"}}]
[null,{"$f":"Sprawdz_pesel(Formularz!#REF!)","v":{"$error":"#VALUE!"}}]
[null,{"$f":"Sprawdz_pesel(Formularz!#REF!)","v":{"$error":"#VALUE!"}}]
[null,{"$f":"Sprawdz_pesel(Formularz!#REF!)","v":{"$error":"#VALUE!"}}]
[null,{"$f":"Sprawdz_pesel(Formularz!#REF!)","v":{"$error":"#VALUE!"}}]
[null,{"$f":"Sprawdz_pesel(Formularz!#REF!)","v":{"$error":"#VALUE!"}}]
[null,{"$f":"Sprawdz_pesel(Formularz!#REF!)","v":{"$error":"#VALUE!"}}]
[null,{"$f":"Sprawdz_pesel(Formularz!#REF!)","v":{"$error":"#VALUE!"}}]
[null,{"$f":"Sprawdz_pesel(Formularz!#REF!)","v":{"$error":"#VALUE!"}}]
[null,{"$f":"Sprawdz_pesel(Formularz!#REF!)","v":{"$error":"#VALUE!"}}]
[null,{"$f":"Sprawdz_pesel(Formularz!#REF!)","v":{"$error":"#VALUE!"}}]
[null,{"$f":"Sprawdz_pesel(Formularz!#REF!)","v":{"$error":"#VALUE!"}}]
[null,{"$f":"Sprawdz_pesel(Formularz!#REF!)","v":{"$error":"#VALUE!"}}]
[null,{"$f":"Sprawdz_pesel(Formularz!#REF!)","v":{"$error":"#VALUE!"}}]
[null,{"$f":"Sprawdz_pesel(Formularz!#REF!)","v":{"$error":"#VALUE!"}}]
[null,{"$f":"Sprawdz_pesel(Formularz!#REF!)","v":{"$error":"#VALUE!"}}]
[null,{"$f":"Sprawdz_pesel(Formularz!#REF!)","v":{"$error":"#VALUE!"}}]
[null,{"$f":"Sprawdz_pesel(Formularz!#REF!)","v":{"$error":"#VALUE!"}}]
[null,{"$f":"Sprawdz_pesel(Formularz!#REF!)","v":{"$error":"#VALUE!"}}]
[null,{"$f":"Sprawdz_pesel(Formularz!#REF!)","v":{"$error":"#VALUE!"}}]
[null,{"$f":"Sprawdz_pesel(Formularz!#REF!)","v":{"$error":"#VALUE!"}}]
[null,{"$f":"Sprawdz_pesel(Formularz!#REF!)","v":{"$error":"#VALUE!"}}]
[null,{"$f":"Sprawdz_pesel(Formularz!#REF!)","v":{"$error":"#VALUE!"}}]
[null,{"$f":"Sprawdz_pesel(Formularz!#REF!)","v":{"$error":"#VALUE!"}}]
[null,{"$f":"Sprawdz_pesel(Formularz!#REF!)","v":{"$error":"#VALUE!"}}]
[null,{"$f":"Sprawdz_pesel(Formularz!#REF!)","v":{"$error":"#VALUE!"}}]
[null,{"$f":"Sprawdz_pesel(Formularz!#REF!)","v":{"$error":"#VALUE!"}}]
[null,{"$f":"Sprawdz_pesel(Formularz!#REF!)","v":{"$error":"#VALUE!"}}]
[null,{"$f":"Sprawdz_pesel(Formularz!#REF!)","v":{"$error":"#VALUE!"}}]
[null,{"$f":"Sprawdz_pesel(Formularz!#REF!)","v":{"$error":"#VALUE!"}}]
[null,{"$f":"Sprawdz_pesel(Formularz!#REF!)","v":{"$error":"#VALUE!"}}]
[null,{"$f":"Sprawdz_pesel(Formularz!#REF!)","v":{"$error":"#VALUE!"}}]
[null,{"$f":"Sprawdz_pesel(Formularz!#REF!)","v":{"$error":"#VALUE!"}}]
[null,{"$f":"Sprawdz_pesel(Formularz!#REF!)","v":{"$error":"#VALUE!"}}]
[null,{"$f":"Sprawdz_pesel(Formularz!#REF!)","v":{"$error":"#VALUE!"}}]
[null,{"$f":"Sprawdz_pesel(Formularz!#REF!)","v":{"$error":"#VALUE!"}}]
[null,{"$f":"Sprawdz_pesel(Formularz!#REF!)","v":{"$error":"#VALUE!"}}]
[null,{"$f":"Sprawdz_pesel(Formularz!#REF!)","v":{"$error":"#VALUE!"}}]
[null,{"$f":"Sprawdz_pesel(Formularz!#REF!)","v":{"$error":"#VALUE!"}}]
[null,{"$f":"Sprawdz_pesel(Formularz!#REF!)","v":{"$error":"#VALUE!"}}]
[null,{"$f":"Sprawdz_pesel(Formularz!#REF!)","v":{"$error":"#VALUE!"}}]
[null,{"$f":"Sprawdz_pesel(Formularz!#REF!)","v":{"$error":"#VALUE!"}}]
[null,{"$f":"Sprawdz_pesel(Formularz!#REF!)","v":{"$error":"#VALUE!"}}]
[null,{"$f":"Sprawdz_pesel(Formularz!#REF!)","v":{"$error":"#VALUE!"}}]
[null,{"$f":"Sprawdz_pesel(Formularz!#REF!)","v":{"$error":"#VALUE!"}}]
[null,{"$f":"Sprawdz_pesel(Formularz!#REF!)","v":{"$error":"#VALUE!"}}]
[null,{"$f":"Sprawdz_pesel(Formularz!#REF!)","v":{"$error":"#VALUE!"}}]
[null,{"$f":"Sprawdz_pesel(Formularz!#REF!)","v":{"$error":"#VALUE!"}}]
[null,{"$f":"Sprawdz_pesel(Formularz!#REF!)","v":{"$error":"#VALUE!"}}]
[null,{"$f":"Sprawdz_pesel(Formularz!#REF!)","v":{"$error":"#VALUE!"}}]
[null,{"$f":"Sprawdz_pesel(Formularz!#REF!)","v":{"$error":"#VALUE!"}}]
[null,{"$f":"Sprawdz_pesel(Formularz!#REF!)","v":{"$error":"#VALUE!"}}]
[null,{"$f":"Sprawdz_pesel(Formularz!#REF!)","v":{"$error":"#VALUE!"}}]
[null,{"$f":"Sprawdz_pesel(Formularz!#REF!)","v":{"$error":"#VALUE!"}}]
[null,{"$f":"Sprawdz_pesel(Formularz!#REF!)","v":{"$error":"#VALUE!"}}]
[null,{"$f":"Sprawdz_pesel(Formularz!#REF!)","v":{"$error":"#VALUE!"}}]
[null,{"$f":"Sprawdz_pesel(Formularz!#REF!)","v":{"$error":"#VALUE!"}}]
[null,{"$f":"Sprawdz_pesel(Formularz!#REF!)","v":{"$error":"#VALUE!"}}]
[null,{"$f":"Sprawdz_pesel(Formularz!#REF!)","v":{"$error":"#VALUE!"}}]
[null,{"$f":"Sprawdz_pesel(Formularz!#REF!)","v":{"$error":"#VALUE!"}}]
[null,{"$f":"Sprawdz_pesel(Formularz!#REF!)","v":{"$error":"#VALUE!"}}]
[null,{"$f":"Sprawdz_pesel(Formularz!#REF!)","v":{"$error":"#VALUE!"}}]
[null,{"$f":"Sprawdz_pesel(Formularz!#REF!)","v":{"$error":"#VALUE!"}}]
[null,{"$f":"Sprawdz_pesel(Formularz!#REF!)","v":{"$error":"#VALUE!"}}]
[null,{"$f":"Sprawdz_pesel(Formularz!#REF!)","v":{"$error":"#VALUE!"}}]
[null,{"$f":"Sprawdz_pesel(Formularz!#REF!)","v":{"$error":"#VALUE!"}}]
[null,{"$f":"Sprawdz_pesel(Formularz!#REF!)","v":{"$error":"#VALUE!"}}]
[null,{"$f":"Sprawdz_pesel(Formularz!#REF!)","v":{"$error":"#VALUE!"}}]
[null,{"$f":"Sprawdz_pesel(Formularz!#REF!)","v":{"$error":"#VALUE!"}}]
[null,{"$f":"Sprawdz_pesel(Formularz!#REF!)","v":{"$error":"#VALUE!"}}]
[null,{"$f":"Sprawdz_pesel(Formularz!#REF!)","v":{"$error":"#VALUE!"}}]
[null,{"$f":"Sprawdz_pesel(Formularz!#REF!)","v":{"$error":"#VALUE!"}}]
[null,{"$f":"Sprawdz_pesel(Formularz!#REF!)","v":{"$error":"#VALUE!"}}]
[null,{"$f":"Sprawdz_pesel(Formularz!#REF!)","v":{"$error":"#VALUE!"}}]
[null,{"$f":"Sprawdz_pesel(Formularz!#REF!)","v":{"$error":"#VALUE!"}}]
[null,{"$f":"Sprawdz_pesel(Formularz!#REF!)","v":{"$error":"#VALUE!"}}]
[null,{"$f":"Sprawdz_pesel(Formularz!#REF!)","v":{"$error":"#VALUE!"}}]
[null,{"$f":"Sprawdz_pesel(Formularz!#REF!)","v":{"$error":"#VALUE!"}}]
[null,{"$f":"Sprawdz_pesel(Formularz!#REF!)","v":{"$error":"#VALUE!"}}]
[null,{"$f":"Sprawdz_pesel(Formularz!#REF!)","v":{"$error":"#VALUE!"}}]
[null,{"$f":"Sprawdz_pesel(Formularz!#REF!)","v":{"$error":"#VALUE!"}}]
[null,{"$f":"Sprawdz_pesel(Formularz!#REF!)","v":{"$error":"#VALUE!"}}]
[null,{"$f":"Sprawdz_pesel(Formularz!#REF!)","v":{"$error":"#VALUE!"}}]
[null,{"$f":"Sprawdz_pesel(Formularz!#REF!)","v":{"$error":"#VALUE!"}}]
[null,{"$f":"Sprawdz_pesel(Formularz!#REF!)","v":{"$error":"#VALUE!"}}]
[null,{"$f":"Sprawdz_pesel(Formularz!#REF!)","v":{"$error":"#VALUE!"}}]
[null,{"$f":"Sprawdz_pesel(Formularz!#REF!)","v":{"$error":"#VALUE!"}}]
[null,{"$f":"Sprawdz_pesel(Formularz!#REF!)","v":{"$error":"#VALUE!"}}]
[null,{"$f":"Sprawdz_pesel(Formularz!#REF!)","v":{"$error":"#VALUE!"}}]
[null,{"$f":"Sprawdz_pesel(Formularz!#REF!)","v":{"$error":"#VALUE!"}}]
[null,{"$f":"Sprawdz_pesel(Formularz!#REF!)","v":{"$error":"#VALUE!"}}]
[null,{"$f":"Sprawdz_pesel(Formularz!#REF!)","v":{"$error":"#VALUE!"}}]
[null,{"$f":"Sprawdz_pesel(Formularz!#REF!)","v":{"$error":"#VALUE!"}}]
[null,{"$f":"Sprawdz_pesel(Formularz!#REF!)","v":{"$error":"#VALUE!"}}]
[null,{"$f":"Sprawdz_pesel(Formularz!#REF!)","v":{"$error":"#VALUE!"}}]
[null,{"$f":"Sprawdz_pesel(Formularz!#REF!)","v":{"$error":"#VALUE!"}}]
[null,{"$f":"Sprawdz_pesel(Formularz!#REF!)","v":{"$error":"#VALUE!"}}]
[null,{"$f":"Sprawdz_pesel(Formularz!#REF!)","v":{"$error":"#VALUE!"}}]
[null,{"$f":"Sprawdz_pesel(Formularz!#REF!)","v":{"$error":"#VALUE!"}}]
[null,{"$f":"Sprawdz_pesel(Formularz!#REF!)","v":{"$error":"#VALUE!"}}]
[null,{"$f":"Sprawdz_pesel(Formularz!#REF!)","v":{"$error":"#VALUE!"}}]
[null,{"$f":"Sprawdz_pesel(Formularz!#REF!)","v":{"$error":"#VALUE!"}}]
[null,{"$f":"Sprawdz_pesel(Formularz!#REF!)","v":{"$error":"#VALUE!"}}]
[null,{"$f":"Sprawdz_pesel(Formularz!#REF!)","v":{"$error":"#VALUE!"}}]
[null,{"$f":"Sprawdz_pesel(Formularz!#REF!)","v":{"$error":"#VALUE!"}}]
[null,{"$f":"Sprawdz_pesel(Formularz!#REF!)","v":{"$error":"#VALUE!"}}]
[null,{"$f":"Sprawdz_pesel(Formularz!#REF!)","v":{"$error":"#VALUE!"}}]
[null,{"$f":"Sprawdz_pesel(Formularz!#REF!)","v":{"$error":"#VALUE!"}}]
[null,{"$f":"Sprawdz_pesel(Formularz!#REF!)","v":{"$error":"#VALUE!"}}]
[null,{"$f":"Sprawdz_pesel(Formularz!#REF!)","v":{"$error":"#VALUE!"}}]
[null,{"$f":"Sprawdz_pesel(Formularz!#REF!)","v":{"$error":"#VALUE!"}}]
[null,{"$f":"Sprawdz_pesel(Formularz!#REF!)","v":{"$error":"#VALUE!"}}]
[null,{"$f":"Sprawdz_pesel(Formularz!#REF!)","v":{"$error":"#VALUE!"}}]
[null,{"$f":"Sprawdz_pesel(Formularz!#REF!)","v":{"$error":"#VALUE!"}}]
[null,{"$f":"Sprawdz_pesel(Formularz!#REF!)","v":{"$error":"#VALUE!"}}]
[null,{"$f":"Sprawdz_pesel(Formularz!#REF!)","v":{"$error":"#VALUE!"}}]
[null,{"$f":"Sprawdz_pesel(Formularz!#REF!)","v":{"$error":"#VALUE!"}}]
[null,{"$f":"Sprawdz_pesel(Formularz!#REF!)","v":{"$error":"#VALUE!"}}]
[null,{"$f":"Sprawdz_pesel(Formularz!#REF!)","v":{"$error":"#VALUE!"}}]
[null,{"$f":"Sprawdz_pesel(Formularz!#REF!)","v":{"$error":"#VALUE!"}}]
[null,{"$f":"Sprawdz_pesel(Formularz!#REF!)","v":{"$error":"#VALUE!"}}]
[null,{"$f":"Sprawdz_pesel(Formularz!#REF!)","v":{"$error":"#VALUE!"}}]
[null,{"$f":"Sprawdz_pesel(Formularz!#REF!)","v":{"$error":"#VALUE!"}}]
[null,{"$f":"Sprawdz_pesel(Formularz!#REF!)","v":{"$error":"#VALUE!"}}]
[null,{"$f":"Sprawdz_pesel(Formularz!#REF!)","v":{"$error":"#VALUE!"}}]
[null,{"$f":"Sprawdz_pesel(Formularz!#REF!)","v":{"$error":"#VALUE!"}}]
[null,{"$f":"Sprawdz_pesel(Formularz!#REF!)","v":{"$error":"#VALUE!"}}]
[null,{"$f":"Sprawdz_pesel(Formularz!#REF!)","v":{"$error":"#VALUE!"}}]
[null,{"$f":"Sprawdz_pesel(Formularz!#REF!)","v":{"$error":"#VALUE!"}}]
[null,{"$f":"Sprawdz_pesel(Formularz!#REF!)","v":{"$error":"#VALUE!"}}]
[null,{"$f":"Sprawdz_pesel(Formularz!#REF!)","v":{"$error":"#VALUE!"}}]
[null,{"$f":"Sprawdz_pesel(Formularz!#REF!)","v":{"$error":"#VALUE!"}}]
[null,{"$f":"Sprawdz_pesel(Formularz!#REF!)","v":{"$error":"#VALUE!"}}]
[null,{"$f":"Sprawdz_pesel(Formularz!#REF!)","v":{"$error":"#VALUE!"}}]
[null,{"$f":"Sprawdz_pesel(Formularz!#REF!)","v":{"$error":"#VALUE!"}}]
[null,{"$f":"Sprawdz_pesel(Formularz!#REF!)","v":{"$error":"#VALUE!"}}]
[null,{"$f":"Sprawdz_pesel(Formularz!#REF!)","v":{"$error":"#VALUE!"}}]
[null,{"$f":"Sprawdz_pesel(Formularz!#REF!)","v":{"$error":"#VALUE!"}}]
[null,{"$f":"Sprawdz_pesel(Formularz!#REF!)","v":{"$error":"#VALUE!"}}]
[null,{"$f":"Sprawdz_pesel(Formularz!#REF!)","v":{"$error":"#VALUE!"}}]
[null,{"$f":"Sprawdz_pesel(Formularz!#REF!)","v":{"$error":"#VALUE!"}}]
[null,{"$f":"Sprawdz_pesel(Formularz!#REF!)","v":{"$error":"#VALUE!"}}]
[null,{"$f":"Sprawdz_pesel(Formularz!#REF!)","v":{"$error":"#VALUE!"}}]
[null,{"$f":"Sprawdz_pesel(Formularz!#REF!)","v":{"$error":"#VALUE!"}}]
[null,{"$f":"Sprawdz_pesel(Formularz!#REF!)","v":{"$error":"#VALUE!"}}]
[null,{"$f":"Sprawdz_pesel(Formularz!#REF!)","v":{"$error":"#VALUE!"}}]
[null,{"$f":"Sprawdz_pesel(Formularz!#REF!)","v":{"$error":"#VALUE!"}}]
[null,{"$f":"Sprawdz_pesel(Formularz!#REF!)","v":{"$error":"#VALUE!"}}]
[null,{"$f":"Sprawdz_pesel(Formularz!#REF!)","v":{"$error":"#VALUE!"}}]
[null,{"$f":"Sprawdz_pesel(Formularz!#REF!)","v":{"$error":"#VALUE!"}}]
[null,{"$f":"Sprawdz_pesel(Formularz!#REF!)","v":{"$error":"#VALUE!"}}]
[null,{"$f":"Sprawdz_pesel(Formularz!#REF!)","v":{"$error":"#VALUE!"}}]
[null,{"$f":"Sprawdz_pesel(Formularz!#REF!)","v":{"$error":"#VALUE!"}}]
[null,{"$f":"Sprawdz_pesel(Formularz!#REF!)","v":{"$error":"#VALUE!"}}]
[null,{"$f":"Sprawdz_pesel(Formularz!#REF!)","v":{"$error":"#VALUE!"}}]
[null,{"$f":"Sprawdz_pesel(Formularz!#REF!)","v":{"$error":"#VALUE!"}}]
[null,{"$f":"Sprawdz_pesel(Formularz!#REF!)","v":{"$error":"#VALUE!"}}]
[null,{"$f":"Sprawdz_pesel(Formularz!#REF!)","v":{"$error":"#VALUE!"}}]
[null,{"$f":"Sprawdz_pesel(Formularz!#REF!)","v":{"$error":"#VALUE!"}}]
[null,{"$f":"Sprawdz_pesel(Formularz!#REF!)","v":{"$error":"#VALUE!"}}]
[null,{"$f":"Sprawdz_pesel(Formularz!#REF!)","v":{"$error":"#VALUE!"}}]
[null,{"$f":"Sprawdz_pesel(Formularz!#REF!)","v":{"$error":"#VALUE!"}}]
[null,{"$f":"Sprawdz_pesel(Formularz!#REF!)","v":{"$error":"#VALUE!"}}]
[null,{"$f":"Sprawdz_pesel(Formularz!#REF!)","v":{"$error":"#VALUE!"}}]
[null,{"$f":"Sprawdz_pesel(Formularz!#REF!)","v":{"$error":"#VALUE!"}}]
[null,{"$f":"Sprawdz_pesel(Formularz!#REF!)","v":{"$error":"#VALUE!"}}]
[null,{"$f":"Sprawdz_pesel(Formularz!#REF!)","v":{"$error":"#VALUE!"}}]
[null,{"$f":"Sprawdz_pesel(Formularz!#REF!)","v":{"$error":"#VALUE!"}}]
[null,{"$f":"Sprawdz_pesel(Formularz!#REF!)","v":{"$error":"#VALUE!"}}]
[null,{"$f":"Sprawdz_pesel(Formularz!#REF!)","v":{"$error":"#VALUE!"}}]
[null,{"$f":"Sprawdz_pesel(Formularz!#REF!)","v":{"$error":"#VALUE!"}}]
[null,{"$f":"Sprawdz_pesel(Formularz!#REF!)","v":{"$error":"#VALUE!"}}]
[null,{"$f":"Sprawdz_pesel(Formularz!#REF!)","v":{"$error":"#VALUE!"}}]
[null,{"$f":"Sprawdz_pesel(Formularz!#REF!)","v":{"$error":"#VALUE!"}}]
[null,{"$f":"Sprawdz_pesel(Formularz!#REF!)","v":{"$error":"#VALUE!"}}]
[null,{"$f":"Sprawdz_pesel(Formularz!#REF!)","v":{"$error":"#VALUE!"}}]
[null,{"$f":"Sprawdz_pesel(Formularz!#REF!)","v":{"$error":"#VALUE!"}}]
[null,{"$f":"Sprawdz_pesel(Formularz!#REF!)","v":{"$error":"#VALUE!"}}]
[null,{"$f":"Sprawdz_pesel(Formularz!#REF!)","v":{"$error":"#VALUE!"}}]
[null,{"$f":"Sprawdz_pesel(Formularz!#REF!)","v":{"$error":"#VALUE!"}}]
[null,{"$f":"Sprawdz_pesel(Formularz!#REF!)","v":{"$error":"#VALUE!"}}]
[null,{"$f":"Sprawdz_pesel(Formularz!#REF!)","v":{"$error":"#VALUE!"}}]
[null,{"$f":"Sprawdz_pesel(Formularz!#REF!)","v":{"$error":"#VALUE!"}}]
[null,{"$f":"Sprawdz_pesel(Formularz!#REF!)","v":{"$error":"#VALUE!"}}]
[null,{"$f":"Sprawdz_pesel(Formularz!#REF!)","v":{"$error":"#VALUE!"}}]
[null,{"$f":"Sprawdz_pesel(Formularz!#REF!)","v":{"$error":"#VALUE!"}}]
[null,{"$f":"Sprawdz_pesel(Formularz!#REF!)","v":{"$error":"#VALUE!"}}]
[null,{"$f":"Sprawdz_pesel(Formularz!#REF!)","v":{"$error":"#VALUE!"}}]
[null,{"$f":"Sprawdz_pesel(Formularz!#REF!)","v":{"$error":"#VALUE!"}}]
[null,{"$f":"Sprawdz_pesel(Formularz!#REF!)","v":{"$error":"#VALUE!"}}]
[null,{"$f":"Sprawdz_pesel(Formularz!#REF!)","v":{"$error":"#VALUE!"}}]
[null,{"$f":"Sprawdz_pesel(Formularz!#REF!)","v":{"$error":"#VALUE!"}}]
[null,{"$f":"Sprawdz_pesel(Formularz!#REF!)","v":{"$error":"#VALUE!"}}]
[null,{"$f":"Sprawdz_pesel(Formularz!#REF!)","v":{"$error":"#VALUE!"}}]
[null,{"$f":"Sprawdz_pesel(Formularz!#REF!)","v":{"$error":"#VALUE!"}}]
[null,{"$f":"Sprawdz_pesel(Formularz!#REF!)","v":{"$error":"#VALUE!"}}]
[null,{"$f":"Sprawdz_pesel(Formularz!#REF!)","v":{"$error":"#VALUE!"}}]
[null,{"$f":"Sprawdz_pesel(Formularz!#REF!)","v":{"$error":"#VALUE!"}}]
[null,{"$f":"Sprawdz_pesel(Formularz!#REF!)","v":{"$error":"#VALUE!"}}]
[null,{"$f":"Sprawdz_pesel(Formularz!#REF!)","v":{"$error":"#VALUE!"}}]
[null,{"$f":"Sprawdz_pesel(Formularz!#REF!)","v":{"$error":"#VALUE!"}}]
[null,{"$f":"Sprawdz_pesel(Formularz!#REF!)","v":{"$error":"#VALUE!"}}]
[null,{"$f":"Sprawdz_pesel(Formularz!#REF!)","v":{"$error":"#VALUE!"}}]
[null,{"$f":"Sprawdz_pesel(Formularz!#REF!)","v":{"$error":"#VALUE!"}}]
[null,{"$f":"Sprawdz_pesel(Formularz!#REF!)","v":{"$error":"#VALUE!"}}]
[null,{"$f":"Sprawdz_pesel(Formularz!#REF!)","v":{"$error":"#VALUE!"}}]
[null,{"$f":"Sprawdz_pesel(Formularz!#REF!)","v":{"$error":"#VALUE!"}}]
[null,{"$f":"Sprawdz_pesel(Formularz!#REF!)","v":{"$error":"#VALUE!"}}]
[null,{"$f":"Sprawdz_pesel(Formularz!#REF!)","v":{"$error":"#VALUE!"}}]
[null,{"$f":"Sprawdz_pesel(Formularz!#REF!)","v":{"$error":"#VALUE!"}}]
[null,{"$f":"Sprawdz_pesel(Formularz!#REF!)","v":{"$error":"#VALUE!"}}]
[null,{"$f":"Sprawdz_pesel(Formularz!#REF!)","v":{"$error":"#VALUE!"}}]
[null,{"$f":"Sprawdz_pesel(Formularz!#REF!)","v":{"$error":"#VALUE!"}}]
[null,{"$f":"Sprawdz_pesel(Formularz!#REF!)","v":{"$error":"#VALUE!"}}]
[null,{"$f":"Sprawdz_pesel(Formularz!#REF!)","v":{"$error":"#VALUE!"}}]
[null,{"$f":"Sprawdz_pesel(Formularz!#REF!)","v":{"$error":"#VALUE!"}}]
[null,{"$f":"Sprawdz_pesel(Formularz!#REF!)","v":{"$error":"#VALUE!"}}]
[null,{"$f":"Sprawdz_pesel(Formularz!#REF!)","v":{"$error":"#VALUE!"}}]
[null,{"$f":"Sprawdz_pesel(Formularz!#REF!)","v":{"$error":"#VALUE!"}}]
[null,{"$f":"Sprawdz_pesel(Formularz!#REF!)","v":{"$error":"#VALUE!"}}]
[null,{"$f":"Sprawdz_pesel(Formularz!#REF!)","v":{"$error":"#VALUE!"}}]
[null,{"$f":"Sprawdz_pesel(Formularz!#REF!)","v":{"$error":"#VALUE!"}}]
[null,{"$f":"Sprawdz_pesel(Formularz!#REF!)","v":{"$error":"#VALUE!"}}]
[null,{"$f":"Sprawdz_pesel(Formularz!#REF!)","v":{"$error":"#VALUE!"}}]
[null,{"$f":"Sprawdz_pesel(Formularz!#REF!)","v":{"$error":"#VALUE!"}}]
[null,{"$f":"Sprawdz_pesel(Formularz!#REF!)","v":{"$error":"#VALUE!"}}]
[null,{"$f":"Sprawdz_pesel(Formularz!#REF!)","v":{"$error":"#VALUE!"}}]
[null,{"$f":"Sprawdz_pesel(Formularz!#REF!)","v":{"$error":"#VALUE!"}}]
[null,{"$f":"Sprawdz_pesel(Formularz!#REF!)","v":{"$error":"#VALUE!"}}]
[null,{"$f":"Sprawdz_pesel(Formularz!#REF!)","v":{"$error":"#VALUE!"}}]
[null,{"$f":"Sprawdz_pesel(Formularz!#REF!)","v":{"$error":"#VALUE!"}}]
[null,{"$f":"Sprawdz_pesel(Formularz!#REF!)","v":{"$error":"#VALUE!"}}]
[null,{"$f":"Sprawdz_pesel(Formularz!#REF!)","v":{"$error":"#VALUE!"}}]
[null,{"$f":"Sprawdz_pesel(Formularz!#REF!)","v":{"$error":"#VALUE!"}}]
[null,{"$f":"Sprawdz_pesel(Formularz!#REF!)","v":{"$error":"#VALUE!"}}]
[null,{"$f":"Sprawdz_pesel(Formularz!#REF!)","v":{"$error":"#VALUE!"}}]
[null,{"$f":"Sprawdz_pesel(Formularz!#REF!)","v":{"$error":"#VALUE!"}}]
[null,{"$f":"Sprawdz_pesel(Formularz!#REF!)","v":{"$error":"#VALUE!"}}]
[null,{"$f":"Sprawdz_pesel(Formularz!#REF!)","v":{"$error":"#VALUE!"}}]
[null,{"$f":"Sprawdz_pesel(Formularz!#REF!)","v":{"$error":"#VALUE!"}}]
[null,{"$f":"Sprawdz_pesel(Formularz!#REF!)","v":{"$error":"#VALUE!"}}]
[null,{"$f":"Sprawdz_pesel(Formularz!#REF!)","v":{"$error":"#VALUE!"}}]
[null,{"$f":"Sprawdz_pesel(Formularz!#REF!)","v":{"$error":"#VALUE!"}}]
[null,{"$f":"Sprawdz_pesel(Formularz!#REF!)","v":{"$error":"#VALUE!"}}]
[null,{"$f":"Sprawdz_pesel(Formularz!#REF!)","v":{"$error":"#VALUE!"}}]
[null,{"$f":"Sprawdz_pesel(Formularz!#REF!)","v":{"$error":"#VALUE!"}}]
[null,{"$f":"Sprawdz_pesel(Formularz!#REF!)","v":{"$error":"#VALUE!"}}]
[null,{"$f":"Sprawdz_pesel(Formularz!#REF!)","v":{"$error":"#VALUE!"}}]
[null,{"$f":"Sprawdz_pesel(Formularz!#REF!)","v":{"$error":"#VALUE!"}}]
[null,{"$f":"Sprawdz_pesel(Formularz!#REF!)","v":{"$error":"#VALUE!"}}]
[null,{"$f":"Sprawdz_pesel(Formularz!#REF!)","v":{"$error":"#VALUE!"}}]
[null,{"$f":"Sprawdz_pesel(Formularz!#REF!)","v":{"$error":"#VALUE!"}}]
[null,{"$f":"Sprawdz_pesel(Formularz!#REF!)","v":{"$error":"#VALUE!"}}]
[null,{"$f":"Sprawdz_pesel(Formularz!#REF!)","v":{"$error":"#VALUE!"}}]
[null,{"$f":"Sprawdz_pesel(Formularz!#REF!)","v":{"$error":"#VALUE!"}}]
[null,{"$f":"Sprawdz_pesel(Formularz!#REF!)","v":{"$error":"#VALUE!"}}]
[null,{"$f":"Sprawdz_pesel(Formularz!#REF!)","v":{"$error":"#VALUE!"}}]
[null,{"$f":"Sprawdz_pesel(Formularz!#REF!)","v":{"$error":"#VALUE!"}}]
[null,{"$f":"Sprawdz_pesel(Formularz!#REF!)","v":{"$error":"#VALUE!"}}]
[null,{"$f":"Sprawdz_pesel(Formularz!#REF!)","v":{"$error":"#VALUE!"}}]
[null,{"$f":"Sprawdz_pesel(Formularz!#REF!)","v":{"$error":"#VALUE!"}}]
[null,{"$f":"Sprawdz_pesel(Formularz!#REF!)","v":{"$error":"#VALUE!"}}]
[null,{"$f":"Sprawdz_pesel(Formularz!#REF!)","v":{"$error":"#VALUE!"}}]
[null,{"$f":"Sprawdz_pesel(Formularz!#REF!)","v":{"$error":"#VALUE!"}}]
[null,{"$f":"Sprawdz_pesel(Formularz!#REF!)","v":{"$error":"#VALUE!"}}]
[null,{"$f":"Sprawdz_pesel(Formularz!#REF!)","v":{"$error":"#VALUE!"}}]
[null,{"$f":"Sprawdz_pesel(Formularz!#REF!)","v":{"$error":"#VALUE!"}}]
[null,{"$f":"Sprawdz_pesel(Formularz!#REF!)","v":{"$error":"#VALUE!"}}]
[null,{"$f":"Sprawdz_pesel(Formularz!#REF!)","v":{"$error":"#VALUE!"}}]
[null,{"$f":"Sprawdz_pesel(Formularz!#REF!)","v":{"$error":"#VALUE!"}}]
[null,{"$f":"Sprawdz_pesel(Formularz!#REF!)","v":{"$error":"#VALUE!"}}]
[null,{"$f":"Sprawdz_pesel(Formularz!#REF!)","v":{"$error":"#VALUE!"}}]
[null,{"$f":"Sprawdz_pesel(Formularz!#REF!)","v":{"$error":"#VALUE!"}}]
[null,{"$f":"Sprawdz_pesel(Formularz!#REF!)","v":{"$error":"#VALUE!"}}]
[null,{"$f":"Sprawdz_pesel(Formularz!#REF!)","v":{"$error":"#VALUE!"}}]
[null,{"$f":"Sprawdz_pesel(Formularz!#REF!)","v":{"$error":"#VALUE!"}}]
[null,{"$f":"Sprawdz_pesel(Formularz!#REF!)","v":{"$error":"#VALUE!"}}]
[null,{"$f":"Sprawdz_pesel(Formularz!#REF!)","v":{"$error":"#VALUE!"}}]
[null,{"$f":"Sprawdz_pesel(Formularz!#REF!)","v":{"$error":"#VALUE!"}}]
[null,{"$f":"Sprawdz_pesel(Formularz!#REF!)","v":{"$error":"#VALUE!"}}]
[null,{"$f":"Sprawdz_pesel(Formularz!#REF!)","v":{"$error":"#VALUE!"}}]
[null,{"$f":"Sprawdz_pesel(Formularz!#REF!)","v":{"$error":"#VALUE!"}}]
[null,{"$f":"Sprawdz_pesel(Formularz!#REF!)","v":{"$error":"#VALUE!"}}]
[null,{"$f":"Sprawdz_pesel(Formularz!#REF!)","v":{"$error":"#VALUE!"}}]
[null,{"$f":"Sprawdz_pesel(Formularz!#REF!)","v":{"$error":"#VALUE!"}}]
[null,{"$f":"Sprawdz_pesel(Formularz!#REF!)","v":{"$error":"#VALUE!"}}]
[null,{"$f":"Sprawdz_pesel(Formularz!#REF!)","v":{"$error":"#VALUE!"}}]
[null,{"$f":"Sprawdz_pesel(Formularz!#REF!)","v":{"$error":"#VALUE!"}}]
[null,{"$f":"Sprawdz_pesel(Formularz!#REF!)","v":{"$error":"#VALUE!"}}]
[null,{"$f":"Sprawdz_pesel(Formularz!#REF!)","v":{"$error":"#VALUE!"}}]
[null,{"$f":"Sprawdz_pesel(Formularz!#REF!)","v":{"$error":"#VALUE!"}}]
[null,{"$f":"Sprawdz_pesel(Formularz!#REF!)","v":{"$error":"#VALUE!"}}]
[null,{"$f":"Sprawdz_pesel(Formularz!#REF!)","v":{"$error":"#VALUE!"}}]
[null,{"$f":"Sprawdz_pesel(Formularz!#REF!)","v":{"$error":"#VALUE!"}}]
[null,{"$f":"Sprawdz_pesel(Formularz!#REF!)","v":{"$error":"#VALUE!"}}]
[null,{"$f":"Sprawdz_pesel(Formularz!#REF!)","v":{"$error":"#VALUE!"}}]
[null,{"$f":"Sprawdz_pesel(Formularz!#REF!)","v":{"$error":"#VALUE!"}}]
[null,{"$f":"Sprawdz_pesel(Formularz!#REF!)","v":{"$error":"#VALUE!"}}]
[null,{"$f":"Sprawdz_pesel(Formularz!#REF!)","v":{"$error":"#VALUE!"}}]
[null,{"$f":"Sprawdz_pesel(Formularz!#REF!)","v":{"$error":"#VALUE!"}}]
[null,{"$f":"Sprawdz_pesel(Formularz!#REF!)","v":{"$error":"#VALUE!"}}]
[null,{"$f":"Sprawdz_pesel(Formularz!#REF!)","v":{"$error":"#VALUE!"}}]
[null,{"$f":"Sprawdz_pesel(Formularz!#REF!)","v":{"$error":"#VALUE!"}}]
[null,{"$f":"Sprawdz_pesel(Formularz!#REF!)","v":{"$error":"#VALUE!"}}]
[null,{"$f":"Sprawdz_pesel(Formularz!#REF!)","v":{"$error":"#VALUE!"}}]
[null,{"$f":"Sprawdz_pesel(Formularz!#REF!)","v":{"$error":"#VALUE!"}}]
[null,{"$f":"Sprawdz_pesel(Formularz!#REF!)","v":{"$error":"#VALUE!"}}]
[null,{"$f":"Sprawdz_pesel(Formularz!#REF!)","v":{"$error":"#VALUE!"}}]
[null,{"$f":"Sprawdz_pesel(Formularz!#REF!)","v":{"$error":"#VALUE!"}}]
[null,{"$f":"Sprawdz_pesel(Formularz!#REF!)","v":{"$error":"#VALUE!"}}]
[null,{"$f":"Sprawdz_pesel(Formularz!#REF!)","v":{"$error":"#VALUE!"}}]
[null,{"$f":"Sprawdz_pesel(Formularz!#REF!)","v":{"$error":"#VALUE!"}}]
[null,{"$f":"Sprawdz_pesel(Formularz!#REF!)","v":{"$error":"#VALUE!"}}]
[null,{"$f":"Sprawdz_pesel(Formularz!#REF!)","v":{"$error":"#VALUE!"}}]
[null,{"$f":"Sprawdz_pesel(Formularz!#REF!)","v":{"$error":"#VALUE!"}}]
[null,{"$f":"Sprawdz_pesel(Formularz!#REF!)","v":{"$error":"#VALUE!"}}]
[null,{"$f":"Sprawdz_pesel(Formularz!#REF!)","v":{"$error":"#VALUE!"}}]
[null,{"$f":"Sprawdz_pesel(Formularz!#REF!)","v":{"$error":"#VALUE!"}}]
[null,{"$f":"Sprawdz_pesel(Formularz!#REF!)","v":{"$error":"#VALUE!"}}]
[null,{"$f":"Sprawdz_pesel(Formularz!#REF!)","v":{"$error":"#VALUE!"}}]
[null,{"$f":"Sprawdz_pesel(Formularz!#REF!)","v":{"$error":"#VALUE!"}}]
[null,{"$f":"Sprawdz_pesel(Formularz!#REF!)","v":{"$error":"#VALUE!"}}]
[null,{"$f":"Sprawdz_pesel(Formularz!#REF!)","v":{"$error":"#VALUE!"}}]
[null,{"$f":"Sprawdz_pesel(Formularz!#REF!)","v":{"$error":"#VALUE!"}}]
[null,{"$f":"Sprawdz_pesel(Formularz!#REF!)","v":{"$error":"#VALUE!"}}]
[null,{"$f":"Sprawdz_pesel(Formularz!#REF!)","v":{"$error":"#VALUE!"}}]
[null,{"$f":"Sprawdz_pesel(Formularz!#REF!)","v":{"$error":"#VALUE!"}}]
[null,{"$f":"Sprawdz_pesel(Formularz!#REF!)","v":{"$error":"#VALUE!"}}]
[null,{"$f":"Sprawdz_pesel(Formularz!#REF!)","v":{"$error":"#VALUE!"}}]
[null,{"$f":"Sprawdz_pesel(Formularz!#REF!)","v":{"$error":"#VALUE!"}}]
[null,{"$f":"Sprawdz_pesel(Formularz!#REF!)","v":{"$error":"#VALUE!"}}]
[null,{"$f":"Sprawdz_pesel(Formularz!#REF!)","v":{"$error":"#VALUE!"}}]
[null,{"$f":"Sprawdz_pesel(Formularz!#REF!)","v":{"$error":"#VALUE!"}}]
[null,{"$f":"Sprawdz_pesel(Formularz!#REF!)","v":{"$error":"#VALUE!"}}]
[null,{"$f":"Sprawdz_pesel(Formularz!#REF!)","v":{"$error":"#VALUE!"}}]
[null,{"$f":"Sprawdz_pesel(Formularz!#REF!)","v":{"$error":"#VALUE!"}}]
[null,{"$f":"Sprawdz_pesel(Formularz!#REF!)","v":{"$error":"#VALUE!"}}]
[null,{"$f":"Sprawdz_pesel(Formularz!#REF!)","v":{"$error":"#VALUE!"}}]
[null,{"$f":"Sprawdz_pesel(Formularz!#REF!)","v":{"$error":"#VALUE!"}}]
[null,{"$f":"Sprawdz_pesel(Formularz!#REF!)","v":{"$error":"#VALUE!"}}]
[null,{"$f":"Sprawdz_pesel(Formularz!#REF!)","v":{"$error":"#VALUE!"}}]
[null,{"$f":"Sprawdz_pesel(Formularz!#REF!)","v":{"$error":"#VALUE!"}}]
[null,{"$f":"Sprawdz_pesel(Formularz!#REF!)","v":{"$error":"#VALUE!"}}]
[null,{"$f":"Sprawdz_pesel(Formularz!#REF!)","v":{"$error":"#VALUE!"}}]
[null,{"$f":"Sprawdz_pesel(Formularz!#REF!)","v":{"$error":"#VALUE!"}}]
[null,{"$f":"Sprawdz_pesel(Formularz!#REF!)","v":{"$error":"#VALUE!"}}]
[null,{"$f":"Sprawdz_pesel(Formularz!#REF!)","v":{"$error":"#VALUE!"}}]
[null,{"$f":"Sprawdz_pesel(Formularz!#REF!)","v":{"$error":"#VALUE!"}}]
[null,{"$f":"Sprawdz_pesel(Formularz!#REF!)","v":{"$error":"#VALUE!"}}]
[null,{"$f":"Sprawdz_pesel(Formularz!#REF!)","v":{"$error":"#VALUE!"}}]
[null,{"$f":"Sprawdz_pesel(Formularz!#REF!)","v":{"$error":"#VALUE!"}}]
[null,{"$f":"Sprawdz_pesel(Formularz!#REF!)","v":{"$error":"#VALUE!"}}]
[null,{"$f":"Sprawdz_pesel(Formularz!#REF!)","v":{"$error":"#VALUE!"}}]
[null,{"$f":"Sprawdz_pesel(Formularz!#REF!)","v":{"$error":"#VALUE!"}}]
[null,{"$f":"Sprawdz_pesel(Formularz!#REF!)","v":{"$error":"#VALUE!"}}]
[null,{"$f":"Sprawdz_pesel(Formularz!#REF!)","v":{"$error":"#VALUE!"}}]
[null,{"$f":"Sprawdz_pesel(Formularz!#REF!)","v":{"$error":"#VALUE!"}}]
[null,{"$f":"Sprawdz_pesel(Formularz!#REF!)","v":{"$error":"#VALUE!"}}]
[null,{"$f":"Sprawdz_pesel(Formularz!#REF!)","v":{"$error":"#VALUE!"}}]
[null,{"$f":"Sprawdz_pesel(Formularz!#REF!)","v":{"$error":"#VALUE!"}}]
[null,{"$f":"Sprawdz_pesel(Formularz!#REF!)","v":{"$error":"#VALUE!"}}]
[null,{"$f":"Sprawdz_pesel(Formularz!#REF!)","v":{"$error":"#VALUE!"}}]
[null,{"$f":"Sprawdz_pesel(Formularz!#REF!)","v":{"$error":"#VALUE!"}}]
[null,{"$f":"Sprawdz_pesel(Formularz!#REF!)","v":{"$error":"#VALUE!"}}]
[null,{"$f":"Sprawdz_pesel(Formularz!#REF!)","v":{"$error":"#VALUE!"}}]
[null,{"$f":"Sprawdz_pesel(Formularz!#REF!)","v":{"$error":"#VALUE!"}}]
[null,{"$f":"Sprawdz_pesel(Formularz!#REF!)","v":{"$error":"#VALUE!"}}]
[null,{"$f":"Sprawdz_pesel(Formularz!#REF!)","v":{"$error":"#VALUE!"}}]
[null,{"$f":"Sprawdz_pesel(Formularz!#REF!)","v":{"$error":"#VALUE!"}}]
[null,{"$f":"Sprawdz_pesel(Formularz!#REF!)","v":{"$error":"#VALUE!"}}]
[null,{"$f":"Sprawdz_pesel(Formularz!#REF!)","v":{"$error":"#VALUE!"}}]
[null,{"$f":"Sprawdz_pesel(Formularz!#REF!)","v":{"$error":"#VALUE!"}}]
[null,{"$f":"Sprawdz_pesel(Formularz!#REF!)","v":{"$error":"#VALUE!"}}]
[null,{"$f":"Sprawdz_pesel(Formularz!#REF!)","v":{"$error":"#VALUE!"}}]
[null,{"$f":"Sprawdz_pesel(Formularz!#REF!)","v":{"$error":"#VALUE!"}}]
[null,{"$f":"Sprawdz_pesel(Formularz!#REF!)","v":{"$error":"#VALUE!"}}]
[null,{"$f":"Sprawdz_pesel(Formularz!#REF!)","v":{"$error":"#VALUE!"}}]
[null,{"$f":"Sprawdz_pesel(Formularz!#REF!)","v":{"$error":"#VALUE!"}}]
[null,{"$f":"Sprawdz_pesel(Formularz!#REF!)","v":{"$error":"#VALUE!"}}]
[null,{"$f":"Sprawdz_pesel(Formularz!#REF!)","v":{"$error":"#VALUE!"}}]
[null,{"$f":"Sprawdz_pesel(Formularz!#REF!)","v":{"$error":"#VALUE!"}}]
[null,{"$f":"Sprawdz_pesel(Formularz!#REF!)","v":{"$error":"#VALUE!"}}]
[null,{"$f":"Sprawdz_pesel(Formularz!#REF!)","v":{"$error":"#VALUE!"}}]
[null,{"$f":"Sprawdz_pesel(Formularz!#REF!)","v":{"$error":"#VALUE!"}}]
[null,{"$f":"Sprawdz_pesel(Formularz!#REF!)","v":{"$error":"#VALUE!"}}]
[null,{"$f":"Sprawdz_pesel(Formularz!#REF!)","v":{"$error":"#VALUE!"}}]
[null,{"$f":"Sprawdz_pesel(Formularz!#REF!)","v":{"$error":"#VALUE!"}}]
[null,{"$f":"Sprawdz_pesel(Formularz!#REF!)","v":{"$error":"#VALUE!"}}]
[null,{"$f":"Sprawdz_pesel(Formularz!#REF!)","v":{"$error":"#VALUE!"}}]
[null,{"$f":"Sprawdz_pesel(Formularz!#REF!)","v":{"$error":"#VALUE!"}}]
[null,{"$f":"Sprawdz_pesel(Formularz!#REF!)","v":{"$error":"#VALUE!"}}]
[null,{"$f":"Sprawdz_pesel(Formularz!#REF!)","v":{"$error":"#VALUE!"}}]
[null,{"$f":"Sprawdz_pesel(Formularz!#REF!)","v":{"$error":"#VALUE!"}}]
[null,{"$f":"Sprawdz_pesel(Formularz!#REF!)","v":{"$error":"#VALUE!"}}]
[null,{"$f":"Sprawdz_pesel(Formularz!#REF!)","v":{"$error":"#VALUE!"}}]
[null,{"$f":"Sprawdz_pesel(Formularz!#REF!)","v":{"$error":"#VALUE!"}}]
[null,{"$f":"Sprawdz_pesel(Formularz!#REF!)","v":{"$error":"#VALUE!"}}]
[null,{"$f":"Sprawdz_pesel(Formularz!#REF!)","v":{"$error":"#VALUE!"}}]
[null,{"$f":"Sprawdz_pesel(Formularz!#REF!)","v":{"$error":"#VALUE!"}}]
[null,{"$f":"Sprawdz_pesel(Formularz!#REF!)","v":{"$error":"#VALUE!"}}]
[null,{"$f":"Sprawdz_pesel(Formularz!#REF!)","v":{"$error":"#VALUE!"}}]
[null,{"$f":"Sprawdz_pesel(Formularz!#REF!)","v":{"$error":"#VALUE!"}}]
[null,{"$f":"Sprawdz_pesel(Formularz!#REF!)","v":{"$error":"#VALUE!"}}]
[null,{"$f":"Sprawdz_pesel(Formularz!#REF!)","v":{"$error":"#VALUE!"}}]
[null,{"$f":"Sprawdz_pesel(Formularz!#REF!)","v":{"$error":"#VALUE!"}}]
[null,{"$f":"Sprawdz_pesel(Formularz!#REF!)","v":{"$error":"#VALUE!"}}]
[null,{"$f":"Sprawdz_pesel(Formularz!#REF!)","v":{"$error":"#VALUE!"}}]
[null,{"$f":"Sprawdz_pesel(Formularz!#REF!)","v":{"$error":"#VALUE!"}}]
[null,{"$f":"Sprawdz_pesel(Formularz!#REF!)","v":{"$error":"#VALUE!"}}]
[null,{"$f":"Sprawdz_pesel(Formularz!#REF!)","v":{"$error":"#VALUE!"}}]
[null,{"$f":"Sprawdz_pesel(Formularz!#REF!)","v":{"$error":"#VALUE!"}}]
[null,{"$f":"Sprawdz_pesel(Formularz!#REF!)","v":{"$error":"#VALUE!"}}]
[null,{"$f":"Sprawdz_pesel(Formularz!#REF!)","v":{"$error":"#VALUE!"}}]
[null,{"$f":"Sprawdz_pesel(Formularz!#REF!)","v":{"$error":"#VALUE!"}}]
[null,{"$f":"Sprawdz_pesel(Formularz!#REF!)","v":{"$error":"#VALUE!"}}]
[null,{"$f":"Sprawdz_pesel(Formularz!#REF!)","v":{"$error":"#VALUE!"}}]
[null,{"$f":"Sprawdz_pesel(Formularz!#REF!)","v":{"$error":"#VALUE!"}}]
[null,{"$f":"Sprawdz_pesel(Formularz!#REF!)","v":{"$error":"#VALUE!"}}]
[null,{"$f":"Sprawdz_pesel(Formularz!#REF!)","v":{"$error":"#VALUE!"}}]
[null,{"$f":"Sprawdz_pesel(Formularz!#REF!)","v":{"$error":"#VALUE!"}}]
[null,{"$f":"Sprawdz_pesel(Formularz!#REF!)","v":{"$error":"#VALUE!"}}]
[null,{"$f":"Sprawdz_pesel(Formularz!#REF!)","v":{"$error":"#VALUE!"}}]
[null,{"$f":"Sprawdz_pesel(Formularz!#REF!)","v":{"$error":"#VALUE!"}}]
[null,{"$f":"Sprawdz_pesel(Formularz!#REF!)","v":{"$error":"#VALUE!"}}]
[null,{"$f":"Sprawdz_pesel(Formularz!#REF!)","v":{"$error":"#VALUE!"}}]
[null,{"$f":"Sprawdz_pesel(Formularz!#REF!)","v":{"$error":"#VALUE!"}}]
[null,{"$f":"Sprawdz_pesel(Formularz!#REF!)","v":{"$error":"#VALUE!"}}]
[null,{"$f":"Sprawdz_pesel(Formularz!#REF!)","v":{"$error":"#VALUE!"}}]
[null,{"$f":"Sprawdz_pesel(Formularz!#REF!)","v":{"$error":"#VALUE!"}}]
[null,{"$f":"Sprawdz_pesel(Formularz!#REF!)","v":{"$error":"#VALUE!"}}]
[null,{"$f":"Sprawdz_pesel(Formularz!#REF!)","v":{"$error":"#VALUE!"}}]
[null,{"$f":"Sprawdz_pesel(Formularz!#REF!)","v":{"$error":"#VALUE!"}}]
[null,{"$f":"Sprawdz_pesel(Formularz!#REF!)","v":{"$error":"#VALUE!"}}]
[null,{"$f":"Sprawdz_pesel(Formularz!#REF!)","v":{"$error":"#VALUE!"}}]
[null,{"$f":"Sprawdz_pesel(Formularz!#REF!)","v":{"$error":"#VALUE!"}}]
[null,{"$f":"Sprawdz_pesel(Formularz!#REF!)","v":{"$error":"#VALUE!"}}]
[null,{"$f":"Sprawdz_pesel(Formularz!#REF!)","v":{"$error":"#VALUE!"}}]
[null,{"$f":"Sprawdz_pesel(Formularz!#REF!)","v":{"$error":"#VALUE!"}}]
[null,{"$f":"Sprawdz_pesel(Formularz!#REF!)","v":{"$error":"#VALUE!"}}]
[null,{"$f":"Sprawdz_pesel(Formularz!#REF!)","v":{"$error":"#VALUE!"}}]
[null,{"$f":"Sprawdz_pesel(Formularz!#REF!)","v":{"$error":"#VALUE!"}}]
[null,{"$f":"Sprawdz_pesel(Formularz!#REF!)","v":{"$error":"#VALUE!"}}]
[null,{"$f":"Sprawdz_pesel(Formularz!#REF!)","v":{"$error":"#VALUE!"}}]
[null,{"$f":"Sprawdz_pesel(Formularz!#REF!)","v":{"$error":"#VALUE!"}}]
[null,{"$f":"Sprawdz_pesel(Formularz!#REF!)","v":{"$error":"#VALUE!"}}]
[null,{"$f":"Sprawdz_pesel(Formularz!#REF!)","v":{"$error":"#VALUE!"}}]
[null,{"$f":"Sprawdz_pesel(Formularz!#REF!)","v":{"$error":"#VALUE!"}}]
[null,{"$f":"Sprawdz_pesel(Formularz!#REF!)","v":{"$error":"#VALUE!"}}]
[null,{"$f":"Sprawdz_pesel(Formularz!#REF!)","v":{"$error":"#VALUE!"}}]
[null,{"$f":"Sprawdz_pesel(Formularz!#REF!)","v":{"$error":"#VALUE!"}}]
[null,{"$f":"Sprawdz_pesel(Formularz!#REF!)","v":{"$error":"#VALUE!"}}]
[null,{"$f":"Sprawdz_pesel(Formularz!#REF!)","v":{"$error":"#VALUE!"}}]
[null,{"$f":"Sprawdz_pesel(Formularz!#REF!)","v":{"$error":"#VALUE!"}}]
[null,{"$f":"Sprawdz_pesel(Formularz!#REF!)","v":{"$error":"#VALUE!"}}]
[null,{"$f":"Sprawdz_pesel(Formularz!#REF!)","v":{"$error":"#VALUE!"}}]
[null,{"$f":"Sprawdz_pesel(Formularz!#REF!)","v":{"$error":"#VALUE!"}}]
[null,{"$f":"Sprawdz_pesel(Formularz!#REF!)","v":{"$error":"#VALUE!"}}]
[null,{"$f":"Sprawdz_pesel(Formularz!#REF!)","v":{"$error":"#VALUE!"}}]
[null,{"$f":"Sprawdz_pesel(Formularz!#REF!)","v":{"$error":"#VALUE!"}}]
[null,{"$f":"Sprawdz_pesel(Formularz!#REF!)","v":{"$error":"#VALUE!"}}]
[null,{"$f":"Sprawdz_pesel(Formularz!#REF!)","v":{"$error":"#VALUE!"}}]
[null,{"$f":"Sprawdz_pesel(Formularz!#REF!)","v":{"$error":"#VALUE!"}}]
[null,{"$f":"Sprawdz_pesel(Formularz!#REF!)","v":{"$error":"#VALUE!"}}]
[null,{"$f":"Sprawdz_pesel(Formularz!#REF!)","v":{"$error":"#VALUE!"}}]
[null,{"$f":"Sprawdz_pesel(Formularz!#REF!)","v":{"$error":"#VALUE!"}}]
[null,{"$f":"Sprawdz_pesel(Formularz!#REF!)","v":{"$error":"#VALUE!"}}]
[null,{"$f":"Sprawdz_pesel(Formularz!#REF!)","v":{"$error":"#VALUE!"}}]
[null,{"$f":"Sprawdz_pesel(Formularz!#REF!)","v":{"$error":"#VALUE!"}}]
[null,{"$f":"Sprawdz_pesel(Formularz!#REF!)","v":{"$error":"#VALUE!"}}]
[null,{"$f":"Sprawdz_pesel(Formularz!#REF!)","v":{"$error":"#VALUE!"}}]
[null,{"$f":"Sprawdz_pesel(Formularz!#REF!)","v":{"$error":"#VALUE!"}}]
[null,{"$f":"Sprawdz_pesel(Formularz!#REF!)","v":{"$error":"#VALUE!"}}]
[null,{"$f":"Sprawdz_pesel(Formularz!#REF!)","v":{"$error":"#VALUE!"}}]
[null,{"$f":"Sprawdz_pesel(Formularz!#REF!)","v":{"$error":"#VALUE!"}}]
[null,{"$f":"Sprawdz_pesel(Formularz!#REF!)","v":{"$error":"#VALUE!"}}]
[null,{"$f":"Sprawdz_pesel(Formularz!#REF!)","v":{"$error":"#VALUE!"}}]
[null,{"$f":"Sprawdz_pesel(Formularz!#REF!)","v":{"$error":"#VALUE!"}}]
[null,{"$f":"Sprawdz_pesel(Formularz!#REF!)","v":{"$error":"#VALUE!"}}]
[null,{"$f":"Sprawdz_pesel(Formularz!#REF!)","v":{"$error":"#VALUE!"}}]
[null,{"$f":"Sprawdz_pesel(Formularz!#REF!)","v":{"$error":"#VALUE!"}}]
[null,{"$f":"Sprawdz_pesel(Formularz!#REF!)","v":{"$error":"#VALUE!"}}]
[null,{"$f":"Sprawdz_pesel(Formularz!#REF!)","v":{"$error":"#VALUE!"}}]
[null,{"$f":"Sprawdz_pesel(Formularz!#REF!)","v":{"$error":"#VALUE!"}}]
[null,{"$f":"Sprawdz_pesel(Formularz!#REF!)","v":{"$error":"#VALUE!"}}]
[null,{"$f":"Sprawdz_pesel(Formularz!#REF!)","v":{"$error":"#VALUE!"}}]
[null,{"$f":"Sprawdz_pesel(Formularz!#REF!)","v":{"$error":"#VALUE!"}}]
[null,{"$f":"Sprawdz_pesel(Formularz!#REF!)","v":{"$error":"#VALUE!"}}]
[null,{"$f":"Sprawdz_pesel(Formularz!#REF!)","v":{"$error":"#VALUE!"}}]
[null,{"$f":"Sprawdz_pesel(Formularz!#REF!)","v":{"$error":"#VALUE!"}}]
[null,{"$f":"Sprawdz_pesel(Formularz!#REF!)","v":{"$error":"#VALUE!"}}]
[null,{"$f":"Sprawdz_pesel(Formularz!#REF!)","v":{"$error":"#VALUE!"}}]
[null,{"$f":"Sprawdz_pesel(Formularz!#REF!)","v":{"$error":"#VALUE!"}}]
[null,{"$f":"Sprawdz_pesel(Formularz!#REF!)","v":{"$error":"#VALUE!"}}]
[null,{"$f":"Sprawdz_pesel(Formularz!#REF!)","v":{"$error":"#VALUE!"}}]
[null,{"$f":"Sprawdz_pesel(Formularz!#REF!)","v":{"$error":"#VALUE!"}}]
[null,{"$f":"Sprawdz_pesel(Formularz!#REF!)","v":{"$error":"#VALUE!"}}]
[null,{"$f":"Sprawdz_pesel(Formularz!#REF!)","v":{"$error":"#VALUE!"}}]
[null,{"$f":"Sprawdz_pesel(Formularz!#REF!)","v":{"$error":"#VALUE!"}}]
[null,{"$f":"Sprawdz_pesel(Formularz!#REF!)","v":{"$error":"#VALUE!"}}]
[null,{"$f":"Sprawdz_pesel(Formularz!#REF!)","v":{"$error":"#VALUE!"}}]
[null,{"$f":"Sprawdz_pesel(Formularz!#REF!)","v":{"$error":"#VALUE!"}}]
[null,{"$f":"Sprawdz_pesel(Formularz!#REF!)","v":{"$error":"#VALUE!"}}]
[null,{"$f":"Sprawdz_pesel(Formularz!#REF!)","v":{"$error":"#VALUE!"}}]
[null,{"$f":"Sprawdz_pesel(Formularz!#REF!)","v":{"$error":"#VALUE!"}}]
[null,{"$f":"Sprawdz_pesel(Formularz!#REF!)","v":{"$error":"#VALUE!"}}]
[null,{"$f":"Sprawdz_pesel(Formularz!#REF!)","v":{"$error":"#VALUE!"}}]
[null,{"$f":"Sprawdz_pesel(Formularz!#REF!)","v":{"$error":"#VALUE!"}}]
[null,{"$f":"Sprawdz_pesel(Formularz!#REF!)","v":{"$error":"#VALUE!"}}]
[null,{"$f":"Sprawdz_pesel(Formularz!#REF!)","v":{"$error":"#VALUE!"}}]
[null,{"$f":"Sprawdz_pesel(Formularz!#REF!)","v":{"$error":"#VALUE!"}}]
[null,{"$f":"Sprawdz_pesel(Formularz!#REF!)","v":{"$error":"#VALUE!"}}]
[null,{"$f":"Sprawdz_pesel(Formularz!#REF!)","v":{"$error":"#VALUE!"}}]
[null,{"$f":"Sprawdz_pesel(Formularz!#REF!)","v":{"$error":"#VALUE!"}}]
[null,{"$f":"Sprawdz_pesel(Formularz!#REF!)","v":{"$error":"#VALUE!"}}]
[null,{"$f":"Sprawdz_pesel(Formularz!#REF!)","v":{"$error":"#VALUE!"}}]
[null,{"$f":"Sprawdz_pesel(Formularz!#REF!)","v":{"$error":"#VALUE!"}}]
[null,{"$f":"Sprawdz_pesel(Formularz!#REF!)","v":{"$error":"#VALUE!"}}]
[null,{"$f":"Sprawdz_pesel(Formularz!#REF!)","v":{"$error":"#VALUE!"}}]
[null,{"$f":"Sprawdz_pesel(Formularz!#REF!)","v":{"$error":"#VALUE!"}}]
[null,{"$f":"Sprawdz_pesel(Formularz!#REF!)","v":{"$error":"#VALUE!"}}]
[null,{"$f":"Sprawdz_pesel(Formularz!#REF!)","v":{"$error":"#VALUE!"}}]
[null,{"$f":"Sprawdz_pesel(Formularz!#REF!)","v":{"$error":"#VALUE!"}}]
[null,{"$f":"Sprawdz_pesel(Formularz!#REF!)","v":{"$error":"#VALUE!"}}]
[null,{"$f":"Sprawdz_pesel(Formularz!#REF!)","v":{"$error":"#VALUE!"}}]
[null,{"$f":"Sprawdz_pesel(Formularz!#REF!)","v":{"$error":"#VALUE!"}}]
[null,{"$f":"Sprawdz_pesel(Formularz!#REF!)","v":{"$error":"#VALUE!"}}]
[null,{"$f":"Sprawdz_pesel(Formularz!#REF!)","v":{"$error":"#VALUE!"}}]
[null,{"$f":"Sprawdz_pesel(Formularz!#REF!)","v":{"$error":"#VALUE!"}}]
[null,{"$f":"Sprawdz_pesel(Formularz!#REF!)","v":{"$error":"#VALUE!"}}]
[null,{"$f":"Sprawdz_pesel(Formularz!#REF!)","v":{"$error":"#VALUE!"}}]
[null,{"$f":"Sprawdz_pesel(Formularz!#REF!)","v":{"$error":"#VALUE!"}}]
[null,{"$f":"Sprawdz_pesel(Formularz!#REF!)","v":{"$error":"#VALUE!"}}]
[null,{"$f":"Sprawdz_pesel(Formularz!#REF!)","v":{"$error":"#VALUE!"}}]
[null,{"$f":"Sprawdz_pesel(Formularz!#REF!)","v":{"$error":"#VALUE!"}}]
[null,{"$f":"Sprawdz_pesel(Formularz!#REF!)","v":{"$error":"#VALUE!"}}]
[null,{"$f":"Sprawdz_pesel(Formularz!#REF!)","v":{"$error":"#VALUE!"}}]
[null,{"$f":"Sprawdz_pesel(Formularz!#REF!)","v":{"$error":"#VALUE!"}}]
[null,{"$f":"Sprawdz_pesel(Formularz!#REF!)","v":{"$error":"#VALUE!"}}]
[null,{"$f":"Sprawdz_pesel(Formularz!#REF!)","v":{"$error":"#VALUE!"}}]
[null,{"$f":"Sprawdz_pesel(Formularz!#REF!)","v":{"$error":"#VALUE!"}}]
[null,{"$f":"Sprawdz_pesel(Formularz!#REF!)","v":{"$error":"#VALUE!"}}]
[null,{"$f":"Sprawdz_pesel(Formularz!#REF!)","v":{"$error":"#VALUE!"}}]
[null,{"$f":"Sprawdz_pesel(Formularz!#REF!)","v":{"$error":"#VALUE!"}}]
[null,{"$f":"Sprawdz_pesel(Formularz!#REF!)","v":{"$error":"#VALUE!"}}]
[null,{"$f":"Sprawdz_pesel(Formularz!#REF!)","v":{"$error":"#VALUE!"}}]
[null,{"$f":"Sprawdz_pesel(Formularz!#REF!)","v":{"$error":"#VALUE!"}}]
[null,{"$f":"Sprawdz_pesel(Formularz!#REF!)","v":{"$error":"#VALUE!"}}]
[null,{"$f":"Sprawdz_pesel(Formularz!#REF!)","v":{"$error":"#VALUE!"}}]
[null,{"$f":"Sprawdz_pesel(Formularz!#REF!)","v":{"$error":"#VALUE!"}}]
[null,{"$f":"Sprawdz_pesel(Formularz!#REF!)","v":{"$error":"#VALUE!"}}]
[null,{"$f":"Sprawdz_pesel(Formularz!#REF!)","v":{"$error":"#VALUE!"}}]
[null,{"$f":"Sprawdz_pesel(Formularz!#REF!)","v":{"$error":"#VALUE!"}}]
[null,{"$f":"Sprawdz_pesel(Formularz!#REF!)","v":{"$error":"#VALUE!"}}]
[null,{"$f":"Sprawdz_pesel(Formularz!#REF!)","v":{"$error":"#VALUE!"}}]
[null,{"$f":"Sprawdz_pesel(Formularz!#REF!)","v":{"$error":"#VALUE!"}}]
[null,{"$f":"Sprawdz_pesel(Formularz!#REF!)","v":{"$error":"#VALUE!"}}]
[null,{"$f":"Sprawdz_pesel(Formularz!#REF!)","v":{"$error":"#VALUE!"}}]
[null,{"$f":"Sprawdz_pesel(Formularz!#REF!)","v":{"$error":"#VALUE!"}}]
[null,{"$f":"Sprawdz_pesel(Formularz!#REF!)","v":{"$error":"#VALUE!"}}]
[null,{"$f":"Sprawdz_pesel(Formularz!#REF!)","v":{"$error":"#VALUE!"}}]
[null,{"$f":"Sprawdz_pesel(Formularz!#REF!)","v":{"$error":"#VALUE!"}}]
[null,{"$f":"Sprawdz_pesel(Formularz!#REF!)","v":{"$error":"#VALUE!"}}]
[null,{"$f":"Sprawdz_pesel(Formularz!#REF!)","v":{"$error":"#VALUE!"}}]
[null,{"$f":"Sprawdz_pesel(Formularz!#REF!)","v":{"$error":"#VALUE!"}}]
[null,{"$f":"Sprawdz_pesel(Formularz!#REF!)","v":{"$error":"#VALUE!"}}]
[null,{"$f":"Sprawdz_pesel(Formularz!#REF!)","v":{"$error":"#VALUE!"}}]
[null,{"$f":"Sprawdz_pesel(Formularz!#REF!)","v":{"$error":"#VALUE!"}}]
[null,{"$f":"Sprawdz_pesel(Formularz!#REF!)","v":{"$error":"#VALUE!"}}]
[null,{"$f":"Sprawdz_pesel(Formularz!#REF!)","v":{"$error":"#VALUE!"}}]
[null,{"$f":"Sprawdz_pesel(Formularz!#REF!)","v":{"$error":"#VALUE!"}}]
[null,{"$f":"Sprawdz_pesel(Formularz!#REF!)","v":{"$error":"#VALUE!"}}]
[null,{"$f":"Sprawdz_pesel(Formularz!#REF!)","v":{"$error":"#VALUE!"}}]
[null,{"$f":"Sprawdz_pesel(Formularz!#REF!)","v":{"$error":"#VALUE!"}}]
[null,{"$f":"Sprawdz_pesel(Formularz!#REF!)","v":{"$error":"#VALUE!"}}]
[null,{"$f":"Sprawdz_pesel(Formularz!#REF!)","v":{"$error":"#VALUE!"}}]
[null,{"$f":"Sprawdz_pesel(Formularz!#REF!)","v":{"$error":"#VALUE!"}}]
[null,{"$f":"Sprawdz_pesel(Formularz!#REF!)","v":{"$error":"#VALUE!"}}]
[null,{"$f":"Sprawdz_pesel(Formularz!#REF!)","v":{"$error":"#VALUE!"}}]
[null,{"$f":"Sprawdz_pesel(Formularz!#REF!)","v":{"$error":"#VALUE!"}}]
[null,{"$f":"Sprawdz_pesel(Formularz!#REF!)","v":{"$error":"#VALUE!"}}]
[null,{"$f":"Sprawdz_pesel(Formularz!#REF!)","v":{"$error":"#VALUE!"}}]
[null,{"$f":"Sprawdz_pesel(Formularz!#REF!)","v":{"$error":"#VALUE!"}}]
[null,{"$f":"Sprawdz_pesel(Formularz!#REF!)","v":{"$error":"#VALUE!"}}]
[null,{"$f":"Sprawdz_pesel(Formularz!#REF!)","v":{"$error":"#VALUE!"}}]
[null,{"$f":"Sprawdz_pesel(Formularz!#REF!)","v":{"$error":"#VALUE!"}}]
[null,{"$f":"Sprawdz_pesel(Formularz!#REF!)","v":{"$error":"#VALUE!"}}]
[null,{"$f":"Sprawdz_pesel(Formularz!#REF!)","v":{"$error":"#VALUE!"}}]
[null,{"$f":"Sprawdz_pesel(Formularz!#REF!)","v":{"$error":"#VALUE!"}}]
[null,{"$f":"Sprawdz_pesel(Formularz!#REF!)","v":{"$error":"#VALUE!"}}]
[null,{"$f":"Sprawdz_pesel(Formularz!#REF!)","v":{"$error":"#VALUE!"}}]
[null,{"$f":"Sprawdz_pesel(Formularz!#REF!)","v":{"$error":"#VALUE!"}}]
[null,{"$f":"Sprawdz_pesel(Formularz!#REF!)","v":{"$error":"#VALUE!"}}]
[null,{"$f":"Sprawdz_pesel(Formularz!#REF!)","v":{"$error":"#VALUE!"}}]
[null,{"$f":"Sprawdz_pesel(Formularz!#REF!)","v":{"$error":"#VALUE!"}}]
[null,{"$f":"Sprawdz_pesel(Formularz!#REF!)","v":{"$error":"#VALUE!"}}]
[null,{"$f":"Sprawdz_pesel(Formularz!#REF!)","v":{"$error":"#VALUE!"}}]
[null,{"$f":"Sprawdz_pesel(Formularz!#REF!)","v":{"$error":"#VALUE!"}}]
[null,{"$f":"Sprawdz_pesel(Formularz!#REF!)","v":{"$error":"#VALUE!"}}]
[null,{"$f":"Sprawdz_pesel(Formularz!#REF!)","v":{"$error":"#VALUE!"}}]
[null,{"$f":"Sprawdz_pesel(Formularz!#REF!)","v":{"$error":"#VALUE!"}}]
[null,{"$f":"Sprawdz_pesel(Formularz!#REF!)","v":{"$error":"#VALUE!"}}]
[null,{"$f":"Sprawdz_pesel(Formularz!#REF!)","v":{"$error":"#VALUE!"}}]
[null,{"$f":"Sprawdz_pesel(Formularz!#REF!)","v":{"$error":"#VALUE!"}}]
[null,{"$f":"Sprawdz_pesel(Formularz!#REF!)","v":{"$error":"#VALUE!"}}]
[null,{"$f":"Sprawdz_pesel(Formularz!#REF!)","v":{"$error":"#VALUE!"}}]
[null,{"$f":"Sprawdz_pesel(Formularz!#REF!)","v":{"$error":"#VALUE!"}}]
[null,{"$f":"Sprawdz_pesel(Formularz!#REF!)","v":{"$error":"#VALUE!"}}]
[null,{"$f":"Sprawdz_pesel(Formularz!#REF!)","v":{"$error":"#VALUE!"}}]
[null,{"$f":"Sprawdz_pesel(Formularz!#REF!)","v":{"$error":"#VALUE!"}}]
[null,{"$f":"Sprawdz_pesel(Formularz!#REF!)","v":{"$error":"#VALUE!"}}]
[null,{"$f":"Sprawdz_pesel(Formularz!#REF!)","v":{"$error":"#VALUE!"}}]
[null,{"$f":"Sprawdz_pesel(Formularz!#REF!)","v":{"$error":"#VALUE!"}}]
[null,{"$f":"Sprawdz_pesel(Formularz!#REF!)","v":{"$error":"#VALUE!"}}]
[null,{"$f":"Sprawdz_pesel(Formularz!#REF!)","v":{"$error":"#VALUE!"}}]
[null,{"$f":"Sprawdz_pesel(Formularz!#REF!)","v":{"$error":"#VALUE!"}}]
[null,{"$f":"Sprawdz_pesel(Formularz!#REF!)","v":{"$error":"#VALUE!"}}]
[null,{"$f":"Sprawdz_pesel(Formularz!#REF!)","v":{"$error":"#VALUE!"}}]
[null,{"$f":"Sprawdz_pesel(Formularz!#REF!)","v":{"$error":"#VALUE!"}}]
[null,{"$f":"Sprawdz_pesel(Formularz!#REF!)","v":{"$error":"#VALUE!"}}]
[null,{"$f":"Sprawdz_pesel(Formularz!#REF!)","v":{"$error":"#VALUE!"}}]
[null,{"$f":"Sprawdz_pesel(Formularz!#REF!)","v":{"$error":"#VALUE!"}}]
[null,{"$f":"Sprawdz_pesel(Formularz!#REF!)","v":{"$error":"#VALUE!"}}]
[null,{"$f":"Sprawdz_pesel(Formularz!#REF!)","v":{"$error":"#VALUE!"}}]
[null,{"$f":"Sprawdz_pesel(Formularz!#REF!)","v":{"$error":"#VALUE!"}}]
[null,{"$f":"Sprawdz_pesel(Formularz!#REF!)","v":{"$error":"#VALUE!"}}]
[null,{"$f":"Sprawdz_pesel(Formularz!#REF!)","v":{"$error":"#VALUE!"}}]
[null,{"$f":"Sprawdz_pesel(Formularz!#REF!)","v":{"$error":"#VALUE!"}}]
[null,{"$f":"Sprawdz_pesel(Formularz!#REF!)","v":{"$error":"#VALUE!"}}]
[null,{"$f":"Sprawdz_pesel(Formularz!#REF!)","v":{"$error":"#VALUE!"}}]
[null,{"$f":"Sprawdz_pesel(Formularz!#REF!)","v":{"$error":"#VALUE!"}}]
[null,{"$f":"Sprawdz_pesel(Formularz!#REF!)","v":{"$error":"#VALUE!"}}]
[null,{"$f":"Sprawdz_pesel(Formularz!#REF!)","v":{"$error":"#VALUE!"}}]
[null,{"$f":"Sprawdz_pesel(Formularz!#REF!)","v":{"$error":"#VALUE!"}}]
[null,{"$f":"Sprawdz_pesel(Formularz!#REF!)","v":{"$error":"#VALUE!"}}]
[null,{"$f":"Sprawdz_pesel(Formularz!#REF!)","v":{"$error":"#VALUE!"}}]
[null,{"$f":"Sprawdz_pesel(Formularz!#REF!)","v":{"$error":"#VALUE!"}}]
[null,{"$f":"Sprawdz_pesel(Formularz!#REF!)","v":{"$error":"#VALUE!"}}]
[null,{"$f":"Sprawdz_pesel(Formularz!#REF!)","v":{"$error":"#VALUE!"}}]
[null,{"$f":"Sprawdz_pesel(Formularz!#REF!)","v":{"$error":"#VALUE!"}}]
[null,{"$f":"Sprawdz_pesel(Formularz!#REF!)","v":{"$error":"#VALUE!"}}]
[null,{"$f":"Sprawdz_pesel(Formularz!#REF!)","v":{"$error":"#VALUE!"}}]
[null,{"$f":"Sprawdz_pesel(Formularz!#REF!)","v":{"$error":"#VALUE!"}}]
[null,{"$f":"Sprawdz_pesel(Formularz!#REF!)","v":{"$error":"#VALUE!"}}]
[null,{"$f":"Sprawdz_pesel(Formularz!#REF!)","v":{"$error":"#VALUE!"}}]
[null,{"$f":"Sprawdz_pesel(Formularz!#REF!)","v":{"$error":"#VALUE!"}}]
[null,{"$f":"Sprawdz_pesel(Formularz!#REF!)","v":{"$error":"#VALUE!"}}]
[null,{"$f":"Sprawdz_pesel(Formularz!#REF!)","v":{"$error":"#VALUE!"}}]
[null,{"$f":"Sprawdz_pesel(Formularz!#REF!)","v":{"$error":"#VALUE!"}}]
[null,{"$f":"Sprawdz_pesel(Formularz!#REF!)","v":{"$error":"#VALUE!"}}]
[null,{"$f":"Sprawdz_pesel(Formularz!#REF!)","v":{"$error":"#VALUE!"}}]
[null,{"$f":"Sprawdz_pesel(Formularz!#REF!)","v":{"$error":"#VALUE!"}}]
[null,{"$f":"Sprawdz_pesel(Formularz!#REF!)","v":{"$error":"#VALUE!"}}]
[null,{"$f":"Sprawdz_pesel(Formularz!#REF!)","v":{"$error":"#VALUE!"}}]
[null,{"$f":"Sprawdz_pesel(Formularz!#REF!)","v":{"$error":"#VALUE!"}}]
[null,{"$f":"Sprawdz_pesel(Formularz!#REF!)","v":{"$error":"#VALUE!"}}]
[null,{"$f":"Sprawdz_pesel(Formularz!#REF!)","v":{"$error":"#VALUE!"}}]
[null,{"$f":"Sprawdz_pesel(Formularz!#REF!)","v":{"$error":"#VALUE!"}}]
[null,{"$f":"Sprawdz_pesel(Formularz!#REF!)","v":{"$error":"#VALUE!"}}]
[null,{"$f":"Sprawdz_pesel(Formularz!#REF!)","v":{"$error":"#VALUE!"}}]
[null,{"$f":"Sprawdz_pesel(Formularz!#REF!)","v":{"$error":"#VALUE!"}}]
[null,{"$f":"Sprawdz_pesel(Formularz!#REF!)","v":{"$error":"#VALUE!"}}]
[null,{"$f":"Sprawdz_pesel(Formularz!#REF!)","v":{"$error":"#VALUE!"}}]
[null,{"$f":"Sprawdz_pesel(Formularz!#REF!)","v":{"$error":"#VALUE!"}}]
[null,{"$f":"Sprawdz_pesel(Formularz!#REF!)","v":{"$error":"#VALUE!"}}]
[null,{"$f":"Sprawdz_pesel(Formularz!#REF!)","v":{"$error":"#VALUE!"}}]
[null,{"$f":"Sprawdz_pesel(Formularz!#REF!)","v":{"$error":"#VALUE!"}}]
[null,{"$f":"Sprawdz_pesel(Formularz!#REF!)","v":{"$error":"#VALUE!"}}]
[null,{"$f":"Sprawdz_pesel(Formularz!#REF!)","v":{"$error":"#VALUE!"}}]
[null,{"$f":"Sprawdz_pesel(Formularz!#REF!)","v":{"$error":"#VALUE!"}}]
[null,{"$f":"Sprawdz_pesel(Formularz!#REF!)","v":{"$error":"#VALUE!"}}]
[null,{"$f":"Sprawdz_pesel(Formularz!#REF!)","v":{"$error":"#VALUE!"}}]
[null,{"$f":"Sprawdz_pesel(Formularz!#REF!)","v":{"$error":"#VALUE!"}}]
[null,{"$f":"Sprawdz_pesel(Formularz!#REF!)","v":{"$error":"#VALUE!"}}]
[null,{"$f":"Sprawdz_pesel(Formularz!#REF!)","v":{"$error":"#VALUE!"}}]
[null,{"$f":"Sprawdz_pesel(Formularz!#REF!)","v":{"$error":"#VALUE!"}}]
[null,{"$f":"Sprawdz_pesel(Formularz!#REF!)","v":{"$error":"#VALUE!"}}]
[null,{"$f":"Sprawdz_pesel(Formularz!#REF!)","v":{"$error":"#VALUE!"}}]
[null,{"$f":"Sprawdz_pesel(Formularz!#REF!)","v":{"$error":"#VALUE!"}}]
[null,{"$f":"Sprawdz_pesel(Formularz!#REF!)","v":{"$error":"#VALUE!"}}]
[null,{"$f":"Sprawdz_pesel(Formularz!#REF!)","v":{"$error":"#VALUE!"}}]
[null,{"$f":"Sprawdz_pesel(Formularz!#REF!)","v":{"$error":"#VALUE!"}}]
[null,{"$f":"Sprawdz_pesel(Formularz!#REF!)","v":{"$error":"#VALUE!"}}]
[null,{"$f":"Sprawdz_pesel(Formularz!#REF!)","v":{"$error":"#VALUE!"}}]
[null,{"$f":"Sprawdz_pesel(Formularz!#REF!)","v":{"$error":"#VALUE!"}}]
[null,{"$f":"Sprawdz_pesel(Formularz!#REF!)","v":{"$error":"#VALUE!"}}]
[null,{"$f":"Sprawdz_pesel(Formularz!#REF!)","v":{"$error":"#VALUE!"}}]
[null,{"$f":"Sprawdz_pesel(Formularz!#REF!)","v":{"$error":"#VALUE!"}}]
[null,{"$f":"Sprawdz_pesel(Formularz!#REF!)","v":{"$error":"#VALUE!"}}]
[null,{"$f":"Sprawdz_pesel(Formularz!#REF!)","v":{"$error":"#VALUE!"}}]
[null,{"$f":"Sprawdz_pesel(Formularz!#REF!)","v":{"$error":"#VALUE!"}}]
[null,{"$f":"Sprawdz_pesel(Formularz!#REF!)","v":{"$error":"#VALUE!"}}]
[null,{"$f":"Sprawdz_pesel(Formularz!#REF!)","v":{"$error":"#VALUE!"}}]
[null,{"$f":"Sprawdz_pesel(Formularz!#REF!)","v":{"$error":"#VALUE!"}}]
[null,{"$f":"Sprawdz_pesel(Formularz!#REF!)","v":{"$error":"#VALUE!"}}]
[null,{"$f":"Sprawdz_pesel(Formularz!#REF!)","v":{"$error":"#VALUE!"}}]
[null,{"$f":"Sprawdz_pesel(Formularz!#REF!)","v":{"$error":"#VALUE!"}}]
[null,{"$f":"Sprawdz_pesel(Formularz!#REF!)","v":{"$error":"#VALUE!"}}]
[null,{"$f":"Sprawdz_pesel(Formularz!#REF!)","v":{"$error":"#VALUE!"}}]
[null,{"$f":"Sprawdz_pesel(Formularz!#REF!)","v":{"$error":"#VALUE!"}}]
[null,{"$f":"Sprawdz_pesel(Formularz!#REF!)","v":{"$error":"#VALUE!"}}]
[null,{"$f":"Sprawdz_pesel(Formularz!#REF!)","v":{"$error":"#VALUE!"}}]
[null,{"$f":"Sprawdz_pesel(Formularz!#REF!)","v":{"$error":"#VALUE!"}}]
[null,{"$f":"Sprawdz_pesel(Formularz!#REF!)","v":{"$error":"#VALUE!"}}]
[null,{"$f":"Sprawdz_pesel(Formularz!#REF!)","v":{"$error":"#VALUE!"}}]
[null,{"$f":"Sprawdz_pesel(Formularz!#REF!)","v":{"$error":"#VALUE!"}}]
[null,{"$f":"Sprawdz_pesel(Formularz!#REF!)","v":{"$error":"#VALUE!"}}]
[null,{"$f":"Sprawdz_pesel(Formularz!#REF!)","v":{"$error":"#VALUE!"}}]
[null,{"$f":"Sprawdz_pesel(Formularz!#REF!)","v":{"$error":"#VALUE!"}}]
[null,{"$f":"Sprawdz_pesel(Formularz!#REF!)","v":{"$error":"#VALUE!"}}]
[null,{"$f":"Sprawdz_pesel(Formularz!#REF!)","v":{"$error":"#VALUE!"}}]
[null,{"$f":"Sprawdz_pesel(Formularz!#REF!)","v":{"$error":"#VALUE!"}}]
[null,{"$f":"Sprawdz_pesel(Formularz!#REF!)","v":{"$error":"#VALUE!"}}]
[null,{"$f":"Sprawdz_pesel(Formularz!#REF!)","v":{"$error":"#VALUE!"}}]
[null,{"$f":"Sprawdz_pesel(Formularz!#REF!)","v":{"$error":"#VALUE!"}}]
[null,{"$f":"Sprawdz_pesel(Formularz!#REF!)","v":{"$error":"#VALUE!"}}]
[null,{"$f":"Sprawdz_pesel(Formularz!#REF!)","v":{"$error":"#VALUE!"}}]
[null,{"$f":"Sprawdz_pesel(Formularz!#REF!)","v":{"$error":"#VALUE!"}}]
[null,{"$f":"Sprawdz_pesel(Formularz!#REF!)","v":{"$error":"#VALUE!"}}]
[null,{"$f":"Sprawdz_pesel(Formularz!#REF!)","v":{"$error":"#VALUE!"}}]
[null,{"$f":"Sprawdz_pesel(Formularz!#REF!)","v":{"$error":"#VALUE!"}}]
[null,{"$f":"Sprawdz_pesel(Formularz!#REF!)","v":{"$error":"#VALUE!"}}]
[null,{"$f":"Sprawdz_pesel(Formularz!#REF!)","v":{"$error":"#VALUE!"}}]
[null,{"$f":"Sprawdz_pesel(Formularz!#REF!)","v":{"$error":"#VALUE!"}}]
[null,{"$f":"Sprawdz_pesel(Formularz!#REF!)","v":{"$error":"#VALUE!"}}]
[null,{"$f":"Sprawdz_pesel(Formularz!#REF!)","v":{"$error":"#VALUE!"}}]
[null,{"$f":"Sprawdz_pesel(Formularz!#REF!)","v":{"$error":"#VALUE!"}}]
[null,{"$f":"Sprawdz_pesel(Formularz!#REF!)","v":{"$error":"#VALUE!"}}]
[null,{"$f":"Sprawdz_pesel(Formularz!#REF!)","v":{"$error":"#VALUE!"}}]
[null,{"$f":"Sprawdz_pesel(Formularz!#REF!)","v":{"$error":"#VALUE!"}}]
[null,{"$f":"Sprawdz_pesel(Formularz!#REF!)","v":{"$error":"#VALUE!"}}]
[null,{"$f":"Sprawdz_pesel(Formularz!#REF!)","v":{"$error":"#VALUE!"}}]
[null,{"$f":"Sprawdz_pesel(Formularz!#REF!)","v":{"$error":"#VALUE!"}}]
[null,{"$f":"Sprawdz_pesel(Formularz!#REF!)","v":{"$error":"#VALUE!"}}]
[null,{"$f":"Sprawdz_pesel(Formularz!#REF!)","v":{"$error":"#VALUE!"}}]
[null,{"$f":"Sprawdz_pesel(Formularz!#REF!)","v":{"$error":"#VALUE!"}}]
[null,{"$f":"Sprawdz_pesel(Formularz!#REF!)","v":{"$error":"#VALUE!"}}]
[null,{"$f":"Sprawdz_pesel(Formularz!#REF!)","v":{"$error":"#VALUE!"}}]
[null,{"$f":"Sprawdz_pesel(Formularz!#REF!)","v":{"$error":"#VALUE!"}}]
[null,{"$f":"Sprawdz_pesel(Formularz!#REF!)","v":{"$error":"#VALUE!"}}]
[null,{"$f":"Sprawdz_pesel(Formularz!#REF!)","v":{"$error":"#VALUE!"}}]
[null,{"$f":"Sprawdz_pesel(Formularz!#REF!)","v":{"$error":"#VALUE!"}}]
[null,{"$f":"Sprawdz_pesel(Formularz!#REF!)","v":{"$error":"#VALUE!"}}]
[null,{"$f":"Sprawdz_pesel(Formularz!#REF!)","v":{"$error":"#VALUE!"}}]
[null,{"$f":"Sprawdz_pesel(Formularz!#REF!)","v":{"$error":"#VALUE!"}}]
[null,{"$f":"Sprawdz_pesel(Formularz!#REF!)","v":{"$error":"#VALUE!"}}]
[null,{"$f":"Sprawdz_pesel(Formularz!#REF!)","v":{"$error":"#VALUE!"}}]
[null,{"$f":"Sprawdz_pesel(Formularz!#REF!)","v":{"$error":"#VALUE!"}}]
[null,{"$f":"Sprawdz_pesel(Formularz!#REF!)","v":{"$error":"#VALUE!"}}]
[null,{"$f":"Sprawdz_pesel(Formularz!#REF!)","v":{"$error":"#VALUE!"}}]
[null,{"$f":"Sprawdz_pesel(Formularz!#REF!)","v":{"$error":"#VALUE!"}}]
[null,{"$f":"Sprawdz_pesel(Formularz!#REF!)","v":{"$error":"#VALUE!"}}]
[null,{"$f":"Sprawdz_pesel(Formularz!#REF!)","v":{"$error":"#VALUE!"}}]
[null,{"$f":"Sprawdz_pesel(Formularz!#REF!)","v":{"$error":"#VALUE!"}}]
[null,{"$f":"Sprawdz_pesel(Formularz!#REF!)","v":{"$error":"#VALUE!"}}]
[null,{"$f":"Sprawdz_pesel(Formularz!#REF!)","v":{"$error":"#VALUE!"}}]
[null,{"$f":"Sprawdz_pesel(Formularz!#REF!)","v":{"$error":"#VALUE!"}}]
[null,{"$f":"Sprawdz_pesel(Formularz!#REF!)","v":{"$error":"#VALUE!"}}]
[null,{"$f":"Sprawdz_pesel(Formularz!#REF!)","v":{"$error":"#VALUE!"}}]
[null,{"$f":"Sprawdz_pesel(Formularz!#REF!)","v":{"$error":"#VALUE!"}}]
[null,{"$f":"Sprawdz_pesel(Formularz!#REF!)","v":{"$error":"#VALUE!"}}]
[null,{"$f":"Sprawdz_pesel(Formularz!#REF!)","v":{"$error":"#VALUE!"}}]
[null,{"$f":"Sprawdz_pesel(Formularz!#REF!)","v":{"$error":"#VALUE!"}}]
[null,{"$f":"Sprawdz_pesel(Formularz!#REF!)","v":{"$error":"#VALUE!"}}]
[null,{"$f":"Sprawdz_pesel(Formularz!#REF!)","v":{"$error":"#VALUE!"}}]
[null,{"$f":"Sprawdz_pesel(Formularz!#REF!)","v":{"$error":"#VALUE!"}}]
[null,{"$f":"Sprawdz_pesel(Formularz!#REF!)","v":{"$error":"#VALUE!"}}]
[null,{"$f":"Sprawdz_pesel(Formularz!#REF!)","v":{"$error":"#VALUE!"}}]
[null,{"$f":"Sprawdz_pesel(Formularz!#REF!)","v":{"$error":"#VALUE!"}}]
[null,{"$f":"Sprawdz_pesel(Formularz!#REF!)","v":{"$error":"#VALUE!"}}]
[null,{"$f":"Sprawdz_pesel(Formularz!#REF!)","v":{"$error":"#VALUE!"}}]
[null,{"$f":"Sprawdz_pesel(Formularz!#REF!)","v":{"$error":"#VALUE!"}}]
[null,{"$f":"Sprawdz_pesel(Formularz!#REF!)","v":{"$error":"#VALUE!"}}]
[null,{"$f":"Sprawdz_pesel(Formularz!#REF!)","v":{"$error":"#VALUE!"}}]
[null,{"$f":"Sprawdz_pesel(Formularz!#REF!)","v":{"$error":"#VALUE!"}}]
[null,{"$f":"Sprawdz_pesel(Formularz!#REF!)","v":{"$error":"#VALUE!"}}]
[null,{"$f":"Sprawdz_pesel(Formularz!#REF!)","v":{"$error":"#VALUE!"}}]
[null,{"$f":"Sprawdz_pesel(Formularz!#REF!)","v":{"$error":"#VALUE!"}}]
[null,{"$f":"Sprawdz_pesel(Formularz!#REF!)","v":{"$error":"#VALUE!"}}]
[null,{"$f":"Sprawdz_pesel(Formularz!#REF!)","v":{"$error":"#VALUE!"}}]
[null,{"$f":"Sprawdz_pesel(Formularz!#REF!)","v":{"$error":"#VALUE!"}}]
[null,{"$f":"Sprawdz_pesel(Formularz!#REF!)","v":{"$error":"#VALUE!"}}]
[null,{"$f":"Sprawdz_pesel(Formularz!#REF!)","v":{"$error":"#VALUE!"}}]
[null,{"$f":"Sprawdz_pesel(Formularz!#REF!)","v":{"$error":"#VALUE!"}}]
[null,{"$f":"Sprawdz_pesel(Formularz!#REF!)","v":{"$error":"#VALUE!"}}]
[null,{"$f":"Sprawdz_pesel(Formularz!#REF!)","v":{"$error":"#VALUE!"}}]
[null,{"$f":"Sprawdz_pesel(Formularz!#REF!)","v":{"$error":"#VALUE!"}}]
[null,{"$f":"Sprawdz_pesel(Formularz!#REF!)","v":{"$error":"#VALUE!"}}]
[null,{"$f":"Sprawdz_pesel(Formularz!#REF!)","v":{"$error":"#VALUE!"}}]
[null,{"$f":"Sprawdz_pesel(Formularz!#REF!)","v":{"$error":"#VALUE!"}}]
[null,{"$f":"Sprawdz_pesel(Formularz!#REF!)","v":{"$error":"#VALUE!"}}]
[null,{"$f":"Sprawdz_pesel(Formularz!#REF!)","v":{"$error":"#VALUE!"}}]
[null,{"$f":"Sprawdz_pesel(Formularz!#REF!)","v":{"$error":"#VALUE!"}}]
[null,{"$f":"Sprawdz_pesel(Formularz!#REF!)","v":{"$error":"#VALUE!"}}]
[null,{"$f":"Sprawdz_pesel(Formularz!#REF!)","v":{"$error":"#VALUE!"}}]
[null,{"$f":"Sprawdz_pesel(Formularz!#REF!)","v":{"$error":"#VALUE!"}}]
[null,{"$f":"Sprawdz_pesel(Formularz!#REF!)","v":{"$error":"#VALUE!"}}]
[null,{"$f":"Sprawdz_pesel(Formularz!#REF!)","v":{"$error":"#VALUE!"}}]
[null,{"$f":"Sprawdz_pesel(Formularz!#REF!)","v":{"$error":"#VALUE!"}}]
[null,{"$f":"Sprawdz_pesel(Formularz!#REF!)","v":{"$error":"#VALUE!"}}]
[null,{"$f":"Sprawdz_pesel(Formularz!#REF!)","v":{"$error":"#VALUE!"}}]
[null,{"$f":"Sprawdz_pesel(Formularz!#REF!)","v":{"$error":"#VALUE!"}}]
[null,{"$f":"Sprawdz_pesel(Formularz!#REF!)","v":{"$error":"#VALUE!"}}]
[null,{"$f":"Sprawdz_pesel(Formularz!#REF!)","v":{"$error":"#VALUE!"}}]
[null,{"$f":"Sprawdz_pesel(Formularz!#REF!)","v":{"$error":"#VALUE!"}}]
[null,{"$f":"Sprawdz_pesel(Formularz!#REF!)","v":{"$error":"#VALUE!"}}]
[null,{"$f":"Sprawdz_pesel(Formularz!#REF!)","v":{"$error":"#VALUE!"}}]
[null,{"$f":"Sprawdz_pesel(Formularz!#REF!)","v":{"$error":"#VALUE!"}}]
[null,{"$f":"Sprawdz_pesel(Formularz!#REF!)","v":{"$error":"#VALUE!"}}]
[null,{"$f":"Sprawdz_pesel(Formularz!#REF!)","v":{"$error":"#VALUE!"}}]
[null,{"$f":"Sprawdz_pesel(Formularz!#REF!)","v":{"$error":"#VALUE!"}}]
[null,{"$f":"Sprawdz_pesel(Formularz!#REF!)","v":{"$error":"#VALUE!"}}]
[null,{"$f":"Sprawdz_pesel(Formularz!#REF!)","v":{"$error":"#VALUE!"}}]
[null,{"$f":"Sprawdz_pesel(Formularz!#REF!)","v":{"$error":"#VALUE!"}}]
[null,{"$f":"Sprawdz_pesel(Formularz!#REF!)","v":{"$error":"#VALUE!"}}]
[null,{"$f":"Sprawdz_pesel(Formularz!#REF!)","v":{"$error":"#VALUE!"}}]
[null,{"$f":"Sprawdz_pesel(Formularz!#REF!)","v":{"$error":"#VALUE!"}}]
[null,{"$f":"Sprawdz_pesel(Formularz!#REF!)","v":{"$error":"#VALUE!"}}]
[null,{"$f":"Sprawdz_pesel(Formularz!#REF!)","v":{"$error":"#VALUE!"}}]
[null,{"$f":"Sprawdz_pesel(Formularz!#REF!)","v":{"$error":"#VALUE!"}}]
[null,{"$f":"Sprawdz_pesel(Formularz!#REF!)","v":{"$error":"#VALUE!"}}]
[null,{"$f":"Sprawdz_pesel(Formularz!#REF!)","v":{"$error":"#VALUE!"}}]
[null,{"$f":"Sprawdz_pesel(Formularz!#REF!)","v":{"$error":"#VALUE!"}}]
[null,{"$f":"Sprawdz_pesel(Formularz!#REF!)","v":{"$error":"#VALUE!"}}]
[null,{"$f":"Sprawdz_pesel(Formularz!#REF!)","v":{"$error":"#VALUE!"}}]
[null,{"$f":"Sprawdz_pesel(Formularz!#REF!)","v":{"$error":"#VALUE!"}}]
[null,{"$f":"Sprawdz_pesel(Formularz!#REF!)","v":{"$error":"#VALUE!"}}]
[null,{"$f":"Sprawdz_pesel(Formularz!#REF!)","v":{"$error":"#VALUE!"}}]
[null,{"$f":"Sprawdz_pesel(Formularz!#REF!)","v":{"$error":"#VALUE!"}}]
[null,{"$f":"Sprawdz_pesel(Formularz!#REF!)","v":{"$error":"#VALUE!"}}]
[null,{"$f":"Sprawdz_pesel(Formularz!#REF!)","v":{"$error":"#VALUE!"}}]
[null,{"$f":"Sprawdz_pesel(Formularz!#REF!)","v":{"$error":"#VALUE!"}}]
[null,{"$f":"Sprawdz_pesel(Formularz!#REF!)","v":{"$error":"#VALUE!"}}]
[null,{"$f":"Sprawdz_pesel(Formularz!#REF!)","v":{"$error":"#VALUE!"}}]
[null,{"$f":"Sprawdz_pesel(Formularz!#REF!)","v":{"$error":"#VALUE!"}}]
[null,{"$f":"Sprawdz_pesel(Formularz!#REF!)","v":{"$error":"#VALUE!"}}]
[null,{"$f":"Sprawdz_pesel(Formularz!#REF!)","v":{"$error":"#VALUE!"}}]
[null,{"$f":"Sprawdz_pesel(Formularz!#REF!)","v":{"$error":"#VALUE!"}}]
[null,{"$f":"Sprawdz_pesel(Formularz!#REF!)","v":{"$error":"#VALUE!"}}]
[null,{"$f":"Sprawdz_pesel(Formularz!#REF!)","v":{"$error":"#VALUE!"}}]
[null,{"$f":"Sprawdz_pesel(Formularz!#REF!)","v":{"$error":"#VALUE!"}}]
[null,{"$f":"Sprawdz_pesel(Formularz!#REF!)","v":{"$error":"#VALUE!"}}]
[null,{"$f":"Sprawdz_pesel(Formularz!#REF!)","v":{"$error":"#VALUE!"}}]
[null,{"$f":"Sprawdz_pesel(Formularz!#REF!)","v":{"$error":"#VALUE!"}}]
[null,{"$f":"Sprawdz_pesel(Formularz!#REF!)","v":{"$error":"#VALUE!"}}]
[null,{"$f":"Sprawdz_pesel(Formularz!#REF!)","v":{"$error":"#VALUE!"}}]
[null,{"$f":"Sprawdz_pesel(Formularz!#REF!)","v":{"$error":"#VALUE!"}}]
[null,{"$f":"Sprawdz_pesel(Formularz!#REF!)","v":{"$error":"#VALUE!"}}]
[null,{"$f":"Sprawdz_pesel(Formularz!#REF!)","v":{"$error":"#VALUE!"}}]
[null,{"$f":"Sprawdz_pesel(Formularz!#REF!)","v":{"$error":"#VALUE!"}}]
[null,{"$f":"Sprawdz_pesel(Formularz!#REF!)","v":{"$error":"#VALUE!"}}]
[null,{"$f":"Sprawdz_pesel(Formularz!#REF!)","v":{"$error":"#VALUE!"}}]
[null,{"$f":"Sprawdz_pesel(Formularz!#REF!)","v":{"$error":"#VALUE!"}}]
[null,{"$f":"Sprawdz_pesel(Formularz!#REF!)","v":{"$error":"#VALUE!"}}]
[null,{"$f":"Sprawdz_pesel(Formularz!#REF!)","v":{"$error":"#VALUE!"}}]
[null,{"$f":"Sprawdz_pesel(Formularz!#REF!)","v":{"$error":"#VALUE!"}}]
[null,{"$f":"Sprawdz_pesel(Formularz!#REF!)","v":{"$error":"#VALUE!"}}]
[null,{"$f":"Sprawdz_pesel(Formularz!#REF!)","v":{"$error":"#VALUE!"}}]
[null,{"$f":"Sprawdz_pesel(Formularz!#REF!)","v":{"$error":"#VALUE!"}}]
[null,{"$f":"Sprawdz_pesel(Formularz!#REF!)","v":{"$error":"#VALUE!"}}]
[null,{"$f":"Sprawdz_pesel(Formularz!#REF!)","v":{"$error":"#VALUE!"}}]
[null,{"$f":"Sprawdz_pesel(Formularz!#REF!)","v":{"$error":"#VALUE!"}}]
[null,{"$f":"Sprawdz_pesel(Formularz!#REF!)","v":{"$error":"#VALUE!"}}]
[null,{"$f":"Sprawdz_pesel(Formularz!#REF!)","v":{"$error":"#VALUE!"}}]
[null,{"$f":"Sprawdz_pesel(Formularz!#REF!)","v":{"$error":"#VALUE!"}}]
[null,{"$f":"Sprawdz_pesel(Formularz!#REF!)","v":{"$error":"#VALUE!"}}]
[null,{"$f":"Sprawdz_pesel(Formularz!#REF!)","v":{"$error":"#VALUE!"}}]
[null,{"$f":"Sprawdz_pesel(Formularz!#REF!)","v":{"$error":"#VALUE!"}}]
[null,{"$f":"Sprawdz_pesel(Formularz!#REF!)","v":{"$error":"#VALUE!"}}]
[null,{"$f":"Sprawdz_pesel(Formularz!#REF!)","v":{"$error":"#VALUE!"}}]
[null,{"$f":"Sprawdz_pesel(Formularz!#REF!)","v":{"$error":"#VALUE!"}}]
[null,{"$f":"Sprawdz_pesel(Formularz!#REF!)","v":{"$error":"#VALUE!"}}]
[null,{"$f":"Sprawdz_pesel(Formularz!#REF!)","v":{"$error":"#VALUE!"}}]
[null,{"$f":"Sprawdz_pesel(Formularz!#REF!)","v":{"$error":"#VALUE!"}}]
[null,{"$f":"Sprawdz_pesel(Formularz!#REF!)","v":{"$error":"#VALUE!"}}]
[null,{"$f":"Sprawdz_pesel(Formularz!#REF!)","v":{"$error":"#VALUE!"}}]
[null,{"$f":"Sprawdz_pesel(Formularz!#REF!)","v":{"$error":"#VALUE!"}}]
[null,{"$f":"Sprawdz_pesel(Formularz!#REF!)","v":{"$error":"#VALUE!"}}]
[null,{"$f":"Sprawdz_pesel(Formularz!#REF!)","v":{"$error":"#VALUE!"}}]
[null,{"$f":"Sprawdz_pesel(Formularz!#REF!)","v":{"$error":"#VALUE!"}}]
[null,{"$f":"Sprawdz_pesel(Formularz!#REF!)","v":{"$error":"#VALUE!"}}]
[null,{"$f":"Sprawdz_pesel(Formularz!#REF!)","v":{"$error":"#VALUE!"}}]
[null,{"$f":"Sprawdz_pesel(Formularz!#REF!)","v":{"$error":"#VALUE!"}}]
[null,{"$f":"Sprawdz_pesel(Formularz!#REF!)","v":{"$error":"#VALUE!"}}]
[null,{"$f":"Sprawdz_pesel(Formularz!#REF!)","v":{"$error":"#VALUE!"}}]
[null,{"$f":"Sprawdz_pesel(Formularz!#REF!)","v":{"$error":"#VALUE!"}}]
[null,{"$f":"Sprawdz_pesel(Formularz!#REF!)","v":{"$error":"#VALUE!"}}]
[null,{"$f":"Sprawdz_pesel(Formularz!#REF!)","v":{"$error":"#VALUE!"}}]
[null,{"$f":"Sprawdz_pesel(Formularz!#REF!)","v":{"$error":"#VALUE!"}}]
[null,{"$f":"Sprawdz_pesel(Formularz!#REF!)","v":{"$error":"#VALUE!"}}]
[null,{"$f":"Sprawdz_pesel(Formularz!#REF!)","v":{"$error":"#VALUE!"}}]
[null,{"$f":"Sprawdz_pesel(Formularz!#REF!)","v":{"$error":"#VALUE!"}}]
[null,{"$f":"Sprawdz_pesel(Formularz!#REF!)","v":{"$error":"#VALUE!"}}]
[null,{"$f":"Sprawdz_pesel(Formularz!#REF!)","v":{"$error":"#VALUE!"}}]
[null,{"$f":"Sprawdz_pesel(Formularz!#REF!)","v":{"$error":"#VALUE!"}}]
[null,{"$f":"Sprawdz_pesel(Formularz!#REF!)","v":{"$error":"#VALUE!"}}]
[null,{"$f":"Sprawdz_pesel(Formularz!#REF!)","v":{"$error":"#VALUE!"}}]
[null,{"$f":"Sprawdz_pesel(Formularz!#REF!)","v":{"$error":"#VALUE!"}}]
[null,{"$f":"Sprawdz_pesel(Formularz!#REF!)","v":{"$error":"#VALUE!"}}]
[null,{"$f":"Sprawdz_pesel(Formularz!#REF!)","v":{"$error":"#VALUE!"}}]
[null,{"$f":"Sprawdz_pesel(Formularz!#REF!)","v":{"$error":"#VALUE!"}}]
[null,{"$f":"Sprawdz_pesel(Formularz!#REF!)","v":{"$error":"#VALUE!"}}]
[null,{"$f":"Sprawdz_pesel(Formularz!#REF!)","v":{"$error":"#VALUE!"}}]
[null,{"$f":"Sprawdz_pesel(Formularz!#REF!)","v":{"$error":"#VALUE!"}}]
[null,{"$f":"Sprawdz_pesel(Formularz!#REF!)","v":{"$error":"#VALUE!"}}]
[null,{"$f":"Sprawdz_pesel(Formularz!#REF!)","v":{"$error":"#VALUE!"}}]
[null,{"$f":"Sprawdz_pesel(Formularz!#REF!)","v":{"$error":"#VALUE!"}}]
[null,{"$f":"Sprawdz_pesel(Formularz!#REF!)","v":{"$error":"#VALUE!"}}]
[null,{"$f":"Sprawdz_pesel(Formularz!#REF!)","v":{"$error":"#VALUE!"}}]
[null,{"$f":"Sprawdz_pesel(Formularz!#REF!)","v":{"$error":"#VALUE!"}}]
[null,{"$f":"Sprawdz_pesel(Formularz!#REF!)","v":{"$error":"#VALUE!"}}]
[null,{"$f":"Sprawdz_pesel(Formularz!#REF!)","v":{"$error":"#VALUE!"}}]
[null,{"$f":"Sprawdz_pesel(Formularz!#REF!)","v":{"$error":"#VALUE!"}}]
[null,{"$f":"Sprawdz_pesel(Formularz!#REF!)","v":{"$error":"#VALUE!"}}]
[null,{"$f":"Sprawdz_pesel(Formularz!#REF!)","v":{"$error":"#VALUE!"}}]
[null,{"$f":"Sprawdz_pesel(Formularz!#REF!)","v":{"$error":"#VALUE!"}}]
[null,{"$f":"Sprawdz_pesel(Formularz!#REF!)","v":{"$error":"#VALUE!"}}]
[null,{"$f":"Sprawdz_pesel(Formularz!#REF!)","v":{"$error":"#VALUE!"}}]
[null,{"$f":"Sprawdz_pesel(Formularz!#REF!)","v":{"$error":"#VALUE!"}}]
[null,{"$f":"Sprawdz_pesel(Formularz!#REF!)","v":{"$error":"#VALUE!"}}]
[null,{"$f":"Sprawdz_pesel(Formularz!#REF!)","v":{"$error":"#VALUE!"}}]
[null,{"$f":"Sprawdz_pesel(Formularz!#REF!)","v":{"$error":"#VALUE!"}}]
[null,{"$f":"Sprawdz_pesel(Formularz!#REF!)","v":{"$error":"#VALUE!"}}]
[null,{"$f":"Sprawdz_pesel(Formularz!#REF!)","v":{"$error":"#VALUE!"}}]
[null,{"$f":"Sprawdz_pesel(Formularz!#REF!)","v":{"$error":"#VALUE!"}}]
[null,{"$f":"Sprawdz_pesel(Formularz!#REF!)","v":{"$error":"#VALUE!"}}]
[null,{"$f":"Sprawdz_pesel(Formularz!#REF!)","v":{"$error":"#VALUE!"}}]
[null,{"$f":"Sprawdz_pesel(Formularz!#REF!)","v":{"$error":"#VALUE!"}}]
[null,{"$f":"Sprawdz_pesel(Formularz!#REF!)","v":{"$error":"#VALUE!"}}]
[null,{"$f":"Sprawdz_pesel(Formularz!#REF!)","v":{"$error":"#VALUE!"}}]
[null,{"$f":"Sprawdz_pesel(Formularz!#REF!)","v":{"$error":"#VALUE!"}}]
[null,{"$f":"Sprawdz_pesel(Formularz!#REF!)","v":{"$error":"#VALUE!"}}]
[null,{"$f":"Sprawdz_pesel(Formularz!#REF!)","v":{"$error":"#VALUE!"}}]
[null,{"$f":"Sprawdz_pesel(Formularz!#REF!)","v":{"$error":"#VALUE!"}}]
[null,{"$f":"Sprawdz_pesel(Formularz!#REF!)","v":{"$error":"#VALUE!"}}]
[null,{"$f":"Sprawdz_pesel(Formularz!#REF!)","v":{"$error":"#VALUE!"}}]
[null,{"$f":"Sprawdz_pesel(Formularz!#REF!)","v":{"$error":"#VALUE!"}}]
[null,{"$f":"Sprawdz_pesel(Formularz!#REF!)","v":{"$error":"#VALUE!"}}]
[null,{"$f":"Sprawdz_pesel(Formularz!#REF!)","v":{"$error":"#VALUE!"}}]
[null,{"$f":"Sprawdz_pesel(Formularz!#REF!)","v":{"$error":"#VALUE!"}}]
[null,{"$f":"Sprawdz_pesel(Formularz!#REF!)","v":{"$error":"#VALUE!"}}]
[null,{"$f":"Sprawdz_pesel(Formularz!#REF!)","v":{"$error":"#VALUE!"}}]
[null,{"$f":"Sprawdz_pesel(Formularz!#REF!)","v":{"$error":"#VALUE!"}}]
[null,{"$f":"Sprawdz_pesel(Formularz!#REF!)","v":{"$error":"#VALUE!"}}]
[null,{"$f":"Sprawdz_pesel(Formularz!#REF!)","v":{"$error":"#VALUE!"}}]
[null,{"$f":"Sprawdz_pesel(Formularz!#REF!)","v":{"$error":"#VALUE!"}}]
[null,{"$f":"Sprawdz_pesel(Formularz!#REF!)","v":{"$error":"#VALUE!"}}]
[null,{"$f":"Sprawdz_pesel(Formularz!#REF!)","v":{"$error":"#VALUE!"}}]
[null,{"$f":"Sprawdz_pesel(Formularz!#REF!)","v":{"$error":"#VALUE!"}}]
[null,{"$f":"Sprawdz_pesel(Formularz!#REF!)","v":{"$error":"#VALUE!"}}]
[null,{"$f":"Sprawdz_pesel(Formularz!#REF!)","v":{"$error":"#VALUE!"}}]
[null,{"$f":"Sprawdz_pesel(Formularz!#REF!)","v":{"$error":"#VALUE!"}}]
[null,{"$f":"Sprawdz_pesel(Formularz!#REF!)","v":{"$error":"#VALUE!"}}]
[null,{"$f":"Sprawdz_pesel(Formularz!#REF!)","v":{"$error":"#VALUE!"}}]
[null,{"$f":"Sprawdz_pesel(Formularz!#REF!)","v":{"$error":"#VALUE!"}}]
[null,{"$f":"Sprawdz_pesel(Formularz!#REF!)","v":{"$error":"#VALUE!"}}]
[null,{"$f":"Sprawdz_pesel(Formularz!#REF!)","v":{"$error":"#VALUE!"}}]
[null,{"$f":"Sprawdz_pesel(Formularz!#REF!)","v":{"$error":"#VALUE!"}}]
[null,{"$f":"Sprawdz_pesel(Formularz!#REF!)","v":{"$error":"#VALUE!"}}]
[null,{"$f":"Sprawdz_pesel(Formularz!#REF!)","v":{"$error":"#VALUE!"}}]
[null,{"$f":"Sprawdz_pesel(Formularz!#REF!)","v":{"$error":"#VALUE!"}}]
[null,{"$f":"Sprawdz_pesel(Formularz!#REF!)","v":{"$error":"#VALUE!"}}]
[null,{"$f":"Sprawdz_pesel(Formularz!#REF!)","v":{"$error":"#VALUE!"}}]
[null,{"$f":"Sprawdz_pesel(Formularz!#REF!)","v":{"$error":"#VALUE!"}}]
[null,{"$f":"Sprawdz_pesel(Formularz!#REF!)","v":{"$error":"#VALUE!"}}]
[null,{"$f":"Sprawdz_pesel(Formularz!#REF!)","v":{"$error":"#VALUE!"}}]
[null,{"$f":"Sprawdz_pesel(Formularz!#REF!)","v":{"$error":"#VALUE!"}}]
[null,{"$f":"Sprawdz_pesel(Formularz!#REF!)","v":{"$error":"#VALUE!"}}]
[null,{"$f":"Sprawdz_pesel(Formularz!#REF!)","v":{"$error":"#VALUE!"}}]
[null,{"$f":"Sprawdz_pesel(Formularz!#REF!)","v":{"$error":"#VALUE!"}}]
[null,{"$f":"Sprawdz_pesel(Formularz!#REF!)","v":{"$error":"#VALUE!"}}]
[null,{"$f":"Sprawdz_pesel(Formularz!#REF!)","v":{"$error":"#VALUE!"}}]
[null,{"$f":"Sprawdz_pesel(Formularz!#REF!)","v":{"$error":"#VALUE!"}}]
[null,{"$f":"Sprawdz_pesel(Formularz!#REF!)","v":{"$error":"#VALUE!"}}]
[null,{"$f":"Sprawdz_pesel(Formularz!#REF!)","v":{"$error":"#VALUE!"}}]
[null,{"$f":"Sprawdz_pesel(Formularz!#REF!)","v":{"$error":"#VALUE!"}}]
[null,{"$f":"Sprawdz_pesel(Formularz!#REF!)","v":{"$error":"#VALUE!"}}]
[null,{"$f":"Sprawdz_pesel(Formularz!#REF!)","v":{"$error":"#VALUE!"}}]
[null,{"$f":"Sprawdz_pesel(Formularz!#REF!)","v":{"$error":"#VALUE!"}}]
[null,{"$f":"Sprawdz_pesel(Formularz!#REF!)","v":{"$error":"#VALUE!"}}]
[null,{"$f":"Sprawdz_pesel(Formularz!#REF!)","v":{"$error":"#VALUE!"}}]
[null,{"$f":"Sprawdz_pesel(Formularz!#REF!)","v":{"$error":"#VALUE!"}}]
[null,{"$f":"Sprawdz_pesel(Formularz!#REF!)","v":{"$error":"#VALUE!"}}]
[null,{"$f":"Sprawdz_pesel(Formularz!#REF!)","v":{"$error":"#VALUE!"}}]
[null,{"$f":"Sprawdz_pesel(Formularz!#REF!)","v":{"$error":"#VALUE!"}}]
[null,{"$f":"Sprawdz_pesel(Formularz!#REF!)","v":{"$error":"#VALUE!"}}]
[null,{"$f":"Sprawdz_pesel(Formularz!#REF!)","v":{"$error":"#VALUE!"}}]
[null,{"$f":"Sprawdz_pesel(Formularz!#REF!)","v":{"$error":"#VALUE!"}}]
[null,{"$f":"Sprawdz_pesel(Formularz!#REF!)","v":{"$error":"#VALUE!"}}]
[null,{"$f":"Sprawdz_pesel(Formularz!#REF!)","v":{"$error":"#VALUE!"}}]
[null,{"$f":"Sprawdz_pesel(Formularz!#REF!)","v":{"$error":"#VALUE!"}}]
[null,{"$f":"Sprawdz_pesel(Formularz!#REF!)","v":{"$error":"#VALUE!"}}]
[null,{"$f":"Sprawdz_pesel(Formularz!#REF!)","v":{"$error":"#VALUE!"}}]
[null,{"$f":"Sprawdz_pesel(Formularz!#REF!)","v":{"$error":"#VALUE!"}}]
[null,{"$f":"Sprawdz_pesel(Formularz!#REF!)","v":{"$error":"#VALUE!"}}]
[null,{"$f":"Sprawdz_pesel(Formularz!#REF!)","v":{"$error":"#VALUE!"}}]
[null,{"$f":"Sprawdz_pesel(Formularz!#REF!)","v":{"$error":"#VALUE!"}}]
[null,{"$f":"Sprawdz_pesel(Formularz!#REF!)","v":{"$error":"#VALUE!"}}]
[null,{"$f":"Sprawdz_pesel(Formularz!#REF!)","v":{"$error":"#VALUE!"}}]
[null,{"$f":"Sprawdz_pesel(Formularz!#REF!)","v":{"$error":"#VALUE!"}}]
[null,{"$f":"Sprawdz_pesel(Formularz!#REF!)","v":{"$error":"#VALUE!"}}]
[null,{"$f":"Sprawdz_pesel(Formularz!#REF!)","v":{"$error":"#VALUE!"}}]
[null,{"$f":"Sprawdz_pesel(Formularz!#REF!)","v":{"$error":"#VALUE!"}}]
[null,{"$f":"Sprawdz_pesel(Formularz!#REF!)","v":{"$error":"#VALUE!"}}]
[null,{"$f":"Sprawdz_pesel(Formularz!#REF!)","v":{"$error":"#VALUE!"}}]
[null,{"$f":"Sprawdz_pesel(Formularz!#REF!)","v":{"$error":"#VALUE!"}}]
[null,{"$f":"Sprawdz_pesel(Formularz!#REF!)","v":{"$error":"#VALUE!"}}]
[null,{"$f":"Sprawdz_pesel(Formularz!#REF!)","v":{"$error":"#VALUE!"}}]
[null,{"$f":"Sprawdz_pesel(Formularz!#REF!)","v":{"$error":"#VALUE!"}}]
[null,{"$f":"Sprawdz_pesel(Formularz!#REF!)","v":{"$error":"#VALUE!"}}]
[null,{"$f":"Sprawdz_pesel(Formularz!#REF!)","v":{"$error":"#VALUE!"}}]
[null,{"$f":"Sprawdz_pesel(Formularz!#REF!)","v":{"$error":"#VALUE!"}}]
[null,{"$f":"Sprawdz_pesel(Formularz!#REF!)","v":{"$error":"#VALUE!"}}]
[null,{"$f":"Sprawdz_pesel(Formularz!#REF!)","v":{"$error":"#VALUE!"}}]
[null,{"$f":"Sprawdz_pesel(Formularz!#REF!)","v":{"$error":"#VALUE!"}}]
[null,{"$f":"Sprawdz_pesel(Formularz!#REF!)","v":{"$error":"#VALUE!"}}]
[null,{"$f":"Sprawdz_pesel(Formularz!#REF!)","v":{"$error":"#VALUE!"}}]
[null,{"$f":"Sprawdz_pesel(Formularz!#REF!)","v":{"$error":"#VALUE!"}}]
[null,{"$f":"Sprawdz_pesel(Formularz!#REF!)","v":{"$error":"#VALUE!"}}]
[null,{"$f":"Sprawdz_pesel(Formularz!#REF!)","v":{"$error":"#VALUE!"}}]
[null,{"$f":"Sprawdz_pesel(Formularz!#REF!)","v":{"$error":"#VALUE!"}}]
[null,{"$f":"Sprawdz_pesel(Formularz!#REF!)","v":{"$error":"#VALUE!"}}]
[null,{"$f":"Sprawdz_pesel(Formularz!#REF!)","v":{"$error":"#VALUE!"}}]
[null,{"$f":"Sprawdz_pesel(Formularz!#REF!)","v":{"$error":"#VALUE!"}}]
[null,{"$f":"Sprawdz_pesel(Formularz!#REF!)","v":{"$error":"#VALUE!"}}]
[null,{"$f":"Sprawdz_pesel(Formularz!#REF!)","v":{"$error":"#VALUE!"}}]
[null,{"$f":"Sprawdz_pesel(Formularz!#REF!)","v":{"$error":"#VALUE!"}}]
[null,{"$f":"Sprawdz_pesel(Formularz!#REF!)","v":{"$error":"#VALUE!"}}]
[null,{"$f":"Sprawdz_pesel(Formularz!#REF!)","v":{"$error":"#VALUE!"}}]
[null,{"$f":"Sprawdz_pesel(Formularz!#REF!)","v":{"$error":"#VALUE!"}}]
[null,{"$f":"Sprawdz_pesel(Formularz!#REF!)","v":{"$error":"#VALUE!"}}]
[null,{"$f":"Sprawdz_pesel(Formularz!#REF!)","v":{"$error":"#VALUE!"}}]
[null,{"$f":"Sprawdz_pesel(Formularz!#REF!)","v":{"$error":"#VALUE!"}}]
[null,{"$f":"Sprawdz_pesel(Formularz!#REF!)","v":{"$error":"#VALUE!"}}]
[null,{"$f":"Sprawdz_pesel(Formularz!#REF!)","v":{"$error":"#VALUE!"}}]
[null,{"$f":"Sprawdz_pesel(Formularz!#REF!)","v":{"$error":"#VALUE!"}}]
[null,{"$f":"Sprawdz_pesel(Formularz!#REF!)","v":{"$error":"#VALUE!"}}]
[null,{"$f":"Sprawdz_pesel(Formularz!#REF!)","v":{"$error":"#VALUE!"}}]
[null,{"$f":"Sprawdz_pesel(Formularz!#REF!)","v":{"$error":"#VALUE!"}}]
[null,{"$f":"Sprawdz_pesel(Formularz!#REF!)","v":{"$error":"#VALUE!"}}]
[null,{"$f":"Sprawdz_pesel(Formularz!#REF!)","v":{"$error":"#VALUE!"}}]
[null,{"$f":"Sprawdz_pesel(Formularz!#REF!)","v":{"$error":"#VALUE!"}}]
[null,{"$f":"Sprawdz_pesel(Formularz!#REF!)","v":{"$error":"#VALUE!"}}]
[null,{"$f":"Sprawdz_pesel(Formularz!#REF!)","v":{"$error":"#VALUE!"}}]
[null,{"$f":"Sprawdz_pesel(Formularz!#REF!)","v":{"$error":"#VALUE!"}}]
[null,{"$f":"Sprawdz_pesel(Formularz!#REF!)","v":{"$error":"#VALUE!"}}]
[null,{"$f":"Sprawdz_pesel(Formularz!#REF!)","v":{"$error":"#VALUE!"}}]
[null,{"$f":"Sprawdz_pesel(Formularz!#REF!)","v":{"$error":"#VALUE!"}}]
[null,{"$f":"Sprawdz_pesel(Formularz!#REF!)","v":{"$error":"#VALUE!"}}]
[null,{"$f":"Sprawdz_pesel(Formularz!#REF!)","v":{"$error":"#VALUE!"}}]
[null,{"$f":"Sprawdz_pesel(Formularz!#REF!)","v":{"$error":"#VALUE!"}}]
[null,{"$f":"Sprawdz_pesel(Formularz!#REF!)","v":{"$error":"#VALUE!"}}]
[null,{"$f":"Sprawdz_pesel(Formularz!#REF!)","v":{"$error":"#VALUE!"}}]
[null,{"$f":"Sprawdz_pesel(Formularz!#REF!)","v":{"$error":"#VALUE!"}}]
[null,{"$f":"Sprawdz_pesel(Formularz!#REF!)","v":{"$error":"#VALUE!"}}]
[null,{"$f":"Sprawdz_pesel(Formularz!#REF!)","v":{"$error":"#VALUE!"}}]
[null,{"$f":"Sprawdz_pesel(Formularz!#REF!)","v":{"$error":"#VALUE!"}}]
[null,{"$f":"Sprawdz_pesel(Formularz!#REF!)","v":{"$error":"#VALUE!"}}]
[null,{"$f":"Sprawdz_pesel(Formularz!#REF!)","v":{"$error":"#VALUE!"}}]
[null,{"$f":"Sprawdz_pesel(Formularz!#REF!)","v":{"$error":"#VALUE!"}}]
[null,{"$f":"Sprawdz_pesel(Formularz!#REF!)","v":{"$error":"#VALUE!"}}]
[null,{"$f":"Sprawdz_pesel(Formularz!#REF!)","v":{"$error":"#VALUE!"}}]
[null,{"$f":"Sprawdz_pesel(Formularz!#REF!)","v":{"$error":"#VALUE!"}}]
[null,{"$f":"Sprawdz_pesel(Formularz!#REF!)","v":{"$error":"#VALUE!"}}]
[null,{"$f":"Sprawdz_pesel(Formularz!#REF!)","v":{"$error":"#VALUE!"}}]
[null,{"$f":"Sprawdz_pesel(Formularz!#REF!)","v":{"$error":"#VALUE!"}}]
[null,{"$f":"Sprawdz_pesel(Formularz!#REF!)","v":{"$error":"#VALUE!"}}]
[null,{"$f":"Sprawdz_pesel(Formularz!#REF!)","v":{"$error":"#VALUE!"}}]
[null,{"$f":"Sprawdz_pesel(Formularz!#REF!)","v":{"$error":"#VALUE!"}}]
[null,{"$f":"Sprawdz_pesel(Formularz!#REF!)","v":{"$error":"#VALUE!"}}]
[null,{"$f":"Sprawdz_pesel(Formularz!#REF!)","v":{"$error":"#VALUE!"}}]
[null,{"$f":"Sprawdz_pesel(Formularz!#REF!)","v":{"$error":"#VALUE!"}}]
[null,{"$f":"Sprawdz_pesel(Formularz!#REF!)","v":{"$error":"#VALUE!"}}]
[null,{"$f":"Sprawdz_pesel(Formularz!#REF!)","v":{"$error":"#VALUE!"}}]
[null,{"$f":"Sprawdz_pesel(Formularz!#REF!)","v":{"$error":"#VALUE!"}}]
[null,{"$f":"Sprawdz_pesel(Formularz!#REF!)","v":{"$error":"#VALUE!"}}]
[null,{"$f":"Sprawdz_pesel(Formularz!#REF!)","v":{"$error":"#VALUE!"}}]
[null,{"$f":"Sprawdz_pesel(Formularz!#REF!)","v":{"$error":"#VALUE!"}}]
[null,{"$f":"Sprawdz_pesel(Formularz!#REF!)","v":{"$error":"#VALUE!"}}]
[null,{"$f":"Sprawdz_pesel(Formularz!#REF!)","v":{"$error":"#VALUE!"}}]
[null,{"$f":"Sprawdz_pesel(Formularz!#REF!)","v":{"$error":"#VALUE!"}}]
[null,{"$f":"Sprawdz_pesel(Formularz!#REF!)","v":{"$error":"#VALUE!"}}]
[null,{"$f":"Sprawdz_pesel(Formularz!#REF!)","v":{"$error":"#VALUE!"}}]
[null,{"$f":"Sprawdz_pesel(Formularz!#REF!)","v":{"$error":"#VALUE!"}}]
[null,{"$f":"Sprawdz_pesel(Formularz!#REF!)","v":{"$error":"#VALUE!"}}]
[null,{"$f":"Sprawdz_pesel(Formularz!#REF!)","v":{"$error":"#VALUE!"}}]
[null,{"$f":"Sprawdz_pesel(Formularz!#REF!)","v":{"$error":"#VALUE!"}}]
[null,{"$f":"Sprawdz_pesel(Formularz!#REF!)","v":{"$error":"#VALUE!"}}]
[null,{"$f":"Sprawdz_pesel(Formularz!#REF!)","v":{"$error":"#VALUE!"}}]
[null,{"$f":"Sprawdz_pesel(Formularz!#REF!)","v":{"$error":"#VALUE!"}}]
[null,{"$f":"Sprawdz_pesel(Formularz!#REF!)","v":{"$error":"#VALUE!"}}]
[null,{"$f":"Sprawdz_pesel(Formularz!#REF!)","v":{"$error":"#VALUE!"}}]
[null,{"$f":"Sprawdz_pesel(Formularz!#REF!)","v":{"$error":"#VALUE!"}}]
[null,{"$f":"Sprawdz_pesel(Formularz!#REF!)","v":{"$error":"#VALUE!"}}]
[null,{"$f":"Sprawdz_pesel(Formularz!#REF!)","v":{"$error":"#VALUE!"}}]
[null,{"$f":"Sprawdz_pesel(Formularz!#REF!)","v":{"$error":"#VALUE!"}}]
[null,{"$f":"Sprawdz_pesel(Formularz!#REF!)","v":{"$error":"#VALUE!"}}]
[null,{"$f":"Sprawdz_pesel(Formularz!#REF!)","v":{"$error":"#VALUE!"}}]
[null,{"$f":"Sprawdz_pesel(Formularz!#REF!)","v":{"$error":"#VALUE!"}}]
[null,{"$f":"Sprawdz_pesel(Formularz!#REF!)","v":{"$error":"#VALUE!"}}]
[null,{"$f":"Sprawdz_pesel(Formularz!#REF!)","v":{"$error":"#VALUE!"}}]
[null,{"$f":"Sprawdz_pesel(Formularz!#REF!)","v":{"$error":"#VALUE!"}}]
[null,{"$f":"Sprawdz_pesel(Formularz!#REF!)","v":{"$error":"#VALUE!"}}]
[null,{"$f":"Sprawdz_pesel(Formularz!#REF!)","v":{"$error":"#VALUE!"}}]
[null,{"$f":"Sprawdz_pesel(Formularz!#REF!)","v":{"$error":"#VALUE!"}}]
[null,{"$f":"Sprawdz_pesel(Formularz!#REF!)","v":{"$error":"#VALUE!"}}]
[null,{"$f":"Sprawdz_pesel(Formularz!#REF!)","v":{"$error":"#VALUE!"}}]
[null,{"$f":"Sprawdz_pesel(Formularz!#REF!)","v":{"$error":"#VALUE!"}}]
[null,{"$f":"Sprawdz_pesel(Formularz!#REF!)","v":{"$error":"#VALUE!"}}]
[null,{"$f":"Sprawdz_pesel(Formularz!#REF!)","v":{"$error":"#VALUE!"}}]
[null,{"$f":"Sprawdz_pesel(Formularz!#REF!)","v":{"$error":"#VALUE!"}}]
[null,{"$f":"Sprawdz_pesel(Formularz!#REF!)","v":{"$error":"#VALUE!"}}]
[null,{"$f":"Sprawdz_pesel(Formularz!#REF!)","v":{"$error":"#VALUE!"}}]
[null,{"$f":"Sprawdz_pesel(Formularz!#REF!)","v":{"$error":"#VALUE!"}}]
[null,{"$f":"Sprawdz_pesel(Formularz!#REF!)","v":{"$error":"#VALUE!"}}]
[null,{"$f":"Sprawdz_pesel(Formularz!#REF!)","v":{"$error":"#VALUE!"}}]
[null,{"$f":"Sprawdz_pesel(Formularz!#REF!)","v":{"$error":"#VALUE!"}}]
[null,{"$f":"Sprawdz_pesel(Formularz!#REF!)","v":{"$error":"#VALUE!"}}]
[null,{"$f":"Sprawdz_pesel(Formularz!#REF!)","v":{"$error":"#VALUE!"}}]
[null,{"$f":"Sprawdz_pesel(Formularz!#REF!)","v":{"$error":"#VALUE!"}}]
[null,{"$f":"Sprawdz_pesel(Formularz!#REF!)","v":{"$error":"#VALUE!"}}]
[null,{"$f":"Sprawdz_pesel(Formularz!#REF!)","v":{"$error":"#VALUE!"}}]
[null,{"$f":"Sprawdz_pesel(Formularz!#REF!)","v":{"$error":"#VALUE!"}}]
[null,{"$f":"Sprawdz_pesel(Formularz!#REF!)","v":{"$error":"#VALUE!"}}]
[null,{"$f":"Sprawdz_pesel(Formularz!#REF!)","v":{"$error":"#VALUE!"}}]
[null,{"$f":"Sprawdz_pesel(Formularz!#REF!)","v":{"$error":"#VALUE!"}}]
[null,{"$f":"Sprawdz_pesel(Formularz!#REF!)","v":{"$error":"#VALUE!"}}]
[null,{"$f":"Sprawdz_pesel(Formularz!#REF!)","v":{"$error":"#VALUE!"}}]
[null,{"$f":"Sprawdz_pesel(Formularz!#REF!)","v":{"$error":"#VALUE!"}}]
[null,{"$f":"Sprawdz_pesel(Formularz!#REF!)","v":{"$error":"#VALUE!"}}]
[null,{"$f":"Sprawdz_pesel(Formularz!#REF!)","v":{"$error":"#VALUE!"}}]
[null,{"$f":"Sprawdz_pesel(Formularz!#REF!)","v":{"$error":"#VALUE!"}}]
[null,{"$f":"Sprawdz_pesel(Formularz!#REF!)","v":{"$error":"#VALUE!"}}]
[null,{"$f":"Sprawdz_pesel(Formularz!#REF!)","v":{"$error":"#VALUE!"}}]
[null,{"$f":"Sprawdz_pesel(Formularz!#REF!)","v":{"$error":"#VALUE!"}}]
[null,{"$f":"Sprawdz_pesel(Formularz!#REF!)","v":{"$error":"#VALUE!"}}]
[null,{"$f":"Sprawdz_pesel(Formularz!#REF!)","v":{"$error":"#VALUE!"}}]
[null,{"$f":"Sprawdz_pesel(Formularz!#REF!)","v":{"$error":"#VALUE!"}}]
[null,{"$f":"Sprawdz_pesel(Formularz!#REF!)","v":{"$error":"#VALUE!"}}]
[null,{"$f":"Sprawdz_pesel(Formularz!#REF!)","v":{"$error":"#VALUE!"}}]
[null,{"$f":"Sprawdz_pesel(Formularz!#REF!)","v":{"$error":"#VALUE!"}}]
[null,{"$f":"Sprawdz_pesel(Formularz!#REF!)","v":{"$error":"#VALUE!"}}]
[null,{"$f":"Sprawdz_pesel(Formularz!#REF!)","v":{"$error":"#VALUE!"}}]
[null,{"$f":"Sprawdz_pesel(Formularz!#REF!)","v":{"$error":"#VALUE!"}}]
[null,{"$f":"Sprawdz_pesel(Formularz!#REF!)","v":{"$error":"#VALUE!"}}]
[null,{"$f":"Sprawdz_pesel(Formularz!#REF!)","v":{"$error":"#VALUE!"}}]
[null,{"$f":"Sprawdz_pesel(Formularz!#REF!)","v":{"$error":"#VALUE!"}}]
[null,{"$f":"Sprawdz_pesel(Formularz!#REF!)","v":{"$error":"#VALUE!"}}]
[null,{"$f":"Sprawdz_pesel(Formularz!#REF!)","v":{"$error":"#VALUE!"}}]
[null,{"$f":"Sprawdz_pesel(Formularz!#REF!)","v":{"$error":"#VALUE!"}}]
[null,{"$f":"Sprawdz_pesel(Formularz!#REF!)","v":{"$error":"#VALUE!"}}]
[null,{"$f":"Sprawdz_pesel(Formularz!#REF!)","v":{"$error":"#VALUE!"}}]
[null,{"$f":"Sprawdz_pesel(Formularz!#REF!)","v":{"$error":"#VALUE!"}}]
[null,{"$f":"Sprawdz_pesel(Formularz!#REF!)","v":{"$error":"#VALUE!"}}]
[null,{"$f":"Sprawdz_pesel(Formularz!#REF!)","v":{"$error":"#VALUE!"}}]
[null,{"$f":"Sprawdz_pesel(Formularz!#REF!)","v":{"$error":"#VALUE!"}}]
[null,{"$f":"Sprawdz_pesel(Formularz!#REF!)","v":{"$error":"#VALUE!"}}]
[null,{"$f":"Sprawdz_pesel(Formularz!#REF!)","v":{"$error":"#VALUE!"}}]
[null,{"$f":"Sprawdz_pesel(Formularz!#REF!)","v":{"$error":"#VALUE!"}}]
[null,{"$f":"Sprawdz_pesel(Formularz!#REF!)","v":{"$error":"#VALUE!"}}]
[null,{"$f":"Sprawdz_pesel(Formularz!#REF!)","v":{"$error":"#VALUE!"}}]
[null,{"$f":"Sprawdz_pesel(Formularz!#REF!)","v":{"$error":"#VALUE!"}}]
[null,{"$f":"Sprawdz_pesel(Formularz!#REF!)","v":{"$error":"#VALUE!"}}]
[null,{"$f":"Sprawdz_pesel(Formularz!#REF!)","v":{"$error":"#VALUE!"}}]
[null,{"$f":"Sprawdz_pesel(Formularz!#REF!)","v":{"$error":"#VALUE!"}}]
[null,{"$f":"Sprawdz_pesel(Formularz!#REF!)","v":{"$error":"#VALUE!"}}]
[null,{"$f":"Sprawdz_pesel(Formularz!#REF!)","v":{"$error":"#VALUE!"}}]
[null,{"$f":"Sprawdz_pesel(Formularz!#REF!)","v":{"$error":"#VALUE!"}}]
[null,{"$f":"Sprawdz_pesel(Formularz!#REF!)","v":{"$error":"#VALUE!"}}]
[null,{"$f":"Sprawdz_pesel(Formularz!#REF!)","v":{"$error":"#VALUE!"}}]
[null,{"$f":"Sprawdz_pesel(Formularz!#REF!)","v":{"$error":"#VALUE!"}}]
[null,{"$f":"Sprawdz_pesel(Formularz!#REF!)","v":{"$error":"#VALUE!"}}]
[null,{"$f":"Sprawdz_pesel(Formularz!#REF!)","v":{"$error":"#VALUE!"}}]
[null,{"$f":"Sprawdz_pesel(Formularz!#REF!)","v":{"$error":"#VALUE!"}}]
[null,{"$f":"Sprawdz_pesel(Formularz!#REF!)","v":{"$error":"#VALUE!"}}]
[null,{"$f":"Sprawdz_pesel(Formularz!#REF!)","v":{"$error":"#VALUE!"}}]
[null,{"$f":"Sprawdz_pesel(Formularz!#REF!)","v":{"$error":"#VALUE!"}}]
[null,{"$f":"Sprawdz_pesel(Formularz!#REF!)","v":{"$error":"#VALUE!"}}]
[null,{"$f":"Sprawdz_pesel(Formularz!#REF!)","v":{"$error":"#VALUE!"}}]
[null,{"$f":"Sprawdz_pesel(Formularz!#REF!)","v":{"$error":"#VALUE!"}}]
[null,{"$f":"Sprawdz_pesel(Formularz!#REF!)","v":{"$error":"#VALUE!"}}]
[null,{"$f":"Sprawdz_pesel(Formularz!#REF!)","v":{"$error":"#VALUE!"}}]
[null,{"$f":"Sprawdz_pesel(Formularz!#REF!)","v":{"$error":"#VALUE!"}}]
[null,{"$f":"Sprawdz_pesel(Formularz!#REF!)","v":{"$error":"#VALUE!"}}]
[null,{"$f":"Sprawdz_pesel(Formularz!#REF!)","v":{"$error":"#VALUE!"}}]
[null,{"$f":"Sprawdz_pesel(Formularz!#REF!)","v":{"$error":"#VALUE!"}}]
[null,{"$f":"Sprawdz_pesel(Formularz!#REF!)","v":{"$error":"#VALUE!"}}]
[null,{"$f":"Sprawdz_pesel(Formularz!#REF!)","v":{"$error":"#VALUE!"}}]
[null,{"$f":"Sprawdz_pesel(Formularz!#REF!)","v":{"$error":"#VALUE!"}}]
[null,{"$f":"Sprawdz_pesel(Formularz!#REF!)","v":{"$error":"#VALUE!"}}]
[null,{"$f":"Sprawdz_pesel(Formularz!#REF!)","v":{"$error":"#VALUE!"}}]
[null,{"$f":"Sprawdz_pesel(Formularz!#REF!)","v":{"$error":"#VALUE!"}}]
[null,{"$f":"Sprawdz_pesel(Formularz!#REF!)","v":{"$error":"#VALUE!"}}]
[null,{"$f":"Sprawdz_pesel(Formularz!#REF!)","v":{"$error":"#VALUE!"}}]
[null,{"$f":"Sprawdz_pesel(Formularz!#REF!)","v":{"$error":"#VALUE!"}}]
[null,{"$f":"Sprawdz_pesel(Formularz!#REF!)","v":{"$error":"#VALUE!"}}]
[null,{"$f":"Sprawdz_pesel(Formularz!#REF!)","v":{"$error":"#VALUE!"}}]
[null,{"$f":"Sprawdz_pesel(Formularz!#REF!)","v":{"$error":"#VALUE!"}}]
[null,{"$f":"Sprawdz_pesel(Formularz!#REF!)","v":{"$error":"#VALUE!"}}]
[null,{"$f":"Sprawdz_pesel(Formularz!#REF!)","v":{"$error":"#VALUE!"}}]
[null,{"$f":"Sprawdz_pesel(Formularz!#REF!)","v":{"$error":"#VALUE!"}}]
[null,{"$f":"Sprawdz_pesel(Formularz!#REF!)","v":{"$error":"#VALUE!"}}]
[null,{"$f":"Sprawdz_pesel(Formularz!#REF!)","v":{"$error":"#VALUE!"}}]
[null,{"$f":"Sprawdz_pesel(Formularz!#REF!)","v":{"$error":"#VALUE!"}}]
[null,{"$f":"Sprawdz_pesel(Formularz!#REF!)","v":{"$error":"#VALUE!"}}]
[null,{"$f":"Sprawdz_pesel(Formularz!#REF!)","v":{"$error":"#VALUE!"}}]
[null,{"$f":"Sprawdz_pesel(Formularz!#REF!)","v":{"$error":"#VALUE!"}}]
[null,{"$f":"Sprawdz_pesel(Formularz!#REF!)","v":{"$error":"#VALUE!"}}]
[null,{"$f":"Sprawdz_pesel(Formularz!#REF!)","v":{"$error":"#VALUE!"}}]
[null,{"$f":"Sprawdz_pesel(Formularz!#REF!)","v":{"$error":"#VALUE!"}}]
[null,{"$f":"Sprawdz_pesel(Formularz!#REF!)","v":{"$error":"#VALUE!"}}]
[null,{"$f":"Sprawdz_pesel(Formularz!#REF!)","v":{"$error":"#VALUE!"}}]
[null,{"$f":"Sprawdz_pesel(Formularz!#REF!)","v":{"$error":"#VALUE!"}}]
[null,{"$f":"Sprawdz_pesel(Formularz!#REF!)","v":{"$error":"#VALUE!"}}]
[null,{"$f":"Sprawdz_pesel(Formularz!#REF!)","v":{"$error":"#VALUE!"}}]
[null,{"$f":"Sprawdz_pesel(Formularz!#REF!)","v":{"$error":"#VALUE!"}}]
[null,{"$f":"Sprawdz_pesel(Formularz!#REF!)","v":{"$error":"#VALUE!"}}]
[null,{"$f":"Sprawdz_pesel(Formularz!#REF!)","v":{"$error":"#VALUE!"}}]
[null,{"$f":"Sprawdz_pesel(Formularz!#REF!)","v":{"$error":"#VALUE!"}}]
[null,{"$f":"Sprawdz_pesel(Formularz!#REF!)","v":{"$error":"#VALUE!"}}]
[null,{"$f":"Sprawdz_pesel(Formularz!#REF!)","v":{"$error":"#VALUE!"}}]
[null,{"$f":"Sprawdz_pesel(Formularz!#REF!)","v":{"$error":"#VALUE!"}}]
[null,{"$f":"Sprawdz_pesel(Formularz!#REF!)","v":{"$error":"#VALUE!"}}]
[null,{"$f":"Sprawdz_pesel(Formularz!#REF!)","v":{"$error":"#VALUE!"}}]
[null,{"$f":"Sprawdz_pesel(Formularz!#REF!)","v":{"$error":"#VALUE!"}}]
[null,{"$f":"Sprawdz_pesel(Formularz!#REF!)","v":{"$error":"#VALUE!"}}]
[null,{"$f":"Sprawdz_pesel(Formularz!#REF!)","v":{"$error":"#VALUE!"}}]
[null,{"$f":"Sprawdz_pesel(Formularz!#REF!)","v":{"$error":"#VALUE!"}}]
[null,{"$f":"Sprawdz_pesel(Formularz!#REF!)","v":{"$error":"#VALUE!"}}]
[null,{"$f":"Sprawdz_pesel(Formularz!#REF!)","v":{"$error":"#VALUE!"}}]
[null,{"$f":"Sprawdz_pesel(Formularz!#REF!)","v":{"$error":"#VALUE!"}}]
[null,{"$f":"Sprawdz_pesel(Formularz!#REF!)","v":{"$error":"#VALUE!"}}]
[null,{"$f":"Sprawdz_pesel(Formularz!#REF!)","v":{"$error":"#VALUE!"}}]
[null,{"$f":"Sprawdz_pesel(Formularz!#REF!)","v":{"$error":"#VALUE!"}}]
[null,{"$f":"Sprawdz_pesel(Formularz!#REF!)","v":{"$error":"#VALUE!"}}]
[null,{"$f":"Sprawdz_pesel(Formularz!#REF!)","v":{"$error":"#VALUE!"}}]
[null,{"$f":"Sprawdz_pesel(Formularz!#REF!)","v":{"$error":"#VALUE!"}}]
[null,{"$f":"Sprawdz_pesel(Formularz!#REF!)","v":{"$error":"#VALUE!"}}]
[null,{"$f":"Sprawdz_pesel(Formularz!#REF!)","v":{"$error":"#VALUE!"}}]
[null,{"$f":"Sprawdz_pesel(Formularz!#REF!)","v":{"$error":"#VALUE!"}}]
[null,{"$f":"Sprawdz_pesel(Formularz!#REF!)","v":{"$error":"#VALUE!"}}]
[null,{"$f":"Sprawdz_pesel(Formularz!#REF!)","v":{"$error":"#VALUE!"}}]
[null,{"$f":"Sprawdz_pesel(Formularz!#REF!)","v":{"$error":"#VALUE!"}}]
[null,{"$f":"Sprawdz_pesel(Formularz!#REF!)","v":{"$error":"#VALUE!"}}]
[null,{"$f":"Sprawdz_pesel(Formularz!#REF!)","v":{"$error":"#VALUE!"}}]
[null,{"$f":"Sprawdz_pesel(Formularz!#REF!)","v":{"$error":"#VALUE!"}}]
[null,{"$f":"Sprawdz_pesel(Formularz!#REF!)","v":{"$error":"#VALUE!"}}]
[null,{"$f":"Sprawdz_pesel(Formularz!#REF!)","v":{"$error":"#VALUE!"}}]
[null,{"$f":"Sprawdz_pesel(Formularz!#REF!)","v":{"$error":"#VALUE!"}}]
[null,{"$f":"Sprawdz_pesel(Formularz!#REF!)","v":{"$error":"#VALUE!"}}]
[null,{"$f":"Sprawdz_pesel(Formularz!#REF!)","v":{"$error":"#VALUE!"}}]
[null,{"$f":"Sprawdz_pesel(Formularz!#REF!)","v":{"$error":"#VALUE!"}}]
[null,{"$f":"Sprawdz_pesel(Formularz!#REF!)","v":{"$error":"#VALUE!"}}]
[null,{"$f":"Sprawdz_pesel(Formularz!#REF!)","v":{"$error":"#VALUE!"}}]
[null,{"$f":"Sprawdz_pesel(Formularz!#REF!)","v":{"$error":"#VALUE!"}}]
[null,{"$f":"Sprawdz_pesel(Formularz!#REF!)","v":{"$error":"#VALUE!"}}]
[null,{"$f":"Sprawdz_pesel(Formularz!#REF!)","v":{"$error":"#VALUE!"}}]
[null,{"$f":"Sprawdz_pesel(Formularz!#REF!)","v":{"$error":"#VALUE!"}}]
[null,{"$f":"Sprawdz_pesel(Formularz!#REF!)","v":{"$error":"#VALUE!"}}]
[null,{"$f":"Sprawdz_pesel(Formularz!#REF!)","v":{"$error":"#VALUE!"}}]
[null,{"$f":"Sprawdz_pesel(Formularz!#REF!)","v":{"$error":"#VALUE!"}}]
[null,{"$f":"Sprawdz_pesel(Formularz!#REF!)","v":{"$error":"#VALUE!"}}]
[null,{"$f":"Sprawdz_pesel(Formularz!#REF!)","v":{"$error":"#VALUE!"}}]
[null,{"$f":"Sprawdz_pesel(Formularz!#REF!)","v":{"$error":"#VALUE!"}}]
[null,{"$f":"Sprawdz_pesel(Formularz!#REF!)","v":{"$error":"#VALUE!"}}]
[null,{"$f":"Sprawdz_pesel(Formularz!#REF!)","v":{"$error":"#VALUE!"}}]
[null,{"$f":"Sprawdz_pesel(Formularz!#REF!)","v":{"$error":"#VALUE!"}}]
[null,{"$f":"Sprawdz_pesel(Formularz!#REF!)","v":{"$error":"#VALUE!"}}]
[null,{"$f":"Sprawdz_pesel(Formularz!#REF!)","v":{"$error":"#VALUE!"}}]
[null,{"$f":"Sprawdz_pesel(Formularz!#REF!)","v":{"$error":"#VALUE!"}}]
[null,{"$f":"Sprawdz_pesel(Formularz!#REF!)","v":{"$error":"#VALUE!"}}]
[null,{"$f":"Sprawdz_pesel(Formularz!#REF!)","v":{"$error":"#VALUE!"}}]
[null,{"$f":"Sprawdz_pesel(Formularz!#REF!)","v":{"$error":"#VALUE!"}}]
[null,{"$f":"Sprawdz_pesel(Formularz!#REF!)","v":{"$error":"#VALUE!"}}]
[null,{"$f":"Sprawdz_pesel(Formularz!#REF!)","v":{"$error":"#VALUE!"}}]
[null,{"$f":"Sprawdz_pesel(Formularz!#REF!)","v":{"$error":"#VALUE!"}}]
[null,{"$f":"Sprawdz_pesel(Formularz!#REF!)","v":{"$error":"#VALUE!"}}]
[null,{"$f":"Sprawdz_pesel(Formularz!#REF!)","v":{"$error":"#VALUE!"}}]
[null,{"$f":"Sprawdz_pesel(Formularz!#REF!)","v":{"$error":"#VALUE!"}}]
[null,{"$f":"Sprawdz_pesel(Formularz!#REF!)","v":{"$error":"#VALUE!"}}]
[null,{"$f":"Sprawdz_pesel(Formularz!#REF!)","v":{"$error":"#VALUE!"}}]
[null,{"$f":"Sprawdz_pesel(Formularz!#REF!)","v":{"$error":"#VALUE!"}}]
[null,{"$f":"Sprawdz_pesel(Formularz!#REF!)","v":{"$error":"#VALUE!"}}]
[null,{"$f":"Sprawdz_pesel(Formularz!#REF!)","v":{"$error":"#VALUE!"}}]
[null,{"$f":"Sprawdz_pesel(Formularz!#REF!)","v":{"$error":"#VALUE!"}}]
[null,{"$f":"Sprawdz_pesel(Formularz!#REF!)","v":{"$error":"#VALUE!"}}]
[null,{"$f":"Sprawdz_pesel(Formularz!#REF!)","v":{"$error":"#VALUE!"}}]
[null,{"$f":"Sprawdz_pesel(Formularz!#REF!)","v":{"$error":"#VALUE!"}}]
[null,{"$f":"Sprawdz_pesel(Formularz!#REF!)","v":{"$error":"#VALUE!"}}]
[null,{"$f":"Sprawdz_pesel(Formularz!#REF!)","v":{"$error":"#VALUE!"}}]
[null,{"$f":"Sprawdz_pesel(Formularz!#REF!)","v":{"$error":"#VALUE!"}}]
[null,{"$f":"Sprawdz_pesel(Formularz!#REF!)","v":{"$error":"#VALUE!"}}]
[null,{"$f":"Sprawdz_pesel(Formularz!#REF!)","v":{"$error":"#VALUE!"}}]
[null,{"$f":"Sprawdz_pesel(Formularz!#REF!)","v":{"$error":"#VALUE!"}}]
[null,{"$f":"Sprawdz_pesel(Formularz!#REF!)","v":{"$error":"#VALUE!"}}]
[null,{"$f":"Sprawdz_pesel(Formularz!#REF!)","v":{"$error":"#VALUE!"}}]
[null,{"$f":"Sprawdz_pesel(Formularz!#REF!)","v":{"$error":"#VALUE!"}}]
[null,{"$f":"Sprawdz_pesel(Formularz!#REF!)","v":{"$error":"#VALUE!"}}]
[null,{"$f":"Sprawdz_pesel(Formularz!#REF!)","v":{"$error":"#VALUE!"}}]
[null,{"$f":"Sprawdz_pesel(Formularz!#REF!)","v":{"$error":"#VALUE!"}}]
[null,{"$f":"Sprawdz_pesel(Formularz!#REF!)","v":{"$error":"#VALUE!"}}]
[null,{"$f":"Sprawdz_pesel(Formularz!#REF!)","v":{"$error":"#VALUE!"}}]
[null,{"$f":"Sprawdz_pesel(Formularz!#REF!)","v":{"$error":"#VALUE!"}}]
[null,{"$f":"Sprawdz_pesel(Formularz!#REF!)","v":{"$error":"#VALUE!"}}]
[null,{"$f":"Sprawdz_pesel(Formularz!#REF!)","v":{"$error":"#VALUE!"}}]
[null,{"$f":"Sprawdz_pesel(Formularz!#REF!)","v":{"$error":"#VALUE!"}}]
[null,{"$f":"Sprawdz_pesel(Formularz!#REF!)","v":{"$error":"#VALUE!"}}]
[null,{"$f":"Sprawdz_pesel(Formularz!#REF!)","v":{"$error":"#VALUE!"}}]
[null,{"$f":"Sprawdz_pesel(Formularz!#REF!)","v":{"$error":"#VALUE!"}}]
[null,{"$f":"Sprawdz_pesel(Formularz!#REF!)","v":{"$error":"#VALUE!"}}]
[null,{"$f":"Sprawdz_pesel(Formularz!#REF!)","v":{"$error":"#VALUE!"}}]
[null,{"$f":"Sprawdz_pesel(Formularz!#REF!)","v":{"$error":"#VALUE!"}}]
[null,{"$f":"Sprawdz_pesel(Formularz!#REF!)","v":{"$error":"#VALUE!"}}]
[null,{"$f":"Sprawdz_pesel(Formularz!#REF!)","v":{"$error":"#VALUE!"}}]
[null,{"$f":"Sprawdz_pesel(Formularz!#REF!)","v":{"$error":"#VALUE!"}}]
[null,{"$f":"Sprawdz_pesel(Formularz!#REF!)","v":{"$error":"#VALUE!"}}]
[null,{"$f":"Sprawdz_pesel(Formularz!#REF!)","v":{"$error":"#VALUE!"}}]
[null,{"$f":"Sprawdz_pesel(Formularz!#REF!)","v":{"$error":"#VALUE!"}}]
[null,{"$f":"Sprawdz_pesel(Formularz!#REF!)","v":{"$error":"#VALUE!"}}]
[null,{"$f":"Sprawdz_pesel(Formularz!#REF!)","v":{"$error":"#VALUE!"}}]
[null,{"$f":"Sprawdz_pesel(Formularz!#REF!)","v":{"$error":"#VALUE!"}}]
[null,{"$f":"Sprawdz_pesel(Formularz!#REF!)","v":{"$error":"#VALUE!"}}]
[null,{"$f":"Sprawdz_pesel(Formularz!#REF!)","v":{"$error":"#VALUE!"}}]
[null,{"$f":"Sprawdz_pesel(Formularz!#REF!)","v":{"$error":"#VALUE!"}}]
[null,{"$f":"Sprawdz_pesel(Formularz!#REF!)","v":{"$error":"#VALUE!"}}]
[null,{"$f":"Sprawdz_pesel(Formularz!#REF!)","v":{"$error":"#VALUE!"}}]
[null,{"$f":"Sprawdz_pesel(Formularz!#REF!)","v":{"$error":"#VALUE!"}}]
[null,{"$f":"Sprawdz_pesel(Formularz!#REF!)","v":{"$error":"#VALUE!"}}]
[null,{"$f":"Sprawdz_pesel(Formularz!#REF!)","v":{"$error":"#VALUE!"}}]
[null,{"$f":"Sprawdz_pesel(Formularz!#REF!)","v":{"$error":"#VALUE!"}}]
[null,{"$f":"Sprawdz_pesel(Formularz!#REF!)","v":{"$error":"#VALUE!"}}]
[null,{"$f":"Sprawdz_pesel(Formularz!#REF!)","v":{"$error":"#VALUE!"}}]
[null,{"$f":"Sprawdz_pesel(Formularz!#REF!)","v":{"$error":"#VALUE!"}}]
[null,{"$f":"Sprawdz_pesel(Formularz!#REF!)","v":{"$error":"#VALUE!"}}]
[null,{"$f":"Sprawdz_pesel(Formularz!#REF!)","v":{"$error":"#VALUE!"}}]
[null,{"$f":"Sprawdz_pesel(Formularz!#REF!)","v":{"$error":"#VALUE!"}}]
[null,{"$f":"Sprawdz_pesel(Formularz!#REF!)","v":{"$error":"#VALUE!"}}]
[null,{"$f":"Sprawdz_pesel(Formularz!#REF!)","v":{"$error":"#VALUE!"}}]
[null,{"$f":"Sprawdz_pesel(Formularz!#REF!)","v":{"$error":"#VALUE!"}}]
[null,{"$f":"Sprawdz_pesel(Formularz!#REF!)","v":{"$error":"#VALUE!"}}]
[null,{"$f":"Sprawdz_pesel(Formularz!#REF!)","v":{"$error":"#VALUE!"}}]
[null,{"$f":"Sprawdz_pesel(Formularz!#REF!)","v":{"$error":"#VALUE!"}}]
[null,{"$f":"Sprawdz_pesel(Formularz!#REF!)","v":{"$error":"#VALUE!"}}]
[null,{"$f":"Sprawdz_pesel(Formularz!#REF!)","v":{"$error":"#VALUE!"}}]
[null,{"$f":"Sprawdz_pesel(Formularz!#REF!)","v":{"$error":"#VALUE!"}}]
[null,{"$f":"Sprawdz_pesel(Formularz!#REF!)","v":{"$error":"#VALUE!"}}]
[null,{"$f":"Sprawdz_pesel(Formularz!#REF!)","v":{"$error":"#VALUE!"}}]
[null,{"$f":"Sprawdz_pesel(Formularz!#REF!)","v":{"$error":"#VALUE!"}}]
[null,{"$f":"Sprawdz_pesel(Formularz!#REF!)","v":{"$error":"#VALUE!"}}]
[null,{"$f":"Sprawdz_pesel(Formularz!#REF!)","v":{"$error":"#VALUE!"}}]
[null,{"$f":"Sprawdz_pesel(Formularz!#REF!)","v":{"$error":"#VALUE!"}}]
[null,{"$f":"Sprawdz_pesel(Formularz!#REF!)","v":{"$error":"#VALUE!"}}]
[null,{"$f":"Sprawdz_pesel(Formularz!#REF!)","v":{"$error":"#VALUE!"}}]
[null,{"$f":"Sprawdz_pesel(Formularz!#REF!)","v":{"$error":"#VALUE!"}}]
[null,{"$f":"Sprawdz_pesel(Formularz!#REF!)","v":{"$error":"#VALUE!"}}]
[null,{"$f":"Sprawdz_pesel(Formularz!#REF!)","v":{"$error":"#VALUE!"}}]
[null,{"$f":"Sprawdz_pesel(Formularz!#REF!)","v":{"$error":"#VALUE!"}}]
[null,{"$f":"Sprawdz_pesel(Formularz!#REF!)","v":{"$error":"#VALUE!"}}]
[null,{"$f":"Sprawdz_pesel(Formularz!#REF!)","v":{"$error":"#VALUE!"}}]
[null,{"$f":"Sprawdz_pesel(Formularz!#REF!)","v":{"$error":"#VALUE!"}}]
[null,{"$f":"Sprawdz_pesel(Formularz!#REF!)","v":{"$error":"#VALUE!"}}]
[null,{"$f":"Sprawdz_pesel(Formularz!#REF!)","v":{"$error":"#VALUE!"}}]
[null,{"$f":"Sprawdz_pesel(Formularz!#REF!)","v":{"$error":"#VALUE!"}}]
[null,{"$f":"Sprawdz_pesel(Formularz!#REF!)","v":{"$error":"#VALUE!"}}]
[null,{"$f":"Sprawdz_pesel(Formularz!#REF!)","v":{"$error":"#VALUE!"}}]
[null,{"$f":"Sprawdz_pesel(Formularz!#REF!)","v":{"$error":"#VALUE!"}}]
[null,{"$f":"Sprawdz_pesel(Formularz!#REF!)","v":{"$error":"#VALUE!"}}]
[null,{"$f":"Sprawdz_pesel(Formularz!#REF!)","v":{"$error":"#VALUE!"}}]
[null,{"$f":"Sprawdz_pesel(Formularz!#REF!)","v":{"$error":"#VALUE!"}}]
[null,{"$f":"Sprawdz_pesel(Formularz!#REF!)","v":{"$error":"#VALUE!"}}]
[null,{"$f":"Sprawdz_pesel(Formularz!#REF!)","v":{"$error":"#VALUE!"}}]
[null,{"$f":"Sprawdz_pesel(Formularz!#REF!)","v":{"$error":"#VALUE!"}}]
[null,{"$f":"Sprawdz_pesel(Formularz!#REF!)","v":{"$error":"#VALUE!"}}]
[null,{"$f":"Sprawdz_pesel(Formularz!#REF!)","v":{"$error":"#VALUE!"}}]
[null,{"$f":"Sprawdz_pesel(Formularz!#REF!)","v":{"$error":"#VALUE!"}}]
[null,{"$f":"Sprawdz_pesel(Formularz!#REF!)","v":{"$error":"#VALUE!"}}]
[null,{"$f":"Sprawdz_pesel(Formularz!#REF!)","v":{"$error":"#VALUE!"}}]
[null,{"$f":"Sprawdz_pesel(Formularz!#REF!)","v":{"$error":"#VALUE!"}}]
[null,{"$f":"Sprawdz_pesel(Formularz!#REF!)","v":{"$error":"#VALUE!"}}]
[null,{"$f":"Sprawdz_pesel(Formularz!#REF!)","v":{"$error":"#VALUE!"}}]
[null,{"$f":"Sprawdz_pesel(Formularz!#REF!)","v":{"$error":"#VALUE!"}}]
[null,{"$f":"Sprawdz_pesel(Formularz!#REF!)","v":{"$error":"#VALUE!"}}]
[null,{"$f":"Sprawdz_pesel(Formularz!#REF!)","v":{"$error":"#VALUE!"}}]
[null,{"$f":"Sprawdz_pesel(Formularz!#REF!)","v":{"$error":"#VALUE!"}}]
[null,{"$f":"Sprawdz_pesel(Formularz!#REF!)","v":{"$error":"#VALUE!"}}]
[null,{"$f":"Sprawdz_pesel(Formularz!#REF!)","v":{"$error":"#VALUE!"}}]
[null,{"$f":"Sprawdz_pesel(Formularz!#REF!)","v":{"$error":"#VALUE!"}}]
[null,{"$f":"Sprawdz_pesel(Formularz!#REF!)","v":{"$error":"#VALUE!"}}]
[null,{"$f":"Sprawdz_pesel(Formularz!#REF!)","v":{"$error":"#VALUE!"}}]
[null,{"$f":"Sprawdz_pesel(Formularz!#REF!)","v":{"$error":"#VALUE!"}}]
[null,{"$f":"Sprawdz_pesel(Formularz!#REF!)","v":{"$error":"#VALUE!"}}]
[null,{"$f":"Sprawdz_pesel(Formularz!#REF!)","v":{"$error":"#VALUE!"}}]
[null,{"$f":"Sprawdz_pesel(Formularz!#REF!)","v":{"$error":"#VALUE!"}}]
[null,{"$f":"Sprawdz_pesel(Formularz!#REF!)","v":{"$error":"#VALUE!"}}]
[null,{"$f":"Sprawdz_pesel(Formularz!#REF!)","v":{"$error":"#VALUE!"}}]
[null,{"$f":"Sprawdz_pesel(Formularz!#REF!)","v":{"$error":"#VALUE!"}}]
[null,{"$f":"Sprawdz_pesel(Formularz!#REF!)","v":{"$error":"#VALUE!"}}]
[null,{"$f":"Sprawdz_pesel(Formularz!#REF!)","v":{"$error":"#VALUE!"}}]
[null,{"$f":"Sprawdz_pesel(Formularz!#REF!)","v":{"$error":"#VALUE!"}}]
[null,{"$f":"Sprawdz_pesel(Formularz!#REF!)","v":{"$error":"#VALUE!"}}]
[null,{"$f":"Sprawdz_pesel(Formularz!#REF!)","v":{"$error":"#VALUE!"}}]
[null,{"$f":"Sprawdz_pesel(Formularz!#REF!)","v":{"$error":"#VALUE!"}}]
[null,{"$f":"Sprawdz_pesel(Formularz!#REF!)","v":{"$error":"#VALUE!"}}]
[null,{"$f":"Sprawdz_pesel(Formularz!#REF!)","v":{"$error":"#VALUE!"}}]
[null,{"$f":"Sprawdz_pesel(Formularz!#REF!)","v":{"$error":"#VALUE!"}}]
[null,{"$f":"Sprawdz_pesel(Formularz!#REF!)","v":{"$error":"#VALUE!"}}]
[null,{"$f":"Sprawdz_pesel(Formularz!#REF!)","v":{"$error":"#VALUE!"}}]
[null,{"$f":"Sprawdz_pesel(Formularz!#REF!)","v":{"$error":"#VALUE!"}}]
[null,{"$f":"Sprawdz_pesel(Formularz!#REF!)","v":{"$error":"#VALUE!"}}]
[null,{"$f":"Sprawdz_pesel(Formularz!#REF!)","v":{"$error":"#VALUE!"}}]
[null,{"$f":"Sprawdz_pesel(Formularz!#REF!)","v":{"$error":"#VALUE!"}}]
[null,{"$f":"Sprawdz_pesel(Formularz!#REF!)","v":{"$error":"#VALUE!"}}]
[null,{"$f":"Sprawdz_pesel(Formularz!#REF!)","v":{"$error":"#VALUE!"}}]
[null,{"$f":"Sprawdz_pesel(Formularz!#REF!)","v":{"$error":"#VALUE!"}}]
[null,{"$f":"Sprawdz_pesel(Formularz!#REF!)","v":{"$error":"#VALUE!"}}]
[null,{"$f":"Sprawdz_pesel(Formularz!#REF!)","v":{"$error":"#VALUE!"}}]
[null,{"$f":"Sprawdz_pesel(Formularz!#REF!)","v":{"$error":"#VALUE!"}}]
[null,{"$f":"Sprawdz_pesel(Formularz!#REF!)","v":{"$error":"#VALUE!"}}]
[null,{"$f":"Sprawdz_pesel(Formularz!#REF!)","v":{"$error":"#VALUE!"}}]
[null,{"$f":"Sprawdz_pesel(Formularz!#REF!)","v":{"$error":"#VALUE!"}}]
[null,{"$f":"Sprawdz_pesel(Formularz!#REF!)","v":{"$error":"#VALUE!"}}]
[null,{"$f":"Sprawdz_pesel(Formularz!#REF!)","v":{"$error":"#VALUE!"}}]
[null,{"$f":"Sprawdz_pesel(Formularz!#REF!)","v":{"$error":"#VALUE!"}}]
[null,{"$f":"Sprawdz_pesel(Formularz!#REF!)","v":{"$error":"#VALUE!"}}]
[null,{"$f":"Sprawdz_pesel(Formularz!#REF!)","v":{"$error":"#VALUE!"}}]
[null,{"$f":"Sprawdz_pesel(Formularz!#REF!)","v":{"$error":"#VALUE!"}}]
[null,{"$f":"Sprawdz_pesel(Formularz!#REF!)","v":{"$error":"#VALUE!"}}]
[null,{"$f":"Sprawdz_pesel(Formularz!#REF!)","v":{"$error":"#VALUE!"}}]
[null,{"$f":"Sprawdz_pesel(Formularz!#REF!)","v":{"$error":"#VALUE!"}}]
[null,{"$f":"Sprawdz_pesel(Formularz!#REF!)","v":{"$error":"#VALUE!"}}]
[null,{"$f":"Sprawdz_pesel(Formularz!#REF!)","v":{"$error":"#VALUE!"}}]
[null,{"$f":"Sprawdz_pesel(Formularz!#REF!)","v":{"$error":"#VALUE!"}}]
[null,{"$f":"Sprawdz_pesel(Formularz!#REF!)","v":{"$error":"#VALUE!"}}]
[null,{"$f":"Sprawdz_pesel(Formularz!#REF!)","v":{"$error":"#VALUE!"}}]
[null,{"$f":"Sprawdz_pesel(Formularz!#REF!)","v":{"$error":"#VALUE!"}}]
[null,{"$f":"Sprawdz_pesel(Formularz!#REF!)","v":{"$error":"#VALUE!"}}]
[null,{"$f":"Sprawdz_pesel(Formularz!#REF!)","v":{"$error":"#VALUE!"}}]
[null,{"$f":"Sprawdz_pesel(Formularz!#REF!)","v":{"$error":"#VALUE!"}}]
[null,{"$f":"Sprawdz_pesel(Formularz!#REF!)","v":{"$error":"#VALUE!"}}]
[null,{"$f":"Sprawdz_pesel(Formularz!#REF!)","v":{"$error":"#VALUE!"}}]
[null,{"$f":"Sprawdz_pesel(Formularz!#REF!)","v":{"$error":"#VALUE!"}}]
[null,{"$f":"Sprawdz_pesel(Formularz!#REF!)","v":{"$error":"#VALUE!"}}]
[null,{"$f":"Sprawdz_pesel(Formularz!#REF!)","v":{"$error":"#VALUE!"}}]
[null,{"$f":"Sprawdz_pesel(Formularz!#REF!)","v":{"$error":"#VALUE!"}}]
[null,{"$f":"Sprawdz_pesel(Formularz!#REF!)","v":{"$error":"#VALUE!"}}]
[null,{"$f":"Sprawdz_pesel(Formularz!#REF!)","v":{"$error":"#VALUE!"}}]
[null,{"$f":"Sprawdz_pesel(Formularz!#REF!)","v":{"$error":"#VALUE!"}}]
[null,{"$f":"Sprawdz_pesel(Formularz!#REF!)","v":{"$error":"#VALUE!"}}]
[null,{"$f":"Sprawdz_pesel(Formularz!#REF!)","v":{"$error":"#VALUE!"}}]
[null,{"$f":"Sprawdz_pesel(Formularz!#REF!)","v":{"$error":"#VALUE!"}}]
[null,{"$f":"Sprawdz_pesel(Formularz!#REF!)","v":{"$error":"#VALUE!"}}]
[null,{"$f":"Sprawdz_pesel(Formularz!#REF!)","v":{"$error":"#VALUE!"}}]
[null,{"$f":"Sprawdz_pesel(Formularz!#REF!)","v":{"$error":"#VALUE!"}}]
[null,{"$f":"Sprawdz_pesel(Formularz!#REF!)","v":{"$error":"#VALUE!"}}]
[null,{"$f":"Sprawdz_pesel(Formularz!#REF!)","v":{"$error":"#VALUE!"}}]
[null,{"$f":"Sprawdz_pesel(Formularz!#REF!)","v":{"$error":"#VALUE!"}}]
[null,{"$f":"Sprawdz_pesel(Formularz!#REF!)","v":{"$error":"#VALUE!"}}]
[null,{"$f":"Sprawdz_pesel(Formularz!#REF!)","v":{"$error":"#VALUE!"}}]
[null,{"$f":"Sprawdz_pesel(Formularz!#REF!)","v":{"$error":"#VALUE!"}}]
[null,{"$f":"Sprawdz_pesel(Formularz!#REF!)","v":{"$error":"#VALUE!"}}]
[null,{"$f":"Sprawdz_pesel(Formularz!#REF!)","v":{"$error":"#VALUE!"}}]
[null,{"$f":"Sprawdz_pesel(Formularz!#REF!)","v":{"$error":"#VALUE!"}}]
[null,{"$f":"Sprawdz_pesel(Formularz!#REF!)","v":{"$error":"#VALUE!"}}]
[null,{"$f":"Sprawdz_pesel(Formularz!#REF!)","v":{"$error":"#VALUE!"}}]
[null,{"$f":"Sprawdz_pesel(Formularz!#REF!)","v":{"$error":"#VALUE!"}}]
[null,{"$f":"Sprawdz_pesel(Formularz!#REF!)","v":{"$error":"#VALUE!"}}]
[null,{"$f":"Sprawdz_pesel(Formularz!#REF!)","v":{"$error":"#VALUE!"}}]
[null,{"$f":"Sprawdz_pesel(Formularz!#REF!)","v":{"$error":"#VALUE!"}}]
[null,{"$f":"Sprawdz_pesel(Formularz!#REF!)","v":{"$error":"#VALUE!"}}]
[null,{"$f":"Sprawdz_pesel(Formularz!#REF!)","v":{"$error":"#VALUE!"}}]
[null,{"$f":"Sprawdz_pesel(Formularz!#REF!)","v":{"$error":"#VALUE!"}}]
[null,{"$f":"Sprawdz_pesel(Formularz!#REF!)","v":{"$error":"#VALUE!"}}]
[null,{"$f":"Sprawdz_pesel(Formularz!#REF!)","v":{"$error":"#VALUE!"}}]
[null,{"$f":"Sprawdz_pesel(Formularz!#REF!)","v":{"$error":"#VALUE!"}}]
[null,{"$f":"Sprawdz_pesel(Formularz!#REF!)","v":{"$error":"#VALUE!"}}]
[null,{"$f":"Sprawdz_pesel(Formularz!#REF!)","v":{"$error":"#VALUE!"}}]
[null,{"$f":"Sprawdz_pesel(Formularz!#REF!)","v":{"$error":"#VALUE!"}}]
[null,{"$f":"Sprawdz_pesel(Formularz!#REF!)","v":{"$error":"#VALUE!"}}]
[null,{"$f":"Sprawdz_pesel(Formularz!#REF!)","v":{"$error":"#VALUE!"}}]
[null,{"$f":"Sprawdz_pesel(Formularz!#REF!)","v":{"$error":"#VALUE!"}}]
[null,{"$f":"Sprawdz_pesel(Formularz!#REF!)","v":{"$error":"#VALUE!"}}]
[null,{"$f":"Sprawdz_pesel(Formularz!#REF!)","v":{"$error":"#VALUE!"}}]
[null,{"$f":"Sprawdz_pesel(Formularz!#REF!)","v":{"$error":"#VALUE!"}}]
[null,{"$f":"Sprawdz_pesel(Formularz!#REF!)","v":{"$error":"#VALUE!"}}]
[null,{"$f":"Sprawdz_pesel(Formularz!#REF!)","v":{"$error":"#VALUE!"}}]
[null,{"$f":"Sprawdz_pesel(Formularz!#REF!)","v":{"$error":"#VALUE!"}}]
[null,{"$f":"Sprawdz_pesel(Formularz!#REF!)","v":{"$error":"#VALUE!"}}]
[null,{"$f":"Sprawdz_pesel(Formularz!#REF!)","v":{"$error":"#VALUE!"}}]
[null,{"$f":"Sprawdz_pesel(Formularz!#REF!)","v":{"$error":"#VALUE!"}}]
[null,{"$f":"Sprawdz_pesel(Formularz!#REF!)","v":{"$error":"#VALUE!"}}]
[null,{"$f":"Sprawdz_pesel(Formularz!#REF!)","v":{"$error":"#VALUE!"}}]
[null,{"$f":"Sprawdz_pesel(Formularz!#REF!)","v":{"$error":"#VALUE!"}}]
[null,{"$f":"Sprawdz_pesel(Formularz!#REF!)","v":{"$error":"#VALUE!"}}]
[null,{"$f":"Sprawdz_pesel(Formularz!#REF!)","v":{"$error":"#VALUE!"}}]
[null,{"$f":"Sprawdz_pesel(Formularz!#REF!)","v":{"$error":"#VALUE!"}}]
[null,{"$f":"Sprawdz_pesel(Formularz!#REF!)","v":{"$error":"#VALUE!"}}]
[null,{"$f":"Sprawdz_pesel(Formularz!#REF!)","v":{"$error":"#VALUE!"}}]
[null,{"$f":"Sprawdz_pesel(Formularz!#REF!)","v":{"$error":"#VALUE!"}}]
[null,{"$f":"Sprawdz_pesel(Formularz!#REF!)","v":{"$error":"#VALUE!"}}]
[null,{"$f":"Sprawdz_pesel(Formularz!#REF!)","v":{"$error":"#VALUE!"}}]
[null,{"$f":"Sprawdz_pesel(Formularz!#REF!)","v":{"$error":"#VALUE!"}}]
[null,{"$f":"Sprawdz_pesel(Formularz!#REF!)","v":{"$error":"#VALUE!"}}]
[null,{"$f":"Sprawdz_pesel(Formularz!#REF!)","v":{"$error":"#VALUE!"}}]
[null,{"$f":"Sprawdz_pesel(Formularz!#REF!)","v":{"$error":"#VALUE!"}}]
[null,{"$f":"Sprawdz_pesel(Formularz!#REF!)","v":{"$error":"#VALUE!"}}]
[null,{"$f":"Sprawdz_pesel(Formularz!#REF!)","v":{"$error":"#VALUE!"}}]
[null,{"$f":"Sprawdz_pesel(Formularz!#REF!)","v":{"$error":"#VALUE!"}}]
[null,{"$f":"Sprawdz_pesel(Formularz!#REF!)","v":{"$error":"#VALUE!"}}]
[null,{"$f":"Sprawdz_pesel(Formularz!#REF!)","v":{"$error":"#VALUE!"}}]
[null,{"$f":"Sprawdz_pesel(Formularz!#REF!)","v":{"$error":"#VALUE!"}}]
[null,{"$f":"Sprawdz_pesel(Formularz!#REF!)","v":{"$error":"#VALUE!"}}]
[null,{"$f":"Sprawdz_pesel(Formularz!#REF!)","v":{"$error":"#VALUE!"}}]
[null,{"$f":"Sprawdz_pesel(Formularz!#REF!)","v":{"$error":"#VALUE!"}}]
[null,{"$f":"Sprawdz_pesel(Formularz!#REF!)","v":{"$error":"#VALUE!"}}]
[null,{"$f":"Sprawdz_pesel(Formularz!#REF!)","v":{"$error":"#VALUE!"}}]
[null,{"$f":"Sprawdz_pesel(Formularz!#REF!)","v":{"$error":"#VALUE!"}}]
[null,{"$f":"Sprawdz_pesel(Formularz!#REF!)","v":{"$error":"#VALUE!"}}]
[null,{"$f":"Sprawdz_pesel(Formularz!#REF!)","v":{"$error":"#VALUE!"}}]
[null,{"$f":"Sprawdz_pesel(Formularz!#REF!)","v":{"$error":"#VALUE!"}}]
[null,{"$f":"Sprawdz_pesel(Formularz!#REF!)","v":{"$error":"#VALUE!"}}]
[null,{"$f":"Sprawdz_pesel(Formularz!#REF!)","v":{"$error":"#VALUE!"}}]
[null,{"$f":"Sprawdz_pesel(Formularz!#REF!)","v":{"$error":"#VALUE!"}}]
[null,{"$f":"Sprawdz_pesel(Formularz!#REF!)","v":{"$error":"#VALUE!"}}]
[null,{"$f":"Sprawdz_pesel(Formularz!#REF!)","v":{"$error":"#VALUE!"}}]
[null,{"$f":"Sprawdz_pesel(Formularz!#REF!)","v":{"$error":"#VALUE!"}}]
[null,{"$f":"Sprawdz_pesel(Formularz!#REF!)","v":{"$error":"#VALUE!"}}]
[null,{"$f":"Sprawdz_pesel(Formularz!#REF!)","v":{"$error":"#VALUE!"}}]
[null,{"$f":"Sprawdz_pesel(Formularz!#REF!)","v":{"$error":"#VALUE!"}}]
[null,{"$f":"Sprawdz_pesel(Formularz!#REF!)","v":{"$error":"#VALUE!"}}]
[null,{"$f":"Sprawdz_pesel(Formularz!#REF!)","v":{"$error":"#VALUE!"}}]
[null,{"$f":"Sprawdz_pesel(Formularz!#REF!)","v":{"$error":"#VALUE!"}}]
[null,{"$f":"Sprawdz_pesel(Formularz!#REF!)","v":{"$error":"#VALUE!"}}]
[null,{"$f":"Sprawdz_pesel(Formularz!#REF!)","v":{"$error":"#VALUE!"}}]
[null,{"$f":"Sprawdz_pesel(Formularz!#REF!)","v":{"$error":"#VALUE!"}}]
[null,{"$f":"Sprawdz_pesel(Formularz!#REF!)","v":{"$error":"#VALUE!"}}]
[null,{"$f":"Sprawdz_pesel(Formularz!#REF!)","v":{"$error":"#VALUE!"}}]
[null,{"$f":"Sprawdz_pesel(Formularz!#REF!)","v":{"$error":"#VALUE!"}}]
[null,{"$f":"Sprawdz_pesel(Formularz!#REF!)","v":{"$error":"#VALUE!"}}]
[null,{"$f":"Sprawdz_pesel(Formularz!#REF!)","v":{"$error":"#VALUE!"}}]
[null,{"$f":"Sprawdz_pesel(Formularz!#REF!)","v":{"$error":"#VALUE!"}}]
[null,{"$f":"Sprawdz_pesel(Formularz!#REF!)","v":{"$error":"#VALUE!"}}]
[null,{"$f":"Sprawdz_pesel(Formularz!#REF!)","v":{"$error":"#VALUE!"}}]
[null,{"$f":"Sprawdz_pesel(Formularz!#REF!)","v":{"$error":"#VALUE!"}}]
[null,{"$f":"Sprawdz_pesel(Formularz!#REF!)","v":{"$error":"#VALUE!"}}]
[null,{"$f":"Sprawdz_pesel(Formularz!#REF!)","v":{"$error":"#VALUE!"}}]
[null,{"$f":"Sprawdz_pesel(Formularz!#REF!)","v":{"$error":"#VALUE!"}}]
[null,{"$f":"Sprawdz_pesel(Formularz!#REF!)","v":{"$error":"#VALUE!"}}]
[null,{"$f":"Sprawdz_pesel(Formularz!#REF!)","v":{"$error":"#VALUE!"}}]
[null,{"$f":"Sprawdz_pesel(Formularz!#REF!)","v":{"$error":"#VALUE!"}}]
[null,{"$f":"Sprawdz_pesel(Formularz!#REF!)","v":{"$error":"#VALUE!"}}]
[null,{"$f":"Sprawdz_pesel(Formularz!#REF!)","v":{"$error":"#VALUE!"}}]
[null,{"$f":"Sprawdz_pesel(Formularz!#REF!)","v":{"$error":"#VALUE!"}}]
[null,{"$f":"Sprawdz_pesel(Formularz!#REF!)","v":{"$error":"#VALUE!"}}]
[null,{"$f":"Sprawdz_pesel(Formularz!#REF!)","v":{"$error":"#VALUE!"}}]
[null,{"$f":"Sprawdz_pesel(Formularz!#REF!)","v":{"$error":"#VALUE!"}}]
[null,{"$f":"Sprawdz_pesel(Formularz!#REF!)","v":{"$error":"#VALUE!"}}]
[null,{"$f":"Sprawdz_pesel(Formularz!#REF!)","v":{"$error":"#VALUE!"}}]
[null,{"$f":"Sprawdz_pesel(Formularz!#REF!)","v":{"$error":"#VALUE!"}}]
[null,{"$f":"Sprawdz_pesel(Formularz!#REF!)","v":{"$error":"#VALUE!"}}]
[null,{"$f":"Sprawdz_pesel(Formularz!#REF!)","v":{"$error":"#VALUE!"}}]
[null,{"$f":"Sprawdz_pesel(Formularz!#REF!)","v":{"$error":"#VALUE!"}}]
[null,{"$f":"Sprawdz_pesel(Formularz!#REF!)","v":{"$error":"#VALUE!"}}]
[null,{"$f":"Sprawdz_pesel(Formularz!#REF!)","v":{"$error":"#VALUE!"}}]
[null,{"$f":"Sprawdz_pesel(Formularz!#REF!)","v":{"$error":"#VALUE!"}}]
[null,{"$f":"Sprawdz_pesel(Formularz!#REF!)","v":{"$error":"#VALUE!"}}]
[null,{"$f":"Sprawdz_pesel(Formularz!#REF!)","v":{"$error":"#VALUE!"}}]
[null,{"$f":"Sprawdz_pesel(Formularz!#REF!)","v":{"$error":"#VALUE!"}}]
[null,{"$f":"Sprawdz_pesel(Formularz!#REF!)","v":{"$error":"#VALUE!"}}]
[null,{"$f":"Sprawdz_pesel(Formularz!#REF!)","v":{"$error":"#VALUE!"}}]
[null,{"$f":"Sprawdz_pesel(Formularz!#REF!)","v":{"$error":"#VALUE!"}}]
[null,{"$f":"Sprawdz_pesel(Formularz!#REF!)","v":{"$error":"#VALUE!"}}]
[null,{"$f":"Sprawdz_pesel(Formularz!#REF!)","v":{"$error":"#VALUE!"}}]
[null,{"$f":"Sprawdz_pesel(Formularz!#REF!)","v":{"$error":"#VALUE!"}}]
[null,{"$f":"Sprawdz_pesel(Formularz!#REF!)","v":{"$error":"#VALUE!"}}]
[null,{"$f":"Sprawdz_pesel(Formularz!#REF!)","v":{"$error":"#VALUE!"}}]
[null,{"$f":"Sprawdz_pesel(Formularz!#REF!)","v":{"$error":"#VALUE!"}}]
[null,{"$f":"Sprawdz_pesel(Formularz!#REF!)","v":{"$error":"#VALUE!"}}]
[null,{"$f":"Sprawdz_pesel(Formularz!#REF!)","v":{"$error":"#VALUE!"}}]
[null,{"$f":"Sprawdz_pesel(Formularz!#REF!)","v":{"$error":"#VALUE!"}}]
[null,{"$f":"Sprawdz_pesel(Formularz!#REF!)","v":{"$error":"#VALUE!"}}]
[null,{"$f":"Sprawdz_pesel(Formularz!#REF!)","v":{"$error":"#VALUE!"}}]
[null,{"$f":"Sprawdz_pesel(Formularz!#REF!)","v":{"$error":"#VALUE!"}}]
[null,{"$f":"Sprawdz_pesel(Formularz!#REF!)","v":{"$error":"#VALUE!"}}]
[null,{"$f":"Sprawdz_pesel(Formularz!#REF!)","v":{"$error":"#VALUE!"}}]
[null,{"$f":"Sprawdz_pesel(Formularz!#REF!)","v":{"$error":"#VALUE!"}}]
[null,{"$f":"Sprawdz_pesel(Formularz!#REF!)","v":{"$error":"#VALUE!"}}]
[null,{"$f":"Sprawdz_pesel(Formularz!#REF!)","v":{"$error":"#VALUE!"}}]
[null,{"$f":"Sprawdz_pesel(Formularz!#REF!)","v":{"$error":"#VALUE!"}}]
[null,{"$f":"Sprawdz_pesel(Formularz!#REF!)","v":{"$error":"#VALUE!"}}]
[null,{"$f":"Sprawdz_pesel(Formularz!#REF!)","v":{"$error":"#VALUE!"}}]
[null,{"$f":"Sprawdz_pesel(Formularz!#REF!)","v":{"$error":"#VALUE!"}}]
[null,{"$f":"Sprawdz_pesel(Formularz!#REF!)","v":{"$error":"#VALUE!"}}]
[null,{"$f":"Sprawdz_pesel(Formularz!#REF!)","v":{"$error":"#VALUE!"}}]
[null,{"$f":"Sprawdz_pesel(Formularz!#REF!)","v":{"$error":"#VALUE!"}}]
[null,{"$f":"Sprawdz_pesel(Formularz!#REF!)","v":{"$error":"#VALUE!"}}]
[null,{"$f":"Sprawdz_pesel(Formularz!#REF!)","v":{"$error":"#VALUE!"}}]
[null,{"$f":"Sprawdz_pesel(Formularz!#REF!)","v":{"$error":"#VALUE!"}}]
[null,{"$f":"Sprawdz_pesel(Formularz!#REF!)","v":{"$error":"#VALUE!"}}]
[null,{"$f":"Sprawdz_pesel(Formularz!#REF!)","v":{"$error":"#VALUE!"}}]
[null,{"$f":"Sprawdz_pesel(Formularz!#REF!)","v":{"$error":"#VALUE!"}}]
[null,{"$f":"Sprawdz_pesel(Formularz!#REF!)","v":{"$error":"#VALUE!"}}]
[null,{"$f":"Sprawdz_pesel(Formularz!#REF!)","v":{"$error":"#VALUE!"}}]
[null,{"$f":"Sprawdz_pesel(Formularz!#REF!)","v":{"$error":"#VALUE!"}}]
[null,{"$f":"Sprawdz_pesel(Formularz!#REF!)","v":{"$error":"#VALUE!"}}]
[null,{"$f":"Sprawdz_pesel(Formularz!#REF!)","v":{"$error":"#VALUE!"}}]
[null,{"$f":"Sprawdz_pesel(Formularz!#REF!)","v":{"$error":"#VALUE!"}}]
[null,{"$f":"Sprawdz_pesel(Formularz!#REF!)","v":{"$error":"#VALUE!"}}]
[null,{"$f":"Sprawdz_pesel(Formularz!#REF!)","v":{"$error":"#VALUE!"}}]
[null,{"$f":"Sprawdz_pesel(Formularz!#REF!)","v":{"$error":"#VALUE!"}}]
[null,{"$f":"Sprawdz_pesel(Formularz!#REF!)","v":{"$error":"#VALUE!"}}]
[null,{"$f":"Sprawdz_pesel(Formularz!#REF!)","v":{"$error":"#VALUE!"}}]
[null,{"$f":"Sprawdz_pesel(Formularz!#REF!)","v":{"$error":"#VALUE!"}}]
[null,{"$f":"Sprawdz_pesel(Formularz!#REF!)","v":{"$error":"#VALUE!"}}]
[null,{"$f":"Sprawdz_pesel(Formularz!#REF!)","v":{"$error":"#VALUE!"}}]
[null,{"$f":"Sprawdz_pesel(Formularz!#REF!)","v":{"$error":"#VALUE!"}}]
[null,{"$f":"Sprawdz_pesel(Formularz!#REF!)","v":{"$error":"#VALUE!"}}]
[null,{"$f":"Sprawdz_pesel(Formularz!#REF!)","v":{"$error":"#VALUE!"}}]
[null,{"$f":"Sprawdz_pesel(Formularz!#REF!)","v":{"$error":"#VALUE!"}}]
[null,{"$f":"Sprawdz_pesel(Formularz!#REF!)","v":{"$error":"#VALUE!"}}]
[null,{"$f":"Sprawdz_pesel(Formularz!#REF!)","v":{"$error":"#VALUE!"}}]
[null,{"$f":"Sprawdz_pesel(Formularz!#REF!)","v":{"$error":"#VALUE!"}}]
[null,{"$f":"Sprawdz_pesel(Formularz!#REF!)","v":{"$error":"#VALUE!"}}]
[null,{"$f":"Sprawdz_pesel(Formularz!#REF!)","v":{"$error":"#VALUE!"}}]
[null,{"$f":"Sprawdz_pesel(Formularz!#REF!)","v":{"$error":"#VALUE!"}}]
[null,{"$f":"Sprawdz_pesel(Formularz!#REF!)","v":{"$error":"#VALUE!"}}]
[null,{"$f":"Sprawdz_pesel(Formularz!#REF!)","v":{"$error":"#VALUE!"}}]
[null,{"$f":"Sprawdz_pesel(Formularz!#REF!)","v":{"$error":"#VALUE!"}}]
[null,{"$f":"Sprawdz_pesel(Formularz!#REF!)","v":{"$error":"#VALUE!"}}]
[null,{"$f":"Sprawdz_pesel(Formularz!#REF!)","v":{"$error":"#VALUE!"}}]
[null,{"$f":"Sprawdz_pesel(Formularz!#REF!)","v":{"$error":"#VALUE!"}}]
[null,{"$f":"Sprawdz_pesel(Formularz!#REF!)","v":{"$error":"#VALUE!"}}]
[null,{"$f":"Sprawdz_pesel(Formularz!#REF!)","v":{"$error":"#VALUE!"}}]
[null,{"$f":"Sprawdz_pesel(Formularz!#REF!)","v":{"$error":"#VALUE!"}}]
[null,{"$f":"Sprawdz_pesel(Formularz!#REF!)","v":{"$error":"#VALUE!"}}]
[null,{"$f":"Sprawdz_pesel(Formularz!#REF!)","v":{"$error":"#VALUE!"}}]
[null,{"$f":"Sprawdz_pesel(Formularz!#REF!)","v":{"$error":"#VALUE!"}}]
[null,{"$f":"Sprawdz_pesel(Formularz!#REF!)","v":{"$error":"#VALUE!"}}]
[null,{"$f":"Sprawdz_pesel(Formularz!#REF!)","v":{"$error":"#VALUE!"}}]
[null,{"$f":"Sprawdz_pesel(Formularz!#REF!)","v":{"$error":"#VALUE!"}}]
[null,{"$f":"Sprawdz_pesel(Formularz!#REF!)","v":{"$error":"#VALUE!"}}]
[null,{"$f":"Sprawdz_pesel(Formularz!#REF!)","v":{"$error":"#VALUE!"}}]
[null,{"$f":"Sprawdz_pesel(Formularz!#REF!)","v":{"$error":"#VALUE!"}}]
[null,{"$f":"Sprawdz_pesel(Formularz!#REF!)","v":{"$error":"#VALUE!"}}]
[null,{"$f":"Sprawdz_pesel(Formularz!#REF!)","v":{"$error":"#VALUE!"}}]
[null,{"$f":"Sprawdz_pesel(Formularz!#REF!)","v":{"$error":"#VALUE!"}}]
[null,{"$f":"Sprawdz_pesel(Formularz!#REF!)","v":{"$error":"#VALUE!"}}]
[null,{"$f":"Sprawdz_pesel(Formularz!#REF!)","v":{"$error":"#VALUE!"}}]
[null,{"$f":"Sprawdz_pesel(Formularz!#REF!)","v":{"$error":"#VALUE!"}}]
[null,{"$f":"Sprawdz_pesel(Formularz!#REF!)","v":{"$error":"#VALUE!"}}]
[null,{"$f":"Sprawdz_pesel(Formularz!#REF!)","v":{"$error":"#VALUE!"}}]
[null,{"$f":"Sprawdz_pesel(Formularz!#REF!)","v":{"$error":"#VALUE!"}}]
[null,{"$f":"Sprawdz_pesel(Formularz!#REF!)","v":{"$error":"#VALUE!"}}]
[null,{"$f":"Sprawdz_pesel(Formularz!#REF!)","v":{"$error":"#VALUE!"}}]
[null,{"$f":"Sprawdz_pesel(Formularz!#REF!)","v":{"$error":"#VALUE!"}}]
[null,{"$f":"Sprawdz_pesel(Formularz!#REF!)","v":{"$error":"#VALUE!"}}]
[null,{"$f":"Sprawdz_pesel(Formularz!#REF!)","v":{"$error":"#VALUE!"}}]
[null,{"$f":"Sprawdz_pesel(Formularz!#REF!)","v":{"$error":"#VALUE!"}}]
[null,{"$f":"Sprawdz_pesel(Formularz!#REF!)","v":{"$error":"#VALUE!"}}]
[null,{"$f":"Sprawdz_pesel(Formularz!#REF!)","v":{"$error":"#VALUE!"}}]
[null,{"$f":"Sprawdz_pesel(Formularz!#REF!)","v":{"$error":"#VALUE!"}}]
[null,{"$f":"Sprawdz_pesel(Formularz!#REF!)","v":{"$error":"#VALUE!"}}]
[null,{"$f":"Sprawdz_pesel(Formularz!#REF!)","v":{"$error":"#VALUE!"}}]
[null,{"$f":"Sprawdz_pesel(Formularz!#REF!)","v":{"$error":"#VALUE!"}}]
[null,{"$f":"Sprawdz_pesel(Formularz!#REF!)","v":{"$error":"#VALUE!"}}]
[null,{"$f":"Sprawdz_pesel(Formularz!#REF!)","v":{"$error":"#VALUE!"}}]
[null,{"$f":"Sprawdz_pesel(Formularz!#REF!)","v":{"$error":"#VALUE!"}}]
[null,{"$f":"Sprawdz_pesel(Formularz!#REF!)","v":{"$error":"#VALUE!"}}]
[null,{"$f":"Sprawdz_pesel(Formularz!#REF!)","v":{"$error":"#VALUE!"}}]
[null,{"$f":"Sprawdz_pesel(Formularz!#REF!)","v":{"$error":"#VALUE!"}}]
[null,{"$f":"Sprawdz_pesel(Formularz!#REF!)","v":{"$error":"#VALUE!"}}]
[null,{"$f":"Sprawdz_pesel(Formularz!#REF!)","v":{"$error":"#VALUE!"}}]
[null,{"$f":"Sprawdz_pesel(Formularz!#REF!)","v":{"$error":"#VALUE!"}}]
[null,{"$f":"Sprawdz_pesel(Formularz!#REF!)","v":{"$error":"#VALUE!"}}]
[null,{"$f":"Sprawdz_pesel(Formularz!#REF!)","v":{"$error":"#VALUE!"}}]
[null,{"$f":"Sprawdz_pesel(Formularz!#REF!)","v":{"$error":"#VALUE!"}}]
[null,{"$f":"Sprawdz_pesel(Formularz!#REF!)","v":{"$error":"#VALUE!"}}]
[null,{"$f":"Sprawdz_pesel(Formularz!#REF!)","v":{"$error":"#VALUE!"}}]
[null,{"$f":"Sprawdz_pesel(Formularz!#REF!)","v":{"$error":"#VALUE!"}}]
[null,{"$f":"Sprawdz_pesel(Formularz!#REF!)","v":{"$error":"#VALUE!"}}]
[null,{"$f":"Sprawdz_pesel(Formularz!#REF!)","v":{"$error":"#VALUE!"}}]
[null,{"$f":"Sprawdz_pesel(Formularz!#REF!)","v":{"$error":"#VALUE!"}}]
[null,{"$f":"Sprawdz_pesel(Formularz!#REF!)","v":{"$error":"#VALUE!"}}]
[null,{"$f":"Sprawdz_pesel(Formularz!#REF!)","v":{"$error":"#VALUE!"}}]
[null,{"$f":"Sprawdz_pesel(Formularz!#REF!)","v":{"$error":"#VALUE!"}}]
[null,{"$f":"Sprawdz_pesel(Formularz!#REF!)","v":{"$error":"#VALUE!"}}]
[null,{"$f":"Sprawdz_pesel(Formularz!#REF!)","v":{"$error":"#VALUE!"}}]
[null,{"$f":"Sprawdz_pesel(Formularz!#REF!)","v":{"$error":"#VALUE!"}}]
[null,{"$f":"Sprawdz_pesel(Formularz!#REF!)","v":{"$error":"#VALUE!"}}]
[null,{"$f":"Sprawdz_pesel(Formularz!#REF!)","v":{"$error":"#VALUE!"}}]
[null,{"$f":"Sprawdz_pesel(Formularz!#REF!)","v":{"$error":"#VALUE!"}}]
[null,{"$f":"Sprawdz_pesel(Formularz!#REF!)","v":{"$error":"#VALUE!"}}]
[null,{"$f":"Sprawdz_pesel(Formularz!#REF!)","v":{"$error":"#VALUE!"}}]
[null,{"$f":"Sprawdz_pesel(Formularz!#REF!)","v":{"$error":"#VALUE!"}}]
[null,{"$f":"Sprawdz_pesel(Formularz!#REF!)","v":{"$error":"#VALUE!"}}]
[null,{"$f":"Sprawdz_pesel(Formularz!#REF!)","v":{"$error":"#VALUE!"}}]
[null,{"$f":"Sprawdz_pesel(Formularz!#REF!)","v":{"$error":"#VALUE!"}}]
[null,{"$f":"Sprawdz_pesel(Formularz!#REF!)","v":{"$error":"#VALUE!"}}]
[null,{"$f":"Sprawdz_pesel(Formularz!#REF!)","v":{"$error":"#VALUE!"}}]
[null,{"$f":"Sprawdz_pesel(Formularz!#REF!)","v":{"$error":"#VALUE!"}}]
[null,{"$f":"Sprawdz_pesel(Formularz!#REF!)","v":{"$error":"#VALUE!"}}]
[null,{"$f":"Sprawdz_pesel(Formularz!#REF!)","v":{"$error":"#VALUE!"}}]
[null,{"$f":"Sprawdz_pesel(Formularz!#REF!)","v":{"$error":"#VALUE!"}}]
[null,{"$f":"Sprawdz_pesel(Formularz!#REF!)","v":{"$error":"#VALUE!"}}]
[null,{"$f":"Sprawdz_pesel(Formularz!#REF!)","v":{"$error":"#VALUE!"}}]
[null,{"$f":"Sprawdz_pesel(Formularz!#REF!)","v":{"$error":"#VALUE!"}}]
[null,{"$f":"Sprawdz_pesel(Formularz!#REF!)","v":{"$error":"#VALUE!"}}]
[null,{"$f":"Sprawdz_pesel(Formularz!#REF!)","v":{"$error":"#VALUE!"}}]
[null,{"$f":"Sprawdz_pesel(Formularz!#REF!)","v":{"$error":"#VALUE!"}}]
[null,{"$f":"Sprawdz_pesel(Formularz!#REF!)","v":{"$error":"#VALUE!"}}]
[null,{"$f":"Sprawdz_pesel(Formularz!#REF!)","v":{"$error":"#VALUE!"}}]
[null,{"$f":"Sprawdz_pesel(Formularz!#REF!)","v":{"$error":"#VALUE!"}}]
[null,{"$f":"Sprawdz_pesel(Formularz!#REF!)","v":{"$error":"#VALUE!"}}]
[null,{"$f":"Sprawdz_pesel(Formularz!#REF!)","v":{"$error":"#VALUE!"}}]
[null,{"$f":"Sprawdz_pesel(Formularz!#REF!)","v":{"$error":"#VALUE!"}}]
[null,{"$f":"Sprawdz_pesel(Formularz!#REF!)","v":{"$error":"#VALUE!"}}]
[null,{"$f":"Sprawdz_pesel(Formularz!#REF!)","v":{"$error":"#VALUE!"}}]
[null,{"$f":"Sprawdz_pesel(Formularz!#REF!)","v":{"$error":"#VALUE!"}}]
[null,{"$f":"Sprawdz_pesel(Formularz!#REF!)","v":{"$error":"#VALUE!"}}]
[null,{"$f":"Sprawdz_pesel(Formularz!#REF!)","v":{"$error":"#VALUE!"}}]
[null,{"$f":"Sprawdz_pesel(Formularz!#REF!)","v":{"$error":"#VALUE!"}}]
[null,{"$f":"Sprawdz_pesel(Formularz!#REF!)","v":{"$error":"#VALUE!"}}]
[null,{"$f":"Sprawdz_pesel(Formularz!#REF!)","v":{"$error":"#VALUE!"}}]
[null,{"$f":"Sprawdz_pesel(Formularz!#REF!)","v":{"$error":"#VALUE!"}}]
[null,{"$f":"Sprawdz_pesel(Formularz!#REF!)","v":{"$error":"#VALUE!"}}]
[null,{"$f":"Sprawdz_pesel(Formularz!#REF!)","v":{"$error":"#VALUE!"}}]
[null,{"$f":"Sprawdz_pesel(Formularz!#REF!)","v":{"$error":"#VALUE!"}}]
[null,{"$f":"Sprawdz_pesel(Formularz!#REF!)","v":{"$error":"#VALUE!"}}]
[null,{"$f":"Sprawdz_pesel(Formularz!#REF!)","v":{"$error":"#VALUE!"}}]
[null,{"$f":"Sprawdz_pesel(Formularz!#REF!)","v":{"$error":"#VALUE!"}}]
[null,{"$f":"Sprawdz_pesel(Formularz!#REF!)","v":{"$error":"#VALUE!"}}]
[null,{"$f":"Sprawdz_pesel(Formularz!#REF!)","v":{"$error":"#VALUE!"}}]
[null,{"$f":"Sprawdz_pesel(Formularz!#REF!)","v":{"$error":"#VALUE!"}}]
[null,{"$f":"Sprawdz_pesel(Formularz!#REF!)","v":{"$error":"#VALUE!"}}]
[null,{"$f":"Sprawdz_pesel(Formularz!#REF!)","v":{"$error":"#VALUE!"}}]
[null,{"$f":"Sprawdz_pesel(Formularz!#REF!)","v":{"$error":"#VALUE!"}}]
[null,{"$f":"Sprawdz_pesel(Formularz!#REF!)","v":{"$error":"#VALUE!"}}]
[null,{"$f":"Sprawdz_pesel(Formularz!#REF!)","v":{"$error":"#VALUE!"}}]
[null,{"$f":"Sprawdz_pesel(Formularz!#REF!)","v":{"$error":"#VALUE!"}}]
[null,{"$f":"Sprawdz_pesel(Formularz!#REF!)","v":{"$error":"#VALUE!"}}]
[null,{"$f":"Sprawdz_pesel(Formularz!#REF!)","v":{"$error":"#VALUE!"}}]
[null,{"$f":"Sprawdz_pesel(Formularz!#REF!)","v":{"$error":"#VALUE!"}}]
[null,{"$f":"Sprawdz_pesel(Formularz!#REF!)","v":{"$error":"#VALUE!"}}]
[null,{"$f":"Sprawdz_pesel(Formularz!#REF!)","v":{"$error":"#VALUE!"}}]
[null,{"$f":"Sprawdz_pesel(Formularz!#REF!)","v":{"$error":"#VALUE!"}}]
[null,{"$f":"Sprawdz_pesel(Formularz!#REF!)","v":{"$error":"#VALUE!"}}]
[null,{"$f":"Sprawdz_pesel(Formularz!#REF!)","v":{"$error":"#VALUE!"}}]
[null,{"$f":"Sprawdz_pesel(Formularz!#REF!)","v":{"$error":"#VALUE!"}}]
[null,{"$f":"Sprawdz_pesel(Formularz!#REF!)","v":{"$error":"#VALUE!"}}]
[null,{"$f":"Sprawdz_pesel(Formularz!#REF!)","v":{"$error":"#VALUE!"}}]
[null,{"$f":"Sprawdz_pesel(Formularz!#REF!)","v":{"$error":"#VALUE!"}}]
[null,{"$f":"Sprawdz_pesel(Formularz!#REF!)","v":{"$error":"#VALUE!"}}]
[null,{"$f":"Sprawdz_pesel(Formularz!#REF!)","v":{"$error":"#VALUE!"}}]
[null,{"$f":"Sprawdz_pesel(Formularz!#REF!)","v":{"$error":"#VALUE!"}}]
[null,{"$f":"Sprawdz_pesel(Formularz!#REF!)","v":{"$error":"#VALUE!"}}]
[null,{"$f":"Sprawdz_pesel(Formularz!#REF!)","v":{"$error":"#VALUE!"}}]
[null,{"$f":"Sprawdz_pesel(Formularz!#REF!)","v":{"$error":"#VALUE!"}}]
[null,{"$f":"Sprawdz_pesel(Formularz!#REF!)","v":{"$error":"#VALUE!"}}]
[null,{"$f":"Sprawdz_pesel(Formularz!#REF!)","v":{"$error":"#VALUE!"}}]
[null,{"$f":"Sprawdz_pesel(Formularz!#REF!)","v":{"$error":"#VALUE!"}}]
[null,{"$f":"Sprawdz_pesel(Formularz!#REF!)","v":{"$error":"#VALUE!"}}]
[null,{"$f":"Sprawdz_pesel(Formularz!#REF!)","v":{"$error":"#VALUE!"}}]
[null,{"$f":"Sprawdz_pesel(Formularz!#REF!)","v":{"$error":"#VALUE!"}}]
[null,{"$f":"Sprawdz_pesel(Formularz!#REF!)","v":{"$error":"#VALUE!"}}]
[null,{"$f":"Sprawdz_pesel(Formularz!#REF!)","v":{"$error":"#VALUE!"}}]
[null,{"$f":"Sprawdz_pesel(Formularz!#REF!)","v":{"$error":"#VALUE!"}}]
[null,{"$f":"Sprawdz_pesel(Formularz!#REF!)","v":{"$error":"#VALUE!"}}]
[null,{"$f":"Sprawdz_pesel(Formularz!#REF!)","v":{"$error":"#VALUE!"}}]
[null,{"$f":"Sprawdz_pesel(Formularz!#REF!)","v":{"$error":"#VALUE!"}}]
[null,{"$f":"Sprawdz_pesel(Formularz!#REF!)","v":{"$error":"#VALUE!"}}]
[null,{"$f":"Sprawdz_pesel(Formularz!#REF!)","v":{"$error":"#VALUE!"}}]
[null,{"$f":"Sprawdz_pesel(Formularz!#REF!)","v":{"$error":"#VALUE!"}}]
[null,{"$f":"Sprawdz_pesel(Formularz!#REF!)","v":{"$error":"#VALUE!"}}]
[null,{"$f":"Sprawdz_pesel(Formularz!#REF!)","v":{"$error":"#VALUE!"}}]
[null,{"$f":"Sprawdz_pesel(Formularz!#REF!)","v":{"$error":"#VALUE!"}}]
[null,{"$f":"Sprawdz_pesel(Formularz!#REF!)","v":{"$error":"#VALUE!"}}]
[null,{"$f":"Sprawdz_pesel(Formularz!#REF!)","v":{"$error":"#VALUE!"}}]
[null,{"$f":"Sprawdz_pesel(Formularz!#REF!)","v":{"$error":"#VALUE!"}}]
[null,{"$f":"Sprawdz_pesel(Formularz!#REF!)","v":{"$error":"#VALUE!"}}]
[null,{"$f":"Sprawdz_pesel(Formularz!#REF!)","v":{"$error":"#VALUE!"}}]
[null,{"$f":"Sprawdz_pesel(Formularz!#REF!)","v":{"$error":"#VALUE!"}}]
[null,{"$f":"Sprawdz_pesel(Formularz!#REF!)","v":{"$error":"#VALUE!"}}]
[null,{"$f":"Sprawdz_pesel(Formularz!#REF!)","v":{"$error":"#VALUE!"}}]
[null,{"$f":"Sprawdz_pesel(Formularz!#REF!)","v":{"$error":"#VALUE!"}}]
[null,{"$f":"Sprawdz_pesel(Formularz!#REF!)","v":{"$error":"#VALUE!"}}]
[null,{"$f":"Sprawdz_pesel(Formularz!#REF!)","v":{"$error":"#VALUE!"}}]
[null,{"$f":"Sprawdz_pesel(Formularz!#REF!)","v":{"$error":"#VALUE!"}}]
[null,{"$f":"Sprawdz_pesel(Formularz!#REF!)","v":{"$error":"#VALUE!"}}]
[null,{"$f":"Sprawdz_pesel(Formularz!#REF!)","v":{"$error":"#VALUE!"}}]
[null,{"$f":"Sprawdz_pesel(Formularz!#REF!)","v":{"$error":"#VALUE!"}}]
[null,{"$f":"Sprawdz_pesel(Formularz!#REF!)","v":{"$error":"#VALUE!"}}]
[null,{"$f":"Sprawdz_pesel(Formularz!#REF!)","v":{"$error":"#VALUE!"}}]
[null,{"$f":"Sprawdz_pesel(Formularz!#REF!)","v":{"$error":"#VALUE!"}}]
[null,{"$f":"Sprawdz_pesel(Formularz!#REF!)","v":{"$error":"#VALUE!"}}]
[null,{"$f":"Sprawdz_pesel(Formularz!#REF!)","v":{"$error":"#VALUE!"}}]
[null,{"$f":"Sprawdz_pesel(Formularz!#REF!)","v":{"$error":"#VALUE!"}}]
[null,{"$f":"Sprawdz_pesel(Formularz!#REF!)","v":{"$error":"#VALUE!"}}]
[null,{"$f":"Sprawdz_pesel(Formularz!#REF!)","v":{"$error":"#VALUE!"}}]
[null,{"$f":"Sprawdz_pesel(Formularz!#REF!)","v":{"$error":"#VALUE!"}}]
[null,{"$f":"Sprawdz_pesel(Formularz!#REF!)","v":{"$error":"#VALUE!"}}]
[null,{"$f":"Sprawdz_pesel(Formularz!#REF!)","v":{"$error":"#VALUE!"}}]
[null,{"$f":"Sprawdz_pesel(Formularz!#REF!)","v":{"$error":"#VALUE!"}}]
[null,{"$f":"Sprawdz_pesel(Formularz!#REF!)","v":{"$error":"#VALUE!"}}]
[null,{"$f":"Sprawdz_pesel(Formularz!#REF!)","v":{"$error":"#VALUE!"}}]
[null,{"$f":"Sprawdz_pesel(Formularz!#REF!)","v":{"$error":"#VALUE!"}}]
[null,{"$f":"Sprawdz_pesel(Formularz!#REF!)","v":{"$error":"#VALUE!"}}]
[null,{"$f":"Sprawdz_pesel(Formularz!#REF!)","v":{"$error":"#VALUE!"}}]
[null,{"$f":"Sprawdz_pesel(Formularz!#REF!)","v":{"$error":"#VALUE!"}}]
[null,{"$f":"Sprawdz_pesel(Formularz!#REF!)","v":{"$error":"#VALUE!"}}]
[null,{"$f":"Sprawdz_pesel(Formularz!#REF!)","v":{"$error":"#VALUE!"}}]
[null,{"$f":"Sprawdz_pesel(Formularz!#REF!)","v":{"$error":"#VALUE!"}}]
[null,{"$f":"Sprawdz_pesel(Formularz!#REF!)","v":{"$error":"#VALUE!"}}]
[null,{"$f":"Sprawdz_pesel(Formularz!#REF!)","v":{"$error":"#VALUE!"}}]
[null,{"$f":"Sprawdz_pesel(Formularz!#REF!)","v":{"$error":"#VALUE!"}}]
[null,{"$f":"Sprawdz_pesel(Formularz!#REF!)","v":{"$error":"#VALUE!"}}]
[null,{"$f":"Sprawdz_pesel(Formularz!#REF!)","v":{"$error":"#VALUE!"}}]
[null,{"$f":"Sprawdz_pesel(Formularz!#REF!)","v":{"$error":"#VALUE!"}}]
[null,{"$f":"Sprawdz_pesel(Formularz!#REF!)","v":{"$error":"#VALUE!"}}]
[null,{"$f":"Sprawdz_pesel(Formularz!#REF!)","v":{"$error":"#VALUE!"}}]
[null,{"$f":"Sprawdz_pesel(Formularz!#REF!)","v":{"$error":"#VALUE!"}}]
[null,{"$f":"Sprawdz_pesel(Formularz!#REF!)","v":{"$error":"#VALUE!"}}]
[null,{"$f":"Sprawdz_pesel(Formularz!#REF!)","v":{"$error":"#VALUE!"}}]
[null,{"$f":"Sprawdz_pesel(Formularz!#REF!)","v":{"$error":"#VALUE!"}}]
[null,{"$f":"Sprawdz_pesel(Formularz!#REF!)","v":{"$error":"#VALUE!"}}]
[null,{"$f":"Sprawdz_pesel(Formularz!#REF!)","v":{"$error":"#VALUE!"}}]
[null,{"$f":"Sprawdz_pesel(Formularz!#REF!)","v":{"$error":"#VALUE!"}}]
[null,{"$f":"Sprawdz_pesel(Formularz!#REF!)","v":{"$error":"#VALUE!"}}]
[null,{"$f":"Sprawdz_pesel(Formularz!#REF!)","v":{"$error":"#VALUE!"}}]
[null,{"$f":"Sprawdz_pesel(Formularz!#REF!)","v":{"$error":"#VALUE!"}}]
[null,{"$f":"Sprawdz_pesel(Formularz!#REF!)","v":{"$error":"#VALUE!"}}]
[null,{"$f":"Sprawdz_pesel(Formularz!#REF!)","v":{"$error":"#VALUE!"}}]
[null,{"$f":"Sprawdz_pesel(Formularz!#REF!)","v":{"$error":"#VALUE!"}}]
[null,{"$f":"Sprawdz_pesel(Formularz!#REF!)","v":{"$error":"#VALUE!"}}]
[null,{"$f":"Sprawdz_pesel(Formularz!#REF!)","v":{"$error":"#VALUE!"}}]
[null,{"$f":"Sprawdz_pesel(Formularz!#REF!)","v":{"$error":"#VALUE!"}}]
[null,{"$f":"Sprawdz_pesel(Formularz!#REF!)","v":{"$error":"#VALUE!"}}]
[null,{"$f":"Sprawdz_pesel(Formularz!#REF!)","v":{"$error":"#VALUE!"}}]
[null,{"$f":"Sprawdz_pesel(Formularz!#REF!)","v":{"$error":"#VALUE!"}}]
[null,{"$f":"Sprawdz_pesel(Formularz!#REF!)","v":{"$error":"#VALUE!"}}]
[null,{"$f":"Sprawdz_pesel(Formularz!#REF!)","v":{"$error":"#VALUE!"}}]
[null,{"$f":"Sprawdz_pesel(Formularz!#REF!)","v":{"$error":"#VALUE!"}}]
[null,{"$f":"Sprawdz_pesel(Formularz!#REF!)","v":{"$error":"#VALUE!"}}]
[null,{"$f":"Sprawdz_pesel(Formularz!#REF!)","v":{"$error":"#VALUE!"}}]
[null,{"$f":"Sprawdz_pesel(Formularz!#REF!)","v":{"$error":"#VALUE!"}}]
[null,{"$f":"Sprawdz_pesel(Formularz!#REF!)","v":{"$error":"#VALUE!"}}]
[null,{"$f":"Sprawdz_pesel(Formularz!#REF!)","v":{"$error":"#VALUE!"}}]
[null,{"$f":"Sprawdz_pesel(Formularz!#REF!)","v":{"$error":"#VALUE!"}}]
[null,{"$f":"Sprawdz_pesel(Formularz!#REF!)","v":{"$error":"#VALUE!"}}]
[null,{"$f":"Sprawdz_pesel(Formularz!#REF!)","v":{"$error":"#VALUE!"}}]
[null,{"$f":"Sprawdz_pesel(Formularz!#REF!)","v":{"$error":"#VALUE!"}}]
[null,{"$f":"Sprawdz_pesel(Formularz!#REF!)","v":{"$error":"#VALUE!"}}]
[null,{"$f":"Sprawdz_pesel(Formularz!#REF!)","v":{"$error":"#VALUE!"}}]
[null,{"$f":"Sprawdz_pesel(Formularz!#REF!)","v":{"$error":"#VALUE!"}}]
[null,{"$f":"Sprawdz_pesel(Formularz!#REF!)","v":{"$error":"#VALUE!"}}]
[null,{"$f":"Sprawdz_pesel(Formularz!#REF!)","v":{"$error":"#VALUE!"}}]
[null,{"$f":"Sprawdz_pesel(Formularz!#REF!)","v":{"$error":"#VALUE!"}}]
[null,{"$f":"Sprawdz_pesel(Formularz!#REF!)","v":{"$error":"#VALUE!"}}]
[null,{"$f":"Sprawdz_pesel(Formularz!#REF!)","v":{"$error":"#VALUE!"}}]
[null,{"$f":"Sprawdz_pesel(Formularz!#REF!)","v":{"$error":"#VALUE!"}}]
[null,{"$f":"Sprawdz_pesel(Formularz!#REF!)","v":{"$error":"#VALUE!"}}]
[null,{"$f":"Sprawdz_pesel(Formularz!#REF!)","v":{"$error":"#VALUE!"}}]
[null,{"$f":"Sprawdz_pesel(Formularz!#REF!)","v":{"$error":"#VALUE!"}}]
[null,{"$f":"Sprawdz_pesel(Formularz!#REF!)","v":{"$error":"#VALUE!"}}]
[null,{"$f":"Sprawdz_pesel(Formularz!#REF!)","v":{"$error":"#VALUE!"}}]
[null,{"$f":"Sprawdz_pesel(Formularz!#REF!)","v":{"$error":"#VALUE!"}}]
[null,{"$f":"Sprawdz_pesel(Formularz!#REF!)","v":{"$error":"#VALUE!"}}]
[null,{"$f":"Sprawdz_pesel(Formularz!#REF!)","v":{"$error":"#VALUE!"}}]
[null,{"$f":"Sprawdz_pesel(Formularz!#REF!)","v":{"$error":"#VALUE!"}}]
[null,{"$f":"Sprawdz_pesel(Formularz!#REF!)","v":{"$error":"#VALUE!"}}]
[null,{"$f":"Sprawdz_pesel(Formularz!#REF!)","v":{"$error":"#VALUE!"}}]
[null,{"$f":"Sprawdz_pesel(Formularz!#REF!)","v":{"$error":"#VALUE!"}}]
[null,{"$f":"Sprawdz_pesel(Formularz!#REF!)","v":{"$error":"#VALUE!"}}]
[null,{"$f":"Sprawdz_pesel(Formularz!#REF!)","v":{"$error":"#VALUE!"}}]
[null,{"$f":"Sprawdz_pesel(Formularz!#REF!)","v":{"$error":"#VALUE!"}}]
[null,{"$f":"Sprawdz_pesel(Formularz!#REF!)","v":{"$error":"#VALUE!"}}]
[null,{"$f":"Sprawdz_pesel(Formularz!#REF!)","v":{"$error":"#VALUE!"}}]
[null,{"$f":"Sprawdz_pesel(Formularz!#REF!)","v":{"$error":"#VALUE!"}}]
[null,{"$f":"Sprawdz_pesel(Formularz!#REF!)","v":{"$error":"#VALUE!"}}]
[null,{"$f":"Sprawdz_pesel(Formularz!#REF!)","v":{"$error":"#VALUE!"}}]
[null,{"$f":"Sprawdz_pesel(Formularz!#REF!)","v":{"$error":"#VALUE!"}}]
[null,{"$f":"Sprawdz_pesel(Formularz!#REF!)","v":{"$error":"#VALUE!"}}]
[null,{"$f":"Sprawdz_pesel(Formularz!#REF!)","v":{"$error":"#VALUE!"}}]
[null,{"$f":"Sprawdz_pesel(Formularz!#REF!)","v":{"$error":"#VALUE!"}}]
[null,{"$f":"Sprawdz_pesel(Formularz!#REF!)","v":{"$error":"#VALUE!"}}]
[null,{"$f":"Sprawdz_pesel(Formularz!#REF!)","v":{"$error":"#VALUE!"}}]
[null,{"$f":"Sprawdz_pesel(Formularz!#REF!)","v":{"$error":"#VALUE!"}}]
[null,{"$f":"Sprawdz_pesel(Formularz!#REF!)","v":{"$error":"#VALUE!"}}]
[null,{"$f":"Sprawdz_pesel(Formularz!#REF!)","v":{"$error":"#VALUE!"}}]
[null,{"$f":"Sprawdz_pesel(Formularz!#REF!)","v":{"$error":"#VALUE!"}}]
[null,{"$f":"Sprawdz_pesel(Formularz!#REF!)","v":{"$error":"#VALUE!"}}]
[null,{"$f":"Sprawdz_pesel(Formularz!#REF!)","v":{"$error":"#VALUE!"}}]
[null,{"$f":"Sprawdz_pesel(Formularz!#REF!)","v":{"$error":"#VALUE!"}}]
[null,{"$f":"Sprawdz_pesel(Formularz!#REF!)","v":{"$error":"#VALUE!"}}]
[null,{"$f":"Sprawdz_pesel(Formularz!#REF!)","v":{"$error":"#VALUE!"}}]
[null,{"$f":"Sprawdz_pesel(Formularz!#REF!)","v":{"$error":"#VALUE!"}}]
[null,{"$f":"Sprawdz_pesel(Formularz!#REF!)","v":{"$error":"#VALUE!"}}]
[null,{"$f":"Sprawdz_pesel(Formularz!#REF!)","v":{"$error":"#VALUE!"}}]
[null,{"$f":"Sprawdz_pesel(Formularz!#REF!)","v":{"$error":"#VALUE!"}}]
[null,{"$f":"Sprawdz_pesel(Formularz!#REF!)","v":{"$error":"#VALUE!"}}]
[null,{"$f":"Sprawdz_pesel(Formularz!#REF!)","v":{"$error":"#VALUE!"}}]
[null,{"$f":"Sprawdz_pesel(Formularz!#REF!)","v":{"$error":"#VALUE!"}}]
[null,{"$f":"Sprawdz_pesel(Formularz!#REF!)","v":{"$error":"#VALUE!"}}]
[null,{"$f":"Sprawdz_pesel(Formularz!#REF!)","v":{"$error":"#VALUE!"}}]
[null,{"$f":"Sprawdz_pesel(Formularz!#REF!)","v":{"$error":"#VALUE!"}}]
[null,{"$f":"Sprawdz_pesel(Formularz!#REF!)","v":{"$error":"#VALUE!"}}]
[null,{"$f":"Sprawdz_pesel(Formularz!#REF!)","v":{"$error":"#VALUE!"}}]
[null,{"$f":"Sprawdz_pesel(Formularz!#REF!)","v":{"$error":"#VALUE!"}}]
[null,{"$f":"Sprawdz_pesel(Formularz!#REF!)","v":{"$error":"#VALUE!"}}]
[null,{"$f":"Sprawdz_pesel(Formularz!#REF!)","v":{"$error":"#VALUE!"}}]
[null,{"$f":"Sprawdz_pesel(Formularz!#REF!)","v":{"$error":"#VALUE!"}}]
[null,{"$f":"Sprawdz_pesel(Formularz!#REF!)","v":{"$error":"#VALUE!"}}]
[null,{"$f":"Sprawdz_pesel(Formularz!#REF!)","v":{"$error":"#VALUE!"}}]
[null,{"$f":"Sprawdz_pesel(Formularz!#REF!)","v":{"$error":"#VALUE!"}}]
[null,{"$f":"Sprawdz_pesel(Formularz!#REF!)","v":{"$error":"#VALUE!"}}]
[null,{"$f":"Sprawdz_pesel(Formularz!#REF!)","v":{"$error":"#VALUE!"}}]
[null,{"$f":"Sprawdz_pesel(Formularz!#REF!)","v":{"$error":"#VALUE!"}}]
[null,{"$f":"Sprawdz_pesel(Formularz!#REF!)","v":{"$error":"#VALUE!"}}]
[null,{"$f":"Sprawdz_pesel(Formularz!#REF!)","v":{"$error":"#VALUE!"}}]
[null,{"$f":"Sprawdz_pesel(Formularz!#REF!)","v":{"$error":"#VALUE!"}}]
[null,{"$f":"Sprawdz_pesel(Formularz!#REF!)","v":{"$error":"#VALUE!"}}]
[null,{"$f":"Sprawdz_pesel(Formularz!#REF!)","v":{"$error":"#VALUE!"}}]
[null,{"$f":"Sprawdz_pesel(Formularz!#REF!)","v":{"$error":"#VALUE!"}}]
[null,{"$f":"Sprawdz_pesel(Formularz!#REF!)","v":{"$error":"#VALUE!"}}]
[null,{"$f":"Sprawdz_pesel(Formularz!#REF!)","v":{"$error":"#VALUE!"}}]
[null,{"$f":"Sprawdz_pesel(Formularz!#REF!)","v":{"$error":"#VALUE!"}}]
[null,{"$f":"Sprawdz_pesel(Formularz!#REF!)","v":{"$error":"#VALUE!"}}]
[null,{"$f":"Sprawdz_pesel(Formularz!#REF!)","v":{"$error":"#VALUE!"}}]
[null,{"$f":"Sprawdz_pesel(Formularz!#REF!)","v":{"$error":"#VALUE!"}}]
[null,{"$f":"Sprawdz_pesel(Formularz!#REF!)","v":{"$error":"#VALUE!"}}]
[null,{"$f":"Sprawdz_pesel(Formularz!#REF!)","v":{"$error":"#VALUE!"}}]
[null,{"$f":"Sprawdz_pesel(Formularz!#REF!)","v":{"$error":"#VALUE!"}}]
[null,{"$f":"Sprawdz_pesel(Formularz!#REF!)","v":{"$error":"#VALUE!"}}]
[null,{"$f":"Sprawdz_pesel(Formularz!#REF!)","v":{"$error":"#VALUE!"}}]
[null,{"$f":"Sprawdz_pesel(Formularz!#REF!)","v":{"$error":"#VALUE!"}}]
[null,{"$f":"Sprawdz_pesel(Formularz!#REF!)","v":{"$error":"#VALUE!"}}]
[null,{"$f":"Sprawdz_pesel(Formularz!#REF!)","v":{"$error":"#VALUE!"}}]
[null,{"$f":"Sprawdz_pesel(Formularz!#REF!)","v":{"$error":"#VALUE!"}}]
[null,{"$f":"Sprawdz_pesel(Formularz!#REF!)","v":{"$error":"#VALUE!"}}]
[null,{"$f":"Sprawdz_pesel(Formularz!#REF!)","v":{"$error":"#VALUE!"}}]
[null,{"$f":"Sprawdz_pesel(Formularz!#REF!)","v":{"$error":"#VALUE!"}}]
[null,{"$f":"Sprawdz_pesel(Formularz!#REF!)","v":{"$error":"#VALUE!"}}]
[null,{"$f":"Sprawdz_pesel(Formularz!#REF!)","v":{"$error":"#VALUE!"}}]
[null,{"$f":"Sprawdz_pesel(Formularz!#REF!)","v":{"$error":"#VALUE!"}}]
[null,{"$f":"Sprawdz_pesel(Formularz!#REF!)","v":{"$error":"#VALUE!"}}]
[null,{"$f":"Sprawdz_pesel(Formularz!#REF!)","v":{"$error":"#VALUE!"}}]
[null,{"$f":"Sprawdz_pesel(Formularz!#REF!)","v":{"$error":"#VALUE!"}}]
[null,{"$f":"Sprawdz_pesel(Formularz!#REF!)","v":{"$error":"#VALUE!"}}]
[null,{"$f":"Sprawdz_pesel(Formularz!#REF!)","v":{"$error":"#VALUE!"}}]
[null,{"$f":"Sprawdz_pesel(Formularz!#REF!)","v":{"$error":"#VALUE!"}}]
[null,{"$f":"Sprawdz_pesel(Formularz!#REF!)","v":{"$error":"#VALUE!"}}]
[null,{"$f":"Sprawdz_pesel(Formularz!#REF!)","v":{"$error":"#VALUE!"}}]
[null,{"$f":"Sprawdz_pesel(Formularz!#REF!)","v":{"$error":"#VALUE!"}}]
[null,{"$f":"Sprawdz_pesel(Formularz!#REF!)","v":{"$error":"#VALUE!"}}]
[null,{"$f":"Sprawdz_pesel(Formularz!#REF!)","v":{"$error":"#VALUE!"}}]
[null,{"$f":"Sprawdz_pesel(Formularz!#REF!)","v":{"$error":"#VALUE!"}}]
[null,{"$f":"Sprawdz_pesel(Formularz!#REF!)","v":{"$error":"#VALUE!"}}]
[null,{"$f":"Sprawdz_pesel(Formularz!#REF!)","v":{"$error":"#VALUE!"}}]
[null,{"$f":"Sprawdz_pesel(Formularz!#REF!)","v":{"$error":"#VALUE!"}}]
[null,{"$f":"Sprawdz_pesel(Formularz!#REF!)","v":{"$error":"#VALUE!"}}]
[null,{"$f":"Sprawdz_pesel(Formularz!#REF!)","v":{"$error":"#VALUE!"}}]
[null,{"$f":"Sprawdz_pesel(Formularz!#REF!)","v":{"$error":"#VALUE!"}}]
[null,{"$f":"Sprawdz_pesel(Formularz!#REF!)","v":{"$error":"#VALUE!"}}]
[null,{"$f":"Sprawdz_pesel(Formularz!#REF!)","v":{"$error":"#VALUE!"}}]
[null,{"$f":"Sprawdz_pesel(Formularz!#REF!)","v":{"$error":"#VALUE!"}}]
[null,{"$f":"Sprawdz_pesel(Formularz!#REF!)","v":{"$error":"#VALUE!"}}]
[null,{"$f":"Sprawdz_pesel(Formularz!#REF!)","v":{"$error":"#VALUE!"}}]
[null,{"$f":"Sprawdz_pesel(Formularz!#REF!)","v":{"$error":"#VALUE!"}}]
[null,{"$f":"Sprawdz_pesel(Formularz!#REF!)","v":{"$error":"#VALUE!"}}]
[null,{"$f":"Sprawdz_pesel(Formularz!#REF!)","v":{"$error":"#VALUE!"}}]
[null,{"$f":"Sprawdz_pesel(Formularz!#REF!)","v":{"$error":"#VALUE!"}}]
[null,{"$f":"Sprawdz_pesel(Formularz!#REF!)","v":{"$error":"#VALUE!"}}]
[null,{"$f":"Sprawdz_pesel(Formularz!#REF!)","v":{"$error":"#VALUE!"}}]
[null,{"$f":"Sprawdz_pesel(Formularz!#REF!)","v":{"$error":"#VALUE!"}}]
[null,{"$f":"Sprawdz_pesel(Formularz!#REF!)","v":{"$error":"#VALUE!"}}]
[null,{"$f":"Sprawdz_pesel(Formularz!#REF!)","v":{"$error":"#VALUE!"}}]
[null,{"$f":"Sprawdz_pesel(Formularz!#REF!)","v":{"$error":"#VALUE!"}}]
[null,{"$f":"Sprawdz_pesel(Formularz!#REF!)","v":{"$error":"#VALUE!"}}]
[null,{"$f":"Sprawdz_pesel(Formularz!#REF!)","v":{"$error":"#VALUE!"}}]
[null,{"$f":"Sprawdz_pesel(Formularz!#REF!)","v":{"$error":"#VALUE!"}}]
[null,{"$f":"Sprawdz_pesel(Formularz!#REF!)","v":{"$error":"#VALUE!"}}]
[null,{"$f":"Sprawdz_pesel(Formularz!#REF!)","v":{"$error":"#VALUE!"}}]
[null,{"$f":"Sprawdz_pesel(Formularz!#REF!)","v":{"$error":"#VALUE!"}}]
[null,{"$f":"Sprawdz_pesel(Formularz!#REF!)","v":{"$error":"#VALUE!"}}]
[null,{"$f":"Sprawdz_pesel(Formularz!#REF!)","v":{"$error":"#VALUE!"}}]
[null,{"$f":"Sprawdz_pesel(Formularz!#REF!)","v":{"$error":"#VALUE!"}}]
[null,{"$f":"Sprawdz_pesel(Formularz!#REF!)","v":{"$error":"#VALUE!"}}]
[null,{"$f":"Sprawdz_pesel(Formularz!#REF!)","v":{"$error":"#VALUE!"}}]
[null,{"$f":"Sprawdz_pesel(Formularz!#REF!)","v":{"$error":"#VALUE!"}}]
[null,{"$f":"Sprawdz_pesel(Formularz!#REF!)","v":{"$error":"#VALUE!"}}]
[null,{"$f":"Sprawdz_pesel(Formularz!#REF!)","v":{"$error":"#VALUE!"}}]
[null,{"$f":"Sprawdz_pesel(Formularz!#REF!)","v":{"$error":"#VALUE!"}}]
[null,{"$f":"Sprawdz_pesel(Formularz!#REF!)","v":{"$error":"#VALUE!"}}]
[null,{"$f":"Sprawdz_pesel(Formularz!#REF!)","v":{"$error":"#VALUE!"}}]
[null,{"$f":"Sprawdz_pesel(Formularz!#REF!)","v":{"$error":"#VALUE!"}}]
[null,{"$f":"Sprawdz_pesel(Formularz!#REF!)","v":{"$error":"#VALUE!"}}]
[null,{"$f":"Sprawdz_pesel(Formularz!#REF!)","v":{"$error":"#VALUE!"}}]
[null,{"$f":"Sprawdz_pesel(Formularz!#REF!)","v":{"$error":"#VALUE!"}}]
[null,{"$f":"Sprawdz_pesel(Formularz!#REF!)","v":{"$error":"#VALUE!"}}]
[null,{"$f":"Sprawdz_pesel(Formularz!#REF!)","v":{"$error":"#VALUE!"}}]
[null,{"$f":"Sprawdz_pesel(Formularz!#REF!)","v":{"$error":"#VALUE!"}}]
[null,{"$f":"Sprawdz_pesel(Formularz!#REF!)","v":{"$error":"#VALUE!"}}]
[null,{"$f":"Sprawdz_pesel(Formularz!#REF!)","v":{"$error":"#VALUE!"}}]
[null,{"$f":"Sprawdz_pesel(Formularz!#REF!)","v":{"$error":"#VALUE!"}}]
[null,{"$f":"Sprawdz_pesel(Formularz!#REF!)","v":{"$error":"#VALUE!"}}]
[null,{"$f":"Sprawdz_pesel(Formularz!#REF!)","v":{"$error":"#VALUE!"}}]
[null,{"$f":"Sprawdz_pesel(Formularz!#REF!)","v":{"$error":"#VALUE!"}}]
[null,{"$f":"Sprawdz_pesel(Formularz!#REF!)","v":{"$error":"#VALUE!"}}]
[null,{"$f":"Sprawdz_pesel(Formularz!#REF!)","v":{"$error":"#VALUE!"}}]
[null,{"$f":"Sprawdz_pesel(Formularz!#REF!)","v":{"$error":"#VALUE!"}}]
[null,{"$f":"Sprawdz_pesel(Formularz!#REF!)","v":{"$error":"#VALUE!"}}]
[null,{"$f":"Sprawdz_pesel(Formularz!#REF!)","v":{"$error":"#VALUE!"}}]
[null,{"$f":"Sprawdz_pesel(Formularz!#REF!)","v":{"$error":"#VALUE!"}}]
[null,{"$f":"Sprawdz_pesel(Formularz!#REF!)","v":{"$error":"#VALUE!"}}]
[null,{"$f":"Sprawdz_pesel(Formularz!#REF!)","v":{"$error":"#VALUE!"}}]
[null,{"$f":"Sprawdz_pesel(Formularz!#REF!)","v":{"$error":"#VALUE!"}}]
[null,{"$f":"Sprawdz_pesel(Formularz!#REF!)","v":{"$error":"#VALUE!"}}]
[null,{"$f":"Sprawdz_pesel(Formularz!#REF!)","v":{"$error":"#VALUE!"}}]
[null,{"$f":"Sprawdz_pesel(Formularz!#REF!)","v":{"$error":"#VALUE!"}}]
[null,{"$f":"Sprawdz_pesel(Formularz!#REF!)","v":{"$error":"#VALUE!"}}]
[null,{"$f":"Sprawdz_pesel(Formularz!#REF!)","v":{"$error":"#VALUE!"}}]
[null,{"$f":"Sprawdz_pesel(Formularz!#REF!)","v":{"$error":"#VALUE!"}}]
[null,{"$f":"Sprawdz_pesel(Formularz!#REF!)","v":{"$error":"#VALUE!"}}]
[null,{"$f":"Sprawdz_pesel(Formularz!#REF!)","v":{"$error":"#VALUE!"}}]
[null,{"$f":"Sprawdz_pesel(Formularz!#REF!)","v":{"$error":"#VALUE!"}}]
[null,{"$f":"Sprawdz_pesel(Formularz!#REF!)","v":{"$error":"#VALUE!"}}]
[null,{"$f":"Sprawdz_pesel(Formularz!#REF!)","v":{"$error":"#VALUE!"}}]
[null,{"$f":"Sprawdz_pesel(Formularz!#REF!)","v":{"$error":"#VALUE!"}}]
[null,{"$f":"Sprawdz_pesel(Formularz!#REF!)","v":{"$error":"#VALUE!"}}]
[null,{"$f":"Sprawdz_pesel(Formularz!#REF!)","v":{"$error":"#VALUE!"}}]
[null,{"$f":"Sprawdz_pesel(Formularz!#REF!)","v":{"$error":"#VALUE!"}}]
[null,{"$f":"Sprawdz_pesel(Formularz!#REF!)","v":{"$error":"#VALUE!"}}]
[null,{"$f":"Sprawdz_pesel(Formularz!#REF!)","v":{"$error":"#VALUE!"}}]
[null,{"$f":"Sprawdz_pesel(Formularz!#REF!)","v":{"$error":"#VALUE!"}}]
[null,{"$f":"Sprawdz_pesel(Formularz!#REF!)","v":{"$error":"#VALUE!"}}]
[null,{"$f":"Sprawdz_pesel(Formularz!#REF!)","v":{"$error":"#VALUE!"}}]
[null,{"$f":"Sprawdz_pesel(Formularz!#REF!)","v":{"$error":"#VALUE!"}}]
[null,{"$f":"Sprawdz_pesel(Formularz!#REF!)","v":{"$error":"#VALUE!"}}]
[null,{"$f":"Sprawdz_pesel(Formularz!#REF!)","v":{"$error":"#VALUE!"}}]
[null,{"$f":"Sprawdz_pesel(Formularz!#REF!)","v":{"$error":"#VALUE!"}}]
[null,{"$f":"Sprawdz_pesel(Formularz!#REF!)","v":{"$error":"#VALUE!"}}]
[null,{"$f":"Sprawdz_pesel(Formularz!#REF!)","v":{"$error":"#VALUE!"}}]
[null,{"$f":"Sprawdz_pesel(Formularz!#REF!)","v":{"$error":"#VALUE!"}}]
[null,{"$f":"Sprawdz_pesel(Formularz!#REF!)","v":{"$error":"#VALUE!"}}]
[null,{"$f":"Sprawdz_pesel(Formularz!#REF!)","v":{"$error":"#VALUE!"}}]
[null,{"$f":"Sprawdz_pesel(Formularz!#REF!)","v":{"$error":"#VALUE!"}}]
[null,{"$f":"Sprawdz_pesel(Formularz!#REF!)","v":{"$error":"#VALUE!"}}]
[null,{"$f":"Sprawdz_pesel(Formularz!#REF!)","v":{"$error":"#VALUE!"}}]
[null,{"$f":"Sprawdz_pesel(Formularz!#REF!)","v":{"$error":"#VALUE!"}}]
[null,{"$f":"Sprawdz_pesel(Formularz!#REF!)","v":{"$error":"#VALUE!"}}]
[null,{"$f":"Sprawdz_pesel(Formularz!#REF!)","v":{"$error":"#VALUE!"}}]
[null,{"$f":"Sprawdz_pesel(Formularz!#REF!)","v":{"$error":"#VALUE!"}}]
[null,{"$f":"Sprawdz_pesel(Formularz!#REF!)","v":{"$error":"#VALUE!"}}]
[null,{"$f":"Sprawdz_pesel(Formularz!#REF!)","v":{"$error":"#VALUE!"}}]
[null,{"$f":"Sprawdz_pesel(Formularz!#REF!)","v":{"$error":"#VALUE!"}}]
[null,{"$f":"Sprawdz_pesel(Formularz!#REF!)","v":{"$error":"#VALUE!"}}]
[null,{"$f":"Sprawdz_pesel(Formularz!#REF!)","v":{"$error":"#VALUE!"}}]
[null,{"$f":"Sprawdz_pesel(Formularz!#REF!)","v":{"$error":"#VALUE!"}}]
[null,{"$f":"Sprawdz_pesel(Formularz!#REF!)","v":{"$error":"#VALUE!"}}]
[null,{"$f":"Sprawdz_pesel(Formularz!#REF!)","v":{"$error":"#VALUE!"}}]
[null,{"$f":"Sprawdz_pesel(Formularz!#REF!)","v":{"$error":"#VALUE!"}}]
[null,{"$f":"Sprawdz_pesel(Formularz!#REF!)","v":{"$error":"#VALUE!"}}]
[null,{"$f":"Sprawdz_pesel(Formularz!#REF!)","v":{"$error":"#VALUE!"}}]
[null,{"$f":"Sprawdz_pesel(Formularz!#REF!)","v":{"$error":"#VALUE!"}}]
[null,{"$f":"Sprawdz_pesel(Formularz!#REF!)","v":{"$error":"#VALUE!"}}]
[null,{"$f":"Sprawdz_pesel(Formularz!#REF!)","v":{"$error":"#VALUE!"}}]
[null,{"$f":"Sprawdz_pesel(Formularz!#REF!)","v":{"$error":"#VALUE!"}}]
[null,{"$f":"Sprawdz_pesel(Formularz!#REF!)","v":{"$error":"#VALUE!"}}]
[null,{"$f":"Sprawdz_pesel(Formularz!#REF!)","v":{"$error":"#VALUE!"}}]
[null,{"$f":"Sprawdz_pesel(Formularz!#REF!)","v":{"$error":"#VALUE!"}}]
[null,{"$f":"Sprawdz_pesel(Formularz!#REF!)","v":{"$error":"#VALUE!"}}]
[null,{"$f":"Sprawdz_pesel(Formularz!#REF!)","v":{"$error":"#VALUE!"}}]
[null,{"$f":"Sprawdz_pesel(Formularz!#REF!)","v":{"$error":"#VALUE!"}}]
[null,{"$f":"Sprawdz_pesel(Formularz!#REF!)","v":{"$error":"#VALUE!"}}]
[null,{"$f":"Sprawdz_pesel(Formularz!#REF!)","v":{"$error":"#VALUE!"}}]
[null,{"$f":"Sprawdz_pesel(Formularz!#REF!)","v":{"$error":"#VALUE!"}}]
[null,{"$f":"Sprawdz_pesel(Formularz!#REF!)","v":{"$error":"#VALUE!"}}]
[null,{"$f":"Sprawdz_pesel(Formularz!#REF!)","v":{"$error":"#VALUE!"}}]
[null,{"$f":"Sprawdz_pesel(Formularz!#REF!)","v":{"$error":"#VALUE!"}}]
[null,{"$f":"Sprawdz_pesel(Formularz!#REF!)","v":{"$error":"#VALUE!"}}]
[null,{"$f":"Sprawdz_pesel(Formularz!#REF!)","v":{"$error":"#VALUE!"}}]
[null,{"$f":"Sprawdz_pesel(Formularz!#REF!)","v":{"$error":"#VALUE!"}}]
[null,{"$f":"Sprawdz_pesel(Formularz!#REF!)","v":{"$error":"#VALUE!"}}]
[null,{"$f":"Sprawdz_pesel(Formularz!#REF!)","v":{"$error":"#VALUE!"}}]
[null,{"$f":"Sprawdz_pesel(Formularz!#REF!)","v":{"$error":"#VALUE!"}}]
[null,{"$f":"Sprawdz_pesel(Formularz!#REF!)","v":{"$error":"#VALUE!"}}]
[null,{"$f":"Sprawdz_pesel(Formularz!#REF!)","v":{"$error":"#VALUE!"}}]
[null,{"$f":"Sprawdz_pesel(Formularz!#REF!)","v":{"$error":"#VALUE!"}}]
[null,{"$f":"Sprawdz_pesel(Formularz!#REF!)","v":{"$error":"#VALUE!"}}]
[null,{"$f":"Sprawdz_pesel(Formularz!#REF!)","v":{"$error":"#VALUE!"}}]
[null,{"$f":"Sprawdz_pesel(Formularz!#REF!)","v":{"$error":"#VALUE!"}}]
[null,{"$f":"Sprawdz_pesel(Formularz!#REF!)","v":{"$error":"#VALUE!"}}]
[null,{"$f":"Sprawdz_pesel(Formularz!#REF!)","v":{"$error":"#VALUE!"}}]
[null,{"$f":"Sprawdz_pesel(Formularz!#REF!)","v":{"$error":"#VALUE!"}}]
[null,{"$f":"Sprawdz_pesel(Formularz!#REF!)","v":{"$error":"#VALUE!"}}]
[null,{"$f":"Sprawdz_pesel(Formularz!#REF!)","v":{"$error":"#VALUE!"}}]
[null,{"$f":"Sprawdz_pesel(Formularz!#REF!)","v":{"$error":"#VALUE!"}}]
[null,{"$f":"Sprawdz_pesel(Formularz!#REF!)","v":{"$error":"#VALUE!"}}]
[null,{"$f":"Sprawdz_pesel(Formularz!#REF!)","v":{"$error":"#VALUE!"}}]
[null,{"$f":"Sprawdz_pesel(Formularz!#REF!)","v":{"$error":"#VALUE!"}}]
[null,{"$f":"Sprawdz_pesel(Formularz!#REF!)","v":{"$error":"#VALUE!"}}]
[null,{"$f":"Sprawdz_pesel(Formularz!#REF!)","v":{"$error":"#VALUE!"}}]
[null,{"$f":"Sprawdz_pesel(Formularz!#REF!)","v":{"$error":"#VALUE!"}}]
[null,{"$f":"Sprawdz_pesel(Formularz!#REF!)","v":{"$error":"#VALUE!"}}]
[null,{"$f":"Sprawdz_pesel(Formularz!#REF!)","v":{"$error":"#VALUE!"}}]
[null,{"$f":"Sprawdz_pesel(Formularz!#REF!)","v":{"$error":"#VALUE!"}}]
[null,{"$f":"Sprawdz_pesel(Formularz!#REF!)","v":{"$error":"#VALUE!"}}]
[null,{"$f":"Sprawdz_pesel(Formularz!#REF!)","v":{"$error":"#VALUE!"}}]
[null,{"$f":"Sprawdz_pesel(Formularz!#REF!)","v":{"$error":"#VALUE!"}}]
[null,{"$f":"Sprawdz_pesel(Formularz!#REF!)","v":{"$error":"#VALUE!"}}]
[null,{"$f":"Sprawdz_pesel(Formularz!#REF!)","v":{"$error":"#VALUE!"}}]
[null,{"$f":"Sprawdz_pesel(Formularz!#REF!)","v":{"$error":"#VALUE!"}}]
[null,{"$f":"Sprawdz_pesel(Formularz!#REF!)","v":{"$error":"#VALUE!"}}]
[null,{"$f":"Sprawdz_pesel(Formularz!#REF!)","v":{"$error":"#VALUE!"}}]
[null,{"$f":"Sprawdz_pesel(Formularz!#REF!)","v":{"$error":"#VALUE!"}}]
[null,{"$f":"Sprawdz_pesel(Formularz!#REF!)","v":{"$error":"#VALUE!"}}]
[null,{"$f":"Sprawdz_pesel(Formularz!#REF!)","v":{"$error":"#VALUE!"}}]
[null,{"$f":"Sprawdz_pesel(Formularz!#REF!)","v":{"$error":"#VALUE!"}}]
[null,{"$f":"Sprawdz_pesel(Formularz!#REF!)","v":{"$error":"#VALUE!"}}]
[null,{"$f":"Sprawdz_pesel(Formularz!#REF!)","v":{"$error":"#VALUE!"}}]
[null,{"$f":"Sprawdz_pesel(Formularz!#REF!)","v":{"$error":"#VALUE!"}}]
[null,{"$f":"Sprawdz_pesel(Formularz!#REF!)","v":{"$error":"#VALUE!"}}]
[null,{"$f":"Sprawdz_pesel(Formularz!#REF!)","v":{"$error":"#VALUE!"}}]
[null,{"$f":"Sprawdz_pesel(Formularz!#REF!)","v":{"$error":"#VALUE!"}}]
[null,{"$f":"Sprawdz_pesel(Formularz!#REF!)","v":{"$error":"#VALUE!"}}]
[null,{"$f":"Sprawdz_pesel(Formularz!#REF!)","v":{"$error":"#VALUE!"}}]
[null,{"$f":"Sprawdz_pesel(Formularz!#REF!)","v":{"$error":"#VALUE!"}}]
[null,{"$f":"Sprawdz_pesel(Formularz!#REF!)","v":{"$error":"#VALUE!"}}]
[null,{"$f":"Sprawdz_pesel(Formularz!#REF!)","v":{"$error":"#VALUE!"}}]
[null,{"$f":"Sprawdz_pesel(Formularz!#REF!)","v":{"$error":"#VALUE!"}}]
[null,{"$f":"Sprawdz_pesel(Formularz!#REF!)","v":{"$error":"#VALUE!"}}]
[null,{"$f":"Sprawdz_pesel(Formularz!#REF!)","v":{"$error":"#VALUE!"}}]
[null,{"$f":"Sprawdz_pesel(Formularz!#REF!)","v":{"$error":"#VALUE!"}}]
[null,{"$f":"Sprawdz_pesel(Formularz!#REF!)","v":{"$error":"#VALUE!"}}]
[null,{"$f":"Sprawdz_pesel(Formularz!#REF!)","v":{"$error":"#VALUE!"}}]
[null,{"$f":"Sprawdz_pesel(Formularz!#REF!)","v":{"$error":"#VALUE!"}}]
[null,{"$f":"Sprawdz_pesel(Formularz!#REF!)","v":{"$error":"#VALUE!"}}]
[null,{"$f":"Sprawdz_pesel(Formularz!#REF!)","v":{"$error":"#VALUE!"}}]
[null,{"$f":"Sprawdz_pesel(Formularz!#REF!)","v":{"$error":"#VALUE!"}}]
[null,{"$f":"Sprawdz_pesel(Formularz!#REF!)","v":{"$error":"#VALUE!"}}]
[null,{"$f":"Sprawdz_pesel(Formularz!#REF!)","v":{"$error":"#VALUE!"}}]
[null,{"$f":"Sprawdz_pesel(Formularz!#REF!)","v":{"$error":"#VALUE!"}}]
[null,{"$f":"Sprawdz_pesel(Formularz!#REF!)","v":{"$error":"#VALUE!"}}]
[null,{"$f":"Sprawdz_pesel(Formularz!#REF!)","v":{"$error":"#VALUE!"}}]
[null,{"$f":"Sprawdz_pesel(Formularz!#REF!)","v":{"$error":"#VALUE!"}}]
[null,{"$f":"Sprawdz_pesel(Formularz!#REF!)","v":{"$error":"#VALUE!"}}]
[null,{"$f":"Sprawdz_pesel(Formularz!#REF!)","v":{"$error":"#VALUE!"}}]
[null,{"$f":"Sprawdz_pesel(Formularz!#REF!)","v":{"$error":"#VALUE!"}}]
[null,{"$f":"Sprawdz_pesel(Formularz!#REF!)","v":{"$error":"#VALUE!"}}]
[null,{"$f":"Sprawdz_pesel(Formularz!#REF!)","v":{"$error":"#VALUE!"}}]
[null,{"$f":"Sprawdz_pesel(Formularz!#REF!)","v":{"$error":"#VALUE!"}}]
[null,{"$f":"Sprawdz_pesel(Formularz!#REF!)","v":{"$error":"#VALUE!"}}]
[null,{"$f":"Sprawdz_pesel(Formularz!#REF!)","v":{"$error":"#VALUE!"}}]
[null,{"$f":"Sprawdz_pesel(Formularz!#REF!)","v":{"$error":"#VALUE!"}}]
[null,{"$f":"Sprawdz_pesel(Formularz!#REF!)","v":{"$error":"#VALUE!"}}]
[null,{"$f":"Sprawdz_pesel(Formularz!#REF!)","v":{"$error":"#VALUE!"}}]
[null,{"$f":"Sprawdz_pesel(Formularz!#REF!)","v":{"$error":"#VALUE!"}}]
[null,{"$f":"Sprawdz_pesel(Formularz!#REF!)","v":{"$error":"#VALUE!"}}]
[null,{"$f":"Sprawdz_pesel(Formularz!#REF!)","v":{"$error":"#VALUE!"}}]
[null,{"$f":"Sprawdz_pesel(Formularz!#REF!)","v":{"$error":"#VALUE!"}}]
[null,{"$f":"Sprawdz_pesel(Formularz!#REF!)","v":{"$error":"#VALUE!"}}]
[null,{"$f":"Sprawdz_pesel(Formularz!#REF!)","v":{"$error":"#VALUE!"}}]
[null,{"$f":"Sprawdz_pesel(Formularz!#REF!)","v":{"$error":"#VALUE!"}}]
[null,{"$f":"Sprawdz_pesel(Formularz!#REF!)","v":{"$error":"#VALUE!"}}]
[null,{"$f":"Sprawdz_pesel(Formularz!#REF!)","v":{"$error":"#VALUE!"}}]
[null,{"$f":"Sprawdz_pesel(Formularz!#REF!)","v":{"$error":"#VALUE!"}}]
[null,{"$f":"Sprawdz_pesel(Formularz!#REF!)","v":{"$error":"#VALUE!"}}]
[null,{"$f":"Sprawdz_pesel(Formularz!#REF!)","v":{"$error":"#VALUE!"}}]
[null,{"$f":"Sprawdz_pesel(Formularz!#REF!)","v":{"$error":"#VALUE!"}}]
[null,{"$f":"Sprawdz_pesel(Formularz!#REF!)","v":{"$error":"#VALUE!"}}]
[null,{"$f":"Sprawdz_pesel(Formularz!#REF!)","v":{"$error":"#VALUE!"}}]
[null,{"$f":"Sprawdz_pesel(Formularz!#REF!)","v":{"$error":"#VALUE!"}}]
[null,{"$f":"Sprawdz_pesel(Formularz!#REF!)","v":{"$error":"#VALUE!"}}]
[null,{"$f":"Sprawdz_pesel(Formularz!#REF!)","v":{"$error":"#VALUE!"}}]
[null,{"$f":"Sprawdz_pesel(Formularz!#REF!)","v":{"$error":"#VALUE!"}}]
[null,{"$f":"Sprawdz_pesel(Formularz!#REF!)","v":{"$error":"#VALUE!"}}]
[null,{"$f":"Sprawdz_pesel(Formularz!#REF!)","v":{"$error":"#VALUE!"}}]
[null,{"$f":"Sprawdz_pesel(Formularz!#REF!)","v":{"$error":"#VALUE!"}}]
[null,{"$f":"Sprawdz_pesel(Formularz!#REF!)","v":{"$error":"#VALUE!"}}]
[null,{"$f":"Sprawdz_pesel(Formularz!#REF!)","v":{"$error":"#VALUE!"}}]
[null,{"$f":"Sprawdz_pesel(Formularz!#REF!)","v":{"$error":"#VALUE!"}}]
[null,{"$f":"Sprawdz_pesel(Formularz!#REF!)","v":{"$error":"#VALUE!"}}]
[null,{"$f":"Sprawdz_pesel(Formularz!#REF!)","v":{"$error":"#VALUE!"}}]
[null,{"$f":"Sprawdz_pesel(Formularz!#REF!)","v":{"$error":"#VALUE!"}}]
[null,{"$f":"Sprawdz_pesel(Formularz!#REF!)","v":{"$error":"#VALUE!"}}]
[null,{"$f":"Sprawdz_pesel(Formularz!#REF!)","v":{"$error":"#VALUE!"}}]
[null,{"$f":"Sprawdz_pesel(Formularz!#REF!)","v":{"$error":"#VALUE!"}}]
[null,{"$f":"Sprawdz_pesel(Formularz!#REF!)","v":{"$error":"#VALUE!"}}]
[null,{"$f":"Sprawdz_pesel(Formularz!#REF!)","v":{"$error":"#VALUE!"}}]
[null,{"$f":"Sprawdz_pesel(Formularz!#REF!)","v":{"$error":"#VALUE!"}}]
[null,{"$f":"Sprawdz_pesel(Formularz!#REF!)","v":{"$error":"#VALUE!"}}]
[null,{"$f":"Sprawdz_pesel(Formularz!#REF!)","v":{"$error":"#VALUE!"}}]
[null,{"$f":"Sprawdz_pesel(Formularz!#REF!)","v":{"$error":"#VALUE!"}}]
[null,{"$f":"Sprawdz_pesel(Formularz!#REF!)","v":{"$error":"#VALUE!"}}]
[null,{"$f":"Sprawdz_pesel(Formularz!#REF!)","v":{"$error":"#VALUE!"}}]
[null,{"$f":"Sprawdz_pesel(Formularz!#REF!)","v":{"$error":"#VALUE!"}}]
[null,{"$f":"Sprawdz_pesel(Formularz!#REF!)","v":{"$error":"#VALUE!"}}]
[null,{"$f":"Sprawdz_pesel(Formularz!#REF!)","v":{"$error":"#VALUE!"}}]
[null,{"$f":"Sprawdz_pesel(Formularz!#REF!)","v":{"$error":"#VALUE!"}}]
[null,{"$f":"Sprawdz_pesel(Formularz!#REF!)","v":{"$error":"#VALUE!"}}]
[null,{"$f":"Sprawdz_pesel(Formularz!#REF!)","v":{"$error":"#VALUE!"}}]
[null,{"$f":"Sprawdz_pesel(Formularz!#REF!)","v":{"$error":"#VALUE!"}}]
[null,{"$f":"Sprawdz_pesel(Formularz!#REF!)","v":{"$error":"#VALUE!"}}]
[null,{"$f":"Sprawdz_pesel(Formularz!#REF!)","v":{"$error":"#VALUE!"}}]
[null,{"$f":"Sprawdz_pesel(Formularz!#REF!)","v":{"$error":"#VALUE!"}}]
[null,{"$f":"Sprawdz_pesel(Formularz!#REF!)","v":{"$error":"#VALUE!"}}]
[null,{"$f":"Sprawdz_pesel(Formularz!#REF!)","v":{"$error":"#VALUE!"}}]
[null,{"$f":"Sprawdz_pesel(Formularz!#REF!)","v":{"$error":"#VALUE!"}}]
[null,{"$f":"Sprawdz_pesel(Formularz!#REF!)","v":{"$error":"#VALUE!"}}]
[null,{"$f":"Sprawdz_pesel(Formularz!#REF!)","v":{"$error":"#VALUE!"}}]
[null,{"$f":"Sprawdz_pesel(Formularz!#REF!)","v":{"$error":"#VALUE!"}}]
[null,{"$f":"Sprawdz_pesel(Formularz!#REF!)","v":{"$error":"#VALUE!"}}]
[null,{"$f":"Sprawdz_pesel(Formularz!#REF!)","v":{"$error":"#VALUE!"}}]
[null,{"$f":"Sprawdz_pesel(Formularz!#REF!)","v":{"$error":"#VALUE!"}}]
[null,{"$f":"Sprawdz_pesel(Formularz!#REF!)","v":{"$error":"#VALUE!"}}]
[null,{"$f":"Sprawdz_pesel(Formularz!#REF!)","v":{"$error":"#VALUE!"}}]
[null,{"$f":"Sprawdz_pesel(Formularz!#REF!)","v":{"$error":"#VALUE!"}}]
[null,{"$f":"Sprawdz_pesel(Formularz!#REF!)","v":{"$error":"#VALUE!"}}]
[null,{"$f":"Sprawdz_pesel(Formularz!#REF!)","v":{"$error":"#VALUE!"}}]
[null,{"$f":"Sprawdz_pesel(Formularz!#REF!)","v":{"$error":"#VALUE!"}}]
[null,{"$f":"Sprawdz_pesel(Formularz!#REF!)","v":{"$error":"#VALUE!"}}]
[null,{"$f":"Sprawdz_pesel(Formularz!#REF!)","v":{"$error":"#VALUE!"}}]
[null,{"$f":"Sprawdz_pesel(Formularz!#REF!)","v":{"$error":"#VALUE!"}}]
[null,{"$f":"Sprawdz_pesel(Formularz!#REF!)","v":{"$error":"#VALUE!"}}]
[null,{"$f":"Sprawdz_pesel(Formularz!#REF!)","v":{"$error":"#VALUE!"}}]
[null,{"$f":"Sprawdz_pesel(Formularz!#REF!)","v":{"$error":"#VALUE!"}}]
[null,{"$f":"Sprawdz_pesel(Formularz!#REF!)","v":{"$error":"#VALUE!"}}]
[null,{"$f":"Sprawdz_pesel(Formularz!#REF!)","v":{"$error":"#VALUE!"}}]
[null,{"$f":"Sprawdz_pesel(Formularz!#REF!)","v":{"$error":"#VALUE!"}}]
[null,{"$f":"Sprawdz_pesel(Formularz!#REF!)","v":{"$error":"#VALUE!"}}]
[null,{"$f":"Sprawdz_pesel(Formularz!#REF!)","v":{"$error":"#VALUE!"}}]
[null,{"$f":"Sprawdz_pesel(Formularz!#REF!)","v":{"$error":"#VALUE!"}}]
[null,{"$f":"Sprawdz_pesel(Formularz!#REF!)","v":{"$error":"#VALUE!"}}]
[null,{"$f":"Sprawdz_pesel(Formularz!#REF!)","v":{"$error":"#VALUE!"}}]
[null,{"$f":"Sprawdz_pesel(Formularz!#REF!)","v":{"$error":"#VALUE!"}}]
[null,{"$f":"Sprawdz_pesel(Formularz!#REF!)","v":{"$error":"#VALUE!"}}]
[null,{"$f":"Sprawdz_pesel(Formularz!#REF!)","v":{"$error":"#VALUE!"}}]
[null,{"$f":"Sprawdz_pesel(Formularz!#REF!)","v":{"$error":"#VALUE!"}}]
[null,{"$f":"Sprawdz_pesel(Formularz!#REF!)","v":{"$error":"#VALUE!"}}]
[null,{"$f":"Sprawdz_pesel(Formularz!#REF!)","v":{"$error":"#VALUE!"}}]
[null,{"$f":"Sprawdz_pesel(Formularz!#REF!)","v":{"$error":"#VALUE!"}}]
[null,{"$f":"Sprawdz_pesel(Formularz!#REF!)","v":{"$error":"#VALUE!"}}]
[null,{"$f":"Sprawdz_pesel(Formularz!#REF!)","v":{"$error":"#VALUE!"}}]
[null,{"$f":"Sprawdz_pesel(Formularz!#REF!)","v":{"$error":"#VALUE!"}}]
[null,{"$f":"Sprawdz_pesel(Formularz!#REF!)","v":{"$error":"#VALUE!"}}]
[null,{"$f":"Sprawdz_pesel(Formularz!#REF!)","v":{"$error":"#VALUE!"}}]
[null,{"$f":"Sprawdz_pesel(Formularz!#REF!)","v":{"$error":"#VALUE!"}}]
[null,{"$f":"Sprawdz_pesel(Formularz!#REF!)","v":{"$error":"#VALUE!"}}]
[null,{"$f":"Sprawdz_pesel(Formularz!#REF!)","v":{"$error":"#VALUE!"}}]
[null,{"$f":"Sprawdz_pesel(Formularz!#REF!)","v":{"$error":"#VALUE!"}}]
[null,{"$f":"Sprawdz_pesel(Formularz!#REF!)","v":{"$error":"#VALUE!"}}]
[null,{"$f":"Sprawdz_pesel(Formularz!#REF!)","v":{"$error":"#VALUE!"}}]
[null,{"$f":"Sprawdz_pesel(Formularz!#REF!)","v":{"$error":"#VALUE!"}}]
[null,{"$f":"Sprawdz_pesel(Formularz!#REF!)","v":{"$error":"#VALUE!"}}]
[null,{"$f":"Sprawdz_pesel(Formularz!#REF!)","v":{"$error":"#VALUE!"}}]
[null,{"$f":"Sprawdz_pesel(Formularz!#REF!)","v":{"$error":"#VALUE!"}}]
[null,{"$f":"Sprawdz_pesel(Formularz!#REF!)","v":{"$error":"#VALUE!"}}]
[null,{"$f":"Sprawdz_pesel(Formularz!#REF!)","v":{"$error":"#VALUE!"}}]
[null,{"$f":"Sprawdz_pesel(Formularz!#REF!)","v":{"$error":"#VALUE!"}}]
[null,{"$f":"Sprawdz_pesel(Formularz!#REF!)","v":{"$error":"#VALUE!"}}]
[null,{"$f":"Sprawdz_pesel(Formularz!#REF!)","v":{"$error":"#VALUE!"}}]
[null,{"$f":"Sprawdz_pesel(Formularz!#REF!)","v":{"$error":"#VALUE!"}}]
[null,{"$f":"Sprawdz_pesel(Formularz!#REF!)","v":{"$error":"#VALUE!"}}]
[null,{"$f":"Sprawdz_pesel(Formularz!#REF!)","v":{"$error":"#VALUE!"}}]
[null,{"$f":"Sprawdz_pesel(Formularz!#REF!)","v":{"$error":"#VALUE!"}}]
[null,{"$f":"Sprawdz_pesel(Formularz!#REF!)","v":{"$error":"#VALUE!"}}]
[null,{"$f":"Sprawdz_pesel(Formularz!#REF!)","v":{"$error":"#VALUE!"}}]
[null,{"$f":"Sprawdz_pesel(Formularz!#REF!)","v":{"$error":"#VALUE!"}}]
[null,{"$f":"Sprawdz_pesel(Formularz!#REF!)","v":{"$error":"#VALUE!"}}]
[null,{"$f":"Sprawdz_pesel(Formularz!#REF!)","v":{"$error":"#VALUE!"}}]
[null,{"$f":"Sprawdz_pesel(Formularz!#REF!)","v":{"$error":"#VALUE!"}}]
[null,{"$f":"Sprawdz_pesel(Formularz!#REF!)","v":{"$error":"#VALUE!"}}]
[null,{"$f":"Sprawdz_pesel(Formularz!#REF!)","v":{"$error":"#VALUE!"}}]
[null,{"$f":"Sprawdz_pesel(Formularz!#REF!)","v":{"$error":"#VALUE!"}}]
[null,{"$f":"Sprawdz_pesel(Formularz!#REF!)","v":{"$error":"#VALUE!"}}]
[null,{"$f":"Sprawdz_pesel(Formularz!#REF!)","v":{"$error":"#VALUE!"}}]
[null,{"$f":"Sprawdz_pesel(Formularz!#REF!)","v":{"$error":"#VALUE!"}}]
[null,{"$f":"Sprawdz_pesel(Formularz!#REF!)","v":{"$error":"#VALUE!"}}]
[null,{"$f":"Sprawdz_pesel(Formularz!#REF!)","v":{"$error":"#VALUE!"}}]
[null,{"$f":"Sprawdz_pesel(Formularz!#REF!)","v":{"$error":"#VALUE!"}}]
[null,{"$f":"Sprawdz_pesel(Formularz!#REF!)","v":{"$error":"#VALUE!"}}]
[null,{"$f":"Sprawdz_pesel(Formularz!#REF!)","v":{"$error":"#VALUE!"}}]
[null,{"$f":"Sprawdz_pesel(Formularz!#REF!)","v":{"$error":"#VALUE!"}}]
[null,{"$f":"Sprawdz_pesel(Formularz!#REF!)","v":{"$error":"#VALUE!"}}]
[null,{"$f":"Sprawdz_pesel(Formularz!#REF!)","v":{"$error":"#VALUE!"}}]
[null,{"$f":"Sprawdz_pesel(Formularz!#REF!)","v":{"$error":"#VALUE!"}}]
[null,{"$f":"Sprawdz_pesel(Formularz!#REF!)","v":{"$error":"#VALUE!"}}]
[null,{"$f":"Sprawdz_pesel(Formularz!#REF!)","v":{"$error":"#VALUE!"}}]
[null,{"$f":"Sprawdz_pesel(Formularz!#REF!)","v":{"$error":"#VALUE!"}}]
[null,{"$f":"Sprawdz_pesel(Formularz!#REF!)","v":{"$error":"#VALUE!"}}]
[null,{"$f":"Sprawdz_pesel(Formularz!#REF!)","v":{"$error":"#VALUE!"}}]
[null,{"$f":"Sprawdz_pesel(Formularz!#REF!)","v":{"$error":"#VALUE!"}}]
[null,{"$f":"Sprawdz_pesel(Formularz!#REF!)","v":{"$error":"#VALUE!"}}]
[null,{"$f":"Sprawdz_pesel(Formularz!#REF!)","v":{"$error":"#VALUE!"}}]
[null,{"$f":"Sprawdz_pesel(Formularz!#REF!)","v":{"$error":"#VALUE!"}}]
[null,{"$f":"Sprawdz_pesel(Formularz!#REF!)","v":{"$error":"#VALUE!"}}]
[null,{"$f":"Sprawdz_pesel(Formularz!#REF!)","v":{"$error":"#VALUE!"}}]
[null,{"$f":"Sprawdz_pesel(Formularz!#REF!)","v":{"$error":"#VALUE!"}}]
[null,{"$f":"Sprawdz_pesel(Formularz!#REF!)","v":{"$error":"#VALUE!"}}]
[null,{"$f":"Sprawdz_pesel(Formularz!#REF!)","v":{"$error":"#VALUE!"}}]
[null,{"$f":"Sprawdz_pesel(Formularz!#REF!)","v":{"$error":"#VALUE!"}}]
[null,{"$f":"Sprawdz_pesel(Formularz!#REF!)","v":{"$error":"#VALUE!"}}]
[null,{"$f":"Sprawdz_pesel(Formularz!#REF!)","v":{"$error":"#VALUE!"}}]
[null,{"$f":"Sprawdz_pesel(Formularz!#REF!)","v":{"$error":"#VALUE!"}}]
[null,{"$f":"Sprawdz_pesel(Formularz!#REF!)","v":{"$error":"#VALUE!"}}]
[null,{"$f":"Sprawdz_pesel(Formularz!#REF!)","v":{"$error":"#VALUE!"}}]
[null,{"$f":"Sprawdz_pesel(Formularz!#REF!)","v":{"$error":"#VALUE!"}}]
[null,{"$f":"Sprawdz_pesel(Formularz!#REF!)","v":{"$error":"#VALUE!"}}]
[null,{"$f":"Sprawdz_pesel(Formularz!#REF!)","v":{"$error":"#VALUE!"}}]
[null,{"$f":"Sprawdz_pesel(Formularz!#REF!)","v":{"$error":"#VALUE!"}}]
[null,{"$f":"Sprawdz_pesel(Formularz!#REF!)","v":{"$error":"#VALUE!"}}]
[null,{"$f":"Sprawdz_pesel(Formularz!#REF!)","v":{"$error":"#VALUE!"}}]
[null,{"$f":"Sprawdz_pesel(Formularz!#REF!)","v":{"$error":"#VALUE!"}}]
[null,{"$f":"Sprawdz_pesel(Formularz!#REF!)","v":{"$error":"#VALUE!"}}]
[null,{"$f":"Sprawdz_pesel(Formularz!#REF!)","v":{"$error":"#VALUE!"}}]
[null,{"$f":"Sprawdz_pesel(Formularz!#REF!)","v":{"$error":"#VALUE!"}}]
[null,{"$f":"Sprawdz_pesel(Formularz!#REF!)","v":{"$error":"#VALUE!"}}]
[null,{"$f":"Sprawdz_pesel(Formularz!#REF!)","v":{"$error":"#VALUE!"}}]
[null,{"$f":"Sprawdz_pesel(Formularz!#REF!)","v":{"$error":"#VALUE!"}}]
[null,{"$f":"Sprawdz_pesel(Formularz!#REF!)","v":{"$error":"#VALUE!"}}]
[null,{"$f":"Sprawdz_pesel(Formularz!#REF!)","v":{"$error":"#VALUE!"}}]
[null,{"$f":"Sprawdz_pesel(Formularz!#REF!)","v":{"$error":"#VALUE!"}}]
[null,{"$f":"Sprawdz_pesel(Formularz!#REF!)","v":{"$error":"#VALUE!"}}]
[null,{"$f":"Sprawdz_pesel(Formularz!#REF!)","v":{"$error":"#VALUE!"}}]
[null,{"$f":"Sprawdz_pesel(Formularz!#REF!)","v":{"$error":"#VALUE!"}}]
[null,{"$f":"Sprawdz_pesel(Formularz!#REF!)","v":{"$error":"#VALUE!"}}]
[null,{"$f":"Sprawdz_pesel(Formularz!#REF!)","v":{"$error":"#VALUE!"}}]
[null,{"$f":"Sprawdz_pesel(Formularz!#REF!)","v":{"$error":"#VALUE!"}}]
[null,{"$f":"Sprawdz_pesel(Formularz!#REF!)","v":{"$error":"#VALUE!"}}]
[null,{"$f":"Sprawdz_pesel(Formularz!#REF!)","v":{"$error":"#VALUE!"}}]
[null,{"$f":"Sprawdz_pesel(Formularz!#REF!)","v":{"$error":"#VALUE!"}}]
[null,{"$f":"Sprawdz_pesel(Formularz!#REF!)","v":{"$error":"#VALUE!"}}]
[null,{"$f":"Sprawdz_pesel(Formularz!#REF!)","v":{"$error":"#VALUE!"}}]
[null,{"$f":"Sprawdz_pesel(Formularz!#REF!)","v":{"$error":"#VALUE!"}}]
[null,{"$f":"Sprawdz_pesel(Formularz!#REF!)","v":{"$error":"#VALUE!"}}]
[null,{"$f":"Sprawdz_pesel(Formularz!#REF!)","v":{"$error":"#VALUE!"}}]
[null,{"$f":"Sprawdz_pesel(Formularz!#REF!)","v":{"$error":"#VALUE!"}}]
[null,{"$f":"Sprawdz_pesel(Formularz!#REF!)","v":{"$error":"#VALUE!"}}]
[null,{"$f":"Sprawdz_pesel(Formularz!#REF!)","v":{"$error":"#VALUE!"}}]
[null,{"$f":"Sprawdz_pesel(Formularz!#REF!)","v":{"$error":"#VALUE!"}}]
[null,{"$f":"Sprawdz_pesel(Formularz!#REF!)","v":{"$error":"#VALUE!"}}]
[null,{"$f":"Sprawdz_pesel(Formularz!#REF!)","v":{"$error":"#VALUE!"}}]
[null,{"$f":"Sprawdz_pesel(Formularz!#REF!)","v":{"$error":"#VALUE!"}}]
[null,{"$f":"Sprawdz_pesel(Formularz!#REF!)","v":{"$error":"#VALUE!"}}]
[null,{"$f":"Sprawdz_pesel(Formularz!#REF!)","v":{"$error":"#VALUE!"}}]
[null,{"$f":"Sprawdz_pesel(Formularz!#REF!)","v":{"$error":"#VALUE!"}}]
[null,{"$f":"Sprawdz_pesel(Formularz!#REF!)","v":{"$error":"#VALUE!"}}]
[null,{"$f":"Sprawdz_pesel(Formularz!#REF!)","v":{"$error":"#VALUE!"}}]
[null,{"$f":"Sprawdz_pesel(Formularz!#REF!)","v":{"$error":"#VALUE!"}}]
[null,{"$f":"Sprawdz_pesel(Formularz!#REF!)","v":{"$error":"#VALUE!"}}]
[null,{"$f":"Sprawdz_pesel(Formularz!#REF!)","v":{"$error":"#VALUE!"}}]
[null,{"$f":"Sprawdz_pesel(Formularz!#REF!)","v":{"$error":"#VALUE!"}}]
[null,{"$f":"Sprawdz_pesel(Formularz!#REF!)","v":{"$error":"#VALUE!"}}]
[null,{"$f":"Sprawdz_pesel(Formularz!#REF!)","v":{"$error":"#VALUE!"}}]
[null,{"$f":"Sprawdz_pesel(Formularz!#REF!)","v":{"$error":"#VALUE!"}}]
[null,{"$f":"Sprawdz_pesel(Formularz!#REF!)","v":{"$error":"#VALUE!"}}]
[null,{"$f":"Sprawdz_pesel(Formularz!#REF!)","v":{"$error":"#VALUE!"}}]
[null,{"$f":"Sprawdz_pesel(Formularz!#REF!)","v":{"$error":"#VALUE!"}}]
[null,{"$f":"Sprawdz_pesel(Formularz!#REF!)","v":{"$error":"#VALUE!"}}]
[null,{"$f":"Sprawdz_pesel(Formularz!#REF!)","v":{"$error":"#VALUE!"}}]
[null,{"$f":"Sprawdz_pesel(Formularz!#REF!)","v":{"$error":"#VALUE!"}}]
[null,{"$f":"Sprawdz_pesel(Formularz!#REF!)","v":{"$error":"#VALUE!"}}]
[null,{"$f":"Sprawdz_pesel(Formularz!#REF!)","v":{"$error":"#VALUE!"}}]
[null,{"$f":"Sprawdz_pesel(Formularz!#REF!)","v":{"$error":"#VALUE!"}}]
[null,{"$f":"Sprawdz_pesel(Formularz!#REF!)","v":{"$error":"#VALUE!"}}]
[null,{"$f":"Sprawdz_pesel(Formularz!#REF!)","v":{"$error":"#VALUE!"}}]
[null,{"$f":"Sprawdz_pesel(Formularz!#REF!)","v":{"$error":"#VALUE!"}}]
[null,{"$f":"Sprawdz_pesel(Formularz!#REF!)","v":{"$error":"#VALUE!"}}]
[null,{"$f":"Sprawdz_pesel(Formularz!#REF!)","v":{"$error":"#VALUE!"}}]
[null,{"$f":"Sprawdz_pesel(Formularz!#REF!)","v":{"$error":"#VALUE!"}}]
[null,{"$f":"Sprawdz_pesel(Formularz!#REF!)","v":{"$error":"#VALUE!"}}]
[null,{"$f":"Sprawdz_pesel(Formularz!#REF!)","v":{"$error":"#VALUE!"}}]
[null,{"$f":"Sprawdz_pesel(Formularz!#REF!)","v":{"$error":"#VALUE!"}}]
[null,{"$f":"Sprawdz_pesel(Formularz!#REF!)","v":{"$error":"#VALUE!"}}]
[null,{"$f":"Sprawdz_pesel(Formularz!#REF!)","v":{"$error":"#VALUE!"}}]
[null,{"$f":"Sprawdz_pesel(Formularz!#REF!)","v":{"$error":"#VALUE!"}}]
[null,{"$f":"Sprawdz_pesel(Formularz!#REF!)","v":{"$error":"#VALUE!"}}]
[null,{"$f":"Sprawdz_pesel(Formularz!#REF!)","v":{"$error":"#VALUE!"}}]
[null,{"$f":"Sprawdz_pesel(Formularz!#REF!)","v":{"$error":"#VALUE!"}}]
[null,{"$f":"Sprawdz_pesel(Formularz!#REF!)","v":{"$error":"#VALUE!"}}]
[null,{"$f":"Sprawdz_pesel(Formularz!#REF!)","v":{"$error":"#VALUE!"}}]
[null,{"$f":"Sprawdz_pesel(Formularz!#REF!)","v":{"$error":"#VALUE!"}}]
[null,{"$f":"Sprawdz_pesel(Formularz!#REF!)","v":{"$error":"#VALUE!"}}]
[null,{"$f":"Sprawdz_pesel(Formularz!#REF!)","v":{"$error":"#VALUE!"}}]
[null,{"$f":"Sprawdz_pesel(Formularz!#REF!)","v":{"$error":"#VALUE!"}}]
[null,{"$f":"Sprawdz_pesel(Formularz!#REF!)","v":{"$error":"#VALUE!"}}]
[null,{"$f":"Sprawdz_pesel(Formularz!#REF!)","v":{"$error":"#VALUE!"}}]
[null,{"$f":"Sprawdz_pesel(Formularz!#REF!)","v":{"$error":"#VALUE!"}}]
[null,{"$f":"Sprawdz_pesel(Formularz!#REF!)","v":{"$error":"#VALUE!"}}]
[null,{"$f":"Sprawdz_pesel(Formularz!#REF!)","v":{"$error":"#VALUE!"}}]
[null,{"$f":"Sprawdz_pesel(Formularz!#REF!)","v":{"$error":"#VALUE!"}}]
[null,{"$f":"Sprawdz_pesel(Formularz!#REF!)","v":{"$error":"#VALUE!"}}]
[null,{"$f":"Sprawdz_pesel(Formularz!#REF!)","v":{"$error":"#VALUE!"}}]
[null,{"$f":"Sprawdz_pesel(Formularz!#REF!)","v":{"$error":"#VALUE!"}}]
[null,{"$f":"Sprawdz_pesel(Formularz!#REF!)","v":{"$error":"#VALUE!"}}]
[null,{"$f":"Sprawdz_pesel(Formularz!#REF!)","v":{"$error":"#VALUE!"}}]
[null,{"$f":"Sprawdz_pesel(Formularz!#REF!)","v":{"$error":"#VALUE!"}}]
[null,{"$f":"Sprawdz_pesel(Formularz!#REF!)","v":{"$error":"#VALUE!"}}]
[null,{"$f":"Sprawdz_pesel(Formularz!#REF!)","v":{"$error":"#VALUE!"}}]
[null,{"$f":"Sprawdz_pesel(Formularz!#REF!)","v":{"$error":"#VALUE!"}}]
[null,{"$f":"Sprawdz_pesel(Formularz!#REF!)","v":{"$error":"#VALUE!"}}]
[null,{"$f":"Sprawdz_pesel(Formularz!#REF!)","v":{"$error":"#VALUE!"}}]
[null,{"$f":"Sprawdz_pesel(Formularz!#REF!)","v":{"$error":"#VALUE!"}}]
[null,{"$f":"Sprawdz_pesel(Formularz!#REF!)","v":{"$error":"#VALUE!"}}]
[null,{"$f":"Sprawdz_pesel(Formularz!#REF!)","v":{"$error":"#VALUE!"}}]
[null,{"$f":"Sprawdz_pesel(Formularz!#REF!)","v":{"$error":"#VALUE!"}}]
[null,{"$f":"Sprawdz_pesel(Formularz!#REF!)","v":{"$error":"#VALUE!"}}]
[null,{"$f":"Sprawdz_pesel(Formularz!#REF!)","v":{"$error":"#VALUE!"}}]
[null,{"$f":"Sprawdz_pesel(Formularz!#REF!)","v":{"$error":"#VALUE!"}}]
[null,{"$f":"Sprawdz_pesel(Formularz!#REF!)","v":{"$error":"#VALUE!"}}]
[null,{"$f":"Sprawdz_pesel(Formularz!#REF!)","v":{"$error":"#VALUE!"}}]
[null,{"$f":"Sprawdz_pesel(Formularz!#REF!)","v":{"$error":"#VALUE!"}}]
[null,{"$f":"Sprawdz_pesel(Formularz!#REF!)","v":{"$error":"#VALUE!"}}]
[null,{"$f":"Sprawdz_pesel(Formularz!#REF!)","v":{"$error":"#VALUE!"}}]
[null,{"$f":"Sprawdz_pesel(Formularz!#REF!)","v":{"$error":"#VALUE!"}}]
[null,{"$f":"Sprawdz_pesel(Formularz!#REF!)","v":{"$error":"#VALUE!"}}]
[null,{"$f":"Sprawdz_pesel(Formularz!#REF!)","v":{"$error":"#VALUE!"}}]
[null,{"$f":"Sprawdz_pesel(Formularz!#REF!)","v":{"$error":"#VALUE!"}}]
[null,{"$f":"Sprawdz_pesel(Formularz!#REF!)","v":{"$error":"#VALUE!"}}]
[null,{"$f":"Sprawdz_pesel(Formularz!#REF!)","v":{"$error":"#VALUE!"}}]
[null,{"$f":"Sprawdz_pesel(Formularz!#REF!)","v":{"$error":"#VALUE!"}}]
[null,{"$f":"Sprawdz_pesel(Formularz!#REF!)","v":{"$error":"#VALUE!"}}]
[null,{"$f":"Sprawdz_pesel(Formularz!#REF!)","v":{"$error":"#VALUE!"}}]
[null,{"$f":"Sprawdz_pesel(Formularz!#REF!)","v":{"$error":"#VALUE!"}}]
[null,{"$f":"Sprawdz_pesel(Formularz!#REF!)","v":{"$error":"#VALUE!"}}]
[null,{"$f":"Sprawdz_pesel(Formularz!#REF!)","v":{"$error":"#VALUE!"}}]
[null,{"$f":"Sprawdz_pesel(Formularz!#REF!)","v":{"$error":"#VALUE!"}}]
[null,{"$f":"Sprawdz_pesel(Formularz!#REF!)","v":{"$error":"#VALUE!"}}]
[null,{"$f":"Sprawdz_pesel(Formularz!#REF!)","v":{"$error":"#VALUE!"}}]
[null,{"$f":"Sprawdz_pesel(Formularz!#REF!)","v":{"$error":"#VALUE!"}}]
[null,{"$f":"Sprawdz_pesel(Formularz!#REF!)","v":{"$error":"#VALUE!"}}]
[null,{"$f":"Sprawdz_pesel(Formularz!#REF!)","v":{"$error":"#VALUE!"}}]
[null,{"$f":"Sprawdz_pesel(Formularz!#REF!)","v":{"$error":"#VALUE!"}}]
[null,{"$f":"Sprawdz_pesel(Formularz!#REF!)","v":{"$error":"#VALUE!"}}]
[null,{"$f":"Sprawdz_pesel(Formularz!#REF!)","v":{"$error":"#VALUE!"}}]
[null,{"$f":"Sprawdz_pesel(Formularz!#REF!)","v":{"$error":"#VALUE!"}}]
[null,{"$f":"Sprawdz_pesel(Formularz!#REF!)","v":{"$error":"#VALUE!"}}]
[null,{"$f":"Sprawdz_pesel(Formularz!#REF!)","v":{"$error":"#VALUE!"}}]
[null,{"$f":"Sprawdz_pesel(Formularz!#REF!)","v":{"$error":"#VALUE!"}}]
[null,{"$f":"Sprawdz_pesel(Formularz!#REF!)","v":{"$error":"#VALUE!"}}]
[null,{"$f":"Sprawdz_pesel(Formularz!#REF!)","v":{"$error":"#VALUE!"}}]
[null,{"$f":"Sprawdz_pesel(Formularz!#REF!)","v":{"$error":"#VALUE!"}}]
[null,{"$f":"Sprawdz_pesel(Formularz!#REF!)","v":{"$error":"#VALUE!"}}]
[null,{"$f":"Sprawdz_pesel(Formularz!#REF!)","v":{"$error":"#VALUE!"}}]
[null,{"$f":"Sprawdz_pesel(Formularz!#REF!)","v":{"$error":"#VALUE!"}}]
[null,{"$f":"Sprawdz_pesel(Formularz!#REF!)","v":{"$error":"#VALUE!"}}]
[null,{"$f":"Sprawdz_pesel(Formularz!#REF!)","v":{"$error":"#VALUE!"}}]
[null,{"$f":"Sprawdz_pesel(Formularz!#REF!)","v":{"$error":"#VALUE!"}}]
[null,{"$f":"Sprawdz_pesel(Formularz!#REF!)","v":{"$error":"#VALUE!"}}]
[null,{"$f":"Sprawdz_pesel(Formularz!#REF!)","v":{"$error":"#VALUE!"}}]
[null,{"$f":"Sprawdz_pesel(Formularz!#REF!)","v":{"$error":"#VALUE!"}}]
[null,{"$f":"Sprawdz_pesel(Formularz!#REF!)","v":{"$error":"#VALUE!"}}]
[null,{"$f":"Sprawdz_pesel(Formularz!#REF!)","v":{"$error":"#VALUE!"}}]
[null,{"$f":"Sprawdz_pesel(Formularz!#REF!)","v":{"$error":"#VALUE!"}}]
[null,{"$f":"Sprawdz_pesel(Formularz!#REF!)","v":{"$error":"#VALUE!"}}]
[null,{"$f":"Sprawdz_pesel(Formularz!#REF!)","v":{"$error":"#VALUE!"}}]
[null,{"$f":"Sprawdz_pesel(Formularz!#REF!)","v":{"$error":"#VALUE!"}}]
[null,{"$f":"Sprawdz_pesel(Formularz!#REF!)","v":{"$error":"#VALUE!"}}]
[null,{"$f":"Sprawdz_pesel(Formularz!#REF!)","v":{"$error":"#VALUE!"}}]
[null,{"$f":"Sprawdz_pesel(Formularz!#REF!)","v":{"$error":"#VALUE!"}}]
[null,{"$f":"Sprawdz_pesel(Formularz!#REF!)","v":{"$error":"#VALUE!"}}]
[null,{"$f":"Sprawdz_pesel(Formularz!#REF!)","v":{"$error":"#VALUE!"}}]
[null,{"$f":"Sprawdz_pesel(Formularz!#REF!)","v":{"$error":"#VALUE!"}}]
[null,{"$f":"Sprawdz_pesel(Formularz!#REF!)","v":{"$error":"#VALUE!"}}]
[null,{"$f":"Sprawdz_pesel(Formularz!#REF!)","v":{"$error":"#VALUE!"}}]
[null,{"$f":"Sprawdz_pesel(Formularz!#REF!)","v":{"$error":"#VALUE!"}}]
[null,{"$f":"Sprawdz_pesel(Formularz!#REF!)","v":{"$error":"#VALUE!"}}]
[null,{"$f":"Sprawdz_pesel(Formularz!#REF!)","v":{"$error":"#VALUE!"}}]
[null,{"$f":"Sprawdz_pesel(Formularz!#REF!)","v":{"$error":"#VALUE!"}}]
[null,{"$f":"Sprawdz_pesel(Formularz!#REF!)","v":{"$error":"#VALUE!"}}]
[null,{"$f":"Sprawdz_pesel(Formularz!#REF!)","v":{"$error":"#VALUE!"}}]
[null,{"$f":"Sprawdz_pesel(Formularz!#REF!)","v":{"$error":"#VALUE!"}}]
[null,{"$f":"Sprawdz_pesel(Formularz!#REF!)","v":{"$error":"#VALUE!"}}]
[null,{"$f":"Sprawdz_pesel(Formularz!#REF!)","v":{"$error":"#VALUE!"}}]
[null,{"$f":"Sprawdz_pesel(Formularz!#REF!)","v":{"$error":"#VALUE!"}}]
[null,{"$f":"Sprawdz_pesel(Formularz!#REF!)","v":{"$error":"#VALUE!"}}]
[null,{"$f":"Sprawdz_pesel(Formularz!#REF!)","v":{"$error":"#VALUE!"}}]
[null,{"$f":"Sprawdz_pesel(Formularz!#REF!)","v":{"$error":"#VALUE!"}}]
[null,{"$f":"Sprawdz_pesel(Formularz!#REF!)","v":{"$error":"#VALUE!"}}]
[null,{"$f":"Sprawdz_pesel(Formularz!#REF!)","v":{"$error":"#VALUE!"}}]
[null,{"$f":"Sprawdz_pesel(Formularz!#REF!)","v":{"$error":"#VALUE!"}}]
[null,{"$f":"Sprawdz_pesel(Formularz!#REF!)","v":{"$error":"#VALUE!"}}]
[null,{"$f":"Sprawdz_pesel(Formularz!#REF!)","v":{"$error":"#VALUE!"}}]
[null,{"$f":"Sprawdz_pesel(Formularz!#REF!)","v":{"$error":"#VALUE!"}}]
[null,{"$f":"Sprawdz_pesel(Formularz!#REF!)","v":{"$error":"#VALUE!"}}]
[null,{"$f":"Sprawdz_pesel(Formularz!#REF!)","v":{"$error":"#VALUE!"}}]
[null,{"$f":"Sprawdz_pesel(Formularz!#REF!)","v":{"$error":"#VALUE!"}}]
[null,{"$f":"Sprawdz_pesel(Formularz!#REF!)","v":{"$error":"#VALUE!"}}]
[null,{"$f":"Sprawdz_pesel(Formularz!#REF!)","v":{"$error":"#VALUE!"}}]
[null,{"$f":"Sprawdz_pesel(Formularz!#REF!)","v":{"$error":"#VALUE!"}}]
[null,{"$f":"Sprawdz_pesel(Formularz!#REF!)","v":{"$error":"#VALUE!"}}]
[null,{"$f":"Sprawdz_pesel(Formularz!#REF!)","v":{"$error":"#VALUE!"}}]
[null,{"$f":"Sprawdz_pesel(Formularz!#REF!)","v":{"$error":"#VALUE!"}}]
[null,{"$f":"Sprawdz_pesel(Formularz!#REF!)","v":{"$error":"#VALUE!"}}]
[null,{"$f":"Sprawdz_pesel(Formularz!#REF!)","v":{"$error":"#VALUE!"}}]
[null,{"$f":"Sprawdz_pesel(Formularz!#REF!)","v":{"$error":"#VALUE!"}}]
[null,{"$f":"Sprawdz_pesel(Formularz!#REF!)","v":{"$error":"#VALUE!"}}]
[null,{"$f":"Sprawdz_pesel(Formularz!#REF!)","v":{"$error":"#VALUE!"}}]
[null,{"$f":"Sprawdz_pesel(Formularz!#REF!)","v":{"$error":"#VALUE!"}}]
[null,{"$f":"Sprawdz_pesel(Formularz!#REF!)","v":{"$error":"#VALUE!"}}]
[null,{"$f":"Sprawdz_pesel(Formularz!#REF!)","v":{"$error":"#VALUE!"}}]
[null,{"$f":"Sprawdz_pesel(Formularz!#REF!)","v":{"$error":"#VALUE!"}}]
[null,{"$f":"Sprawdz_pesel(Formularz!#REF!)","v":{"$error":"#VALUE!"}}]
[null,{"$f":"Sprawdz_pesel(Formularz!#REF!)","v":{"$error":"#VALUE!"}}]
[null,{"$f":"Sprawdz_pesel(Formularz!#REF!)","v":{"$error":"#VALUE!"}}]
[null,{"$f":"Sprawdz_pesel(Formularz!#REF!)","v":{"$error":"#VALUE!"}}]
[null,{"$f":"Sprawdz_pesel(Formularz!#REF!)","v":{"$error":"#VALUE!"}}]
[null,{"$f":"Sprawdz_pesel(Formularz!#REF!)","v":{"$error":"#VALUE!"}}]
[null,{"$f":"Sprawdz_pesel(Formularz!#REF!)","v":{"$error":"#VALUE!"}}]
[null,{"$f":"Sprawdz_pesel(Formularz!#REF!)","v":{"$error":"#VALUE!"}}]
[null,{"$f":"Sprawdz_pesel(Formularz!#REF!)","v":{"$error":"#VALUE!"}}]
[null,{"$f":"Sprawdz_pesel(Formularz!#REF!)","v":{"$error":"#VALUE!"}}]
[null,{"$f":"Sprawdz_pesel(Formularz!#REF!)","v":{"$error":"#VALUE!"}}]
[null,{"$f":"Sprawdz_pesel(Formularz!#REF!)","v":{"$error":"#VALUE!"}}]
[null,{"$f":"Sprawdz_pesel(Formularz!#REF!)","v":{"$error":"#VALUE!"}}]
[null,{"$f":"Sprawdz_pesel(Formularz!#REF!)","v":{"$error":"#VALUE!"}}]
[null,{"$f":"Sprawdz_pesel(Formularz!#REF!)","v":{"$error":"#VALUE!"}}]
[null,{"$f":"Sprawdz_pesel(Formularz!#REF!)","v":{"$error":"#VALUE!"}}]
[null,{"$f":"Sprawdz_pesel(Formularz!#REF!)","v":{"$error":"#VALUE!"}}]
[null,{"$f":"Sprawdz_pesel(Formularz!#REF!)","v":{"$error":"#VALUE!"}}]
[null,{"$f":"Sprawdz_pesel(Formularz!#REF!)","v":{"$error":"#VALUE!"}}]
[null,{"$f":"Sprawdz_pesel(Formularz!#REF!)","v":{"$error":"#VALUE!"}}]
[null,{"$f":"Sprawdz_pesel(Formularz!#REF!)","v":{"$error":"#VALUE!"}}]
[null,{"$f":"Sprawdz_pesel(Formularz!#REF!)","v":{"$error":"#VALUE!"}}]
[null,{"$f":"Sprawdz_pesel(Formularz!#REF!)","v":{"$error":"#VALUE!"}}]
[null,{"$f":"Sprawdz_pesel(Formularz!#REF!)","v":{"$error":"#VALUE!"}}]
[null,{"$f":"Sprawdz_pesel(Formularz!#REF!)","v":{"$error":"#VALUE!"}}]
[null,{"$f":"Sprawdz_pesel(Formularz!#REF!)","v":{"$error":"#VALUE!"}}]
[null,{"$f":"Sprawdz_pesel(Formularz!#REF!)","v":{"$error":"#VALUE!"}}]
[null,{"$f":"Sprawdz_pesel(Formularz!#REF!)","v":{"$error":"#VALUE!"}}]
[null,{"$f":"Sprawdz_pesel(Formularz!#REF!)","v":{"$error":"#VALUE!"}}]
[null,{"$f":"Sprawdz_pesel(Formularz!#REF!)","v":{"$error":"#VALUE!"}}]
[null,{"$f":"Sprawdz_pesel(Formularz!#REF!)","v":{"$error":"#VALUE!"}}]
[null,{"$f":"Sprawdz_pesel(Formularz!#REF!)","v":{"$error":"#VALUE!"}}]
[null,{"$f":"Sprawdz_pesel(Formularz!#REF!)","v":{"$error":"#VALUE!"}}]
[null,{"$f":"Sprawdz_pesel(Formularz!#REF!)","v":{"$error":"#VALUE!"}}]
[null,{"$f":"Sprawdz_pesel(Formularz!#REF!)","v":{"$error":"#VALUE!"}}]
[null,{"$f":"Sprawdz_pesel(Formularz!#REF!)","v":{"$error":"#VALUE!"}}]
[null,{"$f":"Sprawdz_pesel(Formularz!#REF!)","v":{"$error":"#VALUE!"}}]
[null,{"$f":"Sprawdz_pesel(Formularz!#REF!)","v":{"$error":"#VALUE!"}}]
[null,{"$f":"Sprawdz_pesel(Formularz!#REF!)","v":{"$error":"#VALUE!"}}]
[null,{"$f":"Sprawdz_pesel(Formularz!#REF!)","v":{"$error":"#VALUE!"}}]
[null,{"$f":"Sprawdz_pesel(Formularz!#REF!)","v":{"$error":"#VALUE!"}}]
[null,{"$f":"Sprawdz_pesel(Formularz!#REF!)","v":{"$error":"#VALUE!"}}]
[null,{"$f":"Sprawdz_pesel(Formularz!#REF!)","v":{"$error":"#VALUE!"}}]
[null,{"$f":"Sprawdz_pesel(Formularz!#REF!)","v":{"$error":"#VALUE!"}}]
[null,{"$f":"Sprawdz_pesel(Formularz!#REF!)","v":{"$error":"#VALUE!"}}]
[null,{"$f":"Sprawdz_pesel(Formularz!#REF!)","v":{"$error":"#VALUE!"}}]
[null,{"$f":"Sprawdz_pesel(Formularz!#REF!)","v":{"$error":"#VALUE!"}}]
[null,{"$f":"Sprawdz_pesel(Formularz!#REF!)","v":{"$error":"#VALUE!"}}]
[null,{"$f":"Sprawdz_pesel(Formularz!#REF!)","v":{"$error":"#VALUE!"}}]
[null,{"$f":"Sprawdz_pesel(Formularz!#REF!)","v":{"$error":"#VALUE!"}}]
[null,{"$f":"Sprawdz_pesel(Formularz!#REF!)","v":{"$error":"#VALUE!"}}]
[null,{"$f":"Sprawdz_pesel(Formularz!#REF!)","v":{"$error":"#VALUE!"}}]
[null,{"$f":"Sprawdz_pesel(Formularz!#REF!)","v":{"$error":"#VALUE!"}}]
[null,{"$f":"Sprawdz_pesel(Formularz!#REF!)","v":{"$error":"#VALUE!"}}]
[null,{"$f":"Sprawdz_pesel(Formularz!#REF!)","v":{"$error":"#VALUE!"}}]
[null,{"$f":"Sprawdz_pesel(Formularz!#REF!)","v":{"$error":"#VALUE!"}}]
[null,{"$f":"Sprawdz_pesel(Formularz!#REF!)","v":{"$error":"#VALUE!"}}]
[null,{"$f":"Sprawdz_pesel(Formularz!#REF!)","v":{"$error":"#VALUE!"}}]
[null,{"$f":"Sprawdz_pesel(Formularz!#REF!)","v":{"$error":"#VALUE!"}}]
[null,{"$f":"Sprawdz_pesel(Formularz!#REF!)","v":{"$error":"#VALUE!"}}]
[null,{"$f":"Sprawdz_pesel(Formularz!#REF!)","v":{"$error":"#VALUE!"}}]
[null,{"$f":"Sprawdz_pesel(Formularz!#REF!)","v":{"$error":"#VALUE!"}}]
[null,{"$f":"Sprawdz_pesel(Formularz!#REF!)","v":{"$error":"#VALUE!"}}]
[null,{"$f":"Sprawdz_pesel(Formularz!#REF!)","v":{"$error":"#VALUE!"}}]
[null,{"$f":"Sprawdz_pesel(Formularz!#REF!)","v":{"$error":"#VALUE!"}}]
[null,{"$f":"Sprawdz_pesel(Formularz!#REF!)","v":{"$error":"#VALUE!"}}]
[null,{"$f":"Sprawdz_pesel(Formularz!#REF!)","v":{"$error":"#VALUE!"}}]
[null,{"$f":"Sprawdz_pesel(Formularz!#REF!)","v":{"$error":"#VALUE!"}}]
[null,{"$f":"Sprawdz_pesel(Formularz!#REF!)","v":{"$error":"#VALUE!"}}]
[null,{"$f":"Sprawdz_pesel(Formularz!#REF!)","v":{"$error":"#VALUE!"}}]
[null,{"$f":"Sprawdz_pesel(Formularz!#REF!)","v":{"$error":"#VALUE!"}}]
[null,{"$f":"Sprawdz_pesel(Formularz!#REF!)","v":{"$error":"#VALUE!"}}]
[null,{"$f":"Sprawdz_pesel(Formularz!#REF!)","v":{"$error":"#VALUE!"}}]
[null,{"$f":"Sprawdz_pesel(Formularz!#REF!)","v":{"$error":"#VALUE!"}}]
[null,{"$f":"Sprawdz_pesel(Formularz!#REF!)","v":{"$error":"#VALUE!"}}]
[null,{"$f":"Sprawdz_pesel(Formularz!#REF!)","v":{"$error":"#VALUE!"}}]
[null,{"$f":"Sprawdz_pesel(Formularz!#REF!)","v":{"$error":"#VALUE!"}}]
[null,{"$f":"Sprawdz_pesel(Formularz!#REF!)","v":{"$error":"#VALUE!"}}]
[null,{"$f":"Sprawdz_pesel(Formularz!#REF!)","v":{"$error":"#VALUE!"}}]
[null,{"$f":"Sprawdz_pesel(Formularz!#REF!)","v":{"$error":"#VALUE!"}}]
[null,{"$f":"Sprawdz_pesel(Formularz!#REF!)","v":{"$error":"#VALUE!"}}]
[null,{"$f":"Sprawdz_pesel(Formularz!#REF!)","v":{"$error":"#VALUE!"}}]
[null,{"$f":"Sprawdz_pesel(Formularz!#REF!)","v":{"$error":"#VALUE!"}}]
[null,{"$f":"Sprawdz_pesel(Formularz!#REF!)","v":{"$error":"#VALUE!"}}]
[null,{"$f":"Sprawdz_pesel(Formularz!#REF!)","v":{"$error":"#VALUE!"}}]
[null,{"$f":"Sprawdz_pesel(Formularz!#REF!)","v":{"$error":"#VALUE!"}}]
[null,{"$f":"Sprawdz_pesel(Formularz!#REF!)","v":{"$error":"#VALUE!"}}]
[null,{"$f":"Sprawdz_pesel(Formularz!#REF!)","v":{"$error":"#VALUE!"}}]
[null,{"$f":"Sprawdz_pesel(Formularz!#REF!)","v":{"$error":"#VALUE!"}}]
[null,{"$f":"Sprawdz_pesel(Formularz!#REF!)","v":{"$error":"#VALUE!"}}]
[null,{"$f":"Sprawdz_pesel(Formularz!#REF!)","v":{"$error":"#VALUE!"}}]
[null,{"$f":"Sprawdz_pesel(Formularz!#REF!)","v":{"$error":"#VALUE!"}}]
[null,{"$f":"Sprawdz_pesel(Formularz!#REF!)","v":{"$error":"#VALUE!"}}]
[null,{"$f":"Sprawdz_pesel(Formularz!#REF!)","v":{"$error":"#VALUE!"}}]
[null,{"$f":"Sprawdz_pesel(Formularz!#REF!)","v":{"$error":"#VALUE!"}}]
[null,{"$f":"Sprawdz_pesel(Formularz!#REF!)","v":{"$error":"#VALUE!"}}]
[null,{"$f":"Sprawdz_pesel(Formularz!#REF!)","v":{"$error":"#VALUE!"}}]
[null,{"$f":"Sprawdz_pesel(Formularz!#REF!)","v":{"$error":"#VALUE!"}}]
[null,{"$f":"Sprawdz_pesel(Formularz!#REF!)","v":{"$error":"#VALUE!"}}]
[null,{"$f":"Sprawdz_pesel(Formularz!#REF!)","v":{"$error":"#VALUE!"}}]
[null,{"$f":"Sprawdz_pesel(Formularz!#REF!)","v":{"$error":"#VALUE!"}}]
[null,{"$f":"Sprawdz_pesel(Formularz!#REF!)","v":{"$error":"#VALUE!"}}]
[null,{"$f":"Sprawdz_pesel(Formularz!#REF!)","v":{"$error":"#VALUE!"}}]
[null,{"$f":"Sprawdz_pesel(Formularz!#REF!)","v":{"$error":"#VALUE!"}}]
[null,{"$f":"Sprawdz_pesel(Formularz!#REF!)","v":{"$error":"#VALUE!"}}]
[null,{"$f":"Sprawdz_pesel(Formularz!#REF!)","v":{"$error":"#VALUE!"}}]
[null,{"$f":"Sprawdz_pesel(Formularz!#REF!)","v":{"$error":"#VALUE!"}}]
[null,{"$f":"Sprawdz_pesel(Formularz!#REF!)","v":{"$error":"#VALUE!"}}]
[null,{"$f":"Sprawdz_pesel(Formularz!#REF!)","v":{"$error":"#VALUE!"}}]
[null,{"$f":"Sprawdz_pesel(Formularz!#REF!)","v":{"$error":"#VALUE!"}}]
[null,{"$f":"Sprawdz_pesel(Formularz!#REF!)","v":{"$error":"#VALUE!"}}]
[null,{"$f":"Sprawdz_pesel(Formularz!#REF!)","v":{"$error":"#VALUE!"}}]
[null,{"$f":"Sprawdz_pesel(Formularz!#REF!)","v":{"$error":"#VALUE!"}}]
[null,{"$f":"Sprawdz_pesel(Formularz!#REF!)","v":{"$error":"#VALUE!"}}]
[null,{"$f":"Sprawdz_pesel(Formularz!#REF!)","v":{"$error":"#VALUE!"}}]
[null,{"$f":"Sprawdz_pesel(Formularz!#REF!)","v":{"$error":"#VALUE!"}}]
[null,{"$f":"Sprawdz_pesel(Formularz!#REF!)","v":{"$error":"#VALUE!"}}]
[null,{"$f":"Sprawdz_pesel(Formularz!#REF!)","v":{"$error":"#VALUE!"}}]
[null,{"$f":"Sprawdz_pesel(Formularz!#REF!)","v":{"$error":"#VALUE!"}}]
[null,{"$f":"Sprawdz_pesel(Formularz!#REF!)","v":{"$error":"#VALUE!"}}]
[null,{"$f":"Sprawdz_pesel(Formularz!#REF!)","v":{"$error":"#VALUE!"}}]
[null,{"$f":"Sprawdz_pesel(Formularz!#REF!)","v":{"$error":"#VALUE!"}}]
[null,{"$f":"Sprawdz_pesel(Formularz!#REF!)","v":{"$error":"#VALUE!"}}]
[null,{"$f":"Sprawdz_pesel(Formularz!#REF!)","v":{"$error":"#VALUE!"}}]
[null,{"$f":"Sprawdz_pesel(Formularz!#REF!)","v":{"$error":"#VALUE!"}}]
[null,{"$f":"Sprawdz_pesel(Formularz!#REF!)","v":{"$error":"#VALUE!"}}]
[null,{"$f":"Sprawdz_pesel(Formularz!#REF!)","v":{"$error":"#VALUE!"}}]
[null,{"$f":"Sprawdz_pesel(Formularz!#REF!)","v":{"$error":"#VALUE!"}}]
[null,{"$f":"Sprawdz_pesel(Formularz!#REF!)","v":{"$error":"#VALUE!"}}]
[null,{"$f":"Sprawdz_pesel(Formularz!#REF!)","v":{"$error":"#VALUE!"}}]
[null,{"$f":"Sprawdz_pesel(Formularz!#REF!)","v":{"$error":"#VALUE!"}}]
[null,{"$f":"Sprawdz_pesel(Formularz!#REF!)","v":{"$error":"#VALUE!"}}]
[null,{"$f":"Sprawdz_pesel(Formularz!#REF!)","v":{"$error":"#VALUE!"}}]
[null,{"$f":"Sprawdz_pesel(Formularz!#REF!)","v":{"$error":"#VALUE!"}}]
[null,{"$f":"Sprawdz_pesel(Formularz!#REF!)","v":{"$error":"#VALUE!"}}]
[null,{"$f":"Sprawdz_pesel(Formularz!#REF!)","v":{"$error":"#VALUE!"}}]
[null,{"$f":"Sprawdz_pesel(Formularz!#REF!)","v":{"$error":"#VALUE!"}}]
[null,{"$f":"Sprawdz_pesel(Formularz!#REF!)","v":{"$error":"#VALUE!"}}]
[null,{"$f":"Sprawdz_pesel(Formularz!#REF!)","v":{"$error":"#VALUE!"}}]
[null,{"$f":"Sprawdz_pesel(Formularz!#REF!)","v":{"$error":"#VALUE!"}}]
[null,{"$f":"Sprawdz_pesel(Formularz!#REF!)","v":{"$error":"#VALUE!"}}]
[null,{"$f":"Sprawdz_pesel(Formularz!#REF!)","v":{"$error":"#VALUE!"}}]
[null,{"$f":"Sprawdz_pesel(Formularz!#REF!)","v":{"$error":"#VALUE!"}}]
[null,{"$f":"Sprawdz_pesel(Formularz!#REF!)","v":{"$error":"#VALUE!"}}]
[null,{"$f":"Sprawdz_pesel(Formularz!#REF!)","v":{"$error":"#VALUE!"}}]
[null,{"$f":"Sprawdz_pesel(Formularz!#REF!)","v":{"$error":"#VALUE!"}}]
[null,{"$f":"Sprawdz_pesel(Formularz!#REF!)","v":{"$error":"#VALUE!"}}]
[null,{"$f":"Sprawdz_pesel(Formularz!#REF!)","v":{"$error":"#VALUE!"}}]
[null,{"$f":"Sprawdz_pesel(Formularz!#REF!)","v":{"$error":"#VALUE!"}}]
[null,{"$f":"Sprawdz_pesel(Formularz!#REF!)","v":{"$error":"#VALUE!"}}]
[null,{"$f":"Sprawdz_pesel(Formularz!#REF!)","v":{"$error":"#VALUE!"}}]
[null,{"$f":"Sprawdz_pesel(Formularz!#REF!)","v":{"$error":"#VALUE!"}}]
[null,{"$f":"Sprawdz_pesel(Formularz!#REF!)","v":{"$error":"#VALUE!"}}]
[null,{"$f":"Sprawdz_pesel(Formularz!#REF!)","v":{"$error":"#VALUE!"}}]
[null,{"$f":"Sprawdz_pesel(Formularz!#REF!)","v":{"$error":"#VALUE!"}}]
[null,{"$f":"Sprawdz_pesel(Formularz!#REF!)","v":{"$error":"#VALUE!"}}]
[null,{"$f":"Sprawdz_pesel(Formularz!#REF!)","v":{"$error":"#VALUE!"}}]
[null,{"$f":"Sprawdz_pesel(Formularz!#REF!)","v":{"$error":"#VALUE!"}}]
[null,{"$f":"Sprawdz_pesel(Formularz!#REF!)","v":{"$error":"#VALUE!"}}]
[null,{"$f":"Sprawdz_pesel(Formularz!#REF!)","v":{"$error":"#VALUE!"}}]
[null,{"$f":"Sprawdz_pesel(Formularz!#REF!)","v":{"$error":"#VALUE!"}}]
[null,{"$f":"Sprawdz_pesel(Formularz!#REF!)","v":{"$error":"#VALUE!"}}]
[null,{"$f":"Sprawdz_pesel(Formularz!#REF!)","v":{"$error":"#VALUE!"}}]
[null,{"$f":"Sprawdz_pesel(Formularz!#REF!)","v":{"$error":"#VALUE!"}}]
[null,{"$f":"Sprawdz_pesel(Formularz!#REF!)","v":{"$error":"#VALUE!"}}]
[null,{"$f":"Sprawdz_pesel(Formularz!#REF!)","v":{"$error":"#VALUE!"}}]
[null,{"$f":"Sprawdz_pesel(Formularz!#REF!)","v":{"$error":"#VALUE!"}}]
[null,{"$f":"Sprawdz_pesel(Formularz!#REF!)","v":{"$error":"#VALUE!"}}]
[null,{"$f":"Sprawdz_pesel(Formularz!#REF!)","v":{"$error":"#VALUE!"}}]
[null,{"$f":"Sprawdz_pesel(Formularz!#REF!)","v":{"$error":"#VALUE!"}}]
[null,{"$f":"Sprawdz_pesel(Formularz!#REF!)","v":{"$error":"#VALUE!"}}]
[null,{"$f":"Sprawdz_pesel(Formularz!#REF!)","v":{"$error":"#VALUE!"}}]
[null,{"$f":"Sprawdz_pesel(Formularz!#REF!)","v":{"$error":"#VALUE!"}}]
[null,{"$f":"Sprawdz_pesel(Formularz!#REF!)","v":{"$error":"#VALUE!"}}]
[null,{"$f":"Sprawdz_pesel(Formularz!#REF!)","v":{"$error":"#VALUE!"}}]
[null,{"$f":"Sprawdz_pesel(Formularz!#REF!)","v":{"$error":"#VALUE!"}}]
[null,{"$f":"Sprawdz_pesel(Formularz!#REF!)","v":{"$error":"#VALUE!"}}]
[null,{"$f":"Sprawdz_pesel(Formularz!#REF!)","v":{"$error":"#VALUE!"}}]
[null,{"$f":"Sprawdz_pesel(Formularz!#REF!)","v":{"$error":"#VALUE!"}}]
[null,{"$f":"Sprawdz_pesel(Formularz!#REF!)","v":{"$error":"#VALUE!"}}]
[null,{"$f":"Sprawdz_pesel(Formularz!#REF!)","v":{"$error":"#VALUE!"}}]
[null,{"$f":"Sprawdz_pesel(Formularz!#REF!)","v":{"$error":"#VALUE!"}}]
[null,{"$f":"Sprawdz_pesel(Formularz!#REF!)","v":{"$error":"#VALUE!"}}]
[null,{"$f":"Sprawdz_pesel(Formularz!#REF!)","v":{"$error":"#VALUE!"}}]
[null,{"$f":"Sprawdz_pesel(Formularz!#REF!)","v":{"$error":"#VALUE!"}}]
[null,{"$f":"Sprawdz_pesel(Formularz!#REF!)","v":{"$error":"#VALUE!"}}]
[null,{"$f":"Sprawdz_pesel(Formularz!#REF!)","v":{"$error":"#VALUE!"}}]
[null,{"$f":"Sprawdz_pesel(Formularz!#REF!)","v":{"$error":"#VALUE!"}}]
[null,{"$f":"Sprawdz_pesel(Formularz!#REF!)","v":{"$error":"#VALUE!"}}]
[null,{"$f":"Sprawdz_pesel(Formularz!#REF!)","v":{"$error":"#VALUE!"}}]
[null,{"$f":"Sprawdz_pesel(Formularz!#REF!)","v":{"$error":"#VALUE!"}}]
[null,{"$f":"Sprawdz_pesel(Formularz!#REF!)","v":{"$error":"#VALUE!"}}]
[null,{"$f":"Sprawdz_pesel(Formularz!#REF!)","v":{"$error":"#VALUE!"}}]
[null,{"$f":"Sprawdz_pesel(Formularz!#REF!)","v":{"$error":"#VALUE!"}}]
[null,{"$f":"Sprawdz_pesel(Formularz!#REF!)","v":{"$error":"#VALUE!"}}]
[null,{"$f":"Sprawdz_pesel(Formularz!#REF!)","v":{"$error":"#VALUE!"}}]
[null,{"$f":"Sprawdz_pesel(Formularz!#REF!)","v":{"$error":"#VALUE!"}}]
[null,{"$f":"Sprawdz_pesel(Formularz!#REF!)","v":{"$error":"#VALUE!"}}]
[null,{"$f":"Sprawdz_pesel(Formularz!#REF!)","v":{"$error":"#VALUE!"}}]
[null,{"$f":"Sprawdz_pesel(Formularz!#REF!)","v":{"$error":"#VALUE!"}}]
[null,{"$f":"Sprawdz_pesel(Formularz!#REF!)","v":{"$error":"#VALUE!"}}]
[null,{"$f":"Sprawdz_pesel(Formularz!#REF!)","v":{"$error":"#VALUE!"}}]
[null,{"$f":"Sprawdz_pesel(Formularz!#REF!)","v":{"$error":"#VALUE!"}}]
[null,{"$f":"Sprawdz_pesel(Formularz!#REF!)","v":{"$error":"#VALUE!"}}]
[null,{"$f":"Sprawdz_pesel(Formularz!#REF!)","v":{"$error":"#VALUE!"}}]
[null,{"$f":"Sprawdz_pesel(Formularz!#REF!)","v":{"$error":"#VALUE!"}}]
[null,{"$f":"Sprawdz_pesel(Formularz!#REF!)","v":{"$error":"#VALUE!"}}]
[null,{"$f":"Sprawdz_pesel(Formularz!#REF!)","v":{"$error":"#VALUE!"}}]
[null,{"$f":"Sprawdz_pesel(Formularz!#REF!)","v":{"$error":"#VALUE!"}}]
[null,{"$f":"Sprawdz_pesel(Formularz!#REF!)","v":{"$error":"#VALUE!"}}]
[null,{"$f":"Sprawdz_pesel(Formularz!#REF!)","v":{"$error":"#VALUE!"}}]
[null,{"$f":"Sprawdz_pesel(Formularz!#REF!)","v":{"$error":"#VALUE!"}}]
[null,{"$f":"Sprawdz_pesel(Formularz!#REF!)","v":{"$error":"#VALUE!"}}]
[null,{"$f":"Sprawdz_pesel(Formularz!#REF!)","v":{"$error":"#VALUE!"}}]
[null,{"$f":"Sprawdz_pesel(Formularz!#REF!)","v":{"$error":"#VALUE!"}}]
[null,{"$f":"Sprawdz_pesel(Formularz!#REF!)","v":{"$error":"#VALUE!"}}]
[null,{"$f":"Sprawdz_pesel(Formularz!#REF!)","v":{"$error":"#VALUE!"}}]
[null,{"$f":"Sprawdz_pesel(Formularz!#REF!)","v":{"$error":"#VALUE!"}}]
[null,{"$f":"Sprawdz_pesel(Formularz!#REF!)","v":{"$error":"#VALUE!"}}]
[null,{"$f":"Sprawdz_pesel(Formularz!#REF!)","v":{"$error":"#VALUE!"}}]
[null,{"$f":"Sprawdz_pesel(Formularz!#REF!)","v":{"$error":"#VALUE!"}}]
[null,{"$f":"Sprawdz_pesel(Formularz!#REF!)","v":{"$error":"#VALUE!"}}]
[null,{"$f":"Sprawdz_pesel(Formularz!#REF!)","v":{"$error":"#VALUE!"}}]
[null,{"$f":"Sprawdz_pesel(Formularz!#REF!)","v":{"$error":"#VALUE!"}}]
[null,{"$f":"Sprawdz_pesel(Formularz!#REF!)","v":{"$error":"#VALUE!"}}]
[null,{"$f":"Sprawdz_pesel(Formularz!#REF!)","v":{"$error":"#VALUE!"}}]
[null,{"$f":"Sprawdz_pesel(Formularz!#REF!)","v":{"$error":"#VALUE!"}}]
[null,{"$f":"Sprawdz_pesel(Formularz!#REF!)","v":{"$error":"#VALUE!"}}]
[null,{"$f":"Sprawdz_pesel(Formularz!#REF!)","v":{"$error":"#VALUE!"}}]
[null,{"$f":"Sprawdz_pesel(Formularz!#REF!)","v":{"$error":"#VALUE!"}}]
[null,{"$f":"Sprawdz_pesel(Formularz!#REF!)","v":{"$error":"#VALUE!"}}]
[null,{"$f":"Sprawdz_pesel(Formularz!#REF!)","v":{"$error":"#VALUE!"}}]
[null,{"$f":"Sprawdz_pesel(Formularz!#REF!)","v":{"$error":"#VALUE!"}}]
[null,{"$f":"Sprawdz_pesel(Formularz!#REF!)","v":{"$error":"#VALUE!"}}]
[null,{"$f":"Sprawdz_pesel(Formularz!#REF!)","v":{"$error":"#VALUE!"}}]
[null,{"$f":"Sprawdz_pesel(Formularz!#REF!)","v":{"$error":"#VALUE!"}}]
[null,{"$f":"Sprawdz_pesel(Formularz!#REF!)","v":{"$error":"#VALUE!"}}]
[null,{"$f":"Sprawdz_pesel(Formularz!#REF!)","v":{"$error":"#VALUE!"}}]
[null,{"$f":"Sprawdz_pesel(Formularz!#REF!)","v":{"$error":"#VALUE!"}}]
[null,{"$f":"Sprawdz_pesel(Formularz!#REF!)","v":{"$error":"#VALUE!"}}]
[null,{"$f":"Sprawdz_pesel(Formularz!#REF!)","v":{"$error":"#VALUE!"}}]
[null,{"$f":"Sprawdz_pesel(Formularz!#REF!)","v":{"$error":"#VALUE!"}}]
[null,{"$f":"Sprawdz_pesel(Formularz!#REF!)","v":{"$error":"#VALUE!"}}]
[null,{"$f":"Sprawdz_pesel(Formularz!#REF!)","v":{"$error":"#VALUE!"}}]
[null,{"$f":"Sprawdz_pesel(Formularz!#REF!)","v":{"$error":"#VALUE!"}}]
[null,{"$f":"Sprawdz_pesel(Formularz!#REF!)","v":{"$error":"#VALUE!"}}]
[null,{"$f":"Sprawdz_pesel(Formularz!#REF!)","v":{"$error":"#VALUE!"}}]
[null,{"$f":"Sprawdz_pesel(Formularz!#REF!)","v":{"$error":"#VALUE!"}}]
[null,{"$f":"Sprawdz_pesel(Formularz!#REF!)","v":{"$error":"#VALUE!"}}]
[null,{"$f":"Sprawdz_pesel(Formularz!#REF!)","v":{"$error":"#VALUE!"}}]
[null,{"$f":"Sprawdz_pesel(Formularz!#REF!)","v":{"$error":"#VALUE!"}}]
[null,{"$f":"Sprawdz_pesel(Formularz!#REF!)","v":{"$error":"#VALUE!"}}]
[null,{"$f":"Sprawdz_pesel(Formularz!#REF!)","v":{"$error":"#VALUE!"}}]
[null,{"$f":"Sprawdz_pesel(Formularz!#REF!)","v":{"$error":"#VALUE!"}}]
[null,{"$f":"Sprawdz_pesel(Formularz!#REF!)","v":{"$error":"#VALUE!"}}]
[null,{"$f":"Sprawdz_pesel(Formularz!#REF!)","v":{"$error":"#VALUE!"}}]
[null,{"$f":"Sprawdz_pesel(Formularz!#REF!)","v":{"$error":"#VALUE!"}}]
[null,{"$f":"Sprawdz_pesel(Formularz!#REF!)","v":{"$error":"#VALUE!"}}]
[null,{"$f":"Sprawdz_pesel(Formularz!#REF!)","v":{"$error":"#VALUE!"}}]
[null,{"$f":"Sprawdz_pesel(Formularz!#REF!)","v":{"$error":"#VALUE!"}}]
[null,{"$f":"Sprawdz_pesel(Formularz!#REF!)","v":{"$error":"#VALUE!"}}]
[null,{"$f":"Sprawdz_pesel(Formularz!#REF!)","v":{"$error":"#VALUE!"}}]
[null,{"$f":"Sprawdz_pesel(Formularz!#REF!)","v":{"$error":"#VALUE!"}}]
[null,{"$f":"Sprawdz_pesel(Formularz!#REF!)","v":{"$error":"#VALUE!"}}]
[null,{"$f":"Sprawdz_pesel(Formularz!#REF!)","v":{"$error":"#VALUE!"}}]
[null,{"$f":"Sprawdz_pesel(Formularz!#REF!)","v":{"$error":"#VALUE!"}}]
[null,{"$f":"Sprawdz_pesel(Formularz!#REF!)","v":{"$error":"#VALUE!"}}]
[null,{"$f":"Sprawdz_pesel(Formularz!#REF!)","v":{"$error":"#VALUE!"}}]
[null,{"$f":"Sprawdz_pesel(Formularz!#REF!)","v":{"$error":"#VALUE!"}}]
[null,{"$f":"Sprawdz_pesel(Formularz!#REF!)","v":{"$error":"#VALUE!"}}]
[null,{"$f":"Sprawdz_pesel(Formularz!#REF!)","v":{"$error":"#VALUE!"}}]
[null,{"$f":"Sprawdz_pesel(Formularz!#REF!)","v":{"$error":"#VALUE!"}}]
[null,{"$f":"Sprawdz_pesel(Formularz!#REF!)","v":{"$error":"#VALUE!"}}]
[null,{"$f":"Sprawdz_pesel(Formularz!#REF!)","v":{"$error":"#VALUE!"}}]
[null,{"$f":"Sprawdz_pesel(Formularz!#REF!)","v":{"$error":"#VALUE!"}}]
[null,{"$f":"Sprawdz_pesel(Formularz!#REF!)","v":{"$error":"#VALUE!"}}]
[null,{"$f":"Sprawdz_pesel(Formularz!#REF!)","v":{"$error":"#VALUE!"}}]
[null,{"$f":"Sprawdz_pesel(Formularz!#REF!)","v":{"$error":"#VALUE!"}}]
[null,{"$f":"Sprawdz_pesel(Formularz!#REF!)","v":{"$error":"#VALUE!"}}]
[null,{"$f":"Sprawdz_pesel(Formularz!#REF!)","v":{"$error":"#VALUE!"}}]
[null,{"$f":"Sprawdz_pesel(Formularz!#REF!)","v":{"$error":"#VALUE!"}}]
[null,{"$f":"Sprawdz_pesel(Formularz!#REF!)","v":{"$error":"#VALUE!"}}]
[null,{"$f":"Sprawdz_pesel(Formularz!#REF!)","v":{"$error":"#VALUE!"}}]
[null,{"$f":"Sprawdz_pesel(Formularz!#REF!)","v":{"$error":"#VALUE!"}}]
[null,{"$f":"Sprawdz_pesel(Formularz!#REF!)","v":{"$error":"#VALUE!"}}]
[null,{"$f":"Sprawdz_pesel(Formularz!#REF!)","v":{"$error":"#VALUE!"}}]
[null,{"$f":"Sprawdz_pesel(Formularz!#REF!)","v":{"$error":"#VALUE!"}}]
[null,{"$f":"Sprawdz_pesel(Formularz!#REF!)","v":{"$error":"#VALUE!"}}]
[null,{"$f":"Sprawdz_pesel(Formularz!#REF!)","v":{"$error":"#VALUE!"}}]
[null,{"$f":"Sprawdz_pesel(Formularz!#REF!)","v":{"$error":"#VALUE!"}}]
[null,{"$f":"Sprawdz_pesel(Formularz!#REF!)","v":{"$error":"#VALUE!"}}]
[null,{"$f":"Sprawdz_pesel(Formularz!#REF!)","v":{"$error":"#VALUE!"}}]
[null,{"$f":"Sprawdz_pesel(Formularz!#REF!)","v":{"$error":"#VALUE!"}}]
[null,{"$f":"Sprawdz_pesel(Formularz!#REF!)","v":{"$error":"#VALUE!"}}]
[null,{"$f":"Sprawdz_pesel(Formularz!#REF!)","v":{"$error":"#VALUE!"}}]
[null,{"$f":"Sprawdz_pesel(Formularz!#REF!)","v":{"$error":"#VALUE!"}}]
[null,{"$f":"Sprawdz_pesel(Formularz!#REF!)","v":{"$error":"#VALUE!"}}]
[null,{"$f":"Sprawdz_pesel(Formularz!#REF!)","v":{"$error":"#VALUE!"}}]
[null,{"$f":"Sprawdz_pesel(Formularz!#REF!)","v":{"$error":"#VALUE!"}}]
[null,{"$f":"Sprawdz_pesel(Formularz!#REF!)","v":{"$error":"#VALUE!"}}]
[null,{"$f":"Sprawdz_pesel(Formularz!#REF!)","v":{"$error":"#VALUE!"}}]
[null,{"$f":"Sprawdz_pesel(Formularz!#REF!)","v":{"$error":"#VALUE!"}}]
[null,{"$f":"Sprawdz_pesel(Formularz!#REF!)","v":{"$error":"#VALUE!"}}]
[null,{"$f":"Sprawdz_pesel(Formularz!#REF!)","v":{"$error":"#VALUE!"}}]
[null,{"$f":"Sprawdz_pesel(Formularz!#REF!)","v":{"$error":"#VALUE!"}}]
[null,{"$f":"Sprawdz_pesel(Formularz!#REF!)","v":{"$error":"#VALUE!"}}]
[null,{"$f":"Sprawdz_pesel(Formularz!#REF!)","v":{"$error":"#VALUE!"}}]
[null,{"$f":"Sprawdz_pesel(Formularz!#REF!)","v":{"$error":"#VALUE!"}}]
[null,{"$f":"Sprawdz_pesel(Formularz!#REF!)","v":{"$error":"#VALUE!"}}]
[null,{"$f":"Sprawdz_pesel(Formularz!#REF!)","v":{"$error":"#VALUE!"}}]
[null,{"$f":"Sprawdz_pesel(Formularz!#REF!)","v":{"$error":"#VALUE!"}}]
[null,{"$f":"Sprawdz_pesel(Formularz!#REF!)","v":{"$error":"#VALUE!"}}]
[null,{"$f":"Sprawdz_pesel(Formularz!#REF!)","v":{"$error":"#VALUE!"}}]
[null,{"$f":"Sprawdz_pesel(Formularz!#REF!)","v":{"$error":"#VALUE!"}}]
[null,{"$f":"Sprawdz_pesel(Formularz!#REF!)","v":{"$error":"#VALUE!"}}]
[null,{"$f":"Sprawdz_pesel(Formularz!#REF!)","v":{"$error":"#VALUE!"}}]
[null,{"$f":"Sprawdz_pesel(Formularz!#REF!)","v":{"$error":"#VALUE!"}}]
[null,{"$f":"Sprawdz_pesel(Formularz!#REF!)","v":{"$error":"#VALUE!"}}]
[null,{"$f":"Sprawdz_pesel(Formularz!#REF!)","v":{"$error":"#VALUE!"}}]
[null,{"$f":"Sprawdz_pesel(Formularz!#REF!)","v":{"$error":"#VALUE!"}}]
[null,{"$f":"Sprawdz_pesel(Formularz!#REF!)","v":{"$error":"#VALUE!"}}]
[null,{"$f":"Sprawdz_pesel(Formularz!#REF!)","v":{"$error":"#VALUE!"}}]
[null,{"$f":"Sprawdz_pesel(Formularz!#REF!)","v":{"$error":"#VALUE!"}}]
[null,{"$f":"Sprawdz_pesel(Formularz!#REF!)","v":{"$error":"#VALUE!"}}]
[null,{"$f":"Sprawdz_pesel(Formularz!#REF!)","v":{"$error":"#VALUE!"}}]
[null,{"$f":"Sprawdz_pesel(Formularz!#REF!)","v":{"$error":"#VALUE!"}}]
[null,{"$f":"Sprawdz_pesel(Formularz!#REF!)","v":{"$error":"#VALUE!"}}]
[null,{"$f":"Sprawdz_pesel(Formularz!#REF!)","v":{"$error":"#VALUE!"}}]
[null,{"$f":"Sprawdz_pesel(Formularz!#REF!)","v":{"$error":"#VALUE!"}}]
[null,{"$f":"Sprawdz_pesel(Formularz!#REF!)","v":{"$error":"#VALUE!"}}]
[null,{"$f":"Sprawdz_pesel(Formularz!#REF!)","v":{"$error":"#VALUE!"}}]
[null,{"$f":"Sprawdz_pesel(Formularz!#REF!)","v":{"$error":"#VALUE!"}}]
[null,{"$f":"Sprawdz_pesel(Formularz!#REF!)","v":{"$error":"#VALUE!"}}]
[null,{"$f":"Sprawdz_pesel(Formularz!#REF!)","v":{"$error":"#VALUE!"}}]
[null,{"$f":"Sprawdz_pesel(Formularz!#REF!)","v":{"$error":"#VALUE!"}}]
[null,{"$f":"Sprawdz_pesel(Formularz!#REF!)","v":{"$error":"#VALUE!"}}]
[null,{"$f":"Sprawdz_pesel(Formularz!#REF!)","v":{"$error":"#VALUE!"}}]
[null,{"$f":"Sprawdz_pesel(Formularz!#REF!)","v":{"$error":"#VALUE!"}}]
[null,{"$f":"Sprawdz_pesel(Formularz!#REF!)","v":{"$error":"#VALUE!"}}]
[null,{"$f":"Sprawdz_pesel(Formularz!#REF!)","v":{"$error":"#VALUE!"}}]
[null,{"$f":"Sprawdz_pesel(Formularz!#REF!)","v":{"$error":"#VALUE!"}}]
[null,{"$f":"Sprawdz_pesel(Formularz!#REF!)","v":{"$error":"#VALUE!"}}]
[null,{"$f":"Sprawdz_pesel(Formularz!#REF!)","v":{"$error":"#VALUE!"}}]
[null,{"$f":"Sprawdz_pesel(Formularz!#REF!)","v":{"$error":"#VALUE!"}}]
[null,{"$f":"Sprawdz_pesel(Formularz!#REF!)","v":{"$error":"#VALUE!"}}]
[null,{"$f":"Sprawdz_pesel(Formularz!#REF!)","v":{"$error":"#VALUE!"}}]
[null,{"$f":"Sprawdz_pesel(Formularz!#REF!)","v":{"$error":"#VALUE!"}}]
[null,{"$f":"Sprawdz_pesel(Formularz!#REF!)","v":{"$error":"#VALUE!"}}]
[null,{"$f":"Sprawdz_pesel(Formularz!#REF!)","v":{"$error":"#VALUE!"}}]
[null,{"$f":"Sprawdz_pesel(Formularz!#REF!)","v":{"$error":"#VALUE!"}}]
[null,{"$f":"Sprawdz_pesel(Formularz!#REF!)","v":{"$error":"#VALUE!"}}]
[null,{"$f":"Sprawdz_pesel(Formularz!#REF!)","v":{"$error":"#VALUE!"}}]
[null,{"$f":"Sprawdz_pesel(Formularz!#REF!)","v":{"$error":"#VALUE!"}}]
[null,{"$f":"Sprawdz_pesel(Formularz!#REF!)","v":{"$error":"#VALUE!"}}]
[null,{"$f":"Sprawdz_pesel(Formularz!#REF!)","v":{"$error":"#VALUE!"}}]
[null,{"$f":"Sprawdz_pesel(Formularz!#REF!)","v":{"$error":"#VALUE!"}}]
[null,{"$f":"Sprawdz_pesel(Formularz!#REF!)","v":{"$error":"#VALUE!"}}]
[null,{"$f":"Sprawdz_pesel(Formularz!#REF!)","v":{"$error":"#VALUE!"}}]
[null,{"$f":"Sprawdz_pesel(Formularz!#REF!)","v":{"$error":"#VALUE!"}}]
[null,{"$f":"Sprawdz_pesel(Formularz!#REF!)","v":{"$error":"#VALUE!"}}]
[null,{"$f":"Sprawdz_pesel(Formularz!#REF!)","v":{"$error":"#VALUE!"}}]
[null,{"$f":"Sprawdz_pesel(Formularz!#REF!)","v":{"$error":"#VALUE!"}}]
[null,{"$f":"Sprawdz_pesel(Formularz!#REF!)","v":{"$error":"#VALUE!"}}]
[null,{"$f":"Sprawdz_pesel(Formularz!#REF!)","v":{"$error":"#VALUE!"}}]
[null,{"$f":"Sprawdz_pesel(Formularz!#REF!)","v":{"$error":"#VALUE!"}}]
[null,{"$f":"Sprawdz_pesel(Formularz!#REF!)","v":{"$error":"#VALUE!"}}]
[null,{"$f":"Sprawdz_pesel(Formularz!#REF!)","v":{"$error":"#VALUE!"}}]
[null,{"$f":"Sprawdz_pesel(Formularz!#REF!)","v":{"$error":"#VALUE!"}}]
[null,{"$f":"Sprawdz_pesel(Formularz!#REF!)","v":{"$error":"#VALUE!"}}]
[null,{"$f":"Sprawdz_pesel(Formularz!#REF!)","v":{"$error":"#VALUE!"}}]
[null,{"$f":"Sprawdz_pesel(Formularz!#REF!)","v":{"$error":"#VALUE!"}}]
[null,{"$f":"Sprawdz_pesel(Formularz!#REF!)","v":{"$error":"#VALUE!"}}]
[null,{"$f":"Sprawdz_pesel(Formularz!#REF!)","v":{"$error":"#VALUE!"}}]
[null,{"$f":"Sprawdz_pesel(Formularz!#REF!)","v":{"$error":"#VALUE!"}}]
[null,{"$f":"Sprawdz_pesel(Formularz!#REF!)","v":{"$error":"#VALUE!"}}]
[null,{"$f":"Sprawdz_pesel(Formularz!#REF!)","v":{"$error":"#VALUE!"}}]
[null,{"$f":"Sprawdz_pesel(Formularz!#REF!)","v":{"$error":"#VALUE!"}}]
[null,{"$f":"Sprawdz_pesel(Formularz!#REF!)","v":{"$error":"#VALUE!"}}]
[null,{"$f":"Sprawdz_pesel(Formularz!#REF!)","v":{"$error":"#VALUE!"}}]
[null,{"$f":"Sprawdz_pesel(Formularz!#REF!)","v":{"$error":"#VALUE!"}}]
[null,{"$f":"Sprawdz_pesel(Formularz!#REF!)","v":{"$error":"#VALUE!"}}]
[null,{"$f":"Sprawdz_pesel(Formularz!#REF!)","v":{"$error":"#VALUE!"}}]
[null,{"$f":"Sprawdz_pesel(Formularz!#REF!)","v":{"$error":"#VALUE!"}}]
[null,{"$f":"Sprawdz_pesel(Formularz!#REF!)","v":{"$error":"#VALUE!"}}]
[null,{"$f":"Sprawdz_pesel(Formularz!#REF!)","v":{"$error":"#VALUE!"}}]
[null,{"$f":"Sprawdz_pesel(Formularz!#REF!)","v":{"$error":"#VALUE!"}}]
[null,{"$f":"Sprawdz_pesel(Formularz!#REF!)","v":{"$error":"#VALUE!"}}]
[null,{"$f":"Sprawdz_pesel(Formularz!#REF!)","v":{"$error":"#VALUE!"}}]
[null,{"$f":"Sprawdz_pesel(Formularz!#REF!)","v":{"$error":"#VALUE!"}}]
[null,{"$f":"Sprawdz_pesel(Formularz!#REF!)","v":{"$error":"#VALUE!"}}]
[null,{"$f":"Sprawdz_pesel(Formularz!#REF!)","v":{"$error":"#VALUE!"}}]
[null,{"$f":"Sprawdz_pesel(Formularz!#REF!)","v":{"$error":"#VALUE!"}}]
[null,{"$f":"Sprawdz_pesel(Formularz!#REF!)","v":{"$error":"#VALUE!"}}]
[null,{"$f":"Sprawdz_pesel(Formularz!#REF!)","v":{"$error":"#VALUE!"}}]
[null,{"$f":"Sprawdz_pesel(Formularz!#REF!)","v":{"$error":"#VALUE!"}}]
[null,{"$f":"Sprawdz_pesel(Formularz!#REF!)","v":{"$error":"#VALUE!"}}]
[null,{"$f":"Sprawdz_pesel(Formularz!#REF!)","v":{"$error":"#VALUE!"}}]
[null,{"$f":"Sprawdz_pesel(Formularz!#REF!)","v":{"$error":"#VALUE!"}}]
[null,{"$f":"Sprawdz_pesel(Formularz!#REF!)","v":{"$error":"#VALUE!"}}]
[null,{"$f":"Sprawdz_pesel(Formularz!#REF!)","v":{"$error":"#VALUE!"}}]
[null,{"$f":"Sprawdz_pesel(Formularz!#REF!)","v":{"$error":"#VALUE!"}}]
[null,{"$f":"Sprawdz_pesel(Formularz!#REF!)","v":{"$error":"#VALUE!"}}]
[null,{"$f":"Sprawdz_pesel(Formularz!#REF!)","v":{"$error":"#VALUE!"}}]
[null,{"$f":"Sprawdz_pesel(Formularz!#REF!)","v":{"$error":"#VALUE!"}}]
[null,{"$f":"Sprawdz_pesel(Formularz!#REF!)","v":{"$error":"#VALUE!"}}]
[null,{"$f":"Sprawdz_pesel(Formularz!#REF!)","v":{"$error":"#VALUE!"}}]
[null,{"$f":"Sprawdz_pesel(Formularz!#REF!)","v":{"$error":"#VALUE!"}}]
[null,{"$f":"Sprawdz_pesel(Formularz!#REF!)","v":{"$error":"#VALUE!"}}]
[null,{"$f":"Sprawdz_pesel(Formularz!#REF!)","v":{"$error":"#VALUE!"}}]
[null,{"$f":"Sprawdz_pesel(Formularz!#REF!)","v":{"$error":"#VALUE!"}}]
[null,{"$f":"Sprawdz_pesel(Formularz!#REF!)","v":{"$error":"#VALUE!"}}]
[null,{"$f":"Sprawdz_pesel(Formularz!#REF!)","v":{"$error":"#VALUE!"}}]
[null,{"$f":"Sprawdz_pesel(Formularz!#REF!)","v":{"$error":"#VALUE!"}}]
[null,{"$f":"Sprawdz_pesel(Formularz!#REF!)","v":{"$error":"#VALUE!"}}]
[null,{"$f":"Sprawdz_pesel(Formularz!#REF!)","v":{"$error":"#VALUE!"}}]
[null,{"$f":"Sprawdz_pesel(Formularz!#REF!)","v":{"$error":"#VALUE!"}}]
[null,{"$f":"Sprawdz_pesel(Formularz!#REF!)","v":{"$error":"#VALUE!"}}]
[null,{"$f":"Sprawdz_pesel(Formularz!#REF!)","v":{"$error":"#VALUE!"}}]
[null,{"$f":"Sprawdz_pesel(Formularz!#REF!)","v":{"$error":"#VALUE!"}}]
[null,{"$f":"Sprawdz_pesel(Formularz!#REF!)","v":{"$error":"#VALUE!"}}]
[null,{"$f":"Sprawdz_pesel(Formularz!#REF!)","v":{"$error":"#VALUE!"}}]
[null,{"$f":"Sprawdz_pesel(Formularz!#REF!)","v":{"$error":"#VALUE!"}}]
[null,{"$f":"Sprawdz_pesel(Formularz!#REF!)","v":{"$error":"#VALUE!"}}]
[null,{"$f":"Sprawdz_pesel(Formularz!#REF!)","v":{"$error":"#VALUE!"}}]
[null,{"$f":"Sprawdz_pesel(Formularz!#REF!)","v":{"$error":"#VALUE!"}}]
[null,{"$f":"Sprawdz_pesel(Formularz!#REF!)","v":{"$error":"#VALUE!"}}]
[null,{"$f":"Sprawdz_pesel(Formularz!#REF!)","v":{"$error":"#VALUE!"}}]
[null,{"$f":"Sprawdz_pesel(Formularz!#REF!)","v":{"$error":"#VALUE!"}}]
[null,{"$f":"Sprawdz_pesel(Formularz!#REF!)","v":{"$error":"#VALUE!"}}]
[null,{"$f":"Sprawdz_pesel(Formularz!#REF!)","v":{"$error":"#VALUE!"}}]
[null,{"$f":"Sprawdz_pesel(Formularz!#REF!)","v":{"$error":"#VALUE!"}}]
[null,{"$f":"Sprawdz_pesel(Formularz!#REF!)","v":{"$error":"#VALUE!"}}]
[null,{"$f":"Sprawdz_pesel(Formularz!#REF!)","v":{"$error":"#VALUE!"}}]
[null,{"$f":"Sprawdz_pesel(Formularz!#REF!)","v":{"$error":"#VALUE!"}}]
[null,{"$f":"Sprawdz_pesel(Formularz!#REF!)","v":{"$error":"#VALUE!"}}]
[null,{"$f":"Sprawdz_pesel(Formularz!#REF!)","v":{"$error":"#VALUE!"}}]
[null,{"$f":"Sprawdz_pesel(Formularz!#REF!)","v":{"$error":"#VALUE!"}}]
[null,{"$f":"Sprawdz_pesel(Formularz!#REF!)","v":{"$error":"#VALUE!"}}]
[null,{"$f":"Sprawdz_pesel(Formularz!#REF!)","v":{"$error":"#VALUE!"}}]
[null,{"$f":"Sprawdz_pesel(Formularz!#REF!)","v":{"$error":"#VALUE!"}}]
[null,{"$f":"Sprawdz_pesel(Formularz!#REF!)","v":{"$error":"#VALUE!"}}]
[null,{"$f":"Sprawdz_pesel(Formularz!#REF!)","v":{"$error":"#VALUE!"}}]
[null,{"$f":"Sprawdz_pesel(Formularz!#REF!)","v":{"$error":"#VALUE!"}}]
[null,{"$f":"Sprawdz_pesel(Formularz!#REF!)","v":{"$error":"#VALUE!"}}]
[null,{"$f":"Sprawdz_pesel(Formularz!#REF!)","v":{"$error":"#VALUE!"}}]
[null,{"$f":"Sprawdz_pesel(Formularz!#REF!)","v":{"$error":"#VALUE!"}}]
[null,{"$f":"Sprawdz_pesel(Formularz!#REF!)","v":{"$error":"#VALUE!"}}]
[null,{"$f":"Sprawdz_pesel(Formularz!#REF!)","v":{"$error":"#VALUE!"}}]
[null,{"$f":"Sprawdz_pesel(Formularz!#REF!)","v":{"$error":"#VALUE!"}}]
[null,{"$f":"Sprawdz_pesel(Formularz!#REF!)","v":{"$error":"#VALUE!"}}]
[null,{"$f":"Sprawdz_pesel(Formularz!#REF!)","v":{"$error":"#VALUE!"}}]
[null,{"$f":"Sprawdz_pesel(Formularz!#REF!)","v":{"$error":"#VALUE!"}}]
[null,{"$f":"Sprawdz_pesel(Formularz!#REF!)","v":{"$error":"#VALUE!"}}]
[null,{"$f":"Sprawdz_pesel(Formularz!#REF!)","v":{"$error":"#VALUE!"}}]
[null,{"$f":"Sprawdz_pesel(Formularz!#REF!)","v":{"$error":"#VALUE!"}}]
[null,{"$f":"Sprawdz_pesel(Formularz!#REF!)","v":{"$error":"#VALUE!"}}]
[null,{"$f":"Sprawdz_pesel(Formularz!#REF!)","v":{"$error":"#VALUE!"}}]
[null,{"$f":"Sprawdz_pesel(Formularz!#REF!)","v":{"$error":"#VALUE!"}}]
[null,{"$f":"Sprawdz_pesel(Formularz!#REF!)","v":{"$error":"#VALUE!"}}]
[null,{"$f":"Sprawdz_pesel(Formularz!#REF!)","v":{"$error":"#VALUE!"}}]
[null,{"$f":"Sprawdz_pesel(Formularz!#REF!)","v":{"$error":"#VALUE!"}}]
[null,{"$f":"Sprawdz_pesel(Formularz!#REF!)","v":{"$error":"#VALUE!"}}]
[null,{"$f":"Sprawdz_pesel(Formularz!#REF!)","v":{"$error":"#VALUE!"}}]
[null,{"$f":"Sprawdz_pesel(Formularz!#REF!)","v":{"$error":"#VALUE!"}}]
[null,{"$f":"Sprawdz_pesel(Formularz!#REF!)","v":{"$error":"#VALUE!"}}]
[null,{"$f":"Sprawdz_pesel(Formularz!#REF!)","v":{"$error":"#VALUE!"}}]
[null,{"$f":"Sprawdz_pesel(Formularz!#REF!)","v":{"$error":"#VALUE!"}}]
[null,{"$f":"Sprawdz_pesel(Formularz!#REF!)","v":{"$error":"#VALUE!"}}]
[null,{"$f":"Sprawdz_pesel(Formularz!#REF!)","v":{"$error":"#VALUE!"}}]
[null,{"$f":"Sprawdz_pesel(Formularz!#REF!)","v":{"$error":"#VALUE!"}}]
[null,{"$f":"Sprawdz_pesel(Formularz!#REF!)","v":{"$error":"#VALUE!"}}]
[null,{"$f":"Sprawdz_pesel(Formularz!#REF!)","v":{"$error":"#VALUE!"}}]
[null,{"$f":"Sprawdz_pesel(Formularz!#REF!)","v":{"$error":"#VALUE!"}}]
[null,{"$f":"Sprawdz_pesel(Formularz!#REF!)","v":{"$error":"#VALUE!"}}]
[null,{"$f":"Sprawdz_pesel(Formularz!#REF!)","v":{"$error":"#VALUE!"}}]
[null,{"$f":"Sprawdz_pesel(Formularz!#REF!)","v":{"$error":"#VALUE!"}}]
[null,{"$f":"Sprawdz_pesel(Formularz!#REF!)","v":{"$error":"#VALUE!"}}]
[null,{"$f":"Sprawdz_pesel(Formularz!#REF!)","v":{"$error":"#VALUE!"}}]
[null,{"$f":"Sprawdz_pesel(Formularz!#REF!)","v":{"$error":"#VALUE!"}}]
[null,{"$f":"Sprawdz_pesel(Formularz!#REF!)","v":{"$error":"#VALUE!"}}]
[null,{"$f":"Sprawdz_pesel(Formularz!#REF!)","v":{"$error":"#VALUE!"}}]
[null,{"$f":"Sprawdz_pesel(Formularz!#REF!)","v":{"$error":"#VALUE!"}}]
[null,{"$f":"Sprawdz_pesel(Formularz!#REF!)","v":{"$error":"#VALUE!"}}]
[null,{"$f":"Sprawdz_pesel(Formularz!#REF!)","v":{"$error":"#VALUE!"}}]
[null,{"$f":"Sprawdz_pesel(Formularz!#REF!)","v":{"$error":"#VALUE!"}}]
[null,{"$f":"Sprawdz_pesel(Formularz!#REF!)","v":{"$error":"#VALUE!"}}]
[null,{"$f":"Sprawdz_pesel(Formularz!#REF!)","v":{"$error":"#VALUE!"}}]
[null,{"$f":"Sprawdz_pesel(Formularz!#REF!)","v":{"$error":"#VALUE!"}}]
[null,{"$f":"Sprawdz_pesel(Formularz!#REF!)","v":{"$error":"#VALUE!"}}]
[null,{"$f":"Sprawdz_pesel(Formularz!#REF!)","v":{"$error":"#VALUE!"}}]
[null,{"$f":"Sprawdz_pesel(Formularz!#REF!)","v":{"$error":"#VALUE!"}}]
[null,{"$f":"Sprawdz_pesel(Formularz!#REF!)","v":{"$error":"#VALUE!"}}]
[null,{"$f":"Sprawdz_pesel(Formularz!#REF!)","v":{"$error":"#VALUE!"}}]
[null,{"$f":"Sprawdz_pesel(Formularz!#REF!)","v":{"$error":"#VALUE!"}}]
[null,{"$f":"Sprawdz_pesel(Formularz!#REF!)","v":{"$error":"#VALUE!"}}]
[null,{"$f":"Sprawdz_pesel(Formularz!#REF!)","v":{"$error":"#VALUE!"}}]
[null,{"$f":"Sprawdz_pesel(Formularz!#REF!)","v":{"$error":"#VALUE!"}}]
[null,{"$f":"Sprawdz_pesel(Formularz!#REF!)","v":{"$error":"#VALUE!"}}]
[null,{"$f":"Sprawdz_pesel(Formularz!#REF!)","v":{"$error":"#VALUE!"}}]
[null,{"$f":"Sprawdz_pesel(Formularz!#REF!)","v":{"$error":"#VALUE!"}}]
[null,{"$f":"Sprawdz_pesel(Formularz!#REF!)","v":{"$error":"#VALUE!"}}]
[null,{"$f":"Sprawdz_pesel(Formularz!#REF!)","v":{"$error":"#VALUE!"}}]
[null,{"$f":"Sprawdz_pesel(Formularz!#REF!)","v":{"$error":"#VALUE!"}}]
[null,{"$f":"Sprawdz_pesel(Formularz!#REF!)","v":{"$error":"#VALUE!"}}]
[null,{"$f":"Sprawdz_pesel(Formularz!#REF!)","v":{"$error":"#VALUE!"}}]
[null,{"$f":"Sprawdz_pesel(Formularz!#REF!)","v":{"$error":"#VALUE!"}}]
[null,{"$f":"Sprawdz_pesel(Formularz!#REF!)","v":{"$error":"#VALUE!"}}]
[null,{"$f":"Sprawdz_pesel(Formularz!#REF!)","v":{"$error":"#VALUE!"}}]
[null,{"$f":"Sprawdz_pesel(Formularz!#REF!)","v":{"$error":"#VALUE!"}}]
[null,{"$f":"Sprawdz_pesel(Formularz!#REF!)","v":{"$error":"#VALUE!"}}]
[null,{"$f":"Sprawdz_pesel(Formularz!#REF!)","v":{"$error":"#VALUE!"}}]
[null,{"$f":"Sprawdz_pesel(Formularz!#REF!)","v":{"$error":"#VALUE!"}}]
[null,{"$f":"Sprawdz_pesel(Formularz!#REF!)","v":{"$error":"#VALUE!"}}]
[null,{"$f":"Sprawdz_pesel(Formularz!#REF!)","v":{"$error":"#VALUE!"}}]
[null,{"$f":"Sprawdz_pesel(Formularz!#REF!)","v":{"$error":"#VALUE!"}}]
[null,{"$f":"Sprawdz_pesel(Formularz!#REF!)","v":{"$error":"#VALUE!"}}]
[null,{"$f":"Sprawdz_pesel(Formularz!#REF!)","v":{"$error":"#VALUE!"}}]
[null,{"$f":"Sprawdz_pesel(Formularz!#REF!)","v":{"$error":"#VALUE!"}}]
[null,{"$f":"Sprawdz_pesel(Formularz!#REF!)","v":{"$error":"#VALUE!"}}]
[null,{"$f":"Sprawdz_pesel(Formularz!#REF!)","v":{"$error":"#VALUE!"}}]
[null,{"$f":"Sprawdz_pesel(Formularz!#REF!)","v":{"$error":"#VALUE!"}}]
[null,{"$f":"Sprawdz_pesel(Formularz!#REF!)","v":{"$error":"#VALUE!"}}]
[null,{"$f":"Sprawdz_pesel(Formularz!#REF!)","v":{"$error":"#VALUE!"}}]
[null,{"$f":"Sprawdz_pesel(Formularz!#REF!)","v":{"$error":"#VALUE!"}}]
[null,{"$f":"Sprawdz_pesel(Formularz!#REF!)","v":{"$error":"#VALUE!"}}]
[null,{"$f":"Sprawdz_pesel(Formularz!#REF!)","v":{"$error":"#VALUE!"}}]
[null,{"$f":"Sprawdz_pesel(Formularz!#REF!)","v":{"$error":"#VALUE!"}}]
[null,{"$f":"Sprawdz_pesel(Formularz!#REF!)","v":{"$error":"#VALUE!"}}]
[null,{"$f":"Sprawdz_pesel(Formularz!#REF!)","v":{"$error":"#VALUE!"}}]
[null,{"$f":"Sprawdz_pesel(Formularz!#REF!)","v":{"$error":"#VALUE!"}}]
[null,{"$f":"Sprawdz_pesel(Formularz!#REF!)","v":{"$error":"#VALUE!"}}]
[null,{"$f":"Sprawdz_pesel(Formularz!#REF!)","v":{"$error":"#VALUE!"}}]
[null,{"$f":"Sprawdz_pesel(Formularz!#REF!)","v":{"$error":"#VALUE!"}}]
[null,{"$f":"Sprawdz_pesel(Formularz!#REF!)","v":{"$error":"#VALUE!"}}]
[null,{"$f":"Sprawdz_pesel(Formularz!#REF!)","v":{"$error":"#VALUE!"}}]
[null,{"$f":"Sprawdz_pesel(Formularz!#REF!)","v":{"$error":"#VALUE!"}}]
[null,{"$f":"Sprawdz_pesel(Formularz!#REF!)","v":{"$error":"#VALUE!"}}]
[null,{"$f":"Sprawdz_pesel(Formularz!#REF!)","v":{"$error":"#VALUE!"}}]
[null,{"$f":"Sprawdz_pesel(Formularz!#REF!)","v":{"$error":"#VALUE!"}}]
[null,{"$f":"Sprawdz_pesel(Formularz!#REF!)","v":{"$error":"#VALUE!"}}]
[null,{"$f":"Sprawdz_pesel(Formularz!#REF!)","v":{"$error":"#VALUE!"}}]
[null,{"$f":"Sprawdz_pesel(Formularz!#REF!)","v":{"$error":"#VALUE!"}}]
[null,{"$f":"Sprawdz_pesel(Formularz!#REF!)","v":{"$error":"#VALUE!"}}]
[null,{"$f":"Sprawdz_pesel(Formularz!#REF!)","v":{"$error":"#VALUE!"}}]
[null,{"$f":"Sprawdz_pesel(Formularz!#REF!)","v":{"$error":"#VALUE!"}}]
[null,{"$f":"Sprawdz_pesel(Formularz!#REF!)","v":{"$error":"#VALUE!"}}]
[null,{"$f":"Sprawdz_pesel(Formularz!#REF!)","v":{"$error":"#VALUE!"}}]
[null,{"$f":"Sprawdz_pesel(Formularz!#REF!)","v":{"$error":"#VALUE!"}}]
[null,{"$f":"Sprawdz_pesel(Formularz!#REF!)","v":{"$error":"#VALUE!"}}]
[null,{"$f":"Sprawdz_pesel(Formularz!#REF!)","v":{"$error":"#VALUE!"}}]
[null,{"$f":"Sprawdz_pesel(Formularz!#REF!)","v":{"$error":"#VALUE!"}}]
[null,{"$f":"Sprawdz_pesel(Formularz!#REF!)","v":{"$error":"#VALUE!"}}]
[null,{"$f":"Sprawdz_pesel(Formularz!#REF!)","v":{"$error":"#VALUE!"}}]
[null,{"$f":"Sprawdz_pesel(Formularz!#REF!)","v":{"$error":"#VALUE!"}}]
[null,{"$f":"Sprawdz_pesel(Formularz!#REF!)","v":{"$error":"#VALUE!"}}]
[null,{"$f":"Sprawdz_pesel(Formularz!#REF!)","v":{"$error":"#VALUE!"}}]
[null,{"$f":"Sprawdz_pesel(Formularz!#REF!)","v":{"$error":"#VALUE!"}}]
[null,{"$f":"Sprawdz_pesel(Formularz!#REF!)","v":{"$error":"#VALUE!"}}]
[null,{"$f":"Sprawdz_pesel(Formularz!#REF!)","v":{"$error":"#VALUE!"}}]
[null,{"$f":"Sprawdz_pesel(Formularz!#REF!)","v":{"$error":"#VALUE!"}}]
[null,{"$f":"Sprawdz_pesel(Formularz!#REF!)","v":{"$error":"#VALUE!"}}]
[null,{"$f":"Sprawdz_pesel(Formularz!#REF!)","v":{"$error":"#VALUE!"}}]
[null,{"$f":"Sprawdz_pesel(Formularz!#REF!)","v":{"$error":"#VALUE!"}}]
[null,{"$f":"Sprawdz_pesel(Formularz!#REF!)","v":{"$error":"#VALUE!"}}]
[null,{"$f":"Sprawdz_pesel(Formularz!#REF!)","v":{"$error":"#VALUE!"}}]
[null,{"$f":"Sprawdz_pesel(Formularz!#REF!)","v":{"$error":"#VALUE!"}}]
[null,{"$f":"Sprawdz_pesel(Formularz!#REF!)","v":{"$error":"#VALUE!"}}]
[null,{"$f":"Sprawdz_pesel(Formularz!#REF!)","v":{"$error":"#VALUE!"}}]
[null,{"$f":"Sprawdz_pesel(Formularz!#REF!)","v":{"$error":"#VALUE!"}}]
[null,{"$f":"Sprawdz_pesel(Formularz!#REF!)","v":{"$error":"#VALUE!"}}]
[null,{"$f":"Sprawdz_pesel(Formularz!#REF!)","v":{"$error":"#VALUE!"}}]
[null,{"$f":"Sprawdz_pesel(Formularz!#REF!)","v":{"$error":"#VALUE!"}}]
[null,{"$f":"Sprawdz_pesel(Formularz!#REF!)","v":{"$error":"#VALUE!"}}]
[null,{"$f":"Sprawdz_pesel(Formularz!#REF!)","v":{"$error":"#VALUE!"}}]
[null,{"$f":"Sprawdz_pesel(Formularz!#REF!)","v":{"$error":"#VALUE!"}}]
[null,{"$f":"Sprawdz_pesel(Formularz!#REF!)","v":{"$error":"#VALUE!"}}]
[null,{"$f":"Sprawdz_pesel(Formularz!#REF!)","v":{"$error":"#VALUE!"}}]
[null,{"$f":"Sprawdz_pesel(Formularz!#REF!)","v":{"$error":"#VALUE!"}}]
[null,{"$f":"Sprawdz_pesel(Formularz!#REF!)","v":{"$error":"#VALUE!"}}]
[null,{"$f":"Sprawdz_pesel(Formularz!#REF!)","v":{"$error":"#VALUE!"}}]
[null,{"$f":"Sprawdz_pesel(Formularz!#REF!)","v":{"$error":"#VALUE!"}}]
[null,{"$f":"Sprawdz_pesel(Formularz!#REF!)","v":{"$error":"#VALUE!"}}]
[null,{"$f":"Sprawdz_pesel(Formularz!#REF!)","v":{"$error":"#VALUE!"}}]
[null,{"$f":"Sprawdz_pesel(Formularz!#REF!)","v":{"$error":"#VALUE!"}}]
[null,{"$f":"Sprawdz_pesel(Formularz!#REF!)","v":{"$error":"#VALUE!"}}]
[null,{"$f":"Sprawdz_pesel(Formularz!#REF!)","v":{"$error":"#VALUE!"}}]
[null,{"$f":"Sprawdz_pesel(Formularz!#REF!)","v":{"$error":"#VALUE!"}}]
[null,{"$f":"Sprawdz_pesel(Formularz!#REF!)","v":{"$error":"#VALUE!"}}]
[null,{"$f":"Sprawdz_pesel(Formularz!#REF!)","v":{"$error":"#VALUE!"}}]
[null,{"$f":"Sprawdz_pesel(Formularz!#REF!)","v":{"$error":"#VALUE!"}}]
[null,{"$f":"Sprawdz_pesel(Formularz!#REF!)","v":{"$error":"#VALUE!"}}]
[null,{"$f":"Sprawdz_pesel(Formularz!#REF!)","v":{"$error":"#VALUE!"}}]
[null,{"$f":"Sprawdz_pesel(Formularz!#REF!)","v":{"$error":"#VALUE!"}}]
[null,{"$f":"Sprawdz_pesel(Formularz!#REF!)","v":{"$error":"#VALUE!"}}]
[null,{"$f":"Sprawdz_pesel(Formularz!#REF!)","v":{"$error":"#VALUE!"}}]
[null,{"$f":"Sprawdz_pesel(Formularz!#REF!)","v":{"$error":"#VALUE!"}}]
[null,{"$f":"Sprawdz_pesel(Formularz!#REF!)","v":{"$error":"#VALUE!"}}]
[null,{"$f":"Sprawdz_pesel(Formularz!#REF!)","v":{"$error":"#VALUE!"}}]
[null,{"$f":"Sprawdz_pesel(Formularz!#REF!)","v":{"$error":"#VALUE!"}}]
[null,{"$f":"Sprawdz_pesel(Formularz!#REF!)","v":{"$error":"#VALUE!"}}]
[null,{"$f":"Sprawdz_pesel(Formularz!#REF!)","v":{"$error":"#VALUE!"}}]
[null,{"$f":"Sprawdz_pesel(Formularz!#REF!)","v":{"$error":"#VALUE!"}}]
[null,{"$f":"Sprawdz_pesel(Formularz!#REF!)","v":{"$error":"#VALUE!"}}]
[null,{"$f":"Sprawdz_pesel(Formularz!#REF!)","v":{"$error":"#VALUE!"}}]
[null,{"$f":"Sprawdz_pesel(Formularz!#REF!)","v":{"$error":"#VALUE!"}}]
[null,{"$f":"Sprawdz_pesel(Formularz!#REF!)","v":{"$error":"#VALUE!"}}]
[null,{"$f":"Sprawdz_pesel(Formularz!#REF!)","v":{"$error":"#VALUE!"}}]
[null,{"$f":"Sprawdz_pesel(Formularz!#REF!)","v":{"$error":"#VALUE!"}}]
[null,{"$f":"Sprawdz_pesel(Formularz!#REF!)","v":{"$error":"#VALUE!"}}]
[null,{"$f":"Sprawdz_pesel(Formularz!#REF!)","v":{"$error":"#VALUE!"}}]
[null,{"$f":"Sprawdz_pesel(Formularz!#REF!)","v":{"$error":"#VALUE!"}}]
[null,{"$f":"Sprawdz_pesel(Formularz!#REF!)","v":{"$error":"#VALUE!"}}]
[null,{"$f":"Sprawdz_pesel(Formularz!#REF!)","v":{"$error":"#VALUE!"}}]
[null,{"$f":"Sprawdz_pesel(Formularz!#REF!)","v":{"$error":"#VALUE!"}}]
[null,{"$f":"Sprawdz_pesel(Formularz!#REF!)","v":{"$error":"#VALUE!"}}]
[null,{"$f":"Sprawdz_pesel(Formularz!#REF!)","v":{"$error":"#VALUE!"}}]
[null,{"$f":"Sprawdz_pesel(Formularz!#REF!)","v":{"$error":"#VALUE!"}}]
[null,{"$f":"Sprawdz_pesel(Formularz!#REF!)","v":{"$error":"#VALUE!"}}]
[null,{"$f":"Sprawdz_pesel(Formularz!#REF!)","v":{"$error":"#VALUE!"}}]
[null,{"$f":"Sprawdz_pesel(Formularz!#REF!)","v":{"$error":"#VALUE!"}}]
[null,{"$f":"Sprawdz_pesel(Formularz!#REF!)","v":{"$error":"#VALUE!"}}]
[null,{"$f":"Sprawdz_pesel(Formularz!#REF!)","v":{"$error":"#VALUE!"}}]
[null,{"$f":"Sprawdz_pesel(Formularz!#REF!)","v":{"$error":"#VALUE!"}}]
[null,{"$f":"Sprawdz_pesel(Formularz!#REF!)","v":{"$error":"#VALUE!"}}]
[null,{"$f":"Sprawdz_pesel(Formularz!#REF!)","v":{"$error":"#VALUE!"}}]
[null,{"$f":"Sprawdz_pesel(Formularz!#REF!)","v":{"$error":"#VALUE!"}}]
[null,{"$f":"Sprawdz_pesel(Formularz!#REF!)","v":{"$error":"#VALUE!"}}]
[null,{"$f":"Sprawdz_pesel(Formularz!#REF!)","v":{"$error":"#VALUE!"}}]
[null,{"$f":"Sprawdz_pesel(Formularz!#REF!)","v":{"$error":"#VALUE!"}}]
[null,{"$f":"Sprawdz_pesel(Formularz!#REF!)","v":{"$error":"#VALUE!"}}]
[null,{"$f":"Sprawdz_pesel(Formularz!#REF!)","v":{"$error":"#VALUE!"}}]
[null,{"$f":"Sprawdz_pesel(Formularz!#REF!)","v":{"$error":"#VALUE!"}}]
[null,{"$f":"Sprawdz_pesel(Formularz!#REF!)","v":{"$error":"#VALUE!"}}]
[null,{"$f":"Sprawdz_pesel(Formularz!#REF!)","v":{"$error":"#VALUE!"}}]
[null,{"$f":"Sprawdz_pesel(Formularz!#REF!)","v":{"$error":"#VALUE!"}}]
[null,{"$f":"Sprawdz_pesel(Formularz!#REF!)","v":{"$error":"#VALUE!"}}]
[null,{"$f":"Sprawdz_pesel(Formularz!#REF!)","v":{"$error":"#VALUE!"}}]
[null,{"$f":"Sprawdz_pesel(Formularz!#REF!)","v":{"$error":"#VALUE!"}}]
[null,{"$f":"Sprawdz_pesel(Formularz!#REF!)","v":{"$error":"#VALUE!"}}]
[null,{"$f":"Sprawdz_pesel(Formularz!#REF!)","v":{"$error":"#VALUE!"}}]
[null,{"$f":"Sprawdz_pesel(Formularz!#REF!)","v":{"$error":"#VALUE!"}}]
[null,{"$f":"Sprawdz_pesel(Formularz!#REF!)","v":{"$error":"#VALUE!"}}]
[null,{"$f":"Sprawdz_pesel(Formularz!#REF!)","v":{"$error":"#VALUE!"}}]
[null,{"$f":"Sprawdz_pesel(Formularz!#REF!)","v":{"$error":"#VALUE!"}}]
[null,{"$f":"Sprawdz_pesel(Formularz!#REF!)","v":{"$error":"#VALUE!"}}]
[null,{"$f":"Sprawdz_pesel(Formularz!#REF!)","v":{"$error":"#VALUE!"}}]
[null,{"$f":"Sprawdz_pesel(Formularz!#REF!)","v":{"$error":"#VALUE!"}}]
[null,{"$f":"Sprawdz_pesel(Formularz!#REF!)","v":{"$error":"#VALUE!"}}]
[null,{"$f":"Sprawdz_pesel(Formularz!#REF!)","v":{"$error":"#VALUE!"}}]
[null,{"$f":"Sprawdz_pesel(Formularz!#REF!)","v":{"$error":"#VALUE!"}}]
[null,{"$f":"Sprawdz_pesel(Formularz!#REF!)","v":{"$error":"#VALUE!"}}]
[null,{"$f":"Sprawdz_pesel(Formularz!#REF!)","v":{"$error":"#VALUE!"}}]
[null,{"$f":"Sprawdz_pesel(Formularz!#REF!)","v":{"$error":"#VALUE!"}}]
[null,{"$f":"Sprawdz_pesel(Formularz!#REF!)","v":{"$error":"#VALUE!"}}]
[null,{"$f":"Sprawdz_pesel(Formularz!#REF!)","v":{"$error":"#VALUE!"}}]
[null,{"$f":"Sprawdz_pesel(Formularz!#REF!)","v":{"$error":"#VALUE!"}}]
[null,{"$f":"Sprawdz_pesel(Formularz!#REF!)","v":{"$error":"#VALUE!"}}]
[null,{"$f":"Sprawdz_pesel(Formularz!#REF!)","v":{"$error":"#VALUE!"}}]
[null,{"$f":"Sprawdz_pesel(Formularz!#REF!)","v":{"$error":"#VALUE!"}}]
[null,{"$f":"Sprawdz_pesel(Formularz!#REF!)","v":{"$error":"#VALUE!"}}]
[null,{"$f":"Sprawdz_pesel(Formularz!#REF!)","v":{"$error":"#VALUE!"}}]
[null,{"$f":"Sprawdz_pesel(Formularz!#REF!)","v":{"$error":"#VALUE!"}}]
[null,{"$f":"Sprawdz_pesel(Formularz!#REF!)","v":{"$error":"#VALUE!"}}]
[null,{"$f":"Sprawdz_pesel(Formularz!#REF!)","v":{"$error":"#VALUE!"}}]
[null,{"$f":"Sprawdz_pesel(Formularz!#REF!)","v":{"$error":"#VALUE!"}}]
[null,{"$f":"Sprawdz_pesel(Formularz!#REF!)","v":{"$error":"#VALUE!"}}]
[null,{"$f":"Sprawdz_pesel(Formularz!#REF!)","v":{"$error":"#VALUE!"}}]
[null,{"$f":"Sprawdz_pesel(Formularz!#REF!)","v":{"$error":"#VALUE!"}}]
[null,{"$f":"Sprawdz_pesel(Formularz!#REF!)","v":{"$error":"#VALUE!"}}]
[null,{"$f":"Sprawdz_pesel(Formularz!#REF!)","v":{"$error":"#VALUE!"}}]
[null,{"$f":"Sprawdz_pesel(Formularz!#REF!)","v":{"$error":"#VALUE!"}}]
[null,{"$f":"Sprawdz_pesel(Formularz!#REF!)","v":{"$error":"#VALUE!"}}]
[null,{"$f":"Sprawdz_pesel(Formularz!#REF!)","v":{"$error":"#VALUE!"}}]
[null,{"$f":"Sprawdz_pesel(Formularz!#REF!)","v":{"$error":"#VALUE!"}}]
[null,{"$f":"Sprawdz_pesel(Formularz!#REF!)","v":{"$error":"#VALUE!"}}]
[null,{"$f":"Sprawdz_pesel(Formularz!#REF!)","v":{"$error":"#VALUE!"}}]
[null,{"$f":"Sprawdz_pesel(Formularz!#REF!)","v":{"$error":"#VALUE!"}}]
[null,{"$f":"Sprawdz_pesel(Formularz!#REF!)","v":{"$error":"#VALUE!"}}]
[null,{"$f":"Sprawdz_pesel(Formularz!#REF!)","v":{"$error":"#VALUE!"}}]
[null,{"$f":"Sprawdz_pesel(Formularz!#REF!)","v":{"$error":"#VALUE!"}}]
[null,{"$f":"Sprawdz_pesel(Formularz!#REF!)","v":{"$error":"#VALUE!"}}]
[null,{"$f":"Sprawdz_pesel(Formularz!#REF!)","v":{"$error":"#VALUE!"}}]
[null,{"$f":"Sprawdz_pesel(Formularz!#REF!)","v":{"$error":"#VALUE!"}}]
[null,{"$f":"Sprawdz_pesel(Formularz!#REF!)","v":{"$error":"#VALUE!"}}]
[null,{"$f":"Sprawdz_pesel(Formularz!#REF!)","v":{"$error":"#VALUE!"}}]
[null,{"$f":"Sprawdz_pesel(Formularz!#REF!)","v":{"$error":"#VALUE!"}}]
[null,{"$f":"Sprawdz_pesel(Formularz!#REF!)","v":{"$error":"#VALUE!"}}]
[null,{"$f":"Sprawdz_pesel(Formularz!#REF!)","v":{"$error":"#VALUE!"}}]
[null,{"$f":"Sprawdz_pesel(Formularz!#REF!)","v":{"$error":"#VALUE!"}}]
[null,{"$f":"Sprawdz_pesel(Formularz!#REF!)","v":{"$error":"#VALUE!"}}]
[null,{"$f":"Sprawdz_pesel(Formularz!#REF!)","v":{"$error":"#VALUE!"}}]
[null,{"$f":"Sprawdz_pesel(Formularz!#REF!)","v":{"$error":"#VALUE!"}}]
[null,{"$f":"Sprawdz_pesel(Formularz!#REF!)","v":{"$error":"#VALUE!"}}]
[null,{"$f":"Sprawdz_pesel(Formularz!#REF!)","v":{"$error":"#VALUE!"}}]
[null,{"$f":"Sprawdz_pesel(Formularz!#REF!)","v":{"$error":"#VALUE!"}}]
[null,{"$f":"Sprawdz_pesel(Formularz!#REF!)","v":{"$error":"#VALUE!"}}]
[null,{"$f":"Sprawdz_pesel(Formularz!#REF!)","v":{"$error":"#VALUE!"}}]
[null,{"$f":"Sprawdz_pesel(Formularz!#REF!)","v":{"$error":"#VALUE!"}}]
[null,{"$f":"Sprawdz_pesel(Formularz!#REF!)","v":{"$error":"#VALUE!"}}]
[null,{"$f":"Sprawdz_pesel(Formularz!#REF!)","v":{"$error":"#VALUE!"}}]
[null,{"$f":"Sprawdz_pesel(Formularz!#REF!)","v":{"$error":"#VALUE!"}}]
[null,{"$f":"Sprawdz_pesel(Formularz!#REF!)","v":{"$error":"#VALUE!"}}]
[null,{"$f":"Sprawdz_pesel(Formularz!#REF!)","v":{"$error":"#VALUE!"}}]
[null,{"$f":"Sprawdz_pesel(Formularz!#REF!)","v":{"$error":"#VALUE!"}}]
[null,{"$f":"Sprawdz_pesel(Formularz!#REF!)","v":{"$error":"#VALUE!"}}]
[null,{"$f":"Sprawdz_pesel(Formularz!#REF!)","v":{"$error":"#VALUE!"}}]
[null,{"$f":"Sprawdz_pesel(Formularz!#REF!)","v":{"$error":"#VALUE!"}}]
[null,{"$f":"Sprawdz_pesel(Formularz!#REF!)","v":{"$error":"#VALUE!"}}]
[null,{"$f":"Sprawdz_pesel(Formularz!#REF!)","v":{"$error":"#VALUE!"}}]
[null,{"$f":"Sprawdz_pesel(Formularz!#REF!)","v":{"$error":"#VALUE!"}}]
[null,{"$f":"Sprawdz_pesel(Formularz!#REF!)","v":{"$error":"#VALUE!"}}]
[null,{"$f":"Sprawdz_pesel(Formularz!#REF!)","v":{"$error":"#VALUE!"}}]
[null,{"$f":"Sprawdz_pesel(Formularz!#REF!)","v":{"$error":"#VALUE!"}}]
[null,{"$f":"Sprawdz_pesel(Formularz!#REF!)","v":{"$error":"#VALUE!"}}]
[null,{"$f":"Sprawdz_pesel(Formularz!#REF!)","v":{"$error":"#VALUE!"}}]
[null,{"$f":"Sprawdz_pesel(Formularz!#REF!)","v":{"$error":"#VALUE!"}}]
[null,{"$f":"Sprawdz_pesel(Formularz!#REF!)","v":{"$error":"#VALUE!"}}]
[null,{"$f":"Sprawdz_pesel(Formularz!#REF!)","v":{"$error":"#VALUE!"}}]
[null,{"$f":"Sprawdz_pesel(Formularz!#REF!)","v":{"$error":"#VALUE!"}}]
[null,{"$f":"Sprawdz_pesel(Formularz!#REF!)","v":{"$error":"#VALUE!"}}]
[null,{"$f":"Sprawdz_pesel(Formularz!#REF!)","v":{"$error":"#VALUE!"}}]
[null,{"$f":"Sprawdz_pesel(Formularz!#REF!)","v":{"$error":"#VALUE!"}}]
[null,{"$f":"Sprawdz_pesel(Formularz!#REF!)","v":{"$error":"#VALUE!"}}]
[null,{"$f":"Sprawdz_pesel(Formularz!#REF!)","v":{"$error":"#VALUE!"}}]
[null,{"$f":"Sprawdz_pesel(Formularz!#REF!)","v":{"$error":"#VALUE!"}}]
[null,{"$f":"Sprawdz_pesel(Formularz!#REF!)","v":{"$error":"#VALUE!"}}]
[null,{"$f":"Sprawdz_pesel(Formularz!#REF!)","v":{"$error":"#VALUE!"}}]
[null,{"$f":"Sprawdz_pesel(Formularz!#REF!)","v":{"$error":"#VALUE!"}}]
[null,{"$f":"Sprawdz_pesel(Formularz!#REF!)","v":{"$error":"#VALUE!"}}]
[null,{"$f":"Sprawdz_pesel(Formularz!#REF!)","v":{"$error":"#VALUE!"}}]
[null,{"$f":"Sprawdz_pesel(Formularz!#REF!)","v":{"$error":"#VALUE!"}}]
[null,{"$f":"Sprawdz_pesel(Formularz!#REF!)","v":{"$error":"#VALUE!"}}]
[null,{"$f":"Sprawdz_pesel(Formularz!#REF!)","v":{"$error":"#VALUE!"}}]
[null,{"$f":"Sprawdz_pesel(Formularz!#REF!)","v":{"$error":"#VALUE!"}}]
[null,{"$f":"Sprawdz_pesel(Formularz!#REF!)","v":{"$error":"#VALUE!"}}]
[null,{"$f":"Sprawdz_pesel(Formularz!#REF!)","v":{"$error":"#VALUE!"}}]
[null,{"$f":"Sprawdz_pesel(Formularz!#REF!)","v":{"$error":"#VALUE!"}}]
[null,{"$f":"Sprawdz_pesel(Formularz!#REF!)","v":{"$error":"#VALUE!"}}]
[null,{"$f":"Sprawdz_pesel(Formularz!#REF!)","v":{"$error":"#VALUE!"}}]
[null,{"$f":"Sprawdz_pesel(Formularz!#REF!)","v":{"$error":"#VALUE!"}}]
[null,{"$f":"Sprawdz_pesel(Formularz!#REF!)","v":{"$error":"#VALUE!"}}]
[null,{"$f":"Sprawdz_pesel(Formularz!#REF!)","v":{"$error":"#VALUE!"}}]
[null,{"$f":"Sprawdz_pesel(Formularz!#REF!)","v":{"$error":"#VALUE!"}}]
[null,{"$f":"Sprawdz_pesel(Formularz!#REF!)","v":{"$error":"#VALUE!"}}]
[null,{"$f":"Sprawdz_pesel(Formularz!#REF!)","v":{"$error":"#VALUE!"}}]
[null,{"$f":"Sprawdz_pesel(Formularz!#REF!)","v":{"$error":"#VALUE!"}}]
[null,{"$f":"Sprawdz_pesel(Formularz!#REF!)","v":{"$error":"#VALUE!"}}]
[null,{"$f":"Sprawdz_pesel(Formularz!#REF!)","v":{"$error":"#VALUE!"}}]
[null,{"$f":"Sprawdz_pesel(Formularz!#REF!)","v":{"$error":"#VALUE!"}}]
[null,{"$f":"Sprawdz_pesel(Formularz!#REF!)","v":{"$error":"#VALUE!"}}]
[null,{"$f":"Sprawdz_pesel(Formularz!#REF!)","v":{"$error":"#VALUE!"}}]
[null,{"$f":"Sprawdz_pesel(Formularz!#REF!)","v":{"$error":"#VALUE!"}}]
[null,{"$f":"Sprawdz_pesel(Formularz!#REF!)","v":{"$error":"#VALUE!"}}]
[null,{"$f":"Sprawdz_pesel(Formularz!#REF!)","v":{"$error":"#VALUE!"}}]
[null,{"$f":"Sprawdz_pesel(Formularz!#REF!)","v":{"$error":"#VALUE!"}}]
[null,{"$f":"Sprawdz_pesel(Formularz!#REF!)","v":{"$error":"#VALUE!"}}]
[null,{"$f":"Sprawdz_pesel(Formularz!#REF!)","v":{"$error":"#VALUE!"}}]
[null,{"$f":"Sprawdz_pesel(Formularz!#REF!)","v":{"$error":"#VALUE!"}}]
[null,{"$f":"Sprawdz_pesel(Formularz!#REF!)","v":{"$error":"#VALUE!"}}]
[null,{"$f":"Sprawdz_pesel(Formularz!#REF!)","v":{"$error":"#VALUE!"}}]
[null,{"$f":"Sprawdz_pesel(Formularz!#REF!)","v":{"$error":"#VALUE!"}}]
[null,{"$f":"Sprawdz_pesel(Formularz!#REF!)","v":{"$error":"#VALUE!"}}]
[null,{"$f":"Sprawdz_pesel(Formularz!#REF!)","v":{"$error":"#VALUE!"}}]
[null,{"$f":"Sprawdz_pesel(Formularz!#REF!)","v":{"$error":"#VALUE!"}}]
[null,{"$f":"Sprawdz_pesel(Formularz!#REF!)","v":{"$error":"#VALUE!"}}]
[null,{"$f":"Sprawdz_pesel(Formularz!#REF!)","v":{"$error":"#VALUE!"}}]
[null,{"$f":"Sprawdz_pesel(Formularz!#REF!)","v":{"$error":"#VALUE!"}}]
[null,{"$f":"Sprawdz_pesel(Formularz!#REF!)","v":{"$error":"#VALUE!"}}]
[null,{"$f":"Sprawdz_pesel(Formularz!#REF!)","v":{"$error":"#VALUE!"}}]
[null,{"$f":"Sprawdz_pesel(Formularz!#REF!)","v":{"$error":"#VALUE!"}}]
[null,{"$f":"Sprawdz_pesel(Formularz!#REF!)","v":{"$error":"#VALUE!"}}]
[null,{"$f":"Sprawdz_pesel(Formularz!#REF!)","v":{"$error":"#VALUE!"}}]
[null,{"$f":"Sprawdz_pesel(Formularz!#REF!)","v":{"$error":"#VALUE!"}}]
[null,{"$f":"Sprawdz_pesel(Formularz!#REF!)","v":{"$error":"#VALUE!"}}]
[null,{"$f":"Sprawdz_pesel(Formularz!#REF!)","v":{"$error":"#VALUE!"}}]
[null,{"$f":"Sprawdz_pesel(Formularz!#REF!)","v":{"$error":"#VALUE!"}}]
[null,{"$f":"Sprawdz_pesel(Formularz!#REF!)","v":{"$error":"#VALUE!"}}]
[null,{"$f":"Sprawdz_pesel(Formularz!#REF!)","v":{"$error":"#VALUE!"}}]
[null,{"$f":"Sprawdz_pesel(Formularz!#REF!)","v":{"$error":"#VALUE!"}}]
[null,{"$f":"Sprawdz_pesel(Formularz!#REF!)","v":{"$error":"#VALUE!"}}]
[null,{"$f":"Sprawdz_pesel(Formularz!#REF!)","v":{"$error":"#VALUE!"}}]
[null,{"$f":"Sprawdz_pesel(Formularz!#REF!)","v":{"$error":"#VALUE!"}}]
[null,{"$f":"Sprawdz_pesel(Formularz!#REF!)","v":{"$error":"#VALUE!"}}]
[null,{"$f":"Sprawdz_pesel(Formularz!#REF!)","v":{"$error":"#VALUE!"}}]
[null,{"$f":"Sprawdz_pesel(Formularz!#REF!)","v":{"$error":"#VALUE!"}}]
[null,{"$f":"Sprawdz_pesel(Formularz!#REF!)","v":{"$error":"#VALUE!"}}]
[null,{"$f":"Sprawdz_pesel(Formularz!#REF!)","v":{"$error":"#VALUE!"}}]
[null,{"$f":"Sprawdz_pesel(Formularz!#REF!)","v":{"$error":"#VALUE!"}}]
[null,{"$f":"Sprawdz_pesel(Formularz!#REF!)","v":{"$error":"#VALUE!"}}]
[null,{"$f":"Sprawdz_pesel(Formularz!#REF!)","v":{"$error":"#VALUE!"}}]
[null,{"$f":"Sprawdz_pesel(Formularz!#REF!)","v":{"$error":"#VALUE!"}}]
[null,{"$f":"Sprawdz_pesel(Formularz!#REF!)","v":{"$error":"#VALUE!"}}]
[null,{"$f":"Sprawdz_pesel(Formularz!#REF!)","v":{"$error":"#VALUE!"}}]
[null,{"$f":"Sprawdz_pesel(Formularz!#REF!)","v":{"$error":"#VALUE!"}}]
[null,{"$f":"Sprawdz_pesel(Formularz!#REF!)","v":{"$error":"#VALUE!"}}]
[null,{"$f":"Sprawdz_pesel(Formularz!#REF!)","v":{"$error":"#VALUE!"}}]
[null,{"$f":"Sprawdz_pesel(Formularz!#REF!)","v":{"$error":"#VALUE!"}}]
[null,{"$f":"Sprawdz_pesel(Formularz!#REF!)","v":{"$error":"#VALUE!"}}]
[null,{"$f":"Sprawdz_pesel(Formularz!#REF!)","v":{"$error":"#VALUE!"}}]
[null,{"$f":"Sprawdz_pesel(Formularz!#REF!)","v":{"$error":"#VALUE!"}}]
[null,{"$f":"Sprawdz_pesel(Formularz!#REF!)","v":{"$error":"#VALUE!"}}]
[null,{"$f":"Sprawdz_pesel(Formularz!#REF!)","v":{"$error":"#VALUE!"}}]
[null,{"$f":"Sprawdz_pesel(Formularz!#REF!)","v":{"$error":"#VALUE!"}}]
[null,{"$f":"Sprawdz_pesel(Formularz!#REF!)","v":{"$error":"#VALUE!"}}]
[null,{"$f":"Sprawdz_pesel(Formularz!#REF!)","v":{"$error":"#VALUE!"}}]
[null,{"$f":"Sprawdz_pesel(Formularz!#REF!)","v":{"$error":"#VALUE!"}}]
[null,{"$f":"Sprawdz_pesel(Formularz!#REF!)","v":{"$error":"#VALUE!"}}]
[null,{"$f":"Sprawdz_pesel(Formularz!#REF!)","v":{"$error":"#VALUE!"}}]
[null,{"$f":"Sprawdz_pesel(Formularz!#REF!)","v":{"$error":"#VALUE!"}}]
[null,{"$f":"Sprawdz_pesel(Formularz!#REF!)","v":{"$error":"#VALUE!"}}]
[null,{"$f":"Sprawdz_pesel(Formularz!#REF!)","v":{"$error":"#VALUE!"}}]
[null,{"$f":"Sprawdz_pesel(Formularz!#REF!)","v":{"$error":"#VALUE!"}}]
[null,{"$f":"Sprawdz_pesel(Formularz!#REF!)","v":{"$error":"#VALUE!"}}]
[null,{"$f":"Sprawdz_pesel(Formularz!#REF!)","v":{"$error":"#VALUE!"}}]
[null,{"$f":"Sprawdz_pesel(Formularz!#REF!)","v":{"$error":"#VALUE!"}}]
[null,{"$f":"Sprawdz_pesel(Formularz!#REF!)","v":{"$error":"#VALUE!"}}]
[null,{"$f":"Sprawdz_pesel(Formularz!#REF!)","v":{"$error":"#VALUE!"}}]
[null,{"$f":"Sprawdz_pesel(Formularz!#REF!)","v":{"$error":"#VALUE!"}}]
[null,{"$f":"Sprawdz_pesel(Formularz!#REF!)","v":{"$error":"#VALUE!"}}]
[null,{"$f":"Sprawdz_pesel(Formularz!#REF!)","v":{"$error":"#VALUE!"}}]
[null,{"$f":"Sprawdz_pesel(Formularz!#REF!)","v":{"$error":"#VALUE!"}}]
[null,{"$f":"Sprawdz_pesel(Formularz!#REF!)","v":{"$error":"#VALUE!"}}]
[null,{"$f":"Sprawdz_pesel(Formularz!#REF!)","v":{"$error":"#VALUE!"}}]
[null,{"$f":"Sprawdz_pesel(Formularz!#REF!)","v":{"$error":"#VALUE!"}}]
[null,{"$f":"Sprawdz_pesel(Formularz!#REF!)","v":{"$error":"#VALUE!"}}]
[null,{"$f":"Sprawdz_pesel(Formularz!#REF!)","v":{"$error":"#VALUE!"}}]
[null,{"$f":"Sprawdz_pesel(Formularz!#REF!)","v":{"$error":"#VALUE!"}}]
[null,{"$f":"Sprawdz_pesel(Formularz!#REF!)","v":{"$error":"#VALUE!"}}]
[null,{"$f":"Sprawdz_pesel(Formularz!#REF!)","v":{"$error":"#VALUE!"}}]
[null,{"$f":"Sprawdz_pesel(Formularz!#REF!)","v":{"$error":"#VALUE!"}}]
[null,{"$f":"Sprawdz_pesel(Formularz!#REF!)","v":{"$error":"#VALUE!"}}]
[null,{"$f":"Sprawdz_pesel(Formularz!#REF!)","v":{"$error":"#VALUE!"}}]
[null,{"$f":"Sprawdz_pesel(Formularz!#REF!)","v":{"$error":"#VALUE!"}}]
[null,{"$f":"Sprawdz_pesel(Formularz!#REF!)","v":{"$error":"#VALUE!"}}]
[null,{"$f":"Sprawdz_pesel(Formularz!#REF!)","v":{"$error":"#VALUE!"}}]
[null,{"$f":"Sprawdz_pesel(Formularz!#REF!)","v":{"$error":"#VALUE!"}}]
[null,{"$f":"Sprawdz_pesel(Formularz!#REF!)","v":{"$error":"#VALUE!"}}]
[null,{"$f":"Sprawdz_pesel(Formularz!#REF!)","v":{"$error":"#VALUE!"}}]
[null,{"$f":"Sprawdz_pesel(Formularz!#REF!)","v":{"$error":"#VALUE!"}}]
[null,{"$f":"Sprawdz_pesel(Formularz!#REF!)","v":{"$error":"#VALUE!"}}]
[null,{"$f":"Sprawdz_pesel(Formularz!#REF!)","v":{"$error":"#VALUE!"}}]
[null,{"$f":"Sprawdz_pesel(Formularz!#REF!)","v":{"$error":"#VALUE!"}}]
[null,{"$f":"Sprawdz_pesel(Formularz!#REF!)","v":{"$error":"#VALUE!"}}]
[null,{"$f":"Sprawdz_pesel(Formularz!#REF!)","v":{"$error":"#VALUE!"}}]
[null,{"$f":"Sprawdz_pesel(Formularz!#REF!)","v":{"$error":"#VALUE!"}}]
[null,{"$f":"Sprawdz_pesel(Formularz!#REF!)","v":{"$error":"#VALUE!"}}]
[null,{"$f":"Sprawdz_pesel(Formularz!#REF!)","v":{"$error":"#VALUE!"}}]
[null,{"$f":"Sprawdz_pesel(Formularz!#REF!)","v":{"$error":"#VALUE!"}}]
[null,{"$f":"Sprawdz_pesel(Formularz!#REF!)","v":{"$error":"#VALUE!"}}]
[null,{"$f":"Sprawdz_pesel(Formularz!#REF!)","v":{"$error":"#VALUE!"}}]
[null,{"$f":"Sprawdz_pesel(Formularz!#REF!)","v":{"$error":"#VALUE!"}}]
[null,{"$f":"Sprawdz_pesel(Formularz!#REF!)","v":{"$error":"#VALUE!"}}]
[null,{"$f":"Sprawdz_pesel(Formularz!#REF!)","v":{"$error":"#VALUE!"}}]
[null,{"$f":"Sprawdz_pesel(Formularz!#REF!)","v":{"$error":"#VALUE!"}}]
[null,{"$f":"Sprawdz_pesel(Formularz!#REF!)","v":{"$error":"#VALUE!"}}]
[null,{"$f":"Sprawdz_pesel(Formularz!#REF!)","v":{"$error":"#VALUE!"}}]
[null,{"$f":"Sprawdz_pesel(Formularz!#REF!)","v":{"$error":"#VALUE!"}}]
[null,{"$f":"Sprawdz_pesel(Formularz!#REF!)","v":{"$error":"#VALUE!"}}]
[null,{"$f":"Sprawdz_pesel(Formularz!#REF!)","v":{"$error":"#VALUE!"}}]
[null,{"$f":"Sprawdz_pesel(Formularz!#REF!)","v":{"$error":"#VALUE!"}}]
[null,{"$f":"Sprawdz_pesel(Formularz!#REF!)","v":{"$error":"#VALUE!"}}]
[null,{"$f":"Sprawdz_pesel(Formularz!#REF!)","v":{"$error":"#VALUE!"}}]
[null,{"$f":"Sprawdz_pesel(Formularz!#REF!)","v":{"$error":"#VALUE!"}}]
[null,{"$f":"Sprawdz_pesel(Formularz!#REF!)","v":{"$error":"#VALUE!"}}]
[null,{"$f":"Sprawdz_pesel(Formularz!#REF!)","v":{"$error":"#VALUE!"}}]
[null,{"$f":"Sprawdz_pesel(Formularz!#REF!)","v":{"$error":"#VALUE!"}}]
[null,{"$f":"Sprawdz_pesel(Formularz!#REF!)","v":{"$error":"#VALUE!"}}]
[null,{"$f":"Sprawdz_pesel(Formularz!#REF!)","v":{"$error":"#VALUE!"}}]
[null,{"$f":"Sprawdz_pesel(Formularz!#REF!)","v":{"$error":"#VALUE!"}}]
[null,{"$f":"Sprawdz_pesel(Formularz!#REF!)","v":{"$error":"#VALUE!"}}]
[null,{"$f":"Sprawdz_pesel(Formularz!#REF!)","v":{"$error":"#VALUE!"}}]
[null,{"$f":"Sprawdz_pesel(Formularz!#REF!)","v":{"$error":"#VALUE!"}}]
[null,{"$f":"Sprawdz_pesel(Formularz!#REF!)","v":{"$error":"#VALUE!"}}]
[null,{"$f":"Sprawdz_pesel(Formularz!#REF!)","v":{"$error":"#VALUE!"}}]
[null,{"$f":"Sprawdz_pesel(Formularz!#REF!)","v":{"$error":"#VALUE!"}}]
[null,{"$f":"Sprawdz_pesel(Formularz!#REF!)","v":{"$error":"#VALUE!"}}]
[null,{"$f":"Sprawdz_pesel(Formularz!#REF!)","v":{"$error":"#VALUE!"}}]
[null,{"$f":"Sprawdz_pesel(Formularz!#REF!)","v":{"$error":"#VALUE!"}}]
[null,{"$f":"Sprawdz_pesel(Formularz!#REF!)","v":{"$error":"#VALUE!"}}]
[null,{"$f":"Sprawdz_pesel(Formularz!#REF!)","v":{"$error":"#VALUE!"}}]
[null,{"$f":"Sprawdz_pesel(Formularz!#REF!)","v":{"$error":"#VALUE!"}}]
[null,{"$f":"Sprawdz_pesel(Formularz!#REF!)","v":{"$error":"#VALUE!"}}]
[null,{"$f":"Sprawdz_pesel(Formularz!#REF!)","v":{"$error":"#VALUE!"}}]
[null,{"$f":"Sprawdz_pesel(Formularz!#REF!)","v":{"$error":"#VALUE!"}}]
[null,{"$f":"Sprawdz_pesel(Formularz!#REF!)","v":{"$error":"#VALUE!"}}]
[null,{"$f":"Sprawdz_pesel(Formularz!#REF!)","v":{"$error":"#VALUE!"}}]
[null,{"$f":"Sprawdz_pesel(Formularz!#REF!)","v":{"$error":"#VALUE!"}}]
[null,{"$f":"Sprawdz_pesel(Formularz!#REF!)","v":{"$error":"#VALUE!"}}]
[null,{"$f":"Sprawdz_pesel(Formularz!#REF!)","v":{"$error":"#VALUE!"}}]
[null,{"$f":"Sprawdz_pesel(Formularz!#REF!)","v":{"$error":"#VALUE!"}}]
[null,{"$f":"Sprawdz_pesel(Formularz!#REF!)","v":{"$error":"#VALUE!"}}]
[null,{"$f":"Sprawdz_pesel(Formularz!#REF!)","v":{"$error":"#VALUE!"}}]
[null,{"$f":"Sprawdz_pesel(Formularz!#REF!)","v":{"$error":"#VALUE!"}}]
[null,{"$f":"Sprawdz_pesel(Formularz!#REF!)","v":{"$error":"#VALUE!"}}]
[null,{"$f":"Sprawdz_pesel(Formularz!#REF!)","v":{"$error":"#VALUE!"}}]
[null,{"$f":"Sprawdz_pesel(Formularz!#REF!)","v":{"$error":"#VALUE!"}}]
[null,{"$f":"Sprawdz_pesel(Formularz!#REF!)","v":{"$error":"#VALUE!"}}]
[null,{"$f":"Sprawdz_pesel(Formularz!#REF!)","v":{"$error":"#VALUE!"}}]
[null,{"$f":"Sprawdz_pesel(Formularz!#REF!)","v":{"$error":"#VALUE!"}}]
[null,{"$f":"Sprawdz_pesel(Formularz!#REF!)","v":{"$error":"#VALUE!"}}]
[null,{"$f":"Sprawdz_pesel(Formularz!#REF!)","v":{"$error":"#VALUE!"}}]
[null,{"$f":"Sprawdz_pesel(Formularz!#REF!)","v":{"$error":"#VALUE!"}}]
[null,{"$f":"Sprawdz_pesel(Formularz!#REF!)","v":{"$error":"#VALUE!"}}]
[null,{"$f":"Sprawdz_pesel(Formularz!#REF!)","v":{"$error":"#VALUE!"}}]
[null,{"$f":"Sprawdz_pesel(Formularz!#REF!)","v":{"$error":"#VALUE!"}}]
[null,{"$f":"Sprawdz_pesel(Formularz!#REF!)","v":{"$error":"#VALUE!"}}]
[null,{"$f":"Sprawdz_pesel(Formularz!#REF!)","v":{"$error":"#VALUE!"}}]
[null,{"$f":"Sprawdz_pesel(Formularz!#REF!)","v":{"$error":"#VALUE!"}}]
[null,{"$f":"Sprawdz_pesel(Formularz!#REF!)","v":{"$error":"#VALUE!"}}]
[null,{"$f":"Sprawdz_pesel(Formularz!#REF!)","v":{"$error":"#VALUE!"}}]
[null,{"$f":"Sprawdz_pesel(Formularz!#REF!)","v":{"$error":"#VALUE!"}}]
[null,{"$f":"Sprawdz_pesel(Formularz!#REF!)","v":{"$error":"#VALUE!"}}]
[null,{"$f":"Sprawdz_pesel(Formularz!#REF!)","v":{"$error":"#VALUE!"}}]
[null,{"$f":"Sprawdz_pesel(Formularz!#REF!)","v":{"$error":"#VALUE!"}}]
[null,{"$f":"Sprawdz_pesel(Formularz!#REF!)","v":{"$error":"#VALUE!"}}]
[null,{"$f":"Sprawdz_pesel(Formularz!#REF!)","v":{"$error":"#VALUE!"}}]
[null,{"$f":"Sprawdz_pesel(Formularz!#REF!)","v":{"$error":"#VALUE!"}}]
[null,{"$f":"Sprawdz_pesel(Formularz!#REF!)","v":{"$error":"#VALUE!"}}]
[null,{"$f":"Sprawdz_pesel(Formularz!#REF!)","v":{"$error":"#VALUE!"}}]
[null,{"$f":"Sprawdz_pesel(Formularz!#REF!)","v":{"$error":"#VALUE!"}}]
[null,{"$f":"Sprawdz_pesel(Formularz!#REF!)","v":{"$error":"#VALUE!"}}]
[null,{"$f":"Sprawdz_pesel(Formularz!#REF!)","v":{"$error":"#VALUE!"}}]
[null,{"$f":"Sprawdz_pesel(Formularz!#REF!)","v":{"$error":"#VALUE!"}}]
[null,{"$f":"Sprawdz_pesel(Formularz!#REF!)","v":{"$error":"#VALUE!"}}]
[null,{"$f":"Sprawdz_pesel(Formularz!#REF!)","v":{"$error":"#VALUE!"}}]
[null,{"$f":"Sprawdz_pesel(Formularz!#REF!)","v":{"$error":"#VALUE!"}}]
[null,{"$f":"Sprawdz_pesel(Formularz!#REF!)","v":{"$error":"#VALUE!"}}]
[null,{"$f":"Sprawdz_pesel(Formularz!#REF!)","v":{"$error":"#VALUE!"}}]
[null,{"$f":"Sprawdz_pesel(Formularz!#REF!)","v":{"$error":"#VALUE!"}}]
[null,{"$f":"Sprawdz_pesel(Formularz!#REF!)","v":{"$error":"#VALUE!"}}]
[null,{"$f":"Sprawdz_pesel(Formularz!#REF!)","v":{"$error":"#VALUE!"}}]
[null,{"$f":"Sprawdz_pesel(Formularz!#REF!)","v":{"$error":"#VALUE!"}}]
[null,{"$f":"Sprawdz_pesel(Formularz!#REF!)","v":{"$error":"#VALUE!"}}]
[null,{"$f":"Sprawdz_pesel(Formularz!#REF!)","v":{"$error":"#VALUE!"}}]
[null,{"$f":"Sprawdz_pesel(Formularz!#REF!)","v":{"$error":"#VALUE!"}}]
[null,{"$f":"Sprawdz_pesel(Formularz!#REF!)","v":{"$error":"#VALUE!"}}]
[null,{"$f":"Sprawdz_pesel(Formularz!#REF!)","v":{"$error":"#VALUE!"}}]
[null,{"$f":"Sprawdz_pesel(Formularz!#REF!)","v":{"$error":"#VALUE!"}}]
[null,{"$f":"Sprawdz_pesel(Formularz!#REF!)","v":{"$error":"#VALUE!"}}]
[null,{"$f":"Sprawdz_pesel(Formularz!#REF!)","v":{"$error":"#VALUE!"}}]
[null,{"$f":"Sprawdz_pesel(Formularz!#REF!)","v":{"$error":"#VALUE!"}}]
[null,{"$f":"Sprawdz_pesel(Formularz!#REF!)","v":{"$error":"#VALUE!"}}]
[null,{"$f":"Sprawdz_pesel(Formularz!#REF!)","v":{"$error":"#VALUE!"}}]
[null,{"$f":"Sprawdz_pesel(Formularz!#REF!)","v":{"$error":"#VALUE!"}}]
[null,{"$f":"Sprawdz_pesel(Formularz!#REF!)","v":{"$error":"#VALUE!"}}]
[null,{"$f":"Sprawdz_pesel(Formularz!#REF!)","v":{"$error":"#VALUE!"}}]
[null,{"$f":"Sprawdz_pesel(Formularz!#REF!)","v":{"$error":"#VALUE!"}}]
[null,{"$f":"Sprawdz_pesel(Formularz!#REF!)","v":{"$error":"#VALUE!"}}]
[null,{"$f":"Sprawdz_pesel(Formularz!#REF!)","v":{"$error":"#VALUE!"}}]
[null,{"$f":"Sprawdz_pesel(Formularz!#REF!)","v":{"$error":"#VALUE!"}}]
[null,{"$f":"Sprawdz_pesel(Formularz!#REF!)","v":{"$error":"#VALUE!"}}]
[null,{"$f":"Sprawdz_pesel(Formularz!#REF!)","v":{"$error":"#VALUE!"}}]
[null,{"$f":"Sprawdz_pesel(Formularz!#REF!)","v":{"$error":"#VALUE!"}}]
[null,{"$f":"Sprawdz_pesel(Formularz!#REF!)","v":{"$error":"#VALUE!"}}]
[null,{"$f":"Sprawdz_pesel(Formularz!#REF!)","v":{"$error":"#VALUE!"}}]
[null,{"$f":"Sprawdz_pesel(Formularz!#REF!)","v":{"$error":"#VALUE!"}}]
[null,{"$f":"Sprawdz_pesel(Formularz!#REF!)","v":{"$error":"#VALUE!"}}]
[null,{"$f":"Sprawdz_pesel(Formularz!#REF!)","v":{"$error":"#VALUE!"}}]
[null,{"$f":"Sprawdz_pesel(Formularz!#REF!)","v":{"$error":"#VALUE!"}}]
[null,{"$f":"Sprawdz_pesel(Formularz!#REF!)","v":{"$error":"#VALUE!"}}]
[null,{"$f":"Sprawdz_pesel(Formularz!#REF!)","v":{"$error":"#VALUE!"}}]
[null,{"$f":"Sprawdz_pesel(Formularz!#REF!)","v":{"$error":"#VALUE!"}}]
[null,{"$f":"Sprawdz_pesel(Formularz!#REF!)","v":{"$error":"#VALUE!"}}]
[null,{"$f":"Sprawdz_pesel(Formularz!#REF!)","v":{"$error":"#VALUE!"}}]
[null,{"$f":"Sprawdz_pesel(Formularz!#REF!)","v":{"$error":"#VALUE!"}}]
[null,{"$f":"Sprawdz_pesel(Formularz!#REF!)","v":{"$error":"#VALUE!"}}]
[null,{"$f":"Sprawdz_pesel(Formularz!#REF!)","v":{"$error":"#VALUE!"}}]
[null,{"$f":"Sprawdz_pesel(Formularz!#REF!)","v":{"$error":"#VALUE!"}}]
[null,{"$f":"Sprawdz_pesel(Formularz!#REF!)","v":{"$error":"#VALUE!"}}]
[null,{"$f":"Sprawdz_pesel(Formularz!#REF!)","v":{"$error":"#VALUE!"}}]
[null,{"$f":"Sprawdz_pesel(Formularz!#REF!)","v":{"$error":"#VALUE!"}}]
[null,{"$f":"Sprawdz_pesel(Formularz!#REF!)","v":{"$error":"#VALUE!"}}]
[null,{"$f":"Sprawdz_pesel(Formularz!#REF!)","v":{"$error":"#VALUE!"}}]
[null,{"$f":"Sprawdz_pesel(Formularz!#REF!)","v":{"$error":"#VALUE!"}}]
[null,{"$f":"Sprawdz_pesel(Formularz!#REF!)","v":{"$error":"#VALUE!"}}]
[null,{"$f":"Sprawdz_pesel(Formularz!#REF!)","v":{"$error":"#VALUE!"}}]
[null,{"$f":"Sprawdz_pesel(Formularz!#REF!)","v":{"$error":"#VALUE!"}}]
[null,{"$f":"Sprawdz_pesel(Formularz!#REF!)","v":{"$error":"#VALUE!"}}]
[null,{"$f":"Sprawdz_pesel(Formularz!#REF!)","v":{"$error":"#VALUE!"}}]
[null,{"$f":"Sprawdz_pesel(Formularz!#REF!)","v":{"$error":"#VALUE!"}}]
[null,{"$f":"Sprawdz_pesel(Formularz!#REF!)","v":{"$error":"#VALUE!"}}]
[null,{"$f":"Sprawdz_pesel(Formularz!#REF!)","v":{"$error":"#VALUE!"}}]
[null,{"$f":"Sprawdz_pesel(Formularz!#REF!)","v":{"$error":"#VALUE!"}}]
[null,{"$f":"Sprawdz_pesel(Formularz!#REF!)","v":{"$error":"#VALUE!"}}]
[null,{"$f":"Sprawdz_pesel(Formularz!#REF!)","v":{"$error":"#VALUE!"}}]
[null,{"$f":"Sprawdz_pesel(Formularz!#REF!)","v":{"$error":"#VALUE!"}}]
[null,{"$f":"Sprawdz_pesel(Formularz!#REF!)","v":{"$error":"#VALUE!"}}]
[null,{"$f":"Sprawdz_pesel(Formularz!#REF!)","v":{"$error":"#VALUE!"}}]
[null,{"$f":"Sprawdz_pesel(Formularz!#REF!)","v":{"$error":"#VALUE!"}}]
[null,{"$f":"Sprawdz_pesel(Formularz!#REF!)","v":{"$error":"#VALUE!"}}]
[null,{"$f":"Sprawdz_pesel(Formularz!#REF!)","v":{"$error":"#VALUE!"}}]
[null,{"$f":"Sprawdz_pesel(Formularz!#REF!)","v":{"$error":"#VALUE!"}}]
[null,{"$f":"Sprawdz_pesel(Formularz!#REF!)","v":{"$error":"#VALUE!"}}]
[null,{"$f":"Sprawdz_pesel(Formularz!#REF!)","v":{"$error":"#VALUE!"}}]
[null,{"$f":"Sprawdz_pesel(Formularz!#REF!)","v":{"$error":"#VALUE!"}}]
[null,{"$f":"Sprawdz_pesel(Formularz!#REF!)","v":{"$error":"#VALUE!"}}]
[null,{"$f":"Sprawdz_pesel(Formularz!#REF!)","v":{"$error":"#VALUE!"}}]
[null,{"$f":"Sprawdz_pesel(Formularz!#REF!)","v":{"$error":"#VALUE!"}}]
[null,{"$f":"Sprawdz_pesel(Formularz!#REF!)","v":{"$error":"#VALUE!"}}]
[null,{"$f":"Sprawdz_pesel(Formularz!#REF!)","v":{"$error":"#VALUE!"}}]
[null,{"$f":"Sprawdz_pesel(Formularz!#REF!)","v":{"$error":"#VALUE!"}}]
[null,{"$f":"Sprawdz_pesel(Formularz!#REF!)","v":{"$error":"#VALUE!"}}]
[null,{"$f":"Sprawdz_pesel(Formularz!#REF!)","v":{"$error":"#VALUE!"}}]
[null,{"$f":"Sprawdz_pesel(Formularz!#REF!)","v":{"$error":"#VALUE!"}}]
[null,{"$f":"Sprawdz_pesel(Formularz!#REF!)","v":{"$error":"#VALUE!"}}]
[null,{"$f":"Sprawdz_pesel(Formularz!#REF!)","v":{"$error":"#VALUE!"}}]
[null,{"$f":"Sprawdz_pesel(Formularz!#REF!)","v":{"$error":"#VALUE!"}}]
[null,{"$f":"Sprawdz_pesel(Formularz!#REF!)","v":{"$error":"#VALUE!"}}]
[null,{"$f":"Sprawdz_pesel(Formularz!#REF!)","v":{"$error":"#VALUE!"}}]
[null,{"$f":"Sprawdz_pesel(Formularz!#REF!)","v":{"$error":"#VALUE!"}}]
[null,{"$f":"Sprawdz_pesel(Formularz!#REF!)","v":{"$error":"#VALUE!"}}]
[null,{"$f":"Sprawdz_pesel(Formularz!#REF!)","v":{"$error":"#VALUE!"}}]
[null,{"$f":"Sprawdz_pesel(Formularz!#REF!)","v":{"$error":"#VALUE!"}}]
[null,{"$f":"Sprawdz_pesel(Formularz!#REF!)","v":{"$error":"#VALUE!"}}]
[null,{"$f":"Sprawdz_pesel(Formularz!#REF!)","v":{"$error":"#VALUE!"}}]
[null,{"$f":"Sprawdz_pesel(Formularz!#REF!)","v":{"$error":"#VALUE!"}}]
[null,{"$f":"Sprawdz_pesel(Formularz!#REF!)","v":{"$error":"#VALUE!"}}]
[null,{"$f":"Sprawdz_pesel(Formularz!#REF!)","v":{"$error":"#VALUE!"}}]
[null,{"$f":"Sprawdz_pesel(Formularz!#REF!)","v":{"$error":"#VALUE!"}}]
[null,{"$f":"Sprawdz_pesel(Formularz!#REF!)","v":{"$error":"#VALUE!"}}]
[null,{"$f":"Sprawdz_pesel(Formularz!#REF!)","v":{"$error":"#VALUE!"}}]
[null,{"$f":"Sprawdz_pesel(Formularz!#REF!)","v":{"$error":"#VALUE!"}}]
[null,{"$f":"Sprawdz_pesel(Formularz!#REF!)","v":{"$error":"#VALUE!"}}]
[null,{"$f":"Sprawdz_pesel(Formularz!#REF!)","v":{"$error":"#VALUE!"}}]
[null,{"$f":"Sprawdz_pesel(Formularz!#REF!)","v":{"$error":"#VALUE!"}}]
[null,{"$f":"Sprawdz_pesel(Formularz!#REF!)","v":{"$error":"#VALUE!"}}]
[null,{"$f":"Sprawdz_pesel(Formularz!#REF!)","v":{"$error":"#VALUE!"}}]
[null,{"$f":"Sprawdz_pesel(Formularz!#REF!)","v":{"$error":"#VALUE!"}}]
[null,{"$f":"Sprawdz_pesel(Formularz!#REF!)","v":{"$error":"#VALUE!"}}]
[null,{"$f":"Sprawdz_pesel(Formularz!#REF!)","v":{"$error":"#VALUE!"}}]
[null,{"$f":"Sprawdz_pesel(Formularz!#REF!)","v":{"$error":"#VALUE!"}}]
[null,{"$f":"Sprawdz_pesel(Formularz!#REF!)","v":{"$error":"#VALUE!"}}]
[null,{"$f":"Sprawdz_pesel(Formularz!#REF!)","v":{"$error":"#VALUE!"}}]
[null,{"$f":"Sprawdz_pesel(Formularz!#REF!)","v":{"$error":"#VALUE!"}}]
[null,{"$f":"Sprawdz_pesel(Formularz!#REF!)","v":{"$error":"#VALUE!"}}]
[null,{"$f":"Sprawdz_pesel(Formularz!#REF!)","v":{"$error":"#VALUE!"}}]
[null,{"$f":"Sprawdz_pesel(Formularz!#REF!)","v":{"$error":"#VALUE!"}}]
[null,{"$f":"Sprawdz_pesel(Formularz!#REF!)","v":{"$error":"#VALUE!"}}]
[null,{"$f":"Sprawdz_pesel(Formularz!#REF!)","v":{"$error":"#VALUE!"}}]
[null,{"$f":"Sprawdz_pesel(Formularz!#REF!)","v":{"$error":"#VALUE!"}}]
[null,{"$f":"Sprawdz_pesel(Formularz!#REF!)","v":{"$error":"#VALUE!"}}]
[null,{"$f":"Sprawdz_pesel(Formularz!#REF!)","v":{"$error":"#VALUE!"}}]
[null,{"$f":"Sprawdz_pesel(Formularz!#REF!)","v":{"$error":"#VALUE!"}}]
[null,{"$f":"Sprawdz_pesel(Formularz!#REF!)","v":{"$error":"#VALUE!"}}]
[null,{"$f":"Sprawdz_pesel(Formularz!#REF!)","v":{"$error":"#VALUE!"}}]
[null,{"$f":"Sprawdz_pesel(Formularz!#REF!)","v":{"$error":"#VALUE!"}}]
[null,{"$f":"Sprawdz_pesel(Formularz!#REF!)","v":{"$error":"#VALUE!"}}]
[null,{"$f":"Sprawdz_pesel(Formularz!#REF!)","v":{"$error":"#VALUE!"}}]
[null,{"$f":"Sprawdz_pesel(Formularz!#REF!)","v":{"$error":"#VALUE!"}}]
[null,{"$f":"Sprawdz_pesel(Formularz!#REF!)","v":{"$error":"#VALUE!"}}]
[null,{"$f":"Sprawdz_pesel(Formularz!#REF!)","v":{"$error":"#VALUE!"}}]
[null,{"$f":"Sprawdz_pesel(Formularz!#REF!)","v":{"$error":"#VALUE!"}}]
[null,{"$f":"Sprawdz_pesel(Formularz!#REF!)","v":{"$error":"#VALUE!"}}]
[null,{"$f":"Sprawdz_pesel(Formularz!#REF!)","v":{"$error":"#VALUE!"}}]
[null,{"$f":"Sprawdz_pesel(Formularz!#REF!)","v":{"$error":"#VALUE!"}}]
[null,{"$f":"Sprawdz_pesel(Formularz!#REF!)","v":{"$error":"#VALUE!"}}]
[null,{"$f":"Sprawdz_pesel(Formularz!#REF!)","v":{"$error":"#VALUE!"}}]
[null,{"$f":"Sprawdz_pesel(Formularz!#REF!)","v":{"$error":"#VALUE!"}}]
[null,{"$f":"Sprawdz_pesel(Formularz!#REF!)","v":{"$error":"#VALUE!"}}]
[null,{"$f":"Sprawdz_pesel(Formularz!#REF!)","v":{"$error":"#VALUE!"}}]
[null,{"$f":"Sprawdz_pesel(Formularz!#REF!)","v":{"$error":"#VALUE!"}}]
[null,{"$f":"Sprawdz_pesel(Formularz!#REF!)","v":{"$error":"#VALUE!"}}]
[null,{"$f":"Sprawdz_pesel(Formularz!#REF!)","v":{"$error":"#VALUE!"}}]
[null,{"$f":"Sprawdz_pesel(Formularz!#REF!)","v":{"$error":"#VALUE!"}}]
[null,{"$f":"Sprawdz_pesel(Formularz!#REF!)","v":{"$error":"#VALUE!"}}]
[null,{"$f":"Sprawdz_pesel(Formularz!#REF!)","v":{"$error":"#VALUE!"}}]
[null,{"$f":"Sprawdz_pesel(Formularz!#REF!)","v":{"$error":"#VALUE!"}}]
[null,{"$f":"Sprawdz_pesel(Formularz!#REF!)","v":{"$error":"#VALUE!"}}]
[null,{"$f":"Sprawdz_pesel(Formularz!#REF!)","v":{"$error":"#VALUE!"}}]
[null,{"$f":"Sprawdz_pesel(Formularz!#REF!)","v":{"$error":"#VALUE!"}}]
[null,{"$f":"Sprawdz_pesel(Formularz!#REF!)","v":{"$error":"#VALUE!"}}]
[null,{"$f":"Sprawdz_pesel(Formularz!#REF!)","v":{"$error":"#VALUE!"}}]
[null,{"$f":"Sprawdz_pesel(Formularz!#REF!)","v":{"$error":"#VALUE!"}}]
[null,{"$f":"Sprawdz_pesel(Formularz!#REF!)","v":{"$error":"#VALUE!"}}]
[null,{"$f":"Sprawdz_pesel(Formularz!#REF!)","v":{"$error":"#VALUE!"}}]
[null,{"$f":"Sprawdz_pesel(Formularz!#REF!)","v":{"$error":"#VALUE!"}}]
[null,{"$f":"Sprawdz_pesel(Formularz!#REF!)","v":{"$error":"#VALUE!"}}]
[null,{"$f":"Sprawdz_pesel(Formularz!#REF!)","v":{"$error":"#VALUE!"}}]
[null,{"$f":"Sprawdz_pesel(Formularz!#REF!)","v":{"$error":"#VALUE!"}}]
[null,{"$f":"Sprawdz_pesel(Formularz!#REF!)","v":{"$error":"#VALUE!"}}]
[null,{"$f":"Sprawdz_pesel(Formularz!#REF!)","v":{"$error":"#VALUE!"}}]
[null,{"$f":"Sprawdz_pesel(Formularz!#REF!)","v":{"$error":"#VALUE!"}}]
[null,{"$f":"Sprawdz_pesel(Formularz!#REF!)","v":{"$error":"#VALUE!"}}]
[null,{"$f":"Sprawdz_pesel(Formularz!#REF!)","v":{"$error":"#VALUE!"}}]
[null,{"$f":"Sprawdz_pesel(Formularz!#REF!)","v":{"$error":"#VALUE!"}}]
[null,{"$f":"Sprawdz_pesel(Formularz!#REF!)","v":{"$error":"#VALUE!"}}]
[null,{"$f":"Sprawdz_pesel(Formularz!#REF!)","v":{"$error":"#VALUE!"}}]
[null,{"$f":"Sprawdz_pesel(Formularz!#REF!)","v":{"$error":"#VALUE!"}}]
[null,{"$f":"Sprawdz_pesel(Formularz!#REF!)","v":{"$error":"#VALUE!"}}]
[null,{"$f":"Sprawdz_pesel(Formularz!#REF!)","v":{"$error":"#VALUE!"}}]
[null,{"$f":"Sprawdz_pesel(Formularz!#REF!)","v":{"$error":"#VALUE!"}}]
[null,{"$f":"Sprawdz_pesel(Formularz!#REF!)","v":{"$error":"#VALUE!"}}]
[null,{"$f":"Sprawdz_pesel(Formularz!#REF!)","v":{"$error":"#VALUE!"}}]
[null,{"$f":"Sprawdz_pesel(Formularz!#REF!)","v":{"$error":"#VALUE!"}}]
[null,{"$f":"Sprawdz_pesel(Formularz!#REF!)","v":{"$error":"#VALUE!"}}]
[null,{"$f":"Sprawdz_pesel(Formularz!#REF!)","v":{"$error":"#VALUE!"}}]
[null,{"$f":"Sprawdz_pesel(Formularz!#REF!)","v":{"$error":"#VALUE!"}}]
[null,{"$f":"Sprawdz_pesel(Formularz!#REF!)","v":{"$error":"#VALUE!"}}]
[null,{"$f":"Sprawdz_pesel(Formularz!#REF!)","v":{"$error":"#VALUE!"}}]
[null,{"$f":"Sprawdz_pesel(Formularz!#REF!)","v":{"$error":"#VALUE!"}}]
[null,{"$f":"Sprawdz_pesel(Formularz!#REF!)","v":{"$error":"#VALUE!"}}]
[null,{"$f":"Sprawdz_pesel(Formularz!#REF!)","v":{"$error":"#VALUE!"}}]
[null,{"$f":"Sprawdz_pesel(Formularz!#REF!)","v":{"$error":"#VALUE!"}}]
[null,{"$f":"Sprawdz_pesel(Formularz!#REF!)","v":{"$error":"#VALUE!"}}]
[null,{"$f":"Sprawdz_pesel(Formularz!#REF!)","v":{"$error":"#VALUE!"}}]
[null,{"$f":"Sprawdz_pesel(Formularz!#REF!)","v":{"$error":"#VALUE!"}}]
[null,{"$f":"Sprawdz_pesel(Formularz!#REF!)","v":{"$error":"#VALUE!"}}]
[null,{"$f":"Sprawdz_pesel(Formularz!#REF!)","v":{"$error":"#VALUE!"}}]
[null,{"$f":"Sprawdz_pesel(Formularz!#REF!)","v":{"$error":"#VALUE!"}}]
[null,{"$f":"Sprawdz_pesel(Formularz!#REF!)","v":{"$error":"#VALUE!"}}]
[null,{"$f":"Sprawdz_pesel(Formularz!#REF!)","v":{"$error":"#VALUE!"}}]
[null,{"$f":"Sprawdz_pesel(Formularz!#REF!)","v":{"$error":"#VALUE!"}}]
[null,{"$f":"Sprawdz_pesel(Formularz!#REF!)","v":{"$error":"#VALUE!"}}]
[null,{"$f":"Sprawdz_pesel(Formularz!#REF!)","v":{"$error":"#VALUE!"}}]
[null,{"$f":"Sprawdz_pesel(Formularz!#REF!)","v":{"$error":"#VALUE!"}}]
[null,{"$f":"Sprawdz_pesel(Formularz!#REF!)","v":{"$error":"#VALUE!"}}]
[null,{"$f":"Sprawdz_pesel(Formularz!#REF!)","v":{"$error":"#VALUE!"}}]
[null,{"$f":"Sprawdz_pesel(Formularz!#REF!)","v":{"$error":"#VALUE!"}}]
[null,{"$f":"Sprawdz_pesel(Formularz!#REF!)","v":{"$error":"#VALUE!"}}]
[null,{"$f":"Sprawdz_pesel(Formularz!#REF!)","v":{"$error":"#VALUE!"}}]
[null,{"$f":"Sprawdz_pesel(Formularz!#REF!)","v":{"$error":"#VALUE!"}}]
[null,{"$f":"Sprawdz_pesel(Formularz!#REF!)","v":{"$error":"#VALUE!"}}]
[null,{"$f":"Sprawdz_pesel(Formularz!#REF!)","v":{"$error":"#VALUE!"}}]
[null,{"$f":"Sprawdz_pesel(Formularz!#REF!)","v":{"$error":"#VALUE!"}}]
[null,{"$f":"Sprawdz_pesel(Formularz!#REF!)","v":{"$error":"#VALUE!"}}]
[null,{"$f":"Sprawdz_pesel(Formularz!#REF!)","v":{"$error":"#VALUE!"}}]
[null,{"$f":"Sprawdz_pesel(Formularz!#REF!)","v":{"$error":"#VALUE!"}}]
[null,{"$f":"Sprawdz_pesel(Formularz!#REF!)","v":{"$error":"#VALUE!"}}]
[null,{"$f":"Sprawdz_pesel(Formularz!#REF!)","v":{"$error":"#VALUE!"}}]
[null,{"$f":"Sprawdz_pesel(Formularz!#REF!)","v":{"$error":"#VALUE!"}}]
[null,{"$f":"Sprawdz_pesel(Formularz!#REF!)","v":{"$error":"#VALUE!"}}]
[null,{"$f":"Sprawdz_pesel(Formularz!#REF!)","v":{"$error":"#VALUE!"}}]
[null,{"$f":"Sprawdz_pesel(Formularz!#REF!)","v":{"$error":"#VALUE!"}}]
[null,{"$f":"Sprawdz_pesel(Formularz!#REF!)","v":{"$error":"#VALUE!"}}]
[null,{"$f":"Sprawdz_pesel(Formularz!#REF!)","v":{"$error":"#VALUE!"}}]
[null,{"$f":"Sprawdz_pesel(Formularz!#REF!)","v":{"$error":"#VALUE!"}}]
[null,{"$f":"Sprawdz_pesel(Formularz!#REF!)","v":{"$error":"#VALUE!"}}]
[null,{"$f":"Sprawdz_pesel(Formularz!#REF!)","v":{"$error":"#VALUE!"}}]
[null,{"$f":"Sprawdz_pesel(Formularz!#REF!)","v":{"$error":"#VALUE!"}}]
[null,{"$f":"Sprawdz_pesel(Formularz!#REF!)","v":{"$error":"#VALUE!"}}]
[null,{"$f":"Sprawdz_pesel(Formularz!#REF!)","v":{"$error":"#VALUE!"}}]
[null,{"$f":"Sprawdz_pesel(Formularz!#REF!)","v":{"$error":"#VALUE!"}}]
[null,{"$f":"Sprawdz_pesel(Formularz!#REF!)","v":{"$error":"#VALUE!"}}]
[null,{"$f":"Sprawdz_pesel(Formularz!#REF!)","v":{"$error":"#VALUE!"}}]
[null,{"$f":"Sprawdz_pesel(Formularz!#REF!)","v":{"$error":"#VALUE!"}}]
[null,{"$f":"Sprawdz_pesel(Formularz!#REF!)","v":{"$error":"#VALUE!"}}]
[null,{"$f":"Sprawdz_pesel(Formularz!#REF!)","v":{"$error":"#VALUE!"}}]
[null,{"$f":"Sprawdz_pesel(Formularz!#REF!)","v":{"$error":"#VALUE!"}}]
[null,{"$f":"Sprawdz_pesel(Formularz!#REF!)","v":{"$error":"#VALUE!"}}]
[null,{"$f":"Sprawdz_pesel(Formularz!#REF!)","v":{"$error":"#VALUE!"}}]
[null,{"$f":"Sprawdz_pesel(Formularz!#REF!)","v":{"$error":"#VALUE!"}}]
[null,{"$f":"Sprawdz_pesel(Formularz!#REF!)","v":{"$error":"#VALUE!"}}]
[null,{"$f":"Sprawdz_pesel(Formularz!#REF!)","v":{"$error":"#VALUE!"}}]
[null,{"$f":"Sprawdz_pesel(Formularz!#REF!)","v":{"$error":"#VALUE!"}}]
[null,{"$f":"Sprawdz_pesel(Formularz!#REF!)","v":{"$error":"#VALUE!"}}]
[null,{"$f":"Sprawdz_pesel(Formularz!#REF!)","v":{"$error":"#VALUE!"}}]
[null,{"$f":"Sprawdz_pesel(Formularz!#REF!)","v":{"$error":"#VALUE!"}}]
[null,{"$f":"Sprawdz_pesel(Formularz!#REF!)","v":{"$error":"#VALUE!"}}]
[null,{"$f":"Sprawdz_pesel(Formularz!#REF!)","v":{"$error":"#VALUE!"}}]
[null,{"$f":"Sprawdz_pesel(Formularz!#REF!)","v":{"$error":"#VALUE!"}}]
[null,{"$f":"Sprawdz_pesel(Formularz!#REF!)","v":{"$error":"#VALUE!"}}]
[null,{"$f":"Sprawdz_pesel(Formularz!#REF!)","v":{"$error":"#VALUE!"}}]
[null,{"$f":"Sprawdz_pesel(Formularz!#REF!)","v":{"$error":"#VALUE!"}}]
[null,{"$f":"Sprawdz_pesel(Formularz!#REF!)","v":{"$error":"#VALUE!"}}]
[null,{"$f":"Sprawdz_pesel(Formularz!#REF!)","v":{"$error":"#VALUE!"}}]
[null,{"$f":"Sprawdz_pesel(Formularz!#REF!)","v":{"$error":"#VALUE!"}}]
[null,{"$f":"Sprawdz_pesel(Formularz!#REF!)","v":{"$error":"#VALUE!"}}]
[null,{"$f":"Sprawdz_pesel(Formularz!#REF!)","v":{"$error":"#VALUE!"}}]
[null,{"$f":"Sprawdz_pesel(Formularz!#REF!)","v":{"$error":"#VALUE!"}}]
[null,{"$f":"Sprawdz_pesel(Formularz!#REF!)","v":{"$error":"#VALUE!"}}]
[null,{"$f":"Sprawdz_pesel(Formularz!#REF!)","v":{"$error":"#VALUE!"}}]
[null,{"$f":"Sprawdz_pesel(Formularz!#REF!)","v":{"$error":"#VALUE!"}}]
[null,{"$f":"Sprawdz_pesel(Formularz!#REF!)","v":{"$error":"#VALUE!"}}]
[null,{"$f":"Sprawdz_pesel(Formularz!#REF!)","v":{"$error":"#VALUE!"}}]
[null,{"$f":"Sprawdz_pesel(Formularz!#REF!)","v":{"$error":"#VALUE!"}}]
[null,{"$f":"Sprawdz_pesel(Formularz!#REF!)","v":{"$error":"#VALUE!"}}]
[null,{"$f":"Sprawdz_pesel(Formularz!#REF!)","v":{"$error":"#VALUE!"}}]
[null,{"$f":"Sprawdz_pesel(Formularz!#REF!)","v":{"$error":"#VALUE!"}}]
[null,{"$f":"Sprawdz_pesel(Formularz!#REF!)","v":{"$error":"#VALUE!"}}]
[null,{"$f":"Sprawdz_pesel(Formularz!#REF!)","v":{"$error":"#VALUE!"}}]
[null,{"$f":"Sprawdz_pesel(Formularz!#REF!)","v":{"$error":"#VALUE!"}}]
[null,{"$f":"Sprawdz_pesel(Formularz!#REF!)","v":{"$error":"#VALUE!"}}]
[null,{"$f":"Sprawdz_pesel(Formularz!#REF!)","v":{"$error":"#VALUE!"}}]
[null,{"$f":"Sprawdz_pesel(Formularz!#REF!)","v":{"$error":"#VALUE!"}}]
[null,{"$f":"Sprawdz_pesel(Formularz!#REF!)","v":{"$error":"#VALUE!"}}]
[null,{"$f":"Sprawdz_pesel(Formularz!#REF!)","v":{"$error":"#VALUE!"}}]
[null,{"$f":"Sprawdz_pesel(Formularz!#REF!)","v":{"$error":"#VALUE!"}}]
[null,{"$f":"Sprawdz_pesel(Formularz!#REF!)","v":{"$error":"#VALUE!"}}]
[null,{"$f":"Sprawdz_pesel(Formularz!#REF!)","v":{"$error":"#VALUE!"}}]
[null,{"$f":"Sprawdz_pesel(Formularz!#REF!)","v":{"$error":"#VALUE!"}}]
[null,{"$f":"Sprawdz_pesel(Formularz!#REF!)","v":{"$error":"#VALUE!"}}]
[null,{"$f":"Sprawdz_pesel(Formularz!#REF!)","v":{"$error":"#VALUE!"}}]
[null,{"$f":"Sprawdz_pesel(Formularz!#REF!)","v":{"$error":"#VALUE!"}}]
[null,{"$f":"Sprawdz_pesel(Formularz!#REF!)","v":{"$error":"#VALUE!"}}]
[null,{"$f":"Sprawdz_pesel(Formularz!#REF!)","v":{"$error":"#VALUE!"}}]
[null,{"$f":"Sprawdz_pesel(Formularz!#REF!)","v":{"$error":"#VALUE!"}}]
[null,{"$f":"Sprawdz_pesel(Formularz!#REF!)","v":{"$error":"#VALUE!"}}]
[null,{"$f":"Sprawdz_pesel(Formularz!#REF!)","v":{"$error":"#VALUE!"}}]
[null,{"$f":"Sprawdz_pesel(Formularz!#REF!)","v":{"$error":"#VALUE!"}}]
[null,{"$f":"Sprawdz_pesel(Formularz!#REF!)","v":{"$error":"#VALUE!"}}]
[null,{"$f":"Sprawdz_pesel(Formularz!#REF!)","v":{"$error":"#VALUE!"}}]
[null,{"$f":"Sprawdz_pesel(Formularz!#REF!)","v":{"$error":"#VALUE!"}}]
[null,{"$f":"Sprawdz_pesel(Formularz!#REF!)","v":{"$error":"#VALUE!"}}]
[null,{"$f":"Sprawdz_pesel(Formularz!#REF!)","v":{"$error":"#VALUE!"}}]
[null,{"$f":"Sprawdz_pesel(Formularz!#REF!)","v":{"$error":"#VALUE!"}}]
[null,{"$f":"Sprawdz_pesel(Formularz!#REF!)","v":{"$error":"#VALUE!"}}]
[null,{"$f":"Sprawdz_pesel(Formularz!#REF!)","v":{"$error":"#VALUE!"}}]
[null,{"$f":"Sprawdz_pesel(Formularz!#REF!)","v":{"$error":"#VALUE!"}}]
[null,{"$f":"Sprawdz_pesel(Formularz!#REF!)","v":{"$error":"#VALUE!"}}]
[null,{"$f":"Sprawdz_pesel(Formularz!#REF!)","v":{"$error":"#VALUE!"}}]
[null,{"$f":"Sprawdz_pesel(Formularz!#REF!)","v":{"$error":"#VALUE!"}}]
[null,{"$f":"Sprawdz_pesel(Formularz!#REF!)","v":{"$error":"#VALUE!"}}]
[null,{"$f":"Sprawdz_pesel(Formularz!#REF!)","v":{"$error":"#VALUE!"}}]
[null,{"$f":"Sprawdz_pesel(Formularz!#REF!)","v":{"$error":"#VALUE!"}}]
[null,{"$f":"Sprawdz_pesel(Formularz!#REF!)","v":{"$error":"#VALUE!"}}]
[null,{"$f":"Sprawdz_pesel(Formularz!#REF!)","v":{"$error":"#VALUE!"}}]
[null,{"$f":"Sprawdz_pesel(Formularz!#REF!)","v":{"$error":"#VALUE!"}}]
[null,{"$f":"Sprawdz_pesel(Formularz!#REF!)","v":{"$error":"#VALUE!"}}]
[null,{"$f":"Sprawdz_pesel(Formularz!#REF!)","v":{"$error":"#VALUE!"}}]
[null,{"$f":"Sprawdz_pesel(Formularz!#REF!)","v":{"$error":"#VALUE!"}}]
[null,{"$f":"Sprawdz_pesel(Formularz!#REF!)","v":{"$error":"#VALUE!"}}]
[null,{"$f":"Sprawdz_pesel(Formularz!#REF!)","v":{"$error":"#VALUE!"}}]
[null,{"$f":"Sprawdz_pesel(Formularz!#REF!)","v":{"$error":"#VALUE!"}}]
[null,{"$f":"Sprawdz_pesel(Formularz!#REF!)","v":{"$error":"#VALUE!"}}]
[null,{"$f":"Sprawdz_pesel(Formularz!#REF!)","v":{"$error":"#VALUE!"}}]
[null,{"$f":"Sprawdz_pesel(Formularz!#REF!)","v":{"$error":"#VALUE!"}}]
[null,{"$f":"Sprawdz_pesel(Formularz!#REF!)","v":{"$error":"#VALUE!"}}]
[null,{"$f":"Sprawdz_pesel(Formularz!#REF!)","v":{"$error":"#VALUE!"}}]
[null,{"$f":"Sprawdz_pesel(Formularz!#REF!)","v":{"$error":"#VALUE!"}}]
[null,{"$f":"Sprawdz_pesel(Formularz!#REF!)","v":{"$error":"#VALUE!"}}]
[null,{"$f":"Sprawdz_pesel(Formularz!#REF!)","v":{"$error":"#VALUE!"}}]
[null,{"$f":"Sprawdz_pesel(Formularz!#REF!)","v":{"$error":"#VALUE!"}}]
[null,{"$f":"Sprawdz_pesel(Formularz!#REF!)","v":{"$error":"#VALUE!"}}]
[null,{"$f":"Sprawdz_pesel(Formularz!#REF!)","v":{"$error":"#VALUE!"}}]
[null,{"$f":"Sprawdz_pesel(Formularz!#REF!)","v":{"$error":"#VALUE!"}}]
[null,{"$f":"Sprawdz_pesel(Formularz!#REF!)","v":{"$error":"#VALUE!"}}]
[null,{"$f":"Sprawdz_pesel(Formularz!#REF!)","v":{"$error":"#VALUE!"}}]
[null,{"$f":"Sprawdz_pesel(Formularz!#REF!)","v":{"$error":"#VALUE!"}}]
[null,{"$f":"Sprawdz_pesel(Formularz!#REF!)","v":{"$error":"#VALUE!"}}]
[null,{"$f":"Sprawdz_pesel(Formularz!#REF!)","v":{"$error":"#VALUE!"}}]
[null,{"$f":"Sprawdz_pesel(Formularz!#REF!)","v":{"$error":"#VALUE!"}}]
[null,{"$f":"Sprawdz_pesel(Formularz!#REF!)","v":{"$error":"#VALUE!"}}]
[null,{"$f":"Sprawdz_pesel(Formularz!#REF!)","v":{"$error":"#VALUE!"}}]
[null,{"$f":"Sprawdz_pesel(Formularz!#REF!)","v":{"$error":"#VALUE!"}}]
[null,{"$f":"Sprawdz_pesel(Formularz!#REF!)","v":{"$error":"#VALUE!"}}]
[null,{"$f":"Sprawdz_pesel(Formularz!#REF!)","v":{"$error":"#VALUE!"}}]
[null,{"$f":"Sprawdz_pesel(Formularz!#REF!)","v":{"$error":"#VALUE!"}}]
[null,{"$f":"Sprawdz_pesel(Formularz!#REF!)","v":{"$error":"#VALUE!"}}]
[null,{"$f":"Sprawdz_pesel(Formularz!#REF!)","v":{"$error":"#VALUE!"}}]
[null,{"$f":"Sprawdz_pesel(Formularz!#REF!)","v":{"$error":"#VALUE!"}}]
[null,{"$f":"Sprawdz_pesel(Formularz!#REF!)","v":{"$error":"#VALUE!"}}]
[null,{"$f":"Sprawdz_pesel(Formularz!#REF!)","v":{"$error":"#VALUE!"}}]
[null,{"$f":"Sprawdz_pesel(Formularz!#REF!)","v":{"$error":"#VALUE!"}}]
[null,{"$f":"Sprawdz_pesel(Formularz!#REF!)","v":{"$error":"#VALUE!"}}]
[null,{"$f":"Sprawdz_pesel(Formularz!#REF!)","v":{"$error":"#VALUE!"}}]
[null,{"$f":"Sprawdz_pesel(Formularz!#REF!)","v":{"$error":"#VALUE!"}}]
[null,{"$f":"Sprawdz_pesel(Formularz!#REF!)","v":{"$error":"#VALUE!"}}]
[null,{"$f":"Sprawdz_pesel(Formularz!#REF!)","v":{"$error":"#VALUE!"}}]
[null,{"$f":"Sprawdz_pesel(Formularz!#REF!)","v":{"$error":"#VALUE!"}}]
[null,{"$f":"Sprawdz_pesel(Formularz!#REF!)","v":{"$error":"#VALUE!"}}]
[null,{"$f":"Sprawdz_pesel(Formularz!#REF!)","v":{"$error":"#VALUE!"}}]
[null,{"$f":"Sprawdz_pesel(Formularz!#REF!)","v":{"$error":"#VALUE!"}}]
[null,{"$f":"Sprawdz_pesel(Formularz!#REF!)","v":{"$error":"#VALUE!"}}]
[null,{"$f":"Sprawdz_pesel(Formularz!#REF!)","v":{"$error":"#VALUE!"}}]
[null,{"$f":"Sprawdz_pesel(Formularz!#REF!)","v":{"$error":"#VALUE!"}}]
[null,{"$f":"Sprawdz_pesel(Formularz!#REF!)","v":{"$error":"#VALUE!"}}]
[null,{"$f":"Sprawdz_pesel(Formularz!#REF!)","v":{"$error":"#VALUE!"}}]
[null,{"$f":"Sprawdz_pesel(Formularz!#REF!)","v":{"$error":"#VALUE!"}}]
[null,{"$f":"Sprawdz_pesel(Formularz!#REF!)","v":{"$error":"#VALUE!"}}]
[null,{"$f":"Sprawdz_pesel(Formularz!#REF!)","v":{"$error":"#VALUE!"}}]
[null,{"$f":"Sprawdz_pesel(Formularz!#REF!)","v":{"$error":"#VALUE!"}}]
[null,{"$f":"Sprawdz_pesel(Formularz!#REF!)","v":{"$error":"#VALUE!"}}]
[null,{"$f":"Sprawdz_pesel(Formularz!#REF!)","v":{"$error":"#VALUE!"}}]
[null,{"$f":"Sprawdz_pesel(Formularz!#REF!)","v":{"$error":"#VALUE!"}}]
[null,{"$f":"Sprawdz_pesel(Formularz!#REF!)","v":{"$error":"#VALUE!"}}]
[null,{"$f":"Sprawdz_pesel(Formularz!#REF!)","v":{"$error":"#VALUE!"}}]
[null,{"$f":"Sprawdz_pesel(Formularz!#REF!)","v":{"$error":"#VALUE!"}}]
[null,{"$f":"Sprawdz_pesel(Formularz!#REF!)","v":{"$error":"#VALUE!"}}]
[null,{"$f":"Sprawdz_pesel(Formularz!#REF!)","v":{"$error":"#VALUE!"}}]
[null,{"$f":"Sprawdz_pesel(Formularz!#REF!)","v":{"$error":"#VALUE!"}}]
[null,{"$f":"Sprawdz_pesel(Formularz!#REF!)","v":{"$error":"#VALUE!"}}]
[null,{"$f":"Sprawdz_pesel(Formularz!#REF!)","v":{"$error":"#VALUE!"}}]
[null,{"$f":"Sprawdz_pesel(Formularz!#REF!)","v":{"$error":"#VALUE!"}}]
[null,{"$f":"Sprawdz_pesel(Formularz!#REF!)","v":{"$error":"#VALUE!"}}]
[null,{"$f":"Sprawdz_pesel(Formularz!#REF!)","v":{"$error":"#VALUE!"}}]
[null,{"$f":"Sprawdz_pesel(Formularz!#REF!)","v":{"$error":"#VALUE!"}}]
[null,{"$f":"Sprawdz_pesel(Formularz!#REF!)","v":{"$error":"#VALUE!"}}]
[null,{"$f":"Sprawdz_pesel(Formularz!#REF!)","v":{"$error":"#VALUE!"}}]
[null,{"$f":"Sprawdz_pesel(Formularz!#REF!)","v":{"$error":"#VALUE!"}}]
[null,{"$f":"Sprawdz_pesel(Formularz!#REF!)","v":{"$error":"#VALUE!"}}]
[null,{"$f":"Sprawdz_pesel(Formularz!#REF!)","v":{"$error":"#VALUE!"}}]
[null,{"$f":"Sprawdz_pesel(Formularz!#REF!)","v":{"$error":"#VALUE!"}}]
[null,{"$f":"Sprawdz_pesel(Formularz!#REF!)","v":{"$error":"#VALUE!"}}]
[null,{"$f":"Sprawdz_pesel(Formularz!#REF!)","v":{"$error":"#VALUE!"}}]
[null,{"$f":"Sprawdz_pesel(Formularz!#REF!)","v":{"$error":"#VALUE!"}}]
[null,{"$f":"Sprawdz_pesel(Formularz!#REF!)","v":{"$error":"#VALUE!"}}]
[null,{"$f":"Sprawdz_pesel(Formularz!#REF!)","v":{"$error":"#VALUE!"}}]
[null,{"$f":"Sprawdz_pesel(Formularz!#REF!)","v":{"$error":"#VALUE!"}}]
[null,{"$f":"Sprawdz_pesel(Formularz!#REF!)","v":{"$error":"#VALUE!"}}]
[null,{"$f":"Sprawdz_pesel(Formularz!#REF!)","v":{"$error":"#VALUE!"}}]
[null,{"$f":"Sprawdz_pesel(Formularz!#REF!)","v":{"$error":"#VALUE!"}}]
[null,{"$f":"Sprawdz_pesel(Formularz!#REF!)","v":{"$error":"#VALUE!"}}]
[null,{"$f":"Sprawdz_pesel(Formularz!#REF!)","v":{"$error":"#VALUE!"}}]
[null,{"$f":"Sprawdz_pesel(Formularz!#REF!)","v":{"$error":"#VALUE!"}}]
[null,{"$f":"Sprawdz_pesel(Formularz!#REF!)","v":{"$error":"#VALUE!"}}]
[null,{"$f":"Sprawdz_pesel(Formularz!#REF!)","v":{"$error":"#VALUE!"}}]
[null,{"$f":"Sprawdz_pesel(Formularz!#REF!)","v":{"$error":"#VALUE!"}}]
[null,{"$f":"Sprawdz_pesel(Formularz!#REF!)","v":{"$error":"#VALUE!"}}]
[null,{"$f":"Sprawdz_pesel(Formularz!#REF!)","v":{"$error":"#VALUE!"}}]
[null,{"$f":"Sprawdz_pesel(Formularz!#REF!)","v":{"$error":"#VALUE!"}}]
[null,{"$f":"Sprawdz_pesel(Formularz!#REF!)","v":{"$error":"#VALUE!"}}]
[null,{"$f":"Sprawdz_pesel(Formularz!#REF!)","v":{"$error":"#VALUE!"}}]
[null,{"$f":"Sprawdz_pesel(Formularz!#REF!)","v":{"$error":"#VALUE!"}}]
[null,{"$f":"Sprawdz_pesel(Formularz!#REF!)","v":{"$error":"#VALUE!"}}]
[null,{"$f":"Sprawdz_pesel(Formularz!#REF!)","v":{"$error":"#VALUE!"}}]
[null,{"$f":"Sprawdz_pesel(Formularz!#REF!)","v":{"$error":"#VALUE!"}}]
[null,{"$f":"Sprawdz_pesel(Formularz!#REF!)","v":{"$error":"#VALUE!"}}]
[null,{"$f":"Sprawdz_pesel(Formularz!#REF!)","v":{"$error":"#VALUE!"}}]
[null,{"$f":"Sprawdz_pesel(Formularz!#REF!)","v":{"$error":"#VALUE!"}}]
[null,{"$f":"Sprawdz_pesel(Formularz!#REF!)","v":{"$error":"#VALUE!"}}]
[null,{"$f":"Sprawdz_pesel(Formularz!#REF!)","v":{"$error":"#VALUE!"}}]
[null,{"$f":"Sprawdz_pesel(Formularz!#REF!)","v":{"$error":"#VALUE!"}}]
[null,{"$f":"Sprawdz_pesel(Formularz!#REF!)","v":{"$error":"#VALUE!"}}]
[null,{"$f":"Sprawdz_pesel(Formularz!#REF!)","v":{"$error":"#VALUE!"}}]
[null,{"$f":"Sprawdz_pesel(Formularz!#REF!)","v":{"$error":"#VALUE!"}}]
[null,{"$f":"Sprawdz_pesel(Formularz!#REF!)","v":{"$error":"#VALUE!"}}]
[null,{"$f":"Sprawdz_pesel(Formularz!#REF!)","v":{"$error":"#VALUE!"}}]
[null,{"$f":"Sprawdz_pesel(Formularz!#REF!)","v":{"$error":"#VALUE!"}}]
[null,{"$f":"Sprawdz_pesel(Formularz!#REF!)","v":{"$error":"#VALUE!"}}]
[null,{"$f":"Sprawdz_pesel(Formularz!#REF!)","v":{"$error":"#VALUE!"}}]
[null,{"$f":"Sprawdz_pesel(Formularz!#REF!)","v":{"$error":"#VALUE!"}}]
[null,{"$f":"Sprawdz_pesel(Formularz!#REF!)","v":{"$error":"#VALUE!"}}]
[null,{"$f":"Sprawdz_pesel(Formularz!#REF!)","v":{"$error":"#VALUE!"}}]
[null,{"$f":"Sprawdz_pesel(Formularz!#REF!)","v":{"$error":"#VALUE!"}}]
[null,{"$f":"Sprawdz_pesel(Formularz!#REF!)","v":{"$error":"#VALUE!"}}]
[null,{"$f":"Sprawdz_pesel(Formularz!#REF!)","v":{"$error":"#VALUE!"}}]
[null,{"$f":"Sprawdz_pesel(Formularz!#REF!)","v":{"$error":"#VALUE!"}}]
[null,{"$f":"Sprawdz_pesel(Formularz!#REF!)","v":{"$error":"#VALUE!"}}]
[null,{"$f":"Sprawdz_pesel(Formularz!#REF!)","v":{"$error":"#VALUE!"}}]
[null,{"$f":"Sprawdz_pesel(Formularz!#REF!)","v":{"$error":"#VALUE!"}}]
[null,{"$f":"Sprawdz_pesel(Formularz!#REF!)","v":{"$error":"#VALUE!"}}]
[null,{"$f":"Sprawdz_pesel(Formularz!#REF!)","v":{"$error":"#VALUE!"}}]
[null,{"$f":"Sprawdz_pesel(Formularz!#REF!)","v":{"$error":"#VALUE!"}}]
[null,{"$f":"Sprawdz_pesel(Formularz!#REF!)","v":{"$error":"#VALUE!"}}]
[null,{"$f":"Sprawdz_pesel(Formularz!#REF!)","v":{"$error":"#VALUE!"}}]
[null,{"$f":"Sprawdz_pesel(Formularz!#REF!)","v":{"$error":"#VALUE!"}}]
[null,{"$f":"Sprawdz_pesel(Formularz!#REF!)","v":{"$error":"#VALUE!"}}]
[null,{"$f":"Sprawdz_pesel(Formularz!#REF!)","v":{"$error":"#VALUE!"}}]
[null,{"$f":"Sprawdz_pesel(Formularz!#REF!)","v":{"$error":"#VALUE!"}}]
[null,{"$f":"Sprawdz_pesel(Formularz!#REF!)","v":{"$error":"#VALUE!"}}]
[null,{"$f":"Sprawdz_pesel(Formularz!#REF!)","v":{"$error":"#VALUE!"}}]
[null,{"$f":"Sprawdz_pesel(Formularz!#REF!)","v":{"$error":"#VALUE!"}}]
[null,{"$f":"Sprawdz_pesel(Formularz!#REF!)","v":{"$error":"#VALUE!"}}]
[null,{"$f":"Sprawdz_pesel(Formularz!#REF!)","v":{"$error":"#VALUE!"}}]
[null,{"$f":"Sprawdz_pesel(Formularz!#REF!)","v":{"$error":"#VALUE!"}}]
[null,{"$f":"Sprawdz_pesel(Formularz!#REF!)","v":{"$error":"#VALUE!"}}]
[null,{"$f":"Sprawdz_pesel(Formularz!#REF!)","v":{"$error":"#VALUE!"}}]
[null,{"$f":"Sprawdz_pesel(Formularz!#REF!)","v":{"$error":"#VALUE!"}}]
[null,{"$f":"Sprawdz_pesel(Formularz!#REF!)","v":{"$error":"#VALUE!"}}]
[null,{"$f":"Sprawdz_pesel(Formularz!#REF!)","v":{"$error":"#VALUE!"}}]
[null,{"$f":"Sprawdz_pesel(Formularz!#REF!)","v":{"$error":"#VALUE!"}}]
[null,{"$f":"Sprawdz_pesel(Formularz!#REF!)","v":{"$error":"#VALUE!"}}]
[null,{"$f":"Sprawdz_pesel(Formularz!#REF!)","v":{"$error":"#VALUE!"}}]
[null,{"$f":"Sprawdz_pesel(Formularz!#REF!)","v":{"$error":"#VALUE!"}}]
[null,{"$f":"Sprawdz_pesel(Formularz!#REF!)","v":{"$error":"#VALUE!"}}]
[null,{"$f":"Sprawdz_pesel(Formularz!#REF!)","v":{"$error":"#VALUE!"}}]
[null,{"$f":"Sprawdz_pesel(Formularz!#REF!)","v":{"$error":"#VALUE!"}}]
[null,{"$f":"Sprawdz_pesel(Formularz!#REF!)","v":{"$error":"#VALUE!"}}]
[null,{"$f":"Sprawdz_pesel(Formularz!#REF!)","v":{"$error":"#VALUE!"}}]
[null,{"$f":"Sprawdz_pesel(Formularz!#REF!)","v":{"$error":"#VALUE!"}}]
[null,{"$f":"Sprawdz_pesel(Formularz!#REF!)","v":{"$error":"#VALUE!"}}]
[null,{"$f":"Sprawdz_pesel(Formularz!#REF!)","v":{"$error":"#VALUE!"}}]
[null,{"$f":"Sprawdz_pesel(Formularz!#REF!)","v":{"$error":"#VALUE!"}}]
[null,{"$f":"Sprawdz_pesel(Formularz!#REF!)","v":{"$error":"#VALUE!"}}]
[null,{"$f":"Sprawdz_pesel(Formularz!#REF!)","v":{"$error":"#VALUE!"}}]
[null,{"$f":"Sprawdz_pesel(Formularz!#REF!)","v":{"$error":"#VALUE!"}}]
[null,{"$f":"Sprawdz_pesel(Formularz!#REF!)","v":{"$error":"#VALUE!"}}]
[null,{"$f":"Sprawdz_pesel(Formularz!#REF!)","v":{"$error":"#VALUE!"}}]
[null,{"$f":"Sprawdz_pesel(Formularz!#REF!)","v":{"$error":"#VALUE!"}}]
[null,{"$f":"Sprawdz_pesel(Formularz!#REF!)","v":{"$error":"#VALUE!"}}]
[null,{"$f":"Sprawdz_pesel(Formularz!#REF!)","v":{"$error":"#VALUE!"}}]
[null,{"$f":"Sprawdz_pesel(Formularz!#REF!)","v":{"$error":"#VALUE!"}}]
[null,{"$f":"Sprawdz_pesel(Formularz!#REF!)","v":{"$error":"#VALUE!"}}]
[null,{"$f":"Sprawdz_pesel(Formularz!#REF!)","v":{"$error":"#VALUE!"}}]
[null,{"$f":"Sprawdz_pesel(Formularz!#REF!)","v":{"$error":"#VALUE!"}}]
[null,{"$f":"Sprawdz_pesel(Formularz!#REF!)","v":{"$error":"#VALUE!"}}]
[null,{"$f":"Sprawdz_pesel(Formularz!#REF!)","v":{"$error":"#VALUE!"}}]
[null,{"$f":"Sprawdz_pesel(Formularz!#REF!)","v":{"$error":"#VALUE!"}}]
[null,{"$f":"Sprawdz_pesel(Formularz!#REF!)","v":{"$error":"#VALUE!"}}]
[null,{"$f":"Sprawdz_pesel(Formularz!#REF!)","v":{"$error":"#VALUE!"}}]
[null,{"$f":"Sprawdz_pesel(Formularz!#REF!)","v":{"$error":"#VALUE!"}}]
[null,{"$f":"Sprawdz_pesel(Formularz!#REF!)","v":{"$error":"#VALUE!"}}]
[null,{"$f":"Sprawdz_pesel(Formularz!#REF!)","v":{"$error":"#VALUE!"}}]
[null,{"$f":"Sprawdz_pesel(Formularz!#REF!)","v":{"$error":"#VALUE!"}}]
[null,{"$f":"Sprawdz_pesel(Formularz!#REF!)","v":{"$error":"#VALUE!"}}]
[null,{"$f":"Sprawdz_pesel(Formularz!#REF!)","v":{"$error":"#VALUE!"}}]
[null,{"$f":"Sprawdz_pesel(Formularz!#REF!)","v":{"$error":"#VALUE!"}}]
[null,{"$f":"Sprawdz_pesel(Formularz!#REF!)","v":{"$error":"#VALUE!"}}]
[null,{"$f":"Sprawdz_pesel(Formularz!#REF!)","v":{"$error":"#VALUE!"}}]
[null,{"$f":"Sprawdz_pesel(Formularz!#REF!)","v":{"$error":"#VALUE!"}}]
[null,{"$f":"Sprawdz_pesel(Formularz!#REF!)","v":{"$error":"#VALUE!"}}]
[null,{"$f":"Sprawdz_pesel(Formularz!#REF!)","v":{"$error":"#VALUE!"}}]
[null,{"$f":"Sprawdz_pesel(Formularz!#REF!)","v":{"$error":"#VALUE!"}}]
[null,{"$f":"Sprawdz_pesel(Formularz!#REF!)","v":{"$error":"#VALUE!"}}]
[null,{"$f":"Sprawdz_pesel(Formularz!#REF!)","v":{"$error":"#VALUE!"}}]
[null,{"$f":"Sprawdz_pesel(Formularz!#REF!)","v":{"$error":"#VALUE!"}}]
[null,{"$f":"Sprawdz_pesel(Formularz!#REF!)","v":{"$error":"#VALUE!"}}]
[null,{"$f":"Sprawdz_pesel(Formularz!#REF!)","v":{"$error":"#VALUE!"}}]
[null,{"$f":"Sprawdz_pesel(Formularz!#REF!)","v":{"$error":"#VALUE!"}}]
[null,{"$f":"Sprawdz_pesel(Formularz!#REF!)","v":{"$error":"#VALUE!"}}]
[null,{"$f":"Sprawdz_pesel(Formularz!#REF!)","v":{"$error":"#VALUE!"}}]
[null,{"$f":"Sprawdz_pesel(Formularz!#REF!)","v":{"$error":"#VALUE!"}}]
[null,{"$f":"Sprawdz_pesel(Formularz!#REF!)","v":{"$error":"#VALUE!"}}]
[null,{"$f":"Sprawdz_pesel(Formularz!#REF!)","v":{"$error":"#VALUE!"}}]
[null,{"$f":"Sprawdz_pesel(Formularz!#REF!)","v":{"$error":"#VALUE!"}}]
[null,{"$f":"Sprawdz_pesel(Formularz!#REF!)","v":{"$error":"#VALUE!"}}]
[null,{"$f":"Sprawdz_pesel(Formularz!#REF!)","v":{"$error":"#VALUE!"}}]
[null,{"$f":"Sprawdz_pesel(Formularz!#REF!)","v":{"$error":"#VALUE!"}}]
[null,{"$f":"Sprawdz_pesel(Formularz!#REF!)","v":{"$error":"#VALUE!"}}]
[null,{"$f":"Sprawdz_pesel(Formularz!#REF!)","v":{"$error":"#VALUE!"}}]
[null,{"$f":"Sprawdz_pesel(Formularz!#REF!)","v":{"$error":"#VALUE!"}}]
[null,{"$f":"Sprawdz_pesel(Formularz!#REF!)","v":{"$error":"#VALUE!"}}]
[null,{"$f":"Sprawdz_pesel(Formularz!#REF!)","v":{"$error":"#VALUE!"}}]
[null,{"$f":"Sprawdz_pesel(Formularz!#REF!)","v":{"$error":"#VALUE!"}}]
[null,{"$f":"Sprawdz_pesel(Formularz!#REF!)","v":{"$error":"#VALUE!"}}]
[null,{"$f":"Sprawdz_pesel(Formularz!#REF!)","v":{"$error":"#VALUE!"}}]
[null,{"$f":"Sprawdz_pesel(Formularz!#REF!)","v":{"$error":"#VALUE!"}}]
[null,{"$f":"Sprawdz_pesel(Formularz!#REF!)","v":{"$error":"#VALUE!"}}]
[null,{"$f":"Sprawdz_pesel(Formularz!#REF!)","v":{"$error":"#VALUE!"}}]
[null,{"$f":"Sprawdz_pesel(Formularz!#REF!)","v":{"$error":"#VALUE!"}}]
[null,{"$f":"Sprawdz_pesel(Formularz!#REF!)","v":{"$error":"#VALUE!"}}]
[null,{"$f":"Sprawdz_pesel(Formularz!#REF!)","v":{"$error":"#VALUE!"}}]
[null,{"$f":"Sprawdz_pesel(Formularz!#REF!)","v":{"$error":"#VALUE!"}}]
[null,{"$f":"Sprawdz_pesel(Formularz!#REF!)","v":{"$error":"#VALUE!"}}]
[null,{"$f":"Sprawdz_pesel(Formularz!#REF!)","v":{"$error":"#VALUE!"}}]
[null,{"$f":"Sprawdz_pesel(Formularz!#REF!)","v":{"$error":"#VALUE!"}}]
[null,{"$f":"Sprawdz_pesel(Formularz!#REF!)","v":{"$error":"#VALUE!"}}]
[null,{"$f":"Sprawdz_pesel(Formularz!#REF!)","v":{"$error":"#VALUE!"}}]
[null,{"$f":"Sprawdz_pesel(Formularz!#REF!)","v":{"$error":"#VALUE!"}}]
[null,{"$f":"Sprawdz_pesel(Formularz!#REF!)","v":{"$error":"#VALUE!"}}]
[null,{"$f":"Sprawdz_pesel(Formularz!#REF!)","v":{"$error":"#VALUE!"}}]
[null,{"$f":"Sprawdz_pesel(Formularz!#REF!)","v":{"$error":"#VALUE!"}}]
[null,{"$f":"Sprawdz_pesel(Formularz!#REF!)","v":{"$error":"#VALUE!"}}]
[null,{"$f":"Sprawdz_pesel(Formularz!#REF!)","v":{"$error":"#VALUE!"}}]
[null,{"$f":"Sprawdz_pesel(Formularz!#REF!)","v":{"$error":"#VALUE!"}}]
[null,{"$f":"Sprawdz_pesel(Formularz!#REF!)","v":{"$error":"#VALUE!"}}]
[null,{"$f":"Sprawdz_pesel(Formularz!#REF!)","v":{"$error":"#VALUE!"}}]
[null,{"$f":"Sprawdz_pesel(Formularz!#REF!)","v":{"$error":"#VALUE!"}}]
[null,{"$f":"Sprawdz_pesel(Formularz!#REF!)","v":{"$error":"#VALUE!"}}]
[null,{"$f":"Sprawdz_pesel(Formularz!#REF!)","v":{"$error":"#VALUE!"}}]
[null,{"$f":"Sprawdz_pesel(Formularz!#REF!)","v":{"$error":"#VALUE!"}}]
[null,{"$f":"Sprawdz_pesel(Formularz!#REF!)","v":{"$error":"#VALUE!"}}]
[null,{"$f":"Sprawdz_pesel(Formularz!#REF!)","v":{"$error":"#VALUE!"}}]
[null,{"$f":"Sprawdz_pesel(Formularz!#REF!)","v":{"$error":"#VALUE!"}}]
[null,{"$f":"Sprawdz_pesel(Formularz!#REF!)","v":{"$error":"#VALUE!"}}]
[null,{"$f":"Sprawdz_pesel(Formularz!#REF!)","v":{"$error":"#VALUE!"}}]
[null,{"$f":"Sprawdz_pesel(Formularz!#REF!)","v":{"$error":"#VALUE!"}}]
[null,{"$f":"Sprawdz_pesel(Formularz!#REF!)","v":{"$error":"#VALUE!"}}]
[null,{"$f":"Sprawdz_pesel(Formularz!#REF!)","v":{"$error":"#VALUE!"}}]
[null,{"$f":"Sprawdz_pesel(Formularz!#REF!)","v":{"$error":"#VALUE!"}}]
[null,{"$f":"Sprawdz_pesel(Formularz!#REF!)","v":{"$error":"#VALUE!"}}]
[null,{"$f":"Sprawdz_pesel(Formularz!#REF!)","v":{"$error":"#VALUE!"}}]
[null,{"$f":"Sprawdz_pesel(Formularz!#REF!)","v":{"$error":"#VALUE!"}}]
[null,{"$f":"Sprawdz_pesel(Formularz!#REF!)","v":{"$error":"#VALUE!"}}]
[null,{"$f":"Sprawdz_pesel(Formularz!#REF!)","v":{"$error":"#VALUE!"}}]
[null,{"$f":"Sprawdz_pesel(Formularz!#REF!)","v":{"$error":"#VALUE!"}}]
[null,{"$f":"Sprawdz_pesel(Formularz!#REF!)","v":{"$error":"#VALUE!"}}]
[null,{"$f":"Sprawdz_pesel(Formularz!#REF!)","v":{"$error":"#VALUE!"}}]
[null,{"$f":"Sprawdz_pesel(Formularz!#REF!)","v":{"$error":"#VALUE!"}}]
[null,{"$f":"Sprawdz_pesel(Formularz!#REF!)","v":{"$error":"#VALUE!"}}]
[null,{"$f":"Sprawdz_pesel(Formularz!#REF!)","v":{"$error":"#VALUE!"}}]
[null,{"$f":"Sprawdz_pesel(Formularz!#REF!)","v":{"$error":"#VALUE!"}}]
[null,{"$f":"Sprawdz_pesel(Formularz!#REF!)","v":{"$error":"#VALUE!"}}]
[null,{"$f":"Sprawdz_pesel(Formularz!#REF!)","v":{"$error":"#VALUE!"}}]
[null,{"$f":"Sprawdz_pesel(Formularz!#REF!)","v":{"$error":"#VALUE!"}}]
[null,{"$f":"Sprawdz_pesel(Formularz!#REF!)","v":{"$error":"#VALUE!"}}]
[null,{"$f":"Sprawdz_pesel(Formularz!#REF!)","v":{"$error":"#VALUE!"}}]
[null,{"$f":"Sprawdz_pesel(Formularz!#REF!)","v":{"$error":"#VALUE!"}}]
[null,{"$f":"Sprawdz_pesel(Formularz!#REF!)","v":{"$error":"#VALUE!"}}]
[null,{"$f":"Sprawdz_pesel(Formularz!#REF!)","v":{"$error":"#VALUE!"}}]
[null,{"$f":"Sprawdz_pesel(Formularz!#REF!)","v":{"$error":"#VALUE!"}}]
[null,{"$f":"Sprawdz_pesel(Formularz!#REF!)","v":{"$error":"#VALUE!"}}]
[null,{"$f":"Sprawdz_pesel(Formularz!#REF!)","v":{"$error":"#VALUE!"}}]
[null,{"$f":"Sprawdz_pesel(Formularz!#REF!)","v":{"$error":"#VALUE!"}}]
[null,{"$f":"Sprawdz_pesel(Formularz!#REF!)","v":{"$error":"#VALUE!"}}]
[null,{"$f":"Sprawdz_pesel(Formularz!#REF!)","v":{"$error":"#VALUE!"}}]
[null,{"$f":"Sprawdz_pesel(Formularz!#REF!)","v":{"$error":"#VALUE!"}}]
[null,{"$f":"Sprawdz_pesel(Formularz!#REF!)","v":{"$error":"#VALUE!"}}]
[null,{"$f":"Sprawdz_pesel(Formularz!#REF!)","v":{"$error":"#VALUE!"}}]
[null,{"$f":"Sprawdz_pesel(Formularz!#REF!)","v":{"$error":"#VALUE!"}}]
[null,{"$f":"Sprawdz_pesel(Formularz!#REF!)","v":{"$error":"#VALUE!"}}]
[null,{"$f":"Sprawdz_pesel(Formularz!#REF!)","v":{"$error":"#VALUE!"}}]
[null,{"$f":"Sprawdz_pesel(Formularz!#REF!)","v":{"$error":"#VALUE!"}}]
[null,{"$f":"Sprawdz_pesel(Formularz!#REF!)","v":{"$error":"#VALUE!"}}]
[null,{"$f":"Sprawdz_pesel(Formularz!#REF!)","v":{"$error":"#VALUE!"}}]
[null,{"$f":"Sprawdz_pesel(Formularz!#REF!)","v":{"$error":"#VALUE!"}}]
[null,{"$f":"Sprawdz_pesel(Formularz!#REF!)","v":{"$error":"#VALUE!"}}]
[null,{"$f":"Sprawdz_pesel(Formularz!#REF!)","v":{"$error":"#VALUE!"}}]
[null,{"$f":"Sprawdz_pesel(Formularz!#REF!)","v":{"$error":"#VALUE!"}}]
[null,{"$f":"Sprawdz_pesel(Formularz!#REF!)","v":{"$error":"#VALUE!"}}]
[null,{"$f":"Sprawdz_pesel(Formularz!#REF!)","v":{"$error":"#VALUE!"}}]
[null,{"$f":"Sprawdz_pesel(Formularz!#REF!)","v":{"$error":"#VALUE!"}}]
[null,{"$f":"Sprawdz_pesel(Formularz!#REF!)","v":{"$error":"#VALUE!"}}]
[null,{"$f":"Sprawdz_pesel(Formularz!#REF!)","v":{"$error":"#VALUE!"}}]
[null,{"$f":"Sprawdz_pesel(Formularz!#REF!)","v":{"$error":"#VALUE!"}}]
[null,{"$f":"Sprawdz_pesel(Formularz!#REF!)","v":{"$error":"#VALUE!"}}]
[null,{"$f":"Sprawdz_pesel(Formularz!#REF!)","v":{"$error":"#VALUE!"}}]
[null,{"$f":"Sprawdz_pesel(Formularz!#REF!)","v":{"$error":"#VALUE!"}}]
[null,{"$f":"Sprawdz_pesel(Formularz!#REF!)","v":{"$error":"#VALUE!"}}]
[null,{"$f":"Sprawdz_pesel(Formularz!#REF!)","v":{"$error":"#VALUE!"}}]
[null,{"$f":"Sprawdz_pesel(Formularz!#REF!)","v":{"$error":"#VALUE!"}}]
[null,{"$f":"Sprawdz_pesel(Formularz!#REF!)","v":{"$error":"#VALUE!"}}]
[null,{"$f":"Sprawdz_pesel(Formularz!#REF!)","v":{"$error":"#VALUE!"}}]
[null,{"$f":"Sprawdz_pesel(Formularz!#REF!)","v":{"$error":"#VALUE!"}}]
[null,{"$f":"Sprawdz_pesel(Formularz!#REF!)","v":{"$error":"#VALUE!"}}]
[null,{"$f":"Sprawdz_pesel(Formularz!#REF!)","v":{"$error":"#VALUE!"}}]
[null,{"$f":"Sprawdz_pesel(Formularz!#REF!)","v":{"$error":"#VALUE!"}}]
[null,{"$f":"Sprawdz_pesel(Formularz!#REF!)","v":{"$error":"#VALUE!"}}]
[null,{"$f":"Sprawdz_pesel(Formularz!#REF!)","v":{"$error":"#VALUE!"}}]
[null,{"$f":"Sprawdz_pesel(Formularz!#REF!)","v":{"$error":"#VALUE!"}}]
[null,{"$f":"Sprawdz_pesel(Formularz!#REF!)","v":{"$error":"#VALUE!"}}]
[null,{"$f":"Sprawdz_pesel(Formularz!#REF!)","v":{"$error":"#VALUE!"}}]
[null,{"$f":"Sprawdz_pesel(Formularz!#REF!)","v":{"$error":"#VALUE!"}}]
[null,{"$f":"Sprawdz_pesel(Formularz!#REF!)","v":{"$error":"#VALUE!"}}]
[null,{"$f":"Sprawdz_pesel(Formularz!#REF!)","v":{"$error":"#VALUE!"}}]
[null,{"$f":"Sprawdz_pesel(Formularz!#REF!)","v":{"$error":"#VALUE!"}}]
[null,{"$f":"Sprawdz_pesel(Formularz!#REF!)","v":{"$error":"#VALUE!"}}]
[null,{"$f":"Sprawdz_pesel(Formularz!#REF!)","v":{"$error":"#VALUE!"}}]
[null,{"$f":"Sprawdz_pesel(Formularz!#REF!)","v":{"$error":"#VALUE!"}}]
[null,{"$f":"Sprawdz_pesel(Formularz!#REF!)","v":{"$error":"#VALUE!"}}]
[null,{"$f":"Sprawdz_pesel(Formularz!#REF!)","v":{"$error":"#VALUE!"}}]
[null,{"$f":"Sprawdz_pesel(Formularz!#REF!)","v":{"$error":"#VALUE!"}}]
[null,{"$f":"Sprawdz_pesel(Formularz!#REF!)","v":{"$error":"#VALUE!"}}]
[null,{"$f":"Sprawdz_pesel(Formularz!#REF!)","v":{"$error":"#VALUE!"}}]
[null,{"$f":"Sprawdz_pesel(Formularz!#REF!)","v":{"$error":"#VALUE!"}}]
[null,{"$f":"Sprawdz_pesel(Formularz!#REF!)","v":{"$error":"#VALUE!"}}]
[null,{"$f":"Sprawdz_pesel(Formularz!#REF!)","v":{"$error":"#VALUE!"}}]
[null,{"$f":"Sprawdz_pesel(Formularz!#REF!)","v":{"$error":"#VALUE!"}}]
[null,{"$f":"Sprawdz_pesel(Formularz!#REF!)","v":{"$error":"#VALUE!"}}]
[null,{"$f":"Sprawdz_pesel(Formularz!#REF!)","v":{"$error":"#VALUE!"}}]
[null,{"$f":"Sprawdz_pesel(Formularz!#REF!)","v":{"$error":"#VALUE!"}}]
[null,{"$f":"Sprawdz_pesel(Formularz!#REF!)","v":{"$error":"#VALUE!"}}]
[null,{"$f":"Sprawdz_pesel(Formularz!#REF!)","v":{"$error":"#VALUE!"}}]
[null,{"$f":"Sprawdz_pesel(Formularz!#REF!)","v":{"$error":"#VALUE!"}}]
[null,{"$f":"Sprawdz_pesel(Formularz!#REF!)","v":{"$error":"#VALUE!"}}]
[null,{"$f":"Sprawdz_pesel(Formularz!#REF!)","v":{"$error":"#VALUE!"}}]
[null,{"$f":"Sprawdz_pesel(Formularz!#REF!)","v":{"$error":"#VALUE!"}}]
[null,{"$f":"Sprawdz_pesel(Formularz!#REF!)","v":{"$error":"#VALUE!"}}]
[null,{"$f":"Sprawdz_pesel(Formularz!#REF!)","v":{"$error":"#VALUE!"}}]
[null,{"$f":"Sprawdz_pesel(Formularz!#REF!)","v":{"$error":"#VALUE!"}}]
[null,{"$f":"Sprawdz_pesel(Formularz!#REF!)","v":{"$error":"#VALUE!"}}]
[null,{"$f":"Sprawdz_pesel(Formularz!#REF!)","v":{"$error":"#VALUE!"}}]
[null,{"$f":"Sprawdz_pesel(Formularz!#REF!)","v":{"$error":"#VALUE!"}}]
[null,{"$f":"Sprawdz_pesel(Formularz!#REF!)","v":{"$error":"#VALUE!"}}]
[null,{"$f":"Sprawdz_pesel(Formularz!#REF!)","v":{"$error":"#VALUE!"}}]
[null,{"$f":"Sprawdz_pesel(Formularz!#REF!)","v":{"$error":"#VALUE!"}}]
[null,{"$f":"Sprawdz_pesel(Formularz!#REF!)","v":{"$error":"#VALUE!"}}]
[null,{"$f":"Sprawdz_pesel(Formularz!#REF!)","v":{"$error":"#VALUE!"}}]
[null,{"$f":"Sprawdz_pesel(Formularz!#REF!)","v":{"$error":"#VALUE!"}}]
[null,{"$f":"Sprawdz_pesel(Formularz!#REF!)","v":{"$error":"#VALUE!"}}]
[null,{"$f":"Sprawdz_pesel(Formularz!#REF!)","v":{"$error":"#VALUE!"}}]
[null,{"$f":"Sprawdz_pesel(Formularz!#REF!)","v":{"$error":"#VALUE!"}}]
[null,{"$f":"Sprawdz_pesel(Formularz!#REF!)","v":{"$error":"#VALUE!"}}]
[null,{"$f":"Sprawdz_pesel(Formularz!#REF!)","v":{"$error":"#VALUE!"}}]
[null,{"$f":"Sprawdz_pesel(Formularz!#REF!)","v":{"$error":"#VALUE!"}}]
[null,{"$f":"Sprawdz_pesel(Formularz!#REF!)","v":{"$error":"#VALUE!"}}]
[null,{"$f":"Sprawdz_pesel(Formularz!#REF!)","v":{"$error":"#VALUE!"}}]
[null,{"$f":"Sprawdz_pesel(Formularz!#REF!)","v":{"$error":"#VALUE!"}}]
[null,{"$f":"Sprawdz_pesel(Formularz!#REF!)","v":{"$error":"#VALUE!"}}]
[null,{"$f":"Sprawdz_pesel(Formularz!#REF!)","v":{"$error":"#VALUE!"}}]
[null,{"$f":"Sprawdz_pesel(Formularz!#REF!)","v":{"$error":"#VALUE!"}}]
[null,{"$f":"Sprawdz_pesel(Formularz!#REF!)","v":{"$error":"#VALUE!"}}]
[null,{"$f":"Sprawdz_pesel(Formularz!#REF!)","v":{"$error":"#VALUE!"}}]
[null,{"$f":"Sprawdz_pesel(Formularz!#REF!)","v":{"$error":"#VALUE!"}}]
[null,{"$f":"Sprawdz_pesel(Formularz!#REF!)","v":{"$error":"#VALUE!"}}]
[null,{"$f":"Sprawdz_pesel(Formularz!#REF!)","v":{"$error":"#VALUE!"}}]
[null,{"$f":"Sprawdz_pesel(Formularz!#REF!)","v":{"$error":"#VALUE!"}}]
[null,{"$f":"Sprawdz_pesel(Formularz!#REF!)","v":{"$error":"#VALUE!"}}]
[null,{"$f":"Sprawdz_pesel(Formularz!#REF!)","v":{"$error":"#VALUE!"}}]
[null,{"$f":"Sprawdz_pesel(Formularz!#REF!)","v":{"$error":"#VALUE!"}}]
[null,{"$f":"Sprawdz_pesel(Formularz!#REF!)","v":{"$error":"#VALUE!"}}]
[null,{"$f":"Sprawdz_pesel(Formularz!#REF!)","v":{"$error":"#VALUE!"}}]
[null,{"$f":"Sprawdz_pesel(Formularz!#REF!)","v":{"$error":"#VALUE!"}}]
[null,{"$f":"Sprawdz_pesel(Formularz!#REF!)","v":{"$error":"#VALUE!"}}]
[null,{"$f":"Sprawdz_pesel(Formularz!#REF!)","v":{"$error":"#VALUE!"}}]
[null,{"$f":"Sprawdz_pesel(Formularz!#REF!)","v":{"$error":"#VALUE!"}}]
[null,{"$f":"Sprawdz_pesel(Formularz!#REF!)","v":{"$error":"#VALUE!"}}]
[null,{"$f":"Sprawdz_pesel(Formularz!#REF!)","v":{"$error":"#VALUE!"}}]
[null,{"$f":"Sprawdz_pesel(Formularz!#REF!)","v":{"$error":"#VALUE!"}}]
[null,{"$f":"Sprawdz_pesel(Formularz!#REF!)","v":{"$error":"#VALUE!"}}]
[null,{"$f":"Sprawdz_pesel(Formularz!#REF!)","v":{"$error":"#VALUE!"}}]
[null,{"$f":"Sprawdz_pesel(Formularz!#REF!)","v":{"$error":"#VALUE!"}}]
[null,{"$f":"Sprawdz_pesel(Formularz!#REF!)","v":{"$error":"#VALUE!"}}]
[null,{"$f":"Sprawdz_pesel(Formularz!#REF!)","v":{"$error":"#VALUE!"}}]
[null,{"$f":"Sprawdz_pesel(Formularz!#REF!)","v":{"$error":"#VALUE!"}}]
[null,{"$f":"Sprawdz_pesel(Formularz!#REF!)","v":{"$error":"#VALUE!"}}]
[null,{"$f":"Sprawdz_pesel(Formularz!#REF!)","v":{"$error":"#VALUE!"}}]
[null,{"$f":"Sprawdz_pesel(Formularz!#REF!)","v":{"$error":"#VALUE!"}}]
[null,{"$f":"Sprawdz_pesel(Formularz!#REF!)","v":{"$error":"#VALUE!"}}]
[null,{"$f":"Sprawdz_pesel(Formularz!#REF!)","v":{"$error":"#VALUE!"}}]
[null,{"$f":"Sprawdz_pesel(Formularz!#REF!)","v":{"$error":"#VALUE!"}}]
[null,{"$f":"Sprawdz_pesel(Formularz!#REF!)","v":{"$error":"#VALUE!"}}]
[null,{"$f":"Sprawdz_pesel(Formularz!#REF!)","v":{"$error":"#VALUE!"}}]
[null,{"$f":"Sprawdz_pesel(Formularz!#REF!)","v":{"$error":"#VALUE!"}}]
[null,{"$f":"Sprawdz_pesel(Formularz!#REF!)","v":{"$error":"#VALUE!"}}]
[null,{"$f":"Sprawdz_pesel(Formularz!#REF!)","v":{"$error":"#VALUE!"}}]
[null,{"$f":"Sprawdz_pesel(Formularz!#REF!)","v":{"$error":"#VALUE!"}}]
[null,{"$f":"Sprawdz_pesel(Formularz!#REF!)","v":{"$error":"#VALUE!"}}]
[null,{"$f":"Sprawdz_pesel(Formularz!#REF!)","v":{"$error":"#VALUE!"}}]
[null,{"$f":"Sprawdz_pesel(Formularz!#REF!)","v":{"$error":"#VALUE!"}}]
[null,{"$f":"Sprawdz_pesel(Formularz!#REF!)","v":{"$error":"#VALUE!"}}]
[null,{"$f":"Sprawdz_pesel(Formularz!#REF!)","v":{"$error":"#VALUE!"}}]
[null,{"$f":"Sprawdz_pesel(Formularz!#REF!)","v":{"$error":"#VALUE!"}}]
[null,{"$f":"Sprawdz_pesel(Formularz!#REF!)","v":{"$error":"#VALUE!"}}]
[null,{"$f":"Sprawdz_pesel(Formularz!#REF!)","v":{"$error":"#VALUE!"}}]
[null,{"$f":"Sprawdz_pesel(Formularz!#REF!)","v":{"$error":"#VALUE!"}}]
[null,{"$f":"Sprawdz_pesel(Formularz!#REF!)","v":{"$error":"#VALUE!"}}]
[null,{"$f":"Sprawdz_pesel(Formularz!#REF!)","v":{"$error":"#VALUE!"}}]
[null,{"$f":"Sprawdz_pesel(Formularz!#REF!)","v":{"$error":"#VALUE!"}}]
[null,{"$f":"Sprawdz_pesel(Formularz!#REF!)","v":{"$error":"#VALUE!"}}]
[null,{"$f":"Sprawdz_pesel(Formularz!#REF!)","v":{"$error":"#VALUE!"}}]
[null,{"$f":"Sprawdz_pesel(Formularz!#REF!)","v":{"$error":"#VALUE!"}}]
[null,{"$f":"Sprawdz_pesel(Formularz!#REF!)","v":{"$error":"#VALUE!"}}]
[null,{"$f":"Sprawdz_pesel(Formularz!#REF!)","v":{"$error":"#VALUE!"}}]
[null,{"$f":"Sprawdz_pesel(Formularz!#REF!)","v":{"$error":"#VALUE!"}}]
[null,{"$f":"Sprawdz_pesel(Formularz!#REF!)","v":{"$error":"#VALUE!"}}]
[null,{"$f":"Sprawdz_pesel(Formularz!#REF!)","v":{"$error":"#VALUE!"}}]
[null,{"$f":"Sprawdz_pesel(Formularz!#REF!)","v":{"$error":"#VALUE!"}}]
[null,{"$f":"Sprawdz_pesel(Formularz!#REF!)","v":{"$error":"#VALUE!"}}]
[null,{"$f":"Sprawdz_pesel(Formularz!#REF!)","v":{"$error":"#VALUE!"}}]
[null,{"$f":"Sprawdz_pesel(Formularz!#REF!)","v":{"$error":"#VALUE!"}}]
[null,{"$f":"Sprawdz_pesel(Formularz!#REF!)","v":{"$error":"#VALUE!"}}]
[null,{"$f":"Sprawdz_pesel(Formularz!#REF!)","v":{"$error":"#VALUE!"}}]
[null,{"$f":"Sprawdz_pesel(Formularz!#REF!)","v":{"$error":"#VALUE!"}}]
[null,{"$f":"Sprawdz_pesel(Formularz!#REF!)","v":{"$error":"#VALUE!"}}]
[null,{"$f":"Sprawdz_pesel(Formularz!#REF!)","v":{"$error":"#VALUE!"}}]
[null,{"$f":"Sprawdz_pesel(Formularz!#REF!)","v":{"$error":"#VALUE!"}}]
[null,{"$f":"Sprawdz_pesel(Formularz!#REF!)","v":{"$error":"#VALUE!"}}]
[null,{"$f":"Sprawdz_pesel(Formularz!#REF!)","v":{"$error":"#VALUE!"}}]
[null,{"$f":"Sprawdz_pesel(Formularz!#REF!)","v":{"$error":"#VALUE!"}}]
[null,{"$f":"Sprawdz_pesel(Formularz!#REF!)","v":{"$error":"#VALUE!"}}]
[null,{"$f":"Sprawdz_pesel(Formularz!#REF!)","v":{"$error":"#VALUE!"}}]
[null,{"$f":"Sprawdz_pesel(Formularz!#REF!)","v":{"$error":"#VALUE!"}}]
[null,{"$f":"Sprawdz_pesel(Formularz!#REF!)","v":{"$error":"#VALUE!"}}]
[null,{"$f":"Sprawdz_pesel(Formularz!#REF!)","v":{"$error":"#VALUE!"}}]
[null,{"$f":"Sprawdz_pesel(Formularz!#REF!)","v":{"$error":"#VALUE!"}}]
[null,{"$f":"Sprawdz_pesel(Formularz!#REF!)","v":{"$error":"#VALUE!"}}]
[null,{"$f":"Sprawdz_pesel(Formularz!#REF!)","v":{"$error":"#VALUE!"}}]
[null,{"$f":"Sprawdz_pesel(Formularz!#REF!)","v":{"$error":"#VALUE!"}}]
[null,{"$f":"Sprawdz_pesel(Formularz!#REF!)","v":{"$error":"#VALUE!"}}]
[null,{"$f":"Sprawdz_pesel(Formularz!#REF!)","v":{"$error":"#VALUE!"}}]
[null,{"$f":"Sprawdz_pesel(Formularz!#REF!)","v":{"$error":"#VALUE!"}}]
[null,{"$f":"Sprawdz_pesel(Formularz!#REF!)","v":{"$error":"#VALUE!"}}]
[null,{"$f":"Sprawdz_pesel(Formularz!#REF!)","v":{"$error":"#VALUE!"}}]
[null,{"$f":"Sprawdz_pesel(Formularz!#REF!)","v":{"$error":"#VALUE!"}}]
[null,{"$f":"Sprawdz_pesel(Formularz!#REF!)","v":{"$error":"#VALUE!"}}]
[null,{"$f":"Sprawdz_pesel(Formularz!#REF!)","v":{"$error":"#VALUE!"}}]
[null,{"$f":"Sprawdz_pesel(Formularz!#REF!)","v":{"$error":"#VALUE!"}}]
[null,{"$f":"Sprawdz_pesel(Formularz!#REF!)","v":{"$error":"#VALUE!"}}]
[null,{"$f":"Sprawdz_pesel(Formularz!#REF!)","v":{"$error":"#VALUE!"}}]
[null,{"$f":"Sprawdz_pesel(Formularz!#REF!)","v":{"$error":"#VALUE!"}}]
[null,{"$f":"Sprawdz_pesel(Formularz!#REF!)","v":{"$error":"#VALUE!"}}]
[null,{"$f":"Sprawdz_pesel(Formularz!#REF!)","v":{"$error":"#VALUE!"}}]
[null,{"$f":"Sprawdz_pesel(Formularz!#REF!)","v":{"$error":"#VALUE!"}}]
[null,{"$f":"Sprawdz_pesel(Formularz!#REF!)","v":{"$error":"#VALUE!"}}]
[null,{"$f":"Sprawdz_pesel(Formularz!#REF!)","v":{"$error":"#VALUE!"}}]
[null,{"$f":"Sprawdz_pesel(Formularz!#REF!)","v":{"$error":"#VALUE!"}}]
[null,{"$f":"Sprawdz_pesel(Formularz!#REF!)","v":{"$error":"#VALUE!"}}]
[null,{"$f":"Sprawdz_pesel(Formularz!#REF!)","v":{"$error":"#VALUE!"}}]
[null,{"$f":"Sprawdz_pesel(Formularz!#REF!)","v":{"$error":"#VALUE!"}}]
[null,{"$f":"Sprawdz_pesel(Formularz!#REF!)","v":{"$error":"#VALUE!"}}]
[null,{"$f":"Sprawdz_pesel(Formularz!#REF!)","v":{"$error":"#VALUE!"}}]
[null,{"$f":"Sprawdz_pesel(Formularz!#REF!)","v":{"$error":"#VALUE!"}}]
[null,{"$f":"Sprawdz_pesel(Formularz!#REF!)","v":{"$error":"#VALUE!"}}]
[null,{"$f":"Sprawdz_pesel(Formularz!#REF!)","v":{"$error":"#VALUE!"}}]
[null,{"$f":"Sprawdz_pesel(Formularz!#REF!)","v":{"$error":"#VALUE!"}}]
[null,{"$f":"Sprawdz_pesel(Formularz!#REF!)","v":{"$error":"#VALUE!"}}]
[null,{"$f":"Sprawdz_pesel(Formularz!#REF!)","v":{"$error":"#VALUE!"}}]
[null,{"$f":"Sprawdz_pesel(Formularz!#REF!)","v":{"$error":"#VALUE!"}}]
[null,{"$f":"Sprawdz_pesel(Formularz!#REF!)","v":{"$error":"#VALUE!"}}]
[null,{"$f":"Sprawdz_pesel(Formularz!#REF!)","v":{"$error":"#VALUE!"}}]
[null,{"$f":"Sprawdz_pesel(Formularz!#REF!)","v":{"$error":"#VALUE!"}}]
[null,{"$f":"Sprawdz_pesel(Formularz!#REF!)","v":{"$error":"#VALUE!"}}]
[null,{"$f":"Sprawdz_pesel(Formularz!#REF!)","v":{"$error":"#VALUE!"}}]
[null,{"$f":"Sprawdz_pesel(Formularz!#REF!)","v":{"$error":"#VALUE!"}}]
[null,{"$f":"Sprawdz_pesel(Formularz!#REF!)","v":{"$error":"#VALUE!"}}]
[null,{"$f":"Sprawdz_pesel(Formularz!#REF!)","v":{"$error":"#VALUE!"}}]
[null,{"$f":"Sprawdz_pesel(Formularz!#REF!)","v":{"$error":"#VALUE!"}}]
[null,{"$f":"Sprawdz_pesel(Formularz!#REF!)","v":{"$error":"#VALUE!"}}]
[null,{"$f":"Sprawdz_pesel(Formularz!#REF!)","v":{"$error":"#VALUE!"}}]
[null,{"$f":"Sprawdz_pesel(Formularz!#REF!)","v":{"$error":"#VALUE!"}}]
[null,{"$f":"Sprawdz_pesel(Formularz!#REF!)","v":{"$error":"#VALUE!"}}]
[null,{"$f":"Sprawdz_pesel(Formularz!#REF!)","v":{"$error":"#VALUE!"}}]
[null,{"$f":"Sprawdz_pesel(Formularz!#REF!)","v":{"$error":"#VALUE!"}}]
[null,{"$f":"Sprawdz_pesel(Formularz!#REF!)","v":{"$error":"#VALUE!"}}]
[null,{"$f":"Sprawdz_pesel(Formularz!#REF!)","v":{"$error":"#VALUE!"}}]
[null,{"$f":"Sprawdz_pesel(Formularz!#REF!)","v":{"$error":"#VALUE!"}}]
[null,{"$f":"Sprawdz_pesel(Formularz!#REF!)","v":{"$error":"#VALUE!"}}]
[null,{"$f":"Sprawdz_pesel(Formularz!#REF!)","v":{"$error":"#VALUE!"}}]
[null,{"$f":"Sprawdz_pesel(Formularz!#REF!)","v":{"$error":"#VALUE!"}}]
[null,{"$f":"Sprawdz_pesel(Formularz!#REF!)","v":{"$error":"#VALUE!"}}]
[null,{"$f":"Sprawdz_pesel(Formularz!#REF!)","v":{"$error":"#VALUE!"}}]
[null,{"$f":"Sprawdz_pesel(Formularz!#REF!)","v":{"$error":"#VALUE!"}}]
[null,{"$f":"Sprawdz_pesel(Formularz!#REF!)","v":{"$error":"#VALUE!"}}]
[null,{"$f":"Sprawdz_pesel(Formularz!#REF!)","v":{"$error":"#VALUE!"}}]
[null,{"$f":"Sprawdz_pesel(Formularz!#REF!)","v":{"$error":"#VALUE!"}}]
[null,{"$f":"Sprawdz_pesel(Formularz!#REF!)","v":{"$error":"#VALUE!"}}]
[null,{"$f":"Sprawdz_pesel(Formularz!#REF!)","v":{"$error":"#VALUE!"}}]
[null,{"$f":"Sprawdz_pesel(Formularz!#REF!)","v":{"$error":"#VALUE!"}}]
[null,{"$f":"Sprawdz_pesel(Formularz!#REF!)","v":{"$error":"#VALUE!"}}]
[null,{"$f":"Sprawdz_pesel(Formularz!#REF!)","v":{"$error":"#VALUE!"}}]
[null,{"$f":"Sprawdz_pesel(Formularz!#REF!)","v":{"$error":"#VALUE!"}}]
[null,{"$f":"Sprawdz_pesel(Formularz!#REF!)","v":{"$error":"#VALUE!"}}]
[null,{"$f":"Sprawdz_pesel(Formularz!#REF!)","v":{"$error":"#VALUE!"}}]
[null,{"$f":"Sprawdz_pesel(Formularz!#REF!)","v":{"$error":"#VALUE!"}}]
[null,{"$f":"Sprawdz_pesel(Formularz!#REF!)","v":{"$error":"#VALUE!"}}]
[null,{"$f":"Sprawdz_pesel(Formularz!#REF!)","v":{"$error":"#VALUE!"}}]
[null,{"$f":"Sprawdz_pesel(Formularz!#REF!)","v":{"$error":"#VALUE!"}}]
[null,{"$f":"Sprawdz_pesel(Formularz!#REF!)","v":{"$error":"#VALUE!"}}]
[null,{"$f":"Sprawdz_pesel(Formularz!#REF!)","v":{"$error":"#VALUE!"}}]
[null,{"$f":"Sprawdz_pesel(Formularz!#REF!)","v":{"$error":"#VALUE!"}}]
[null,{"$f":"Sprawdz_pesel(Formularz!#REF!)","v":{"$error":"#VALUE!"}}]
[null,{"$f":"Sprawdz_pesel(Formularz!#REF!)","v":{"$error":"#VALUE!"}}]
[null,{"$f":"Sprawdz_pesel(Formularz!#REF!)","v":{"$error":"#VALUE!"}}]
[null,{"$f":"Sprawdz_pesel(Formularz!#REF!)","v":{"$error":"#VALUE!"}}]
[null,{"$f":"Sprawdz_pesel(Formularz!#REF!)","v":{"$error":"#VALUE!"}}]
[null,{"$f":"Sprawdz_pesel(Formularz!#REF!)","v":{"$error":"#VALUE!"}}]
[null,{"$f":"Sprawdz_pesel(Formularz!#REF!)","v":{"$error":"#VALUE!"}}]
[null,{"$f":"Sprawdz_pesel(Formularz!#REF!)","v":{"$error":"#VALUE!"}}]
[null,{"$f":"Sprawdz_pesel(Formularz!#REF!)","v":{"$error":"#VALUE!"}}]
[null,{"$f":"Sprawdz_pesel(Formularz!#REF!)","v":{"$error":"#VALUE!"}}]
[null,{"$f":"Sprawdz_pesel(Formularz!#REF!)","v":{"$error":"#VALUE!"}}]
[null,{"$f":"Sprawdz_pesel(Formularz!#REF!)","v":{"$error":"#VALUE!"}}]
[null,{"$f":"Sprawdz_pesel(Formularz!#REF!)","v":{"$error":"#VALUE!"}}]
[null,{"$f":"Sprawdz_pesel(Formularz!#REF!)","v":{"$error":"#VALUE!"}}]
[null,{"$f":"Sprawdz_pesel(Formularz!#REF!)","v":{"$error":"#VALUE!"}}]
[null,{"$f":"Sprawdz_pesel(Formularz!#REF!)","v":{"$error":"#VALUE!"}}]
[null,{"$f":"Sprawdz_pesel(Formularz!#REF!)","v":{"$error":"#VALUE!"}}]
[null,{"$f":"Sprawdz_pesel(Formularz!#REF!)","v":{"$error":"#VALUE!"}}]
[null,{"$f":"Sprawdz_pesel(Formularz!#REF!)","v":{"$error":"#VALUE!"}}]
[null,{"$f":"Sprawdz_pesel(Formularz!#REF!)","v":{"$error":"#VALUE!"}}]
[null,{"$f":"Sprawdz_pesel(Formularz!#REF!)","v":{"$error":"#VALUE!"}}]
[null,{"$f":"Sprawdz_pesel(Formularz!#REF!)","v":{"$error":"#VALUE!"}}]
[null,{"$f":"Sprawdz_pesel(Formularz!#REF!)","v":{"$error":"#VALUE!"}}]
[null,{"$f":"Sprawdz_pesel(Formularz!#REF!)","v":{"$error":"#VALUE!"}}]
[null,{"$f":"Sprawdz_pesel(Formularz!#REF!)","v":{"$error":"#VALUE!"}}]
[null,{"$f":"Sprawdz_pesel(Formularz!#REF!)","v":{"$error":"#VALUE!"}}]
[null,{"$f":"Sprawdz_pesel(Formularz!#REF!)","v":{"$error":"#VALUE!"}}]
[null,{"$f":"Sprawdz_pesel(Formularz!#REF!)","v":{"$error":"#VALUE!"}}]
[null,{"$f":"Sprawdz_pesel(Formularz!#REF!)","v":{"$error":"#VALUE!"}}]
[null,{"$f":"Sprawdz_pesel(Formularz!#REF!)","v":{"$error":"#VALUE!"}}]
[null,{"$f":"Sprawdz_pesel(Formularz!#REF!)","v":{"$error":"#VALUE!"}}]
[null,{"$f":"Sprawdz_pesel(Formularz!#REF!)","v":{"$error":"#VALUE!"}}]
[null,{"$f":"Sprawdz_pesel(Formularz!#REF!)","v":{"$error":"#VALUE!"}}]
[null,{"$f":"Sprawdz_pesel(Formularz!#REF!)","v":{"$error":"#VALUE!"}}]
[null,{"$f":"Sprawdz_pesel(Formularz!#REF!)","v":{"$error":"#VALUE!"}}]
[null,{"$f":"Sprawdz_pesel(Formularz!#REF!)","v":{"$error":"#VALUE!"}}]
[null,{"$f":"Sprawdz_pesel(Formularz!#REF!)","v":{"$error":"#VALUE!"}}]
[null,{"$f":"Sprawdz_pesel(Formularz!#REF!)","v":{"$error":"#VALUE!"}}]
[null,{"$f":"Sprawdz_pesel(Formularz!#REF!)","v":{"$error":"#VALUE!"}}]
[null,{"$f":"Sprawdz_pesel(Formularz!#REF!)","v":{"$error":"#VALUE!"}}]
[null,{"$f":"Sprawdz_pesel(Formularz!#REF!)","v":{"$error":"#VALUE!"}}]
[null,{"$f":"Sprawdz_pesel(Formularz!#REF!)","v":{"$error":"#VALUE!"}}]
[null,{"$f":"Sprawdz_pesel(Formularz!#REF!)","v":{"$error":"#VALUE!"}}]
[null,{"$f":"Sprawdz_pesel(Formularz!#REF!)","v":{"$error":"#VALUE!"}}]
[null,{"$f":"Sprawdz_pesel(Formularz!#REF!)","v":{"$error":"#VALUE!"}}]
[null,{"$f":"Sprawdz_pesel(Formularz!#REF!)","v":{"$error":"#VALUE!"}}]
[null,{"$f":"Sprawdz_pesel(Formularz!#REF!)","v":{"$error":"#VALUE!"}}]
[null,{"$f":"Sprawdz_pesel(Formularz!#REF!)","v":{"$error":"#VALUE!"}}]
[null,{"$f":"Sprawdz_pesel(Formularz!#REF!)","v":{"$error":"#VALUE!"}}]
[null,{"$f":"Sprawdz_pesel(Formularz!#REF!)","v":{"$error":"#VALUE!"}}]
[null,{"$f":"Sprawdz_pesel(Formularz!#REF!)","v":{"$error":"#VALUE!"}}]
[null,{"$f":"Sprawdz_pesel(Formularz!#REF!)","v":{"$error":"#VALUE!"}}]
[null,{"$f":"Sprawdz_pesel(Formularz!#REF!)","v":{"$error":"#VALUE!"}}]
[null,{"$f":"Sprawdz_pesel(Formularz!#REF!)","v":{"$error":"#VALUE!"}}]
[null,{"$f":"Sprawdz_pesel(Formularz!#REF!)","v":{"$error":"#VALUE!"}}]
[null,{"$f":"Sprawdz_pesel(Formularz!#REF!)","v":{"$error":"#VALUE!"}}]
[null,{"$f":"Sprawdz_pesel(Formularz!#REF!)","v":{"$error":"#VALUE!"}}]
[null,{"$f":"Sprawdz_pesel(Formularz!#REF!)","v":{"$error":"#VALUE!"}}]
[null,{"$f":"Sprawdz_pesel(Formularz!#REF!)","v":{"$error":"#VALUE!"}}]
[null,{"$f":"Sprawdz_pesel(Formularz!#REF!)","v":{"$error":"#VALUE!"}}]
[null,{"$f":"Sprawdz_pesel(Formularz!#REF!)","v":{"$error":"#VALUE!"}}]
[null,{"$f":"Sprawdz_pesel(Formularz!#REF!)","v":{"$error":"#VALUE!"}}]
[null,{"$f":"Sprawdz_pesel(Formularz!#REF!)","v":{"$error":"#VALUE!"}}]
[null,{"$f":"Sprawdz_pesel(Formularz!#REF!)","v":{"$error":"#VALUE!"}}]
[null,{"$f":"Sprawdz_pesel(Formularz!#REF!)","v":{"$error":"#VALUE!"}}]
[null,{"$f":"Sprawdz_pesel(Formularz!#REF!)","v":{"$error":"#VALUE!"}}]
[null,{"$f":"Sprawdz_pesel(Formularz!#REF!)","v":{"$error":"#VALUE!"}}]
[null,{"$f":"Sprawdz_pesel(Formularz!#REF!)","v":{"$error":"#VALUE!"}}]
[null,{"$f":"Sprawdz_pesel(Formularz!#REF!)","v":{"$error":"#VALUE!"}}]
[null,{"$f":"Sprawdz_pesel(Formularz!#REF!)","v":{"$error":"#VALUE!"}}]
[null,{"$f":"Sprawdz_pesel(Formularz!#REF!)","v":{"$error":"#VALUE!"}}]
[null,{"$f":"Sprawdz_pesel(Formularz!#REF!)","v":{"$error":"#VALUE!"}}]
[null,{"$f":"Sprawdz_pesel(Formularz!#REF!)","v":{"$error":"#VALUE!"}}]
[null,{"$f":"Sprawdz_pesel(Formularz!#REF!)","v":{"$error":"#VALUE!"}}]
[null,{"$f":"Sprawdz_pesel(Formularz!#REF!)","v":{"$error":"#VALUE!"}}]
[null,{"$f":"Sprawdz_pesel(Formularz!#REF!)","v":{"$error":"#VALUE!"}}]
[null,{"$f":"Sprawdz_pesel(Formularz!#REF!)","v":{"$error":"#VALUE!"}}]
[null,{"$f":"Sprawdz_pesel(Formularz!#REF!)","v":{"$error":"#VALUE!"}}]
[null,{"$f":"Sprawdz_pesel(Formularz!#REF!)","v":{"$error":"#VALUE!"}}]
[null,{"$f":"Sprawdz_pesel(Formularz!#REF!)","v":{"$error":"#VALUE!"}}]
[null,{"$f":"Sprawdz_pesel(Formularz!#REF!)","v":{"$error":"#VALUE!"}}]
[null,{"$f":"Sprawdz_pesel(Formularz!#REF!)","v":{"$error":"#VALUE!"}}]
[null,{"$f":"Sprawdz_pesel(Formularz!#REF!)","v":{"$error":"#VALUE!"}}]
[null,{"$f":"Sprawdz_pesel(Formularz!#REF!)","v":{"$error":"#VALUE!"}}]
[null,{"$f":"Sprawdz_pesel(Formularz!#REF!)","v":{"$error":"#VALUE!"}}]
[null,{"$f":"Sprawdz_pesel(Formularz!#REF!)","v":{"$error":"#VALUE!"}}]
[null,{"$f":"Sprawdz_pesel(Formularz!#REF!)","v":{"$error":"#VALUE!"}}]
[null,{"$f":"Sprawdz_pesel(Formularz!#REF!)","v":{"$error":"#VALUE!"}}]
[null,{"$f":"Sprawdz_pesel(Formularz!#REF!)","v":{"$error":"#VALUE!"}}]
[null,{"$f":"Sprawdz_pesel(Formularz!#REF!)","v":{"$error":"#VALUE!"}}]
[null,{"$f":"Sprawdz_pesel(Formularz!#REF!)","v":{"$error":"#VALUE!"}}]
[null,{"$f":"Sprawdz_pesel(Formularz!#REF!)","v":{"$error":"#VALUE!"}}]
[null,{"$f":"Sprawdz_pesel(Formularz!#REF!)","v":{"$error":"#VALUE!"}}]
[null,{"$f":"Sprawdz_pesel(Formularz!#REF!)","v":{"$error":"#VALUE!"}}]
[null,{"$f":"Sprawdz_pesel(Formularz!#REF!)","v":{"$error":"#VALUE!"}}]
[null,{"$f":"Sprawdz_pesel(Formularz!#REF!)","v":{"$error":"#VALUE!"}}]
[null,{"$f":"Sprawdz_pesel(Formularz!#REF!)","v":{"$error":"#VALUE!"}}]
[null,{"$f":"Sprawdz_pesel(Formularz!#REF!)","v":{"$error":"#VALUE!"}}]
[null,{"$f":"Sprawdz_pesel(Formularz!#REF!)","v":{"$error":"#VALUE!"}}]
[null,{"$f":"Sprawdz_pesel(Formularz!#REF!)","v":{"$error":"#VALUE!"}}]
[null,{"$f":"Sprawdz_pesel(Formularz!#REF!)","v":{"$error":"#VALUE!"}}]
[null,{"$f":"Sprawdz_pesel(Formularz!#REF!)","v":{"$error":"#VALUE!"}}]
[null,{"$f":"Sprawdz_pesel(Formularz!#REF!)","v":{"$error":"#VALUE!"}}]
[null,{"$f":"Sprawdz_pesel(Formularz!#REF!)","v":{"$error":"#VALUE!"}}]
[null,{"$f":"Sprawdz_pesel(Formularz!#REF!)","v":{"$error":"#VALUE!"}}]
[null,{"$f":"Sprawdz_pesel(Formularz!#REF!)","v":{"$error":"#VALUE!"}}]
[null,{"$f":"Sprawdz_pesel(Formularz!#REF!)","v":{"$error":"#VALUE!"}}]
[null,{"$f":"Sprawdz_pesel(Formularz!#REF!)","v":{"$error":"#VALUE!"}}]
[null,{"$f":"Sprawdz_pesel(Formularz!#REF!)","v":{"$error":"#VALUE!"}}]
[null,{"$f":"Sprawdz_pesel(Formularz!#REF!)","v":{"$error":"#VALUE!"}}]
[null,{"$f":"Sprawdz_pesel(Formularz!#REF!)","v":{"$error":"#VALUE!"}}]
[null,{"$f":"Sprawdz_pesel(Formularz!#REF!)","v":{"$error":"#VALUE!"}}]
[null,{"$f":"Sprawdz_pesel(Formularz!#REF!)","v":{"$error":"#VALUE!"}}]
[null,{"$f":"Sprawdz_pesel(Formularz!#REF!)","v":{"$error":"#VALUE!"}}]
[null,{"$f":"Sprawdz_pesel(Formularz!#REF!)","v":{"$error":"#VALUE!"}}]
[null,{"$f":"Sprawdz_pesel(Formularz!#REF!)","v":{"$error":"#VALUE!"}}]
[null,{"$f":"Sprawdz_pesel(Formularz!#REF!)","v":{"$error":"#VALUE!"}}]
[null,{"$f":"Sprawdz_pesel(Formularz!#REF!)","v":{"$error":"#VALUE!"}}]
[null,{"$f":"Sprawdz_pesel(Formularz!#REF!)","v":{"$error":"#VALUE!"}}]
[null,{"$f":"Sprawdz_pesel(Formularz!#REF!)","v":{"$error":"#VALUE!"}}]
[null,{"$f":"Sprawdz_pesel(Formularz!#REF!)","v":{"$error":"#VALUE!"}}]
[null,{"$f":"Sprawdz_pesel(Formularz!#REF!)","v":{"$error":"#VALUE!"}}]
[null,{"$f":"Sprawdz_pesel(Formularz!#REF!)","v":{"$error":"#VALUE!"}}]
[null,{"$f":"Sprawdz_pesel(Formularz!#REF!)","v":{"$error":"#VALUE!"}}]
[null,{"$f":"Sprawdz_pesel(Formularz!#REF!)","v":{"$error":"#VALUE!"}}]
[null,{"$f":"Sprawdz_pesel(Formularz!#REF!)","v":{"$error":"#VALUE!"}}]
[null,{"$f":"Sprawdz_pesel(Formularz!#REF!)","v":{"$error":"#VALUE!"}}]
[null,{"$f":"Sprawdz_pesel(Formularz!#REF!)","v":{"$error":"#VALUE!"}}]
[null,{"$f":"Sprawdz_pesel(Formularz!#REF!)","v":{"$error":"#VALUE!"}}]
[null,{"$f":"Sprawdz_pesel(Formularz!#REF!)","v":{"$error":"#VALUE!"}}]
[null,{"$f":"Sprawdz_pesel(Formularz!#REF!)","v":{"$error":"#VALUE!"}}]
[null,{"$f":"Sprawdz_pesel(Formularz!#REF!)","v":{"$error":"#VALUE!"}}]
[null,{"$f":"Sprawdz_pesel(Formularz!#REF!)","v":{"$error":"#VALUE!"}}]
[null,{"$f":"Sprawdz_pesel(Formularz!#REF!)","v":{"$error":"#VALUE!"}}]
[null,{"$f":"Sprawdz_pesel(Formularz!#REF!)","v":{"$error":"#VALUE!"}}]
[null,{"$f":"Sprawdz_pesel(Formularz!#REF!)","v":{"$error":"#VALUE!"}}]
[null,{"$f":"Sprawdz_pesel(Formularz!#REF!)","v":{"$error":"#VALUE!"}}]
[null,{"$f":"Sprawdz_pesel(Formularz!#REF!)","v":{"$error":"#VALUE!"}}]
[null,{"$f":"Sprawdz_pesel(Formularz!#REF!)","v":{"$error":"#VALUE!"}}]
[null,{"$f":"Sprawdz_pesel(Formularz!#REF!)","v":{"$error":"#VALUE!"}}]
[null,{"$f":"Sprawdz_pesel(Formularz!#REF!)","v":{"$error":"#VALUE!"}}]
[null,{"$f":"Sprawdz_pesel(Formularz!#REF!)","v":{"$error":"#VALUE!"}}]
[null,{"$f":"Sprawdz_pesel(Formularz!#REF!)","v":{"$error":"#VALUE!"}}]
[null,{"$f":"Sprawdz_pesel(Formularz!#REF!)","v":{"$error":"#VALUE!"}}]
[null,{"$f":"Sprawdz_pesel(Formularz!#REF!)","v":{"$error":"#VALUE!"}}]
[null,{"$f":"Sprawdz_pesel(Formularz!#REF!)","v":{"$error":"#VALUE!"}}]
[null,{"$f":"Sprawdz_pesel(Formularz!#REF!)","v":{"$error":"#VALUE!"}}]
[null,{"$f":"Sprawdz_pesel(Formularz!#REF!)","v":{"$error":"#VALUE!"}}]
[null,{"$f":"Sprawdz_pesel(Formularz!#REF!)","v":{"$error":"#VALUE!"}}]
[null,{"$f":"Sprawdz_pesel(Formularz!#REF!)","v":{"$error":"#VALUE!"}}]
[null,{"$f":"Sprawdz_pesel(Formularz!#REF!)","v":{"$error":"#VALUE!"}}]
[null,{"$f":"Sprawdz_pesel(Formularz!#REF!)","v":{"$error":"#VALUE!"}}]
[null,{"$f":"Sprawdz_pesel(Formularz!#REF!)","v":{"$error":"#VALUE!"}}]
[null,{"$f":"Sprawdz_pesel(Formularz!#REF!)","v":{"$error":"#VALUE!"}}]
[null,{"$f":"Sprawdz_pesel(Formularz!#REF!)","v":{"$error":"#VALUE!"}}]
[null,{"$f":"Sprawdz_pesel(Formularz!#REF!)","v":{"$error":"#VALUE!"}}]
[null,{"$f":"Sprawdz_pesel(Formularz!#REF!)","v":{"$error":"#VALUE!"}}]
[null,{"$f":"Sprawdz_pesel(Formularz!#REF!)","v":{"$error":"#VALUE!"}}]
[null,{"$f":"Sprawdz_pesel(Formularz!#REF!)","v":{"$error":"#VALUE!"}}]
[null,{"$f":"Sprawdz_pesel(Formularz!#REF!)","v":{"$error":"#VALUE!"}}]
[null,{"$f":"Sprawdz_pesel(Formularz!#REF!)","v":{"$error":"#VALUE!"}}]
[null,{"$f":"Sprawdz_pesel(Formularz!#REF!)","v":{"$error":"#VALUE!"}}]
[null,{"$f":"Sprawdz_pesel(Formularz!#REF!)","v":{"$error":"#VALUE!"}}]
[null,{"$f":"Sprawdz_pesel(Formularz!#REF!)","v":{"$error":"#VALUE!"}}]
[null,{"$f":"Sprawdz_pesel(Formularz!#REF!)","v":{"$error":"#VALUE!"}}]
[null,{"$f":"Sprawdz_pesel(Formularz!#REF!)","v":{"$error":"#VALUE!"}}]
[null,{"$f":"Sprawdz_pesel(Formularz!#REF!)","v":{"$error":"#VALUE!"}}]
[null,{"$f":"Sprawdz_pesel(Formularz!#REF!)","v":{"$error":"#VALUE!"}}]
[null,{"$f":"Sprawdz_pesel(Formularz!#REF!)","v":{"$error":"#VALUE!"}}]
[null,{"$f":"Sprawdz_pesel(Formularz!#REF!)","v":{"$error":"#VALUE!"}}]
[null,{"$f":"Sprawdz_pesel(Formularz!#REF!)","v":{"$error":"#VALUE!"}}]
[null,{"$f":"Sprawdz_pesel(Formularz!#REF!)","v":{"$error":"#VALUE!"}}]
[null,{"$f":"Sprawdz_pesel(Formularz!#REF!)","v":{"$error":"#VALUE!"}}]
[null,{"$f":"Sprawdz_pesel(Formularz!#REF!)","v":{"$error":"#VALUE!"}}]
[null,{"$f":"Sprawdz_pesel(Formularz!#REF!)","v":{"$error":"#VALUE!"}}]
[null,{"$f":"Sprawdz_pesel(Formularz!#REF!)","v":{"$error":"#VALUE!"}}]
[null,{"$f":"Sprawdz_pesel(Formularz!#REF!)","v":{"$error":"#VALUE!"}}]
[null,{"$f":"Sprawdz_pesel(Formularz!#REF!)","v":{"$error":"#VALUE!"}}]
[null,{"$f":"Sprawdz_pesel(Formularz!#REF!)","v":{"$error":"#VALUE!"}}]
[null,{"$f":"Sprawdz_pesel(Formularz!#REF!)","v":{"$error":"#VALUE!"}}]
[null,{"$f":"Sprawdz_pesel(Formularz!#REF!)","v":{"$error":"#VALUE!"}}]
[null,{"$f":"Sprawdz_pesel(Formularz!#REF!)","v":{"$error":"#VALUE!"}}]
[null,{"$f":"Sprawdz_pesel(Formularz!#REF!)","v":{"$error":"#VALUE!"}}]
[null,{"$f":"Sprawdz_pesel(Formularz!#REF!)","v":{"$error":"#VALUE!"}}]
[null,{"$f":"Sprawdz_pesel(Formularz!#REF!)","v":{"$error":"#VALUE!"}}]
[null,{"$f":"Sprawdz_pesel(Formularz!#REF!)","v":{"$error":"#VALUE!"}}]
[null,{"$f":"Sprawdz_pesel(Formularz!#REF!)","v":{"$error":"#VALUE!"}}]
[null,{"$f":"Sprawdz_pesel(Formularz!#REF!)","v":{"$error":"#VALUE!"}}]
[null,{"$f":"Sprawdz_pesel(Formularz!#REF!)","v":{"$error":"#VALUE!"}}]
[null,{"$f":"Sprawdz_pesel(Formularz!#REF!)","v":{"$error":"#VALUE!"}}]
[null,{"$f":"Sprawdz_pesel(Formularz!#REF!)","v":{"$error":"#VALUE!"}}]
[null,{"$f":"Sprawdz_pesel(Formularz!#REF!)","v":{"$error":"#VALUE!"}}]
[null,{"$f":"Sprawdz_pesel(Formularz!#REF!)","v":{"$error":"#VALUE!"}}]
[null,{"$f":"Sprawdz_pesel(Formularz!#REF!)","v":{"$error":"#VALUE!"}}]
[null,{"$f":"Sprawdz_pesel(Formularz!#REF!)","v":{"$error":"#VALUE!"}}]
[null,{"$f":"Sprawdz_pesel(Formularz!#REF!)","v":{"$error":"#VALUE!"}}]
[null,{"$f":"Sprawdz_pesel(Formularz!#REF!)","v":{"$error":"#VALUE!"}}]
[null,{"$f":"Sprawdz_pesel(Formularz!#REF!)","v":{"$error":"#VALUE!"}}]
[null,{"$f":"Sprawdz_pesel(Formularz!#REF!)","v":{"$error":"#VALUE!"}}]
[null,{"$f":"Sprawdz_pesel(Formularz!#REF!)","v":{"$error":"#VALUE!"}}]
[null,{"$f":"Sprawdz_pesel(Formularz!#REF!)","v":{"$error":"#VALUE!"}}]
[null,{"$f":"Sprawdz_pesel(Formularz!#REF!)","v":{"$error":"#VALUE!"}}]
[null,{"$f":"Sprawdz_pesel(Formularz!#REF!)","v":{"$error":"#VALUE!"}}]
[null,{"$f":"Sprawdz_pesel(Formularz!#REF!)","v":{"$error":"#VALUE!"}}]
[null,{"$f":"Sprawdz_pesel(Formularz!#REF!)","v":{"$error":"#VALUE!"}}]
[null,{"$f":"Sprawdz_pesel(Formularz!#REF!)","v":{"$error":"#VALUE!"}}]
[null,{"$f":"Sprawdz_pesel(Formularz!#REF!)","v":{"$error":"#VALUE!"}}]
[null,{"$f":"Sprawdz_pesel(Formularz!#REF!)","v":{"$error":"#VALUE!"}}]
[null,{"$f":"Sprawdz_pesel(Formularz!#REF!)","v":{"$error":"#VALUE!"}}]
[null,{"$f":"Sprawdz_pesel(Formularz!#REF!)","v":{"$error":"#VALUE!"}}]
[null,{"$f":"Sprawdz_pesel(Formularz!#REF!)","v":{"$error":"#VALUE!"}}]
[null,{"$f":"Sprawdz_pesel(Formularz!#REF!)","v":{"$error":"#VALUE!"}}]
[null,{"$f":"Sprawdz_pesel(Formularz!#REF!)","v":{"$error":"#VALUE!"}}]
[null,{"$f":"Sprawdz_pesel(Formularz!#REF!)","v":{"$error":"#VALUE!"}}]
[null,{"$f":"Sprawdz_pesel(Formularz!#REF!)","v":{"$error":"#VALUE!"}}]
[null,{"$f":"Sprawdz_pesel(Formularz!#REF!)","v":{"$error":"#VALUE!"}}]
[null,{"$f":"Sprawdz_pesel(Formularz!#REF!)","v":{"$error":"#VALUE!"}}]
[null,{"$f":"Sprawdz_pesel(Formularz!#REF!)","v":{"$error":"#VALUE!"}}]
[null,{"$f":"Sprawdz_pesel(Formularz!#REF!)","v":{"$error":"#VALUE!"}}]
[null,{"$f":"Sprawdz_pesel(Formularz!#REF!)","v":{"$error":"#VALUE!"}}]
[null,{"$f":"Sprawdz_pesel(Formularz!#REF!)","v":{"$error":"#VALUE!"}}]
[null,{"$f":"Sprawdz_pesel(Formularz!#REF!)","v":{"$error":"#VALUE!"}}]
[null,{"$f":"Sprawdz_pesel(Formularz!#REF!)","v":{"$error":"#VALUE!"}}]
[null,{"$f":"Sprawdz_pesel(Formularz!#REF!)","v":{"$error":"#VALUE!"}}]
[null,{"$f":"Sprawdz_pesel(Formularz!#REF!)","v":{"$error":"#VALUE!"}}]
[null,{"$f":"Sprawdz_pesel(Formularz!#REF!)","v":{"$error":"#VALUE!"}}]
[null,{"$f":"Sprawdz_pesel(Formularz!#REF!)","v":{"$error":"#VALUE!"}}]
[null,{"$f":"Sprawdz_pesel(Formularz!#REF!)","v":{"$error":"#VALUE!"}}]
[null,{"$f":"Sprawdz_pesel(Formularz!#REF!)","v":{"$error":"#VALUE!"}}]
[null,{"$f":"Sprawdz_pesel(Formularz!#REF!)","v":{"$error":"#VALUE!"}}]
[null,{"$f":"Sprawdz_pesel(Formularz!#REF!)","v":{"$error":"#VALUE!"}}]
[null,{"$f":"Sprawdz_pesel(Formularz!#REF!)","v":{"$error":"#VALUE!"}}]
[null,{"$f":"Sprawdz_pesel(Formularz!#REF!)","v":{"$error":"#VALUE!"}}]
[null,{"$f":"Sprawdz_pesel(Formularz!#REF!)","v":{"$error":"#VALUE!"}}]
[null,{"$f":"Sprawdz_pesel(Formularz!#REF!)","v":{"$error":"#VALUE!"}}]
[null,{"$f":"Sprawdz_pesel(Formularz!#REF!)","v":{"$error":"#VALUE!"}}]
[null,{"$f":"Sprawdz_pesel(Formularz!#REF!)","v":{"$error":"#VALUE!"}}]
[null,{"$f":"Sprawdz_pesel(Formularz!#REF!)","v":{"$error":"#VALUE!"}}]
[null,{"$f":"Sprawdz_pesel(Formularz!#REF!)","v":{"$error":"#VALUE!"}}]
[null,{"$f":"Sprawdz_pesel(Formularz!#REF!)","v":{"$error":"#VALUE!"}}]
[null,{"$f":"Sprawdz_pesel(Formularz!#REF!)","v":{"$error":"#VALUE!"}}]
[null,{"$f":"Sprawdz_pesel(Formularz!#REF!)","v":{"$error":"#VALUE!"}}]
[null,{"$f":"Sprawdz_pesel(Formularz!#REF!)","v":{"$error":"#VALUE!"}}]
[null,{"$f":"Sprawdz_pesel(Formularz!#REF!)","v":{"$error":"#VALUE!"}}]
[null,{"$f":"Sprawdz_pesel(Formularz!#REF!)","v":{"$error":"#VALUE!"}}]
[null,{"$f":"Sprawdz_pesel(Formularz!#REF!)","v":{"$error":"#VALUE!"}}]
[null,{"$f":"Sprawdz_pesel(Formularz!#REF!)","v":{"$error":"#VALUE!"}}]
[null,{"$f":"Sprawdz_pesel(Formularz!#REF!)","v":{"$error":"#VALUE!"}}]
[null,{"$f":"Sprawdz_pesel(Formularz!#REF!)","v":{"$error":"#VALUE!"}}]
[null,{"$f":"Sprawdz_pesel(Formularz!#REF!)","v":{"$error":"#VALUE!"}}]
[null,{"$f":"Sprawdz_pesel(Formularz!#REF!)","v":{"$error":"#VALUE!"}}]
[null,{"$f":"Sprawdz_pesel(Formularz!#REF!)","v":{"$error":"#VALUE!"}}]
[null,{"$f":"Sprawdz_pesel(Formularz!#REF!)","v":{"$error":"#VALUE!"}}]
[null,{"$f":"Sprawdz_pesel(Formularz!#REF!)","v":{"$error":"#VALUE!"}}]
[null,{"$f":"Sprawdz_pesel(Formularz!#REF!)","v":{"$error":"#VALUE!"}}]
[null,{"$f":"Sprawdz_pesel(Formularz!#REF!)","v":{"$error":"#VALUE!"}}]
[null,{"$f":"Sprawdz_pesel(Formularz!#REF!)","v":{"$error":"#VALUE!"}}]
[null,{"$f":"Sprawdz_pesel(Formularz!#REF!)","v":{"$error":"#VALUE!"}}]
[null,{"$f":"Sprawdz_pesel(Formularz!#REF!)","v":{"$error":"#VALUE!"}}]
[null,{"$f":"Sprawdz_pesel(Formularz!#REF!)","v":{"$error":"#VALUE!"}}]
[null,{"$f":"Sprawdz_pesel(Formularz!#REF!)","v":{"$error":"#VALUE!"}}]
[null,{"$f":"Sprawdz_pesel(Formularz!#REF!)","v":{"$error":"#VALUE!"}}]
[null,{"$f":"Sprawdz_pesel(Formularz!#REF!)","v":{"$error":"#VALUE!"}}]
[null,{"$f":"Sprawdz_pesel(Formularz!#REF!)","v":{"$error":"#VALUE!"}}]
[null,{"$f":"Sprawdz_pesel(Formularz!#REF!)","v":{"$error":"#VALUE!"}}]
[null,{"$f":"Sprawdz_pesel(Formularz!#REF!)","v":{"$error":"#VALUE!"}}]
[null,{"$f":"Sprawdz_pesel(Formularz!#REF!)","v":{"$error":"#VALUE!"}}]
[null,{"$f":"Sprawdz_pesel(Formularz!#REF!)","v":{"$error":"#VALUE!"}}]
[null,{"$f":"Sprawdz_pesel(Formularz!#REF!)","v":{"$error":"#VALUE!"}}]
[null,{"$f":"Sprawdz_pesel(Formularz!#REF!)","v":{"$error":"#VALUE!"}}]
[null,{"$f":"Sprawdz_pesel(Formularz!#REF!)","v":{"$error":"#VALUE!"}}]
[null,{"$f":"Sprawdz_pesel(Formularz!#REF!)","v":{"$error":"#VALUE!"}}]
[null,{"$f":"Sprawdz_pesel(Formularz!#REF!)","v":{"$error":"#VALUE!"}}]
[null,{"$f":"Sprawdz_pesel(Formularz!#REF!)","v":{"$error":"#VALUE!"}}]
[null,{"$f":"Sprawdz_pesel(Formularz!#REF!)","v":{"$error":"#VALUE!"}}]
[null,{"$f":"Sprawdz_pesel(Formularz!#REF!)","v":{"$error":"#VALUE!"}}]
[null,{"$f":"Sprawdz_pesel(Formularz!#REF!)","v":{"$error":"#VALUE!"}}]
[null,{"$f":"Sprawdz_pesel(Formularz!#REF!)","v":{"$error":"#VALUE!"}}]
[null,{"$f":"Sprawdz_pesel(Formularz!#REF!)","v":{"$error":"#VALUE!"}}]
[null,{"$f":"Sprawdz_pesel(Formularz!#REF!)","v":{"$error":"#VALUE!"}}]
[null,{"$f":"Sprawdz_pesel(Formularz!#REF!)","v":{"$error":"#VALUE!"}}]
[null,{"$f":"Sprawdz_pesel(Formularz!#REF!)","v":{"$error":"#VALUE!"}}]
[null,{"$f":"Sprawdz_pesel(Formularz!#REF!)","v":{"$error":"#VALUE!"}}]
[null,{"$f":"Sprawdz_pesel(Formularz!#REF!)","v":{"$error":"#VALUE!"}}]
[null,{"$f":"Sprawdz_pesel(Formularz!#REF!)","v":{"$error":"#VALUE!"}}]
[null,{"$f":"Sprawdz_pesel(Formularz!#REF!)","v":{"$error":"#VALUE!"}}]
[null,{"$f":"Sprawdz_pesel(Formularz!#REF!)","v":{"$error":"#VALUE!"}}]
[null,{"$f":"Sprawdz_pesel(Formularz!#REF!)","v":{"$error":"#VALUE!"}}]
[null,{"$f":"Sprawdz_pesel(Formularz!#REF!)","v":{"$error":"#VALUE!"}}]
[null,{"$f":"Sprawdz_pesel(Formularz!#REF!)","v":{"$error":"#VALUE!"}}]
[null,{"$f":"Sprawdz_pesel(Formularz!#REF!)","v":{"$error":"#VALUE!"}}]
[null,{"$f":"Sprawdz_pesel(Formularz!#REF!)","v":{"$error":"#VALUE!"}}]
[null,{"$f":"Sprawdz_pesel(Formularz!#REF!)","v":{"$error":"#VALUE!"}}]
[null,{"$f":"Sprawdz_pesel(Formularz!#REF!)","v":{"$error":"#VALUE!"}}]
[null,{"$f":"Sprawdz_pesel(Formularz!#REF!)","v":{"$error":"#VALUE!"}}]
[null,{"$f":"Sprawdz_pesel(Formularz!#REF!)","v":{"$error":"#VALUE!"}}]
[null,{"$f":"Sprawdz_pesel(Formularz!#REF!)","v":{"$error":"#VALUE!"}}]
[null,{"$f":"Sprawdz_pesel(Formularz!#REF!)","v":{"$error":"#VALUE!"}}]
[null,{"$f":"Sprawdz_pesel(Formularz!#REF!)","v":{"$error":"#VALUE!"}}]
[null,{"$f":"Sprawdz_pesel(Formularz!#REF!)","v":{"$error":"#VALUE!"}}]
[null,{"$f":"Sprawdz_pesel(Formularz!#REF!)","v":{"$error":"#VALUE!"}}]
[null,{"$f":"Sprawdz_pesel(Formularz!#REF!)","v":{"$error":"#VALUE!"}}]
[null,{"$f":"Sprawdz_pesel(Formularz!#REF!)","v":{"$error":"#VALUE!"}}]
[null,{"$f":"Sprawdz_pesel(Formularz!#REF!)","v":{"$error":"#VALUE!"}}]
[null,{"$f":"Sprawdz_pesel(Formularz!#REF!)","v":{"$error":"#VALUE!"}}]
[null,{"$f":"Sprawdz_pesel(Formularz!#REF!)","v":{"$error":"#VALUE!"}}]
[null,{"$f":"Sprawdz_pesel(Formularz!#REF!)","v":{"$error":"#VALUE!"}}]
[null,{"$f":"Sprawdz_pesel(Formularz!#REF!)","v":{"$error":"#VALUE!"}}]
[null,{"$f":"Sprawdz_pesel(Formularz!#REF!)","v":{"$error":"#VALUE!"}}]
[null,{"$f":"Sprawdz_pesel(Formularz!#REF!)","v":{"$error":"#VALUE!"}}]
[null,{"$f":"Sprawdz_pesel(Formularz!#REF!)","v":{"$error":"#VALUE!"}}]
[null,{"$f":"Sprawdz_pesel(Formularz!#REF!)","v":{"$error":"#VALUE!"}}]
[null,{"$f":"Sprawdz_pesel(Formularz!#REF!)","v":{"$error":"#VALUE!"}}]
[null,{"$f":"Sprawdz_pesel(Formularz!#REF!)","v":{"$error":"#VALUE!"}}]
[null,{"$f":"Sprawdz_pesel(Formularz!#REF!)","v":{"$error":"#VALUE!"}}]
[null,{"$f":"Sprawdz_pesel(Formularz!#REF!)","v":{"$error":"#VALUE!"}}]
[null,{"$f":"Sprawdz_pesel(Formularz!#REF!)","v":{"$error":"#VALUE!"}}]
[null,{"$f":"Sprawdz_pesel(Formularz!#REF!)","v":{"$error":"#VALUE!"}}]
[null,{"$f":"Sprawdz_pesel(Formularz!#REF!)","v":{"$error":"#VALUE!"}}]
[null,{"$f":"Sprawdz_pesel(Formularz!#REF!)","v":{"$error":"#VALUE!"}}]
[null,{"$f":"Sprawdz_pesel(Formularz!#REF!)","v":{"$error":"#VALUE!"}}]
[null,{"$f":"Sprawdz_pesel(Formularz!#REF!)","v":{"$error":"#VALUE!"}}]
[null,{"$f":"Sprawdz_pesel(Formularz!#REF!)","v":{"$error":"#VALUE!"}}]
[null,{"$f":"Sprawdz_pesel(Formularz!#REF!)","v":{"$error":"#VALUE!"}}]
[null,{"$f":"Sprawdz_pesel(Formularz!#REF!)","v":{"$error":"#VALUE!"}}]
[null,{"$f":"Sprawdz_pesel(Formularz!#REF!)","v":{"$error":"#VALUE!"}}]
[null,{"$f":"Sprawdz_pesel(Formularz!#REF!)","v":{"$error":"#VALUE!"}}]
[null,{"$f":"Sprawdz_pesel(Formularz!#REF!)","v":{"$error":"#VALUE!"}}]
[null,{"$f":"Sprawdz_pesel(Formularz!#REF!)","v":{"$error":"#VALUE!"}}]
[null,{"$f":"Sprawdz_pesel(Formularz!#REF!)","v":{"$error":"#VALUE!"}}]
[null,{"$f":"Sprawdz_pesel(Formularz!#REF!)","v":{"$error":"#VALUE!"}}]
[null,{"$f":"Sprawdz_pesel(Formularz!#REF!)","v":{"$error":"#VALUE!"}}]
[null,{"$f":"Sprawdz_pesel(Formularz!#REF!)","v":{"$error":"#VALUE!"}}]
[null,{"$f":"Sprawdz_pesel(Formularz!#REF!)","v":{"$error":"#VALUE!"}}]
[null,{"$f":"Sprawdz_pesel(Formularz!#REF!)","v":{"$error":"#VALUE!"}}]
[null,{"$f":"Sprawdz_pesel(Formularz!#REF!)","v":{"$error":"#VALUE!"}}]
[null,{"$f":"Sprawdz_pesel(Formularz!#REF!)","v":{"$error":"#VALUE!"}}]
[null,{"$f":"Sprawdz_pesel(Formularz!#REF!)","v":{"$error":"#VALUE!"}}]
[null,{"$f":"Sprawdz_pesel(Formularz!#REF!)","v":{"$error":"#VALUE!"}}]
[null,{"$f":"Sprawdz_pesel(Formularz!#REF!)","v":{"$error":"#VALUE!"}}]
[null,{"$f":"Sprawdz_pesel(Formularz!#REF!)","v":{"$error":"#VALUE!"}}]
[null,{"$f":"Sprawdz_pesel(Formularz!#REF!)","v":{"$error":"#VALUE!"}}]
[null,{"$f":"Sprawdz_pesel(Formularz!#REF!)","v":{"$error":"#VALUE!"}}]
[null,{"$f":"Sprawdz_pesel(Formularz!#REF!)","v":{"$error":"#VALUE!"}}]
[null,{"$f":"Sprawdz_pesel(Formularz!#REF!)","v":{"$error":"#VALUE!"}}]
[null,{"$f":"Sprawdz_pesel(Formularz!#REF!)","v":{"$error":"#VALUE!"}}]
[null,{"$f":"Sprawdz_pesel(Formularz!#REF!)","v":{"$error":"#VALUE!"}}]
[null,{"$f":"Sprawdz_pesel(Formularz!#REF!)","v":{"$error":"#VALUE!"}}]
[null,{"$f":"Sprawdz_pesel(Formularz!#REF!)","v":{"$error":"#VALUE!"}}]
[null,{"$f":"Sprawdz_pesel(Formularz!#REF!)","v":{"$error":"#VALUE!"}}]
[null,{"$f":"Sprawdz_pesel(Formularz!#REF!)","v":{"$error":"#VALUE!"}}]
[null,{"$f":"Sprawdz_pesel(Formularz!#REF!)","v":{"$error":"#VALUE!"}}]
[null,{"$f":"Sprawdz_pesel(Formularz!#REF!)","v":{"$error":"#VALUE!"}}]
[null,{"$f":"Sprawdz_pesel(Formularz!#REF!)","v":{"$error":"#VALUE!"}}]
[null,{"$f":"Sprawdz_pesel(Formularz!#REF!)","v":{"$error":"#VALUE!"}}]
[null,{"$f":"Sprawdz_pesel(Formularz!#REF!)","v":{"$error":"#VALUE!"}}]
[null,{"$f":"Sprawdz_pesel(Formularz!#REF!)","v":{"$error":"#VALUE!"}}]
[null,{"$f":"Sprawdz_pesel(Formularz!#REF!)","v":{"$error":"#VALUE!"}}]
[null,{"$f":"Sprawdz_pesel(Formularz!#REF!)","v":{"$error":"#VALUE!"}}]
[null,{"$f":"Sprawdz_pesel(Formularz!#REF!)","v":{"$error":"#VALUE!"}}]
[null,{"$f":"Sprawdz_pesel(Formularz!#REF!)","v":{"$error":"#VALUE!"}}]
[null,{"$f":"Sprawdz_pesel(Formularz!#REF!)","v":{"$error":"#VALUE!"}}]
[null,{"$f":"Sprawdz_pesel(Formularz!#REF!)","v":{"$error":"#VALUE!"}}]
[null,{"$f":"Sprawdz_pesel(Formularz!#REF!)","v":{"$error":"#VALUE!"}}]
[null,{"$f":"Sprawdz_pesel(Formularz!#REF!)","v":{"$error":"#VALUE!"}}]
[null,{"$f":"Sprawdz_pesel(Formularz!#REF!)","v":{"$error":"#VALUE!"}}]
[null,{"$f":"Sprawdz_pesel(Formularz!#REF!)","v":{"$error":"#VALUE!"}}]
[null,{"$f":"Sprawdz_pesel(Formularz!#REF!)","v":{"$error":"#VALUE!"}}]
[null,{"$f":"Sprawdz_pesel(Formularz!#REF!)","v":{"$error":"#VALUE!"}}]
[null,{"$f":"Sprawdz_pesel(Formularz!#REF!)","v":{"$error":"#VALUE!"}}]
[null,{"$f":"Sprawdz_pesel(Formularz!#REF!)","v":{"$error":"#VALUE!"}}]
[null,{"$f":"Sprawdz_pesel(Formularz!#REF!)","v":{"$error":"#VALUE!"}}]
[null,{"$f":"Sprawdz_pesel(Formularz!#REF!)","v":{"$error":"#VALUE!"}}]
[null,{"$f":"Sprawdz_pesel(Formularz!#REF!)","v":{"$error":"#VALUE!"}}]
[null,{"$f":"Sprawdz_pesel(Formularz!#REF!)","v":{"$error":"#VALUE!"}}]
[null,{"$f":"Sprawdz_pesel(Formularz!#REF!)","v":{"$error":"#VALUE!"}}]
[null,{"$f":"Sprawdz_pesel(Formularz!#REF!)","v":{"$error":"#VALUE!"}}]
[null,{"$f":"Sprawdz_pesel(Formularz!#REF!)","v":{"$error":"#VALUE!"}}]
[null,{"$f":"Sprawdz_pesel(Formularz!#REF!)","v":{"$error":"#VALUE!"}}]
[null,{"$f":"Sprawdz_pesel(Formularz!#REF!)","v":{"$error":"#VALUE!"}}]
[null,{"$f":"Sprawdz_pesel(Formularz!#REF!)","v":{"$error":"#VALUE!"}}]
[null,{"$f":"Sprawdz_pesel(Formularz!#REF!)","v":{"$error":"#VALUE!"}}]
[null,{"$f":"Sprawdz_pesel(Formularz!#REF!)","v":{"$error":"#VALUE!"}}]
[null,{"$f":"Sprawdz_pesel(Formularz!#REF!)","v":{"$error":"#VALUE!"}}]
[null,{"$f":"Sprawdz_pesel(Formularz!#REF!)","v":{"$error":"#VALUE!"}}]
[null,{"$f":"Sprawdz_pesel(Formularz!#REF!)","v":{"$error":"#VALUE!"}}]
[null,{"$f":"Sprawdz_pesel(Formularz!#REF!)","v":{"$error":"#VALUE!"}}]
[null,{"$f":"Sprawdz_pesel(Formularz!#REF!)","v":{"$error":"#VALUE!"}}]
[null,{"$f":"Sprawdz_pesel(Formularz!#REF!)","v":{"$error":"#VALUE!"}}]
[null,{"$f":"Sprawdz_pesel(Formularz!#REF!)","v":{"$error":"#VALUE!"}}]
[null,{"$f":"Sprawdz_pesel(Formularz!#REF!)","v":{"$error":"#VALUE!"}}]
[null,{"$f":"Sprawdz_pesel(Formularz!#REF!)","v":{"$error":"#VALUE!"}}]
[null,{"$f":"Sprawdz_pesel(Formularz!#REF!)","v":{"$error":"#VALUE!"}}]
[null,{"$f":"Sprawdz_pesel(Formularz!#REF!)","v":{"$error":"#VALUE!"}}]
[null,{"$f":"Sprawdz_pesel(Formularz!#REF!)","v":{"$error":"#VALUE!"}}]
[null,{"$f":"Sprawdz_pesel(Formularz!#REF!)","v":{"$error":"#VALUE!"}}]
[null,{"$f":"Sprawdz_pesel(Formularz!#REF!)","v":{"$error":"#VALUE!"}}]
[null,{"$f":"Sprawdz_pesel(Formularz!#REF!)","v":{"$error":"#VALUE!"}}]
[null,{"$f":"Sprawdz_pesel(Formularz!#REF!)","v":{"$error":"#VALUE!"}}]
[null,{"$f":"Sprawdz_pesel(Formularz!#REF!)","v":{"$error":"#VALUE!"}}]
[null,{"$f":"Sprawdz_pesel(Formularz!#REF!)","v":{"$error":"#VALUE!"}}]
[null,{"$f":"Sprawdz_pesel(Formularz!#REF!)","v":{"$error":"#VALUE!"}}]
[null,{"$f":"Sprawdz_pesel(Formularz!#REF!)","v":{"$error":"#VALUE!"}}]
[null,{"$f":"Sprawdz_pesel(Formularz!#REF!)","v":{"$error":"#VALUE!"}}]
[null,{"$f":"Sprawdz_pesel(Formularz!#REF!)","v":{"$error":"#VALUE!"}}]
[null,{"$f":"Sprawdz_pesel(Formularz!#REF!)","v":{"$error":"#VALUE!"}}]
[null,{"$f":"Sprawdz_pesel(Formularz!#REF!)","v":{"$error":"#VALUE!"}}]
[null,{"$f":"Sprawdz_pesel(Formularz!#REF!)","v":{"$error":"#VALUE!"}}]
[null,{"$f":"Sprawdz_pesel(Formularz!#REF!)","v":{"$error":"#VALUE!"}}]
[null,{"$f":"Sprawdz_pesel(Formularz!#REF!)","v":{"$error":"#VALUE!"}}]
[null,{"$f":"Sprawdz_pesel(Formularz!#REF!)","v":{"$error":"#VALUE!"}}]
[null,{"$f":"Sprawdz_pesel(Formularz!#REF!)","v":{"$error":"#VALUE!"}}]
[null,{"$f":"Sprawdz_pesel(Formularz!#REF!)","v":{"$error":"#VALUE!"}}]
[null,{"$f":"Sprawdz_pesel(Formularz!#REF!)","v":{"$error":"#VALUE!"}}]
[null,{"$f":"Sprawdz_pesel(Formularz!#REF!)","v":{"$error":"#VALUE!"}}]
[null,{"$f":"Sprawdz_pesel(Formularz!#REF!)","v":{"$error":"#VALUE!"}}]
[null,{"$f":"Sprawdz_pesel(Formularz!#REF!)","v":{"$error":"#VALUE!"}}]
[null,{"$f":"Sprawdz_pesel(Formularz!#REF!)","v":{"$error":"#VALUE!"}}]
[null,{"$f":"Sprawdz_pesel(Formularz!#REF!)","v":{"$error":"#VALUE!"}}]
[null,{"$f":"Sprawdz_pesel(Formularz!#REF!)","v":{"$error":"#VALUE!"}}]
[null,{"$f":"Sprawdz_pesel(Formularz!#REF!)","v":{"$error":"#VALUE!"}}]
[null,{"$f":"Sprawdz_pesel(Formularz!#REF!)","v":{"$error":"#VALUE!"}}]
[null,{"$f":"Sprawdz_pesel(Formularz!#REF!)","v":{"$error":"#VALUE!"}}]
[null,{"$f":"Sprawdz_pesel(Formularz!#REF!)","v":{"$error":"#VALUE!"}}]
[null,{"$f":"Sprawdz_pesel(Formularz!#REF!)","v":{"$error":"#VALUE!"}}]
[null,{"$f":"Sprawdz_pesel(Formularz!#REF!)","v":{"$error":"#VALUE!"}}]
[null,{"$f":"Sprawdz_pesel(Formularz!#REF!)","v":{"$error":"#VALUE!"}}]
[null,{"$f":"Sprawdz_pesel(Formularz!#REF!)","v":{"$error":"#VALUE!"}}]
[null,{"$f":"Sprawdz_pesel(Formularz!#REF!)","v":{"$error":"#VALUE!"}}]
[null,{"$f":"Sprawdz_pesel(Formularz!#REF!)","v":{"$error":"#VALUE!"}}]
[null,{"$f":"Sprawdz_pesel(Formularz!#REF!)","v":{"$error":"#VALUE!"}}]
[null,{"$f":"Sprawdz_pesel(Formularz!#REF!)","v":{"$error":"#VALUE!"}}]
[null,{"$f":"Sprawdz_pesel(Formularz!#REF!)","v":{"$error":"#VALUE!"}}]
[null,{"$f":"Sprawdz_pesel(Formularz!#REF!)","v":{"$error":"#VALUE!"}}]
[null,{"$f":"Sprawdz_pesel(Formularz!#REF!)","v":{"$error":"#VALUE!"}}]
[null,{"$f":"Sprawdz_pesel(Formularz!#REF!)","v":{"$error":"#VALUE!"}}]
[null,{"$f":"Sprawdz_pesel(Formularz!#REF!)","v":{"$error":"#VALUE!"}}]
[null,{"$f":"Sprawdz_pesel(Formularz!#REF!)","v":{"$error":"#VALUE!"}}]
[null,{"$f":"Sprawdz_pesel(Formularz!#REF!)","v":{"$error":"#VALUE!"}}]
[null,{"$f":"Sprawdz_pesel(Formularz!#REF!)","v":{"$error":"#VALUE!"}}]
[null,{"$f":"Sprawdz_pesel(Formularz!#REF!)","v":{"$error":"#VALUE!"}}]
[null,{"$f":"Sprawdz_pesel(Formularz!#REF!)","v":{"$error":"#VALUE!"}}]
[null,{"$f":"Sprawdz_pesel(Formularz!#REF!)","v":{"$error":"#VALUE!"}}]
[null,{"$f":"Sprawdz_pesel(Formularz!#REF!)","v":{"$error":"#VALUE!"}}]
[null,{"$f":"Sprawdz_pesel(Formularz!#REF!)","v":{"$error":"#VALUE!"}}]
[null,{"$f":"Sprawdz_pesel(Formularz!#REF!)","v":{"$error":"#VALUE!"}}]
[null,{"$f":"Sprawdz_pesel(Formularz!#REF!)","v":{"$error":"#VALUE!"}}]
[null,{"$f":"Sprawdz_pesel(Formularz!#REF!)","v":{"$error":"#VALUE!"}}]
[null,{"$f":"Sprawdz_pesel(Formularz!#REF!)","v":{"$error":"#VALUE!"}}]
[null,{"$f":"Sprawdz_pesel(Formularz!#REF!)","v":{"$error":"#VALUE!"}}]
[null,{"$f":"Sprawdz_pesel(Formularz!#REF!)","v":{"$error":"#VALUE!"}}]
[null,{"$f":"Sprawdz_pesel(Formularz!#REF!)","v":{"$error":"#VALUE!"}}]
[null,{"$f":"Sprawdz_pesel(Formularz!#REF!)","v":{"$error":"#VALUE!"}}]
[null,{"$f":"Sprawdz_pesel(Formularz!#REF!)","v":{"$error":"#VALUE!"}}]
[null,{"$f":"Sprawdz_pesel(Formularz!#REF!)","v":{"$error":"#VALUE!"}}]
[null,{"$f":"Sprawdz_pesel(Formularz!#REF!)","v":{"$error":"#VALUE!"}}]
[null,{"$f":"Sprawdz_pesel(Formularz!#REF!)","v":{"$error":"#VALUE!"}}]
[null,{"$f":"Sprawdz_pesel(Formularz!#REF!)","v":{"$error":"#VALUE!"}}]
[null,{"$f":"Sprawdz_pesel(Formularz!#REF!)","v":{"$error":"#VALUE!"}}]
[null,{"$f":"Sprawdz_pesel(Formularz!#REF!)","v":{"$error":"#VALUE!"}}]
[null,{"$f":"Sprawdz_pesel(Formularz!#REF!)","v":{"$error":"#VALUE!"}}]
[null,{"$f":"Sprawdz_pesel(Formularz!#REF!)","v":{"$error":"#VALUE!"}}]
[null,{"$f":"Sprawdz_pesel(Formularz!#REF!)","v":{"$error":"#VALUE!"}}]
[null,{"$f":"Sprawdz_pesel(Formularz!#REF!)","v":{"$error":"#VALUE!"}}]
[null,{"$f":"Sprawdz_pesel(Formularz!#REF!)","v":{"$error":"#VALUE!"}}]
[null,{"$f":"Sprawdz_pesel(Formularz!#REF!)","v":{"$error":"#VALUE!"}}]
[null,{"$f":"Sprawdz_pesel(Formularz!#REF!)","v":{"$error":"#VALUE!"}}]
[null,{"$f":"Sprawdz_pesel(Formularz!#REF!)","v":{"$error":"#VALUE!"}}]
[null,{"$f":"Sprawdz_pesel(Formularz!#REF!)","v":{"$error":"#VALUE!"}}]
[null,{"$f":"Sprawdz_pesel(Formularz!#REF!)","v":{"$error":"#VALUE!"}}]
[null,{"$f":"Sprawdz_pesel(Formularz!#REF!)","v":{"$error":"#VALUE!"}}]
[null,{"$f":"Sprawdz_pesel(Formularz!#REF!)","v":{"$error":"#VALUE!"}}]
[null,{"$f":"Sprawdz_pesel(Formularz!#REF!)","v":{"$error":"#VALUE!"}}]
[null,{"$f":"Sprawdz_pesel(Formularz!#REF!)","v":{"$error":"#VALUE!"}}]
[null,{"$f":"Sprawdz_pesel(Formularz!#REF!)","v":{"$error":"#VALUE!"}}]
[null,{"$f":"Sprawdz_pesel(Formularz!#REF!)","v":{"$error":"#VALUE!"}}]
[null,{"$f":"Sprawdz_pesel(Formularz!#REF!)","v":{"$error":"#VALUE!"}}]
[null,{"$f":"Sprawdz_pesel(Formularz!#REF!)","v":{"$error":"#VALUE!"}}]
[null,{"$f":"Sprawdz_pesel(Formularz!#REF!)","v":{"$error":"#VALUE!"}}]
[null,{"$f":"Sprawdz_pesel(Formularz!#REF!)","v":{"$error":"#VALUE!"}}]
[null,{"$f":"Sprawdz_pesel(Formularz!#REF!)","v":{"$error":"#VALUE!"}}]
[null,{"$f":"Sprawdz_pesel(Formularz!#REF!)","v":{"$error":"#VALUE!"}}]
[null,{"$f":"Sprawdz_pesel(Formularz!#REF!)","v":{"$error":"#VALUE!"}}]
[null,{"$f":"Sprawdz_pesel(Formularz!#REF!)","v":{"$error":"#VALUE!"}}]
[null,{"$f":"Sprawdz_pesel(Formularz!#REF!)","v":{"$error":"#VALUE!"}}]
[null,{"$f":"Sprawdz_pesel(Formularz!#REF!)","v":{"$error":"#VALUE!"}}]
[null,{"$f":"Sprawdz_pesel(Formularz!#REF!)","v":{"$error":"#VALUE!"}}]
[null,{"$f":"Sprawdz_pesel(Formularz!#REF!)","v":{"$error":"#VALUE!"}}]
[null,{"$f":"Sprawdz_pesel(Formularz!#REF!)","v":{"$error":"#VALUE!"}}]
[null,{"$f":"Sprawdz_pesel(Formularz!#REF!)","v":{"$error":"#VALUE!"}}]
[null,{"$f":"Sprawdz_pesel(Formularz!#REF!)","v":{"$error":"#VALUE!"}}]
[null,{"$f":"Sprawdz_pesel(Formularz!#REF!)","v":{"$error":"#VALUE!"}}]
[null,{"$f":"Sprawdz_pesel(Formularz!#REF!)","v":{"$error":"#VALUE!"}}]
[null,{"$f":"Sprawdz_pesel(Formularz!#REF!)","v":{"$error":"#VALUE!"}}]
[null,{"$f":"Sprawdz_pesel(Formularz!#REF!)","v":{"$error":"#VALUE!"}}]
[null,{"$f":"Sprawdz_pesel(Formularz!#REF!)","v":{"$error":"#VALUE!"}}]
[null,{"$f":"Sprawdz_pesel(Formularz!#REF!)","v":{"$error":"#VALUE!"}}]
[null,{"$f":"Sprawdz_pesel(Formularz!#REF!)","v":{"$error":"#VALUE!"}}]
[null,{"$f":"Sprawdz_pesel(Formularz!#REF!)","v":{"$error":"#VALUE!"}}]
[null,{"$f":"Sprawdz_pesel(Formularz!#REF!)","v":{"$error":"#VALUE!"}}]
[null,{"$f":"Sprawdz_pesel(Formularz!#REF!)","v":{"$error":"#VALUE!"}}]
[null,{"$f":"Sprawdz_pesel(Formularz!#REF!)","v":{"$error":"#VALUE!"}}]
[null,{"$f":"Sprawdz_pesel(Formularz!#REF!)","v":{"$error":"#VALUE!"}}]
[null,{"$f":"Sprawdz_pesel(Formularz!#REF!)","v":{"$error":"#VALUE!"}}]
[null,{"$f":"Sprawdz_pesel(Formularz!#REF!)","v":{"$error":"#VALUE!"}}]
[null,{"$f":"Sprawdz_pesel(Formularz!#REF!)","v":{"$error":"#VALUE!"}}]
[null,{"$f":"Sprawdz_pesel(Formularz!#REF!)","v":{"$error":"#VALUE!"}}]
[null,{"$f":"Sprawdz_pesel(Formularz!#REF!)","v":{"$error":"#VALUE!"}}]
[null,{"$f":"Sprawdz_pesel(Formularz!#REF!)","v":{"$error":"#VALUE!"}}]
[null,{"$f":"Sprawdz_pesel(Formularz!#REF!)","v":{"$error":"#VALUE!"}}]
[null,{"$f":"Sprawdz_pesel(Formularz!#REF!)","v":{"$error":"#VALUE!"}}]
[null,{"$f":"Sprawdz_pesel(Formularz!#REF!)","v":{"$error":"#VALUE!"}}]
[null,{"$f":"Sprawdz_pesel(Formularz!#REF!)","v":{"$error":"#VALUE!"}}]
[null,{"$f":"Sprawdz_pesel(Formularz!#REF!)","v":{"$error":"#VALUE!"}}]
[null,{"$f":"Sprawdz_pesel(Formularz!#REF!)","v":{"$error":"#VALUE!"}}]
[null,{"$f":"Sprawdz_pesel(Formularz!#REF!)","v":{"$error":"#VALUE!"}}]
[null,{"$f":"Sprawdz_pesel(Formularz!#REF!)","v":{"$error":"#VALUE!"}}]
[null,{"$f":"Sprawdz_pesel(Formularz!#REF!)","v":{"$error":"#VALUE!"}}]
[null,{"$f":"Sprawdz_pesel(Formularz!#REF!)","v":{"$error":"#VALUE!"}}]
[null,{"$f":"Sprawdz_pesel(Formularz!#REF!)","v":{"$error":"#VALUE!"}}]
[null,{"$f":"Sprawdz_pesel(Formularz!#REF!)","v":{"$error":"#VALUE!"}}]
[null,{"$f":"Sprawdz_pesel(Formularz!#REF!)","v":{"$error":"#VALUE!"}}]
[null,{"$f":"Sprawdz_pesel(Formularz!#REF!)","v":{"$error":"#VALUE!"}}]
[null,{"$f":"Sprawdz_pesel(Formularz!#REF!)","v":{"$error":"#VALUE!"}}]
[null,{"$f":"Sprawdz_pesel(Formularz!#REF!)","v":{"$error":"#VALUE!"}}]
[null,{"$f":"Sprawdz_pesel(Formularz!#REF!)","v":{"$error":"#VALUE!"}}]
[null,{"$f":"Sprawdz_pesel(Formularz!#REF!)","v":{"$error":"#VALUE!"}}]
[null,{"$f":"Sprawdz_pesel(Formularz!#REF!)","v":{"$error":"#VALUE!"}}]
[null,{"$f":"Sprawdz_pesel(Formularz!#REF!)","v":{"$error":"#VALUE!"}}]
[null,{"$f":"Sprawdz_pesel(Formularz!#REF!)","v":{"$error":"#VALUE!"}}]
[null,{"$f":"Sprawdz_pesel(Formularz!#REF!)","v":{"$error":"#VALUE!"}}]
[null,{"$f":"Sprawdz_pesel(Formularz!#REF!)","v":{"$error":"#VALUE!"}}]
[null,{"$f":"Sprawdz_pesel(Formularz!#REF!)","v":{"$error":"#VALUE!"}}]
[null,{"$f":"Sprawdz_pesel(Formularz!#REF!)","v":{"$error":"#VALUE!"}}]
[null,{"$f":"Sprawdz_pesel(Formularz!#REF!)","v":{"$error":"#VALUE!"}}]
[null,{"$f":"Sprawdz_pesel(Formularz!#REF!)","v":{"$error":"#VALUE!"}}]
[null,{"$f":"Sprawdz_pesel(Formularz!#REF!)","v":{"$error":"#VALUE!"}}]
[null,{"$f":"Sprawdz_pesel(Formularz!#REF!)","v":{"$error":"#VALUE!"}}]
[null,{"$f":"Sprawdz_pesel(Formularz!#REF!)","v":{"$error":"#VALUE!"}}]
[null,{"$f":"Sprawdz_pesel(Formularz!#REF!)","v":{"$error":"#VALUE!"}}]
[null,{"$f":"Sprawdz_pesel(Formularz!#REF!)","v":{"$error":"#VALUE!"}}]
[null,{"$f":"Sprawdz_pesel(Formularz!#REF!)","v":{"$error":"#VALUE!"}}]
[null,{"$f":"Sprawdz_pesel(Formularz!#REF!)","v":{"$error":"#VALUE!"}}]
[null,{"$f":"Sprawdz_pesel(Formularz!#REF!)","v":{"$error":"#VALUE!"}}]
[null,{"$f":"Sprawdz_pesel(Formularz!#REF!)","v":{"$error":"#VALUE!"}}]
[null,{"$f":"Sprawdz_pesel(Formularz!#REF!)","v":{"$error":"#VALUE!"}}]
[null,{"$f":"Sprawdz_pesel(Formularz!#REF!)","v":{"$error":"#VALUE!"}}]
[null,{"$f":"Sprawdz_pesel(Formularz!#REF!)","v":{"$error":"#VALUE!"}}]
[null,{"$f":"Sprawdz_pesel(Formularz!#REF!)","v":{"$error":"#VALUE!"}}]
[null,{"$f":"Sprawdz_pesel(Formularz!#REF!)","v":{"$error":"#VALUE!"}}]
[null,{"$f":"Sprawdz_pesel(Formularz!#REF!)","v":{"$error":"#VALUE!"}}]
[null,{"$f":"Sprawdz_pesel(Formularz!#REF!)","v":{"$error":"#VALUE!"}}]
[null,{"$f":"Sprawdz_pesel(Formularz!#REF!)","v":{"$error":"#VALUE!"}}]
[null,{"$f":"Sprawdz_pesel(Formularz!#REF!)","v":{"$error":"#VALUE!"}}]
[null,{"$f":"Sprawdz_pesel(Formularz!#REF!)","v":{"$error":"#VALUE!"}}]
[null,{"$f":"Sprawdz_pesel(Formularz!#REF!)","v":{"$error":"#VALUE!"}}]
[null,{"$f":"Sprawdz_pesel(Formularz!#REF!)","v":{"$error":"#VALUE!"}}]
[null,{"$f":"Sprawdz_pesel(Formularz!#REF!)","v":{"$error":"#VALUE!"}}]
[null,{"$f":"Sprawdz_pesel(Formularz!#REF!)","v":{"$error":"#VALUE!"}}]
[null,{"$f":"Sprawdz_pesel(Formularz!#REF!)","v":{"$error":"#VALUE!"}}]
[null,{"$f":"Sprawdz_pesel(Formularz!#REF!)","v":{"$error":"#VALUE!"}}]
[null,{"$f":"Sprawdz_pesel(Formularz!#REF!)","v":{"$error":"#VALUE!"}}]
[null,{"$f":"Sprawdz_pesel(Formularz!#REF!)","v":{"$error":"#VALUE!"}}]
[null,{"$f":"Sprawdz_pesel(Formularz!#REF!)","v":{"$error":"#VALUE!"}}]
[null,{"$f":"Sprawdz_pesel(Formularz!#REF!)","v":{"$error":"#VALUE!"}}]
[null,{"$f":"Sprawdz_pesel(Formularz!#REF!)","v":{"$error":"#VALUE!"}}]
[null,{"$f":"Sprawdz_pesel(Formularz!#REF!)","v":{"$error":"#VALUE!"}}]
[null,{"$f":"Sprawdz_pesel(Formularz!#REF!)","v":{"$error":"#VALUE!"}}]
[null,{"$f":"Sprawdz_pesel(Formularz!#REF!)","v":{"$error":"#VALUE!"}}]
[null,{"$f":"Sprawdz_pesel(Formularz!#REF!)","v":{"$error":"#VALUE!"}}]
[null,{"$f":"Sprawdz_pesel(Formularz!#REF!)","v":{"$error":"#VALUE!"}}]
[null,{"$f":"Sprawdz_pesel(Formularz!#REF!)","v":{"$error":"#VALUE!"}}]
[null,{"$f":"Sprawdz_pesel(Formularz!#REF!)","v":{"$error":"#VALUE!"}}]
[null,{"$f":"Sprawdz_pesel(Formularz!#REF!)","v":{"$error":"#VALUE!"}}]
[null,{"$f":"Sprawdz_pesel(Formularz!#REF!)","v":{"$error":"#VALUE!"}}]
[null,{"$f":"Sprawdz_pesel(Formularz!#REF!)","v":{"$error":"#VALUE!"}}]
[null,{"$f":"Sprawdz_pesel(Formularz!#REF!)","v":{"$error":"#VALUE!"}}]
[null,{"$f":"Sprawdz_pesel(Formularz!#REF!)","v":{"$error":"#VALUE!"}}]
[null,{"$f":"Sprawdz_pesel(Formularz!#REF!)","v":{"$error":"#VALUE!"}}]
[null,{"$f":"Sprawdz_pesel(Formularz!#REF!)","v":{"$error":"#VALUE!"}}]
[null,{"$f":"Sprawdz_pesel(Formularz!#REF!)","v":{"$error":"#VALUE!"}}]
[null,{"$f":"Sprawdz_pesel(Formularz!#REF!)","v":{"$error":"#VALUE!"}}]
[null,{"$f":"Sprawdz_pesel(Formularz!#REF!)","v":{"$error":"#VALUE!"}}]
[null,{"$f":"Sprawdz_pesel(Formularz!#REF!)","v":{"$error":"#VALUE!"}}]
[null,{"$f":"Sprawdz_pesel(Formularz!#REF!)","v":{"$error":"#VALUE!"}}]
[null,{"$f":"Sprawdz_pesel(Formularz!#REF!)","v":{"$error":"#VALUE!"}}]
[null,{"$f":"Sprawdz_pesel(Formularz!#REF!)","v":{"$error":"#VALUE!"}}]
[null,{"$f":"Sprawdz_pesel(Formularz!#REF!)","v":{"$error":"#VALUE!"}}]
[null,{"$f":"Sprawdz_pesel(Formularz!#REF!)","v":{"$error":"#VALUE!"}}]
[null,{"$f":"Sprawdz_pesel(Formularz!#REF!)","v":{"$error":"#VALUE!"}}]
[null,{"$f":"Sprawdz_pesel(Formularz!#REF!)","v":{"$error":"#VALUE!"}}]
[null,{"$f":"Sprawdz_pesel(Formularz!#REF!)","v":{"$error":"#VALUE!"}}]
[null,{"$f":"Sprawdz_pesel(Formularz!#REF!)","v":{"$error":"#VALUE!"}}]
[null,{"$f":"Sprawdz_pesel(Formularz!#REF!)","v":{"$error":"#VALUE!"}}]
[null,{"$f":"Sprawdz_pesel(Formularz!#REF!)","v":{"$error":"#VALUE!"}}]
[null,{"$f":"Sprawdz_pesel(Formularz!#REF!)","v":{"$error":"#VALUE!"}}]
[null,{"$f":"Sprawdz_pesel(Formularz!#REF!)","v":{"$error":"#VALUE!"}}]
[null,{"$f":"Sprawdz_pesel(Formularz!#REF!)","v":{"$error":"#VALUE!"}}]
[null,{"$f":"Sprawdz_pesel(Formularz!#REF!)","v":{"$error":"#VALUE!"}}]
[null,{"$f":"Sprawdz_pesel(Formularz!#REF!)","v":{"$error":"#VALUE!"}}]
[null,{"$f":"Sprawdz_pesel(Formularz!#REF!)","v":{"$error":"#VALUE!"}}]
[null,{"$f":"Sprawdz_pesel(Formularz!#REF!)","v":{"$error":"#VALUE!"}}]
[null,{"$f":"Sprawdz_pesel(Formularz!#REF!)","v":{"$error":"#VALUE!"}}]
[null,{"$f":"Sprawdz_pesel(Formularz!#REF!)","v":{"$error":"#VALUE!"}}]
[null,{"$f":"Sprawdz_pesel(Formularz!#REF!)","v":{"$error":"#VALUE!"}}]
[null,{"$f":"Sprawdz_pesel(Formularz!#REF!)","v":{"$error":"#VALUE!"}}]
[null,{"$f":"Sprawdz_pesel(Formularz!#REF!)","v":{"$error":"#VALUE!"}}]
[null,{"$f":"Sprawdz_pesel(Formularz!#REF!)","v":{"$error":"#VALUE!"}}]
[null,{"$f":"Sprawdz_pesel(Formularz!#REF!)","v":{"$error":"#VALUE!"}}]
[null,{"$f":"Sprawdz_pesel(Formularz!#REF!)","v":{"$error":"#VALUE!"}}]
[null,{"$f":"Sprawdz_pesel(Formularz!#REF!)","v":{"$error":"#VALUE!"}}]
[null,{"$f":"Sprawdz_pesel(Formularz!#REF!)","v":{"$error":"#VALUE!"}}]
[null,{"$f":"Sprawdz_pesel(Formularz!#REF!)","v":{"$error":"#VALUE!"}}]
[null,{"$f":"Sprawdz_pesel(Formularz!#REF!)","v":{"$error":"#VALUE!"}}]
[null,{"$f":"Sprawdz_pesel(Formularz!#REF!)","v":{"$error":"#VALUE!"}}]
[null,{"$f":"Sprawdz_pesel(Formularz!#REF!)","v":{"$error":"#VALUE!"}}]
[null,{"$f":"Sprawdz_pesel(Formularz!#REF!)","v":{"$error":"#VALUE!"}}]
[null,{"$f":"Sprawdz_pesel(Formularz!#REF!)","v":{"$error":"#VALUE!"}}]
[null,{"$f":"Sprawdz_pesel(Formularz!#REF!)","v":{"$error":"#VALUE!"}}]
[null,{"$f":"Sprawdz_pesel(Formularz!#REF!)","v":{"$error":"#VALUE!"}}]
[null,{"$f":"Sprawdz_pesel(Formularz!#REF!)","v":{"$error":"#VALUE!"}}]
[null,{"$f":"Sprawdz_pesel(Formularz!#REF!)","v":{"$error":"#VALUE!"}}]
[null,{"$f":"Sprawdz_pesel(Formularz!#REF!)","v":{"$error":"#VALUE!"}}]
[null,{"$f":"Sprawdz_pesel(Formularz!#REF!)","v":{"$error":"#VALUE!"}}]
[null,{"$f":"Sprawdz_pesel(Formularz!#REF!)","v":{"$error":"#VALUE!"}}]
[null,{"$f":"Sprawdz_pesel(Formularz!#REF!)","v":{"$error":"#VALUE!"}}]
[null,{"$f":"Sprawdz_pesel(Formularz!#REF!)","v":{"$error":"#VALUE!"}}]
[null,{"$f":"Sprawdz_pesel(Formularz!#REF!)","v":{"$error":"#VALUE!"}}]
[null,{"$f":"Sprawdz_pesel(Formularz!#REF!)","v":{"$error":"#VALUE!"}}]
[null,{"$f":"Sprawdz_pesel(Formularz!#REF!)","v":{"$error":"#VALUE!"}}]
[null,{"$f":"Sprawdz_pesel(Formularz!#REF!)","v":{"$error":"#VALUE!"}}]
[null,{"$f":"Sprawdz_pesel(Formularz!#REF!)","v":{"$error":"#VALUE!"}}]
[null,{"$f":"Sprawdz_pesel(Formularz!#REF!)","v":{"$error":"#VALUE!"}}]
[null,{"$f":"Sprawdz_pesel(Formularz!#REF!)","v":{"$error":"#VALUE!"}}]
[null,{"$f":"Sprawdz_pesel(Formularz!#REF!)","v":{"$error":"#VALUE!"}}]
[null,{"$f":"Sprawdz_pesel(Formularz!#REF!)","v":{"$error":"#VALUE!"}}]
[null,{"$f":"Sprawdz_pesel(Formularz!#REF!)","v":{"$error":"#VALUE!"}}]
[null,{"$f":"Sprawdz_pesel(Formularz!#REF!)","v":{"$error":"#VALUE!"}}]
[null,{"$f":"Sprawdz_pesel(Formularz!#REF!)","v":{"$error":"#VALUE!"}}]
[null,{"$f":"Sprawdz_pesel(Formularz!#REF!)","v":{"$error":"#VALUE!"}}]
[null,{"$f":"Sprawdz_pesel(Formularz!#REF!)","v":{"$error":"#VALUE!"}}]
[null,{"$f":"Sprawdz_pesel(Formularz!#REF!)","v":{"$error":"#VALUE!"}}]
[null,{"$f":"Sprawdz_pesel(Formularz!#REF!)","v":{"$error":"#VALUE!"}}]
[null,{"$f":"Sprawdz_pesel(Formularz!#REF!)","v":{"$error":"#VALUE!"}}]
[null,{"$f":"Sprawdz_pesel(Formularz!#REF!)","v":{"$error":"#VALUE!"}}]
[null,{"$f":"Sprawdz_pesel(Formularz!#REF!)","v":{"$error":"#VALUE!"}}]
[null,{"$f":"Sprawdz_pesel(Formularz!#REF!)","v":{"$error":"#VALUE!"}}]
[null,{"$f":"Sprawdz_pesel(Formularz!#REF!)","v":{"$error":"#VALUE!"}}]
[null,{"$f":"Sprawdz_pesel(Formularz!#REF!)","v":{"$error":"#VALUE!"}}]
[null,{"$f":"Sprawdz_pesel(Formularz!#REF!)","v":{"$error":"#VALUE!"}}]
[null,{"$f":"Sprawdz_pesel(Formularz!#REF!)","v":{"$error":"#VALUE!"}}]
[null,{"$f":"Sprawdz_pesel(Formularz!#REF!)","v":{"$error":"#VALUE!"}}]
[null,{"$f":"Sprawdz_pesel(Formularz!#REF!)","v":{"$error":"#VALUE!"}}]
[null,{"$f":"Sprawdz_pesel(Formularz!#REF!)","v":{"$error":"#VALUE!"}}]
[null,{"$f":"Sprawdz_pesel(Formularz!#REF!)","v":{"$error":"#VALUE!"}}]
[null,{"$f":"Sprawdz_pesel(Formularz!#REF!)","v":{"$error":"#VALUE!"}}]
[null,{"$f":"Sprawdz_pesel(Formularz!#REF!)","v":{"$error":"#VALUE!"}}]
[null,{"$f":"Sprawdz_pesel(Formularz!#REF!)","v":{"$error":"#VALUE!"}}]
[null,{"$f":"Sprawdz_pesel(Formularz!#REF!)","v":{"$error":"#VALUE!"}}]
[null,{"$f":"Sprawdz_pesel(Formularz!#REF!)","v":{"$error":"#VALUE!"}}]
[null,{"$f":"Sprawdz_pesel(Formularz!#REF!)","v":{"$error":"#VALUE!"}}]
[null,{"$f":"Sprawdz_pesel(Formularz!#REF!)","v":{"$error":"#VALUE!"}}]
[null,{"$f":"Sprawdz_pesel(Formularz!#REF!)","v":{"$error":"#VALUE!"}}]
[null,{"$f":"Sprawdz_pesel(Formularz!#REF!)","v":{"$error":"#VALUE!"}}]
[null,{"$f":"Sprawdz_pesel(Formularz!#REF!)","v":{"$error":"#VALUE!"}}]
[null,{"$f":"Sprawdz_pesel(Formularz!#REF!)","v":{"$error":"#VALUE!"}}]
[null,{"$f":"Sprawdz_pesel(Formularz!#REF!)","v":{"$error":"#VALUE!"}}]
[null,{"$f":"Sprawdz_pesel(Formularz!#REF!)","v":{"$error":"#VALUE!"}}]
[null,{"$f":"Sprawdz_pesel(Formularz!#REF!)","v":{"$error":"#VALUE!"}}]
[null,{"$f":"Sprawdz_pesel(Formularz!#REF!)","v":{"$error":"#VALUE!"}}]
[null,{"$f":"Sprawdz_pesel(Formularz!#REF!)","v":{"$error":"#VALUE!"}}]
[null,{"$f":"Sprawdz_pesel(Formularz!#REF!)","v":{"$error":"#VALUE!"}}]
[null,{"$f":"Sprawdz_pesel(Formularz!#REF!)","v":{"$error":"#VALUE!"}}]
[null,{"$f":"Sprawdz_pesel(Formularz!#REF!)","v":{"$error":"#VALUE!"}}]
[null,{"$f":"Sprawdz_pesel(Formularz!#REF!)","v":{"$error":"#VALUE!"}}]
[null,{"$f":"Sprawdz_pesel(Formularz!#REF!)","v":{"$error":"#VALUE!"}}]
[null,{"$f":"Sprawdz_pesel(Formularz!#REF!)","v":{"$error":"#VALUE!"}}]
[null,{"$f":"Sprawdz_pesel(Formularz!#REF!)","v":{"$error":"#VALUE!"}}]
[null,{"$f":"Sprawdz_pesel(Formularz!#REF!)","v":{"$error":"#VALUE!"}}]
[null,{"$f":"Sprawdz_pesel(Formularz!#REF!)","v":{"$error":"#VALUE!"}}]
[null,{"$f":"Sprawdz_pesel(Formularz!#REF!)","v":{"$error":"#VALUE!"}}]
[null,{"$f":"Sprawdz_pesel(Formularz!#REF!)","v":{"$error":"#VALUE!"}}]
[null,{"$f":"Sprawdz_pesel(Formularz!#REF!)","v":{"$error":"#VALUE!"}}]
[null,{"$f":"Sprawdz_pesel(Formularz!#REF!)","v":{"$error":"#VALUE!"}}]
[null,{"$f":"Sprawdz_pesel(Formularz!#REF!)","v":{"$error":"#VALUE!"}}]
[null,{"$f":"Sprawdz_pesel(Formularz!#REF!)","v":{"$error":"#VALUE!"}}]
[null,{"$f":"Sprawdz_pesel(Formularz!#REF!)","v":{"$error":"#VALUE!"}}]
[null,{"$f":"Sprawdz_pesel(Formularz!#REF!)","v":{"$error":"#VALUE!"}}]
[null,{"$f":"Sprawdz_pesel(Formularz!#REF!)","v":{"$error":"#VALUE!"}}]
[null,{"$f":"Sprawdz_pesel(Formularz!#REF!)","v":{"$error":"#VALUE!"}}]
[null,{"$f":"Sprawdz_pesel(Formularz!#REF!)","v":{"$error":"#VALUE!"}}]
[null,{"$f":"Sprawdz_pesel(Formularz!#REF!)","v":{"$error":"#VALUE!"}}]
[null,{"$f":"Sprawdz_pesel(Formularz!#REF!)","v":{"$error":"#VALUE!"}}]
[null,{"$f":"Sprawdz_pesel(Formularz!#REF!)","v":{"$error":"#VALUE!"}}]
[null,{"$f":"Sprawdz_pesel(Formularz!#REF!)","v":{"$error":"#VALUE!"}}]
[null,{"$f":"Sprawdz_pesel(Formularz!#REF!)","v":{"$error":"#VALUE!"}}]
[null,{"$f":"Sprawdz_pesel(Formularz!#REF!)","v":{"$error":"#VALUE!"}}]
[null,{"$f":"Sprawdz_pesel(Formularz!#REF!)","v":{"$error":"#VALUE!"}}]
[null,{"$f":"Sprawdz_pesel(Formularz!#REF!)","v":{"$error":"#VALUE!"}}]
[null,{"$f":"Sprawdz_pesel(Formularz!#REF!)","v":{"$error":"#VALUE!"}}]
[null,{"$f":"Sprawdz_pesel(Formularz!#REF!)","v":{"$error":"#VALUE!"}}]
[null,{"$f":"Sprawdz_pesel(Formularz!#REF!)","v":{"$error":"#VALUE!"}}]
[null,{"$f":"Sprawdz_pesel(Formularz!#REF!)","v":{"$error":"#VALUE!"}}]
[null,{"$f":"Sprawdz_pesel(Formularz!#REF!)","v":{"$error":"#VALUE!"}}]
[null,{"$f":"Sprawdz_pesel(Formularz!#REF!)","v":{"$error":"#VALUE!"}}]
[null,{"$f":"Sprawdz_pesel(Formularz!#REF!)","v":{"$error":"#VALUE!"}}]
[null,{"$f":"Sprawdz_pesel(Formularz!#REF!)","v":{"$error":"#VALUE!"}}]
[null,{"$f":"Sprawdz_pesel(Formularz!#REF!)","v":{"$error":"#VALUE!"}}]
[null,{"$f":"Sprawdz_pesel(Formularz!#REF!)","v":{"$error":"#VALUE!"}}]
[null,{"$f":"Sprawdz_pesel(Formularz!#REF!)","v":{"$error":"#VALUE!"}}]
[null,{"$f":"Sprawdz_pesel(Formularz!#REF!)","v":{"$error":"#VALUE!"}}]
[null,{"$f":"Sprawdz_pesel(Formularz!#REF!)","v":{"$error":"#VALUE!"}}]
[null,{"$f":"Sprawdz_pesel(Formularz!#REF!)","v":{"$error":"#VALUE!"}}]
[null,{"$f":"Sprawdz_pesel(Formularz!#REF!)","v":{"$error":"#VALUE!"}}]
[null,{"$f":"Sprawdz_pesel(Formularz!#REF!)","v":{"$error":"#VALUE!"}}]
[null,{"$f":"Sprawdz_pesel(Formularz!#REF!)","v":{"$error":"#VALUE!"}}]
[null,{"$f":"Sprawdz_pesel(Formularz!#REF!)","v":{"$error":"#VALUE!"}}]
[null,{"$f":"Sprawdz_pesel(Formularz!#REF!)","v":{"$error":"#VALUE!"}}]
[null,{"$f":"Sprawdz_pesel(Formularz!#REF!)","v":{"$error":"#VALUE!"}}]
[null,{"$f":"Sprawdz_pesel(Formularz!#REF!)","v":{"$error":"#VALUE!"}}]
[null,{"$f":"Sprawdz_pesel(Formularz!#REF!)","v":{"$error":"#VALUE!"}}]
[null,{"$f":"Sprawdz_pesel(Formularz!#REF!)","v":{"$error":"#VALUE!"}}]
[null,{"$f":"Sprawdz_pesel(Formularz!#REF!)","v":{"$error":"#VALUE!"}}]
[null,{"$f":"Sprawdz_pesel(Formularz!#REF!)","v":{"$error":"#VALUE!"}}]
[null,{"$f":"Sprawdz_pesel(Formularz!#REF!)","v":{"$error":"#VALUE!"}}]
[null,{"$f":"Sprawdz_pesel(Formularz!#REF!)","v":{"$error":"#VALUE!"}}]
[null,{"$f":"Sprawdz_pesel(Formularz!#REF!)","v":{"$error":"#VALUE!"}}]
[null,{"$f":"Sprawdz_pesel(Formularz!#REF!)","v":{"$error":"#VALUE!"}}]
[null,{"$f":"Sprawdz_pesel(Formularz!#REF!)","v":{"$error":"#VALUE!"}}]
[null,{"$f":"Sprawdz_pesel(Formularz!#REF!)","v":{"$error":"#VALUE!"}}]
[null,{"$f":"Sprawdz_pesel(Formularz!#REF!)","v":{"$error":"#VALUE!"}}]
[null,{"$f":"Sprawdz_pesel(Formularz!#REF!)","v":{"$error":"#VALUE!"}}]
[null,{"$f":"Sprawdz_pesel(Formularz!#REF!)","v":{"$error":"#VALUE!"}}]
[null,{"$f":"Sprawdz_pesel(Formularz!#REF!)","v":{"$error":"#VALUE!"}}]
[null,{"$f":"Sprawdz_pesel(Formularz!#REF!)","v":{"$error":"#VALUE!"}}]
[null,{"$f":"Sprawdz_pesel(Formularz!#REF!)","v":{"$error":"#VALUE!"}}]
[null,{"$f":"Sprawdz_pesel(Formularz!#REF!)","v":{"$error":"#VALUE!"}}]
[null,{"$f":"Sprawdz_pesel(Formularz!#REF!)","v":{"$error":"#VALUE!"}}]
[null,{"$f":"Sprawdz_pesel(Formularz!#REF!)","v":{"$error":"#VALUE!"}}]
[null,{"$f":"Sprawdz_pesel(Formularz!#REF!)","v":{"$error":"#VALUE!"}}]
[null,{"$f":"Sprawdz_pesel(Formularz!#REF!)","v":{"$error":"#VALUE!"}}]
[null,{"$f":"Sprawdz_pesel(Formularz!#REF!)","v":{"$error":"#VALUE!"}}]
[null,{"$f":"Sprawdz_pesel(Formularz!#REF!)","v":{"$error":"#VALUE!"}}]
[null,{"$f":"Sprawdz_pesel(Formularz!#REF!)","v":{"$error":"#VALUE!"}}]
[null,{"$f":"Sprawdz_pesel(Formularz!#REF!)","v":{"$error":"#VALUE!"}}]
[null,{"$f":"Sprawdz_pesel(Formularz!#REF!)","v":{"$error":"#VALUE!"}}]
[null,{"$f":"Sprawdz_pesel(Formularz!#REF!)","v":{"$error":"#VALUE!"}}]
[null,{"$f":"Sprawdz_pesel(Formularz!#REF!)","v":{"$error":"#VALUE!"}}]
[null,{"$f":"Sprawdz_pesel(Formularz!#REF!)","v":{"$error":"#VALUE!"}}]
[null,{"$f":"Sprawdz_pesel(Formularz!#REF!)","v":{"$error":"#VALUE!"}}]
[null,{"$f":"Sprawdz_pesel(Formularz!#REF!)","v":{"$error":"#VALUE!"}}]
[null,{"$f":"Sprawdz_pesel(Formularz!#REF!)","v":{"$error":"#VALUE!"}}]
[null,{"$f":"Sprawdz_pesel(Formularz!#REF!)","v":{"$error":"#VALUE!"}}]
[null,{"$f":"Sprawdz_pesel(Formularz!#REF!)","v":{"$error":"#VALUE!"}}]
[null,{"$f":"Sprawdz_pesel(Formularz!#REF!)","v":{"$error":"#VALUE!"}}]
[null,{"$f":"Sprawdz_pesel(Formularz!#REF!)","v":{"$error":"#VALUE!"}}]
[null,{"$f":"Sprawdz_pesel(Formularz!#REF!)","v":{"$error":"#VALUE!"}}]
[null,{"$f":"Sprawdz_pesel(Formularz!#REF!)","v":{"$error":"#VALUE!"}}]
[null,{"$f":"Sprawdz_pesel(Formularz!#REF!)","v":{"$error":"#VALUE!"}}]
[null,{"$f":"Sprawdz_pesel(Formularz!#REF!)","v":{"$error":"#VALUE!"}}]
[null,{"$f":"Sprawdz_pesel(Formularz!#REF!)","v":{"$error":"#VALUE!"}}]
[null,{"$f":"Sprawdz_pesel(Formularz!#REF!)","v":{"$error":"#VALUE!"}}]
[null,{"$f":"Sprawdz_pesel(Formularz!#REF!)","v":{"$error":"#VALUE!"}}]
[null,{"$f":"Sprawdz_pesel(Formularz!#REF!)","v":{"$error":"#VALUE!"}}]
[null,{"$f":"Sprawdz_pesel(Formularz!#REF!)","v":{"$error":"#VALUE!"}}]
[null,{"$f":"Sprawdz_pesel(Formularz!#REF!)","v":{"$error":"#VALUE!"}}]
[null,{"$f":"Sprawdz_pesel(Formularz!#REF!)","v":{"$error":"#VALUE!"}}]
[null,{"$f":"Sprawdz_pesel(Formularz!#REF!)","v":{"$error":"#VALUE!"}}]
[null,{"$f":"Sprawdz_pesel(Formularz!#REF!)","v":{"$error":"#VALUE!"}}]
[null,{"$f":"Sprawdz_pesel(Formularz!#REF!)","v":{"$error":"#VALUE!"}}]
[null,{"$f":"Sprawdz_pesel(Formularz!#REF!)","v":{"$error":"#VALUE!"}}]
[null,{"$f":"Sprawdz_pesel(Formularz!#REF!)","v":{"$error":"#VALUE!"}}]
[null,{"$f":"Sprawdz_pesel(Formularz!#REF!)","v":{"$error":"#VALUE!"}}]
[null,{"$f":"Sprawdz_pesel(Formularz!#REF!)","v":{"$error":"#VALUE!"}}]
[null,{"$f":"Sprawdz_pesel(Formularz!#REF!)","v":{"$error":"#VALUE!"}}]
[null,{"$f":"Sprawdz_pesel(Formularz!#REF!)","v":{"$error":"#VALUE!"}}]
[null,{"$f":"Sprawdz_pesel(Formularz!#REF!)","v":{"$error":"#VALUE!"}}]
[null,{"$f":"Sprawdz_pesel(Formularz!#REF!)","v":{"$error":"#VALUE!"}}]
[null,{"$f":"Sprawdz_pesel(Formularz!#REF!)","v":{"$error":"#VALUE!"}}]
[null,{"$f":"Sprawdz_pesel(Formularz!#REF!)","v":{"$error":"#VALUE!"}}]
[null,{"$f":"Sprawdz_pesel(Formularz!#REF!)","v":{"$error":"#VALUE!"}}]
[null,{"$f":"Sprawdz_pesel(Formularz!#REF!)","v":{"$error":"#VALUE!"}}]
[null,{"$f":"Sprawdz_pesel(Formularz!#REF!)","v":{"$error":"#VALUE!"}}]
[null,{"$f":"Sprawdz_pesel(Formularz!#REF!)","v":{"$error":"#VALUE!"}}]
[null,{"$f":"Sprawdz_pesel(Formularz!#REF!)","v":{"$error":"#VALUE!"}}]
[null,{"$f":"Sprawdz_pesel(Formularz!#REF!)","v":{"$error":"#VALUE!"}}]
[null,{"$f":"Sprawdz_pesel(Formularz!#REF!)","v":{"$error":"#VALUE!"}}]
[null,{"$f":"Sprawdz_pesel(Formularz!#REF!)","v":{"$error":"#VALUE!"}}]
[null,{"$f":"Sprawdz_pesel(Formularz!#REF!)","v":{"$error":"#VALUE!"}}]
[null,{"$f":"Sprawdz_pesel(Formularz!#REF!)","v":{"$error":"#VALUE!"}}]
[null,{"$f":"Sprawdz_pesel(Formularz!#REF!)","v":{"$error":"#VALUE!"}}]
[null,{"$f":"Sprawdz_pesel(Formularz!#REF!)","v":{"$error":"#VALUE!"}}]
[null,{"$f":"Sprawdz_pesel(Formularz!#REF!)","v":{"$error":"#VALUE!"}}]
[null,{"$f":"Sprawdz_pesel(Formularz!#REF!)","v":{"$error":"#VALUE!"}}]
[null,{"$f":"Sprawdz_pesel(Formularz!#REF!)","v":{"$error":"#VALUE!"}}]
[null,{"$f":"Sprawdz_pesel(Formularz!#REF!)","v":{"$error":"#VALUE!"}}]
[null,{"$f":"Sprawdz_pesel(Formularz!#REF!)","v":{"$error":"#VALUE!"}}]
[null,{"$f":"Sprawdz_pesel(Formularz!#REF!)","v":{"$error":"#VALUE!"}}]
[null,{"$f":"Sprawdz_pesel(Formularz!#REF!)","v":{"$error":"#VALUE!"}}]
[null,{"$f":"Sprawdz_pesel(Formularz!#REF!)","v":{"$error":"#VALUE!"}}]
[null,{"$f":"Sprawdz_pesel(Formularz!#REF!)","v":{"$error":"#VALUE!"}}]
[null,{"$f":"Sprawdz_pesel(Formularz!#REF!)","v":{"$error":"#VALUE!"}}]
[null,{"$f":"Sprawdz_pesel(Formularz!#REF!)","v":{"$error":"#VALUE!"}}]
[null,{"$f":"Sprawdz_pesel(Formularz!#REF!)","v":{"$error":"#VALUE!"}}]
[null,{"$f":"Sprawdz_pesel(Formularz!#REF!)","v":{"$error":"#VALUE!"}}]
[null,{"$f":"Sprawdz_pesel(Formularz!#REF!)","v":{"$error":"#VALUE!"}}]
[null,{"$f":"Sprawdz_pesel(Formularz!#REF!)","v":{"$error":"#VALUE!"}}]
[null,{"$f":"Sprawdz_pesel(Formularz!#REF!)","v":{"$error":"#VALUE!"}}]
[null,{"$f":"Sprawdz_pesel(Formularz!#REF!)","v":{"$error":"#VALUE!"}}]
[null,{"$f":"Sprawdz_pesel(Formularz!#REF!)","v":{"$error":"#VALUE!"}}]
[null,{"$f":"Sprawdz_pesel(Formularz!#REF!)","v":{"$error":"#VALUE!"}}]
[null,{"$f":"Sprawdz_pesel(Formularz!#REF!)","v":{"$error":"#VALUE!"}}]
[null,{"$f":"Sprawdz_pesel(Formularz!#REF!)","v":{"$error":"#VALUE!"}}]
[null,{"$f":"Sprawdz_pesel(Formularz!#REF!)","v":{"$error":"#VALUE!"}}]
[null,{"$f":"Sprawdz_pesel(Formularz!#REF!)","v":{"$error":"#VALUE!"}}]
[null,{"$f":"Sprawdz_pesel(Formularz!#REF!)","v":{"$error":"#VALUE!"}}]
[null,{"$f":"Sprawdz_pesel(Formularz!#REF!)","v":{"$error":"#VALUE!"}}]
[null,{"$f":"Sprawdz_pesel(Formularz!#REF!)","v":{"$error":"#VALUE!"}}]
[null,{"$f":"Sprawdz_pesel(Formularz!#REF!)","v":{"$error":"#VALUE!"}}]
[null,{"$f":"Sprawdz_pesel(Formularz!#REF!)","v":{"$error":"#VALUE!"}}]
[null,{"$f":"Sprawdz_pesel(Formularz!#REF!)","v":{"$error":"#VALUE!"}}]
[null,{"$f":"Sprawdz_pesel(Formularz!#REF!)","v":{"$error":"#VALUE!"}}]
[null,{"$f":"Sprawdz_pesel(Formularz!#REF!)","v":{"$error":"#VALUE!"}}]
[null,{"$f":"Sprawdz_pesel(Formularz!#REF!)","v":{"$error":"#VALUE!"}}]
[null,{"$f":"Sprawdz_pesel(Formularz!#REF!)","v":{"$error":"#VALUE!"}}]
[null,{"$f":"Sprawdz_pesel(Formularz!#REF!)","v":{"$error":"#VALUE!"}}]
[null,{"$f":"Sprawdz_pesel(Formularz!#REF!)","v":{"$error":"#VALUE!"}}]
[null,{"$f":"Sprawdz_pesel(Formularz!#REF!)","v":{"$error":"#VALUE!"}}]
[null,{"$f":"Sprawdz_pesel(Formularz!#REF!)","v":{"$error":"#VALUE!"}}]
[null,{"$f":"Sprawdz_pesel(Formularz!#REF!)","v":{"$error":"#VALUE!"}}]
[null,{"$f":"Sprawdz_pesel(Formularz!#REF!)","v":{"$error":"#VALUE!"}}]
[null,{"$f":"Sprawdz_pesel(Formularz!#REF!)","v":{"$error":"#VALUE!"}}]
[null,{"$f":"Sprawdz_pesel(Formularz!#REF!)","v":{"$error":"#VALUE!"}}]
[null,{"$f":"Sprawdz_pesel(Formularz!#REF!)","v":{"$error":"#VALUE!"}}]
[null,{"$f":"Sprawdz_pesel(Formularz!#REF!)","v":{"$error":"#VALUE!"}}]
[null,{"$f":"Sprawdz_pesel(Formularz!#REF!)","v":{"$error":"#VALUE!"}}]
[null,{"$f":"Sprawdz_pesel(Formularz!#REF!)","v":{"$error":"#VALUE!"}}]
[null,{"$f":"Sprawdz_pesel(Formularz!#REF!)","v":{"$error":"#VALUE!"}}]
[null,{"$f":"Sprawdz_pesel(Formularz!#REF!)","v":{"$error":"#VALUE!"}}]
[null,{"$f":"Sprawdz_pesel(Formularz!#REF!)","v":{"$error":"#VALUE!"}}]
[null,{"$f":"Sprawdz_pesel(Formularz!#REF!)","v":{"$error":"#VALUE!"}}]
[null,{"$f":"Sprawdz_pesel(Formularz!#REF!)","v":{"$error":"#VALUE!"}}]
[null,{"$f":"Sprawdz_pesel(Formularz!#REF!)","v":{"$error":"#VALUE!"}}]
[null,{"$f":"Sprawdz_pesel(Formularz!#REF!)","v":{"$error":"#VALUE!"}}]
[null,{"$f":"Sprawdz_pesel(Formularz!#REF!)","v":{"$error":"#VALUE!"}}]
[null,{"$f":"Sprawdz_pesel(Formularz!#REF!)","v":{"$error":"#VALUE!"}}]
[null,{"$f":"Sprawdz_pesel(Formularz!#REF!)","v":{"$error":"#VALUE!"}}]
[null,{"$f":"Sprawdz_pesel(Formularz!#REF!)","v":{"$error":"#VALUE!"}}]
[null,{"$f":"Sprawdz_pesel(Formularz!#REF!)","v":{"$error":"#VALUE!"}}]
[null,{"$f":"Sprawdz_pesel(Formularz!#REF!)","v":{"$error":"#VALUE!"}}]
[null,{"$f":"Sprawdz_pesel(Formularz!#REF!)","v":{"$error":"#VALUE!"}}]
[null,{"$f":"Sprawdz_pesel(Formularz!#REF!)","v":{"$error":"#VALUE!"}}]
[null,{"$f":"Sprawdz_pesel(Formularz!#REF!)","v":{"$error":"#VALUE!"}}]
[null,{"$f":"Sprawdz_pesel(Formularz!#REF!)","v":{"$error":"#VALUE!"}}]
[null,{"$f":"Sprawdz_pesel(Formularz!#REF!)","v":{"$error":"#VALUE!"}}]
[null,{"$f":"Sprawdz_pesel(Formularz!#REF!)","v":{"$error":"#VALUE!"}}]
[null,{"$f":"Sprawdz_pesel(Formularz!#REF!)","v":{"$error":"#VALUE!"}}]
[null,{"$f":"Sprawdz_pesel(Formularz!#REF!)","v":{"$error":"#VALUE!"}}]
[null,{"$f":"Sprawdz_pesel(Formularz!#REF!)","v":{"$error":"#VALUE!"}}]
[null,{"$f":"Sprawdz_pesel(Formularz!#REF!)","v":{"$error":"#VALUE!"}}]
[null,{"$f":"Sprawdz_pesel(Formularz!#REF!)","v":{"$error":"#VALUE!"}}]
[null,{"$f":"Sprawdz_pesel(Formularz!#REF!)","v":{"$error":"#VALUE!"}}]
[null,{"$f":"Sprawdz_pesel(Formularz!#REF!)","v":{"$error":"#VALUE!"}}]
[null,{"$f":"Sprawdz_pesel(Formularz!#REF!)","v":{"$error":"#VALUE!"}}]
[null,{"$f":"Sprawdz_pesel(Formularz!#REF!)","v":{"$error":"#VALUE!"}}]
[null,{"$f":"Sprawdz_pesel(Formularz!#REF!)","v":{"$error":"#VALUE!"}}]
[null,{"$f":"Sprawdz_pesel(Formularz!#REF!)","v":{"$error":"#VALUE!"}}]
[null,{"$f":"Sprawdz_pesel(Formularz!#REF!)","v":{"$error":"#VALUE!"}}]
[null,{"$f":"Sprawdz_pesel(Formularz!#REF!)","v":{"$error":"#VALUE!"}}]
[null,{"$f":"Sprawdz_pesel(Formularz!#REF!)","v":{"$error":"#VALUE!"}}]
[null,{"$f":"Sprawdz_pesel(Formularz!#REF!)","v":{"$error":"#VALUE!"}}]
[null,{"$f":"Sprawdz_pesel(Formularz!#REF!)","v":{"$error":"#VALUE!"}}]
[null,{"$f":"Sprawdz_pesel(Formularz!#REF!)","v":{"$error":"#VALUE!"}}]
[null,{"$f":"Sprawdz_pesel(Formularz!#REF!)","v":{"$error":"#VALUE!"}}]
[null,{"$f":"Sprawdz_pesel(Formularz!#REF!)","v":{"$error":"#VALUE!"}}]
[null,{"$f":"Sprawdz_pesel(Formularz!#REF!)","v":{"$error":"#VALUE!"}}]
[null,{"$f":"Sprawdz_pesel(Formularz!#REF!)","v":{"$error":"#VALUE!"}}]
[null,{"$f":"Sprawdz_pesel(Formularz!#REF!)","v":{"$error":"#VALUE!"}}]
[null,{"$f":"Sprawdz_pesel(Formularz!#REF!)","v":{"$error":"#VALUE!"}}]
[null,{"$f":"Sprawdz_pesel(Formularz!#REF!)","v":{"$error":"#VALUE!"}}]
[null,{"$f":"Sprawdz_pesel(Formularz!#REF!)","v":{"$error":"#VALUE!"}}]
[null,{"$f":"Sprawdz_pesel(Formularz!#REF!)","v":{"$error":"#VALUE!"}}]
[null,{"$f":"Sprawdz_pesel(Formularz!#REF!)","v":{"$error":"#VALUE!"}}]
[null,{"$f":"Sprawdz_pesel(Formularz!#REF!)","v":{"$error":"#VALUE!"}}]
[null,{"$f":"Sprawdz_pesel(Formularz!#REF!)","v":{"$error":"#VALUE!"}}]
[null,{"$f":"Sprawdz_pesel(Formularz!#REF!)","v":{"$error":"#VALUE!"}}]
[null,{"$f":"Sprawdz_pesel(Formularz!#REF!)","v":{"$error":"#VALUE!"}}]
[null,{"$f":"Sprawdz_pesel(Formularz!#REF!)","v":{"$error":"#VALUE!"}}]
[null,{"$f":"Sprawdz_pesel(Formularz!#REF!)","v":{"$error":"#VALUE!"}}]
[null,{"$f":"Sprawdz_pesel(Formularz!#REF!)","v":{"$error":"#VALUE!"}}]
[null,{"$f":"Sprawdz_pesel(Formularz!#REF!)","v":{"$error":"#VALUE!"}}]
[null,{"$f":"Sprawdz_pesel(Formularz!#REF!)","v":{"$error":"#VALUE!"}}]
[null,{"$f":"Sprawdz_pesel(Formularz!#REF!)","v":{"$error":"#VALUE!"}}]
[null,{"$f":"Sprawdz_pesel(Formularz!#REF!)","v":{"$error":"#VALUE!"}}]
[null,{"$f":"Sprawdz_pesel(Formularz!#REF!)","v":{"$error":"#VALUE!"}}]
[null,{"$f":"Sprawdz_pesel(Formularz!#REF!)","v":{"$error":"#VALUE!"}}]
[null,{"$f":"Sprawdz_pesel(Formularz!#REF!)","v":{"$error":"#VALUE!"}}]
[null,{"$f":"Sprawdz_pesel(Formularz!#REF!)","v":{"$error":"#VALUE!"}}]
[null,{"$f":"Sprawdz_pesel(Formularz!#REF!)","v":{"$error":"#VALUE!"}}]
[null,{"$f":"Sprawdz_pesel(Formularz!#REF!)","v":{"$error":"#VALUE!"}}]
[null,{"$f":"Sprawdz_pesel(Formularz!#REF!)","v":{"$error":"#VALUE!"}}]
[null,{"$f":"Sprawdz_pesel(Formularz!#REF!)","v":{"$error":"#VALUE!"}}]
[null,{"$f":"Sprawdz_pesel(Formularz!#REF!)","v":{"$error":"#VALUE!"}}]
[null,{"$f":"Sprawdz_pesel(Formularz!#REF!)","v":{"$error":"#VALUE!"}}]
[null,{"$f":"Sprawdz_pesel(Formularz!#REF!)","v":{"$error":"#VALUE!"}}]
[null,{"$f":"Sprawdz_pesel(Formularz!#REF!)","v":{"$error":"#VALUE!"}}]
[null,{"$f":"Sprawdz_pesel(Formularz!#REF!)","v":{"$error":"#VALUE!"}}]
[null,{"$f":"Sprawdz_pesel(Formularz!#REF!)","v":{"$error":"#VALUE!"}}]
[null,{"$f":"Sprawdz_pesel(Formularz!#REF!)","v":{"$error":"#VALUE!"}}]
[null,{"$f":"Sprawdz_pesel(Formularz!#REF!)","v":{"$error":"#VALUE!"}}]
[null,{"$f":"Sprawdz_pesel(Formularz!#REF!)","v":{"$error":"#VALUE!"}}]
[null,{"$f":"Sprawdz_pesel(Formularz!#REF!)","v":{"$error":"#VALUE!"}}]
[null,{"$f":"Sprawdz_pesel(Formularz!#REF!)","v":{"$error":"#VALUE!"}}]
[null,{"$f":"Sprawdz_pesel(Formularz!#REF!)","v":{"$error":"#VALUE!"}}]
[null,{"$f":"Sprawdz_pesel(Formularz!#REF!)","v":{"$error":"#VALUE!"}}]
[null,{"$f":"Sprawdz_pesel(Formularz!#REF!)","v":{"$error":"#VALUE!"}}]
[null,{"$f":"Sprawdz_pesel(Formularz!#REF!)","v":{"$error":"#VALUE!"}}]
[null,{"$f":"Sprawdz_pesel(Formularz!#REF!)","v":{"$error":"#VALUE!"}}]
[null,{"$f":"Sprawdz_pesel(Formularz!#REF!)","v":{"$error":"#VALUE!"}}]
[null,{"$f":"Sprawdz_pesel(Formularz!#REF!)","v":{"$error":"#VALUE!"}}]
[null,{"$f":"Sprawdz_pesel(Formularz!#REF!)","v":{"$error":"#VALUE!"}}]
[null,{"$f":"Sprawdz_pesel(Formularz!#REF!)","v":{"$error":"#VALUE!"}}]
[null,{"$f":"Sprawdz_pesel(Formularz!#REF!)","v":{"$error":"#VALUE!"}}]
[null,{"$f":"Sprawdz_pesel(Formularz!#REF!)","v":{"$error":"#VALUE!"}}]
[null,{"$f":"Sprawdz_pesel(Formularz!#REF!)","v":{"$error":"#VALUE!"}}]
[null,{"$f":"Sprawdz_pesel(Formularz!#REF!)","v":{"$error":"#VALUE!"}}]
[null,{"$f":"Sprawdz_pesel(Formularz!#REF!)","v":{"$error":"#VALUE!"}}]
[null,{"$f":"Sprawdz_pesel(Formularz!#REF!)","v":{"$error":"#VALUE!"}}]
[null,{"$f":"Sprawdz_pesel(Formularz!#REF!)","v":{"$error":"#VALUE!"}}]
[null,{"$f":"Sprawdz_pesel(Formularz!#REF!)","v":{"$error":"#VALUE!"}}]
[null,{"$f":"Sprawdz_pesel(Formularz!#REF!)","v":{"$error":"#VALUE!"}}]
[null,{"$f":"Sprawdz_pesel(Formularz!#REF!)","v":{"$error":"#VALUE!"}}]
[null,{"$f":"Sprawdz_pesel(Formularz!#REF!)","v":{"$error":"#VALUE!"}}]
[null,{"$f":"Sprawdz_pesel(Formularz!#REF!)","v":{"$error":"#VALUE!"}}]
[null,{"$f":"Sprawdz_pesel(Formularz!#REF!)","v":{"$error":"#VALUE!"}}]
[null,{"$f":"Sprawdz_pesel(Formularz!#REF!)","v":{"$error":"#VALUE!"}}]
[null,{"$f":"Sprawdz_pesel(Formularz!#REF!)","v":{"$error":"#VALUE!"}}]
[null,{"$f":"Sprawdz_pesel(Formularz!#REF!)","v":{"$error":"#VALUE!"}}]
[null,{"$f":"Sprawdz_pesel(Formularz!#REF!)","v":{"$error":"#VALUE!"}}]
[null,{"$f":"Sprawdz_pesel(Formularz!#REF!)","v":{"$error":"#VALUE!"}}]
[null,{"$f":"Sprawdz_pesel(Formularz!#REF!)","v":{"$error":"#VALUE!"}}]
[null,{"$f":"Sprawdz_pesel(Formularz!#REF!)","v":{"$error":"#VALUE!"}}]
[null,{"$f":"Sprawdz_pesel(Formularz!#REF!)","v":{"$error":"#VALUE!"}}]
[null,{"$f":"Sprawdz_pesel(Formularz!#REF!)","v":{"$error":"#VALUE!"}}]
[null,{"$f":"Sprawdz_pesel(Formularz!#REF!)","v":{"$error":"#VALUE!"}}]
[null,{"$f":"Sprawdz_pesel(Formularz!#REF!)","v":{"$error":"#VALUE!"}}]
[null,{"$f":"Sprawdz_pesel(Formularz!#REF!)","v":{"$error":"#VALUE!"}}]
[null,{"$f":"Sprawdz_pesel(Formularz!#REF!)","v":{"$error":"#VALUE!"}}]
[null,{"$f":"Sprawdz_pesel(Formularz!#REF!)","v":{"$error":"#VALUE!"}}]
[null,{"$f":"Sprawdz_pesel(Formularz!#REF!)","v":{"$error":"#VALUE!"}}]
[null,{"$f":"Sprawdz_pesel(Formularz!#REF!)","v":{"$error":"#VALUE!"}}]
[null,{"$f":"Sprawdz_pesel(Formularz!#REF!)","v":{"$error":"#VALUE!"}}]
[null,{"$f":"Sprawdz_pesel(Formularz!#REF!)","v":{"$error":"#VALUE!"}}]
[null,{"$f":"Sprawdz_pesel(Formularz!#REF!)","v":{"$error":"#VALUE!"}}]
[null,{"$f":"Sprawdz_pesel(Formularz!#REF!)","v":{"$error":"#VALUE!"}}]
[null,{"$f":"Sprawdz_pesel(Formularz!#REF!)","v":{"$error":"#VALUE!"}}]
[null,{"$f":"Sprawdz_pesel(Formularz!#REF!)","v":{"$error":"#VALUE!"}}]
[null,{"$f":"Sprawdz_pesel(Formularz!#REF!)","v":{"$error":"#VALUE!"}}]
[null,{"$f":"Sprawdz_pesel(Formularz!#REF!)","v":{"$error":"#VALUE!"}}]
[null,{"$f":"Sprawdz_pesel(Formularz!#REF!)","v":{"$error":"#VALUE!"}}]
[null,{"$f":"Sprawdz_pesel(Formularz!#REF!)","v":{"$error":"#VALUE!"}}]
[null,{"$f":"Sprawdz_pesel(Formularz!#REF!)","v":{"$error":"#VALUE!"}}]
[null,{"$f":"Sprawdz_pesel(Formularz!#REF!)","v":{"$error":"#VALUE!"}}]
[null,{"$f":"Sprawdz_pesel(Formularz!#REF!)","v":{"$error":"#VALUE!"}}]
[null,{"$f":"Sprawdz_pesel(Formularz!#REF!)","v":{"$error":"#VALUE!"}}]
[null,{"$f":"Sprawdz_pesel(Formularz!#REF!)","v":{"$error":"#VALUE!"}}]
[null,{"$f":"Sprawdz_pesel(Formularz!#REF!)","v":{"$error":"#VALUE!"}}]
[null,{"$f":"Sprawdz_pesel(Formularz!#REF!)","v":{"$error":"#VALUE!"}}]
[null,{"$f":"Sprawdz_pesel(Formularz!#REF!)","v":{"$error":"#VALUE!"}}]
[null,{"$f":"Sprawdz_pesel(Formularz!#REF!)","v":{"$error":"#VALUE!"}}]
[null,{"$f":"Sprawdz_pesel(Formularz!#REF!)","v":{"$error":"#VALUE!"}}]
[null,{"$f":"Sprawdz_pesel(Formularz!#REF!)","v":{"$error":"#VALUE!"}}]
[null,{"$f":"Sprawdz_pesel(Formularz!#REF!)","v":{"$error":"#VALUE!"}}]
[null,{"$f":"Sprawdz_pesel(Formularz!#REF!)","v":{"$error":"#VALUE!"}}]
[null,{"$f":"Sprawdz_pesel(Formularz!#REF!)","v":{"$error":"#VALUE!"}}]
[null,{"$f":"Sprawdz_pesel(Formularz!#REF!)","v":{"$error":"#VALUE!"}}]
[null,{"$f":"Sprawdz_pesel(Formularz!#REF!)","v":{"$error":"#VALUE!"}}]
[null,{"$f":"Sprawdz_pesel(Formularz!#REF!)","v":{"$error":"#VALUE!"}}]
[null,{"$f":"Sprawdz_pesel(Formularz!#REF!)","v":{"$error":"#VALUE!"}}]
[null,{"$f":"Sprawdz_pesel(Formularz!#REF!)","v":{"$error":"#VALUE!"}}]
[null,{"$f":"Sprawdz_pesel(Formularz!#REF!)","v":{"$error":"#VALUE!"}}]
[null,{"$f":"Sprawdz_pesel(Formularz!#REF!)","v":{"$error":"#VALUE!"}}]
[null,{"$f":"Sprawdz_pesel(Formularz!#REF!)","v":{"$error":"#VALUE!"}}]
[null,{"$f":"Sprawdz_pesel(Formularz!#REF!)","v":{"$error":"#VALUE!"}}]
[null,{"$f":"Sprawdz_pesel(Formularz!#REF!)","v":{"$error":"#VALUE!"}}]
[null,{"$f":"Sprawdz_pesel(Formularz!#REF!)","v":{"$error":"#VALUE!"}}]
[null,{"$f":"Sprawdz_pesel(Formularz!#REF!)","v":{"$error":"#VALUE!"}}]
[null,{"$f":"Sprawdz_pesel(Formularz!#REF!)","v":{"$error":"#VALUE!"}}]
[null,{"$f":"Sprawdz_pesel(Formularz!#REF!)","v":{"$error":"#VALUE!"}}]
[null,{"$f":"Sprawdz_pesel(Formularz!#REF!)","v":{"$error":"#VALUE!"}}]
[null,{"$f":"Sprawdz_pesel(Formularz!#REF!)","v":{"$error":"#VALUE!"}}]
[null,{"$f":"Sprawdz_pesel(Formularz!#REF!)","v":{"$error":"#VALUE!"}}]
[null,{"$f":"Sprawdz_pesel(Formularz!#REF!)","v":{"$error":"#VALUE!"}}]
[null,{"$f":"Sprawdz_pesel(Formularz!#REF!)","v":{"$error":"#VALUE!"}}]
[null,{"$f":"Sprawdz_pesel(Formularz!#REF!)","v":{"$error":"#VALUE!"}}]
[null,{"$f":"Sprawdz_pesel(Formularz!#REF!)","v":{"$error":"#VALUE!"}}]
[null,{"$f":"Sprawdz_pesel(Formularz!#REF!)","v":{"$error":"#VALUE!"}}]
[null,{"$f":"Sprawdz_pesel(Formularz!#REF!)","v":{"$error":"#VALUE!"}}]
[null,{"$f":"Sprawdz_pesel(Formularz!#REF!)","v":{"$error":"#VALUE!"}}]
[null,{"$f":"Sprawdz_pesel(Formularz!#REF!)","v":{"$error":"#VALUE!"}}]
[null,{"$f":"Sprawdz_pesel(Formularz!#REF!)","v":{"$error":"#VALUE!"}}]
[null,{"$f":"Sprawdz_pesel(Formularz!#REF!)","v":{"$error":"#VALUE!"}}]
[null,{"$f":"Sprawdz_pesel(Formularz!#REF!)","v":{"$error":"#VALUE!"}}]
[null,{"$f":"Sprawdz_pesel(Formularz!#REF!)","v":{"$error":"#VALUE!"}}]
[null,{"$f":"Sprawdz_pesel(Formularz!#REF!)","v":{"$error":"#VALUE!"}}]
[null,{"$f":"Sprawdz_pesel(Formularz!#REF!)","v":{"$error":"#VALUE!"}}]
[null,{"$f":"Sprawdz_pesel(Formularz!#REF!)","v":{"$error":"#VALUE!"}}]
[null,{"$f":"Sprawdz_pesel(Formularz!#REF!)","v":{"$error":"#VALUE!"}}]
[null,{"$f":"Sprawdz_pesel(Formularz!#REF!)","v":{"$error":"#VALUE!"}}]
[null,{"$f":"Sprawdz_pesel(Formularz!#REF!)","v":{"$error":"#VALUE!"}}]
[null,{"$f":"Sprawdz_pesel(Formularz!#REF!)","v":{"$error":"#VALUE!"}}]
[null,{"$f":"Sprawdz_pesel(Formularz!#REF!)","v":{"$error":"#VALUE!"}}]
[null,{"$f":"Sprawdz_pesel(Formularz!#REF!)","v":{"$error":"#VALUE!"}}]
[null,{"$f":"Sprawdz_pesel(Formularz!#REF!)","v":{"$error":"#VALUE!"}}]
[null,{"$f":"Sprawdz_pesel(Formularz!#REF!)","v":{"$error":"#VALUE!"}}]
[null,{"$f":"Sprawdz_pesel(Formularz!#REF!)","v":{"$error":"#VALUE!"}}]
[null,{"$f":"Sprawdz_pesel(Formularz!#REF!)","v":{"$error":"#VALUE!"}}]
[null,{"$f":"Sprawdz_pesel(Formularz!#REF!)","v":{"$error":"#VALUE!"}}]
[null,{"$f":"Sprawdz_pesel(Formularz!#REF!)","v":{"$error":"#VALUE!"}}]
[null,{"$f":"Sprawdz_pesel(Formularz!#REF!)","v":{"$error":"#VALUE!"}}]
[null,{"$f":"Sprawdz_pesel(Formularz!#REF!)","v":{"$error":"#VALUE!"}}]
[null,{"$f":"Sprawdz_pesel(Formularz!#REF!)","v":{"$error":"#VALUE!"}}]
[null,{"$f":"Sprawdz_pesel(Formularz!#REF!)","v":{"$error":"#VALUE!"}}]
[null,{"$f":"Sprawdz_pesel(Formularz!#REF!)","v":{"$error":"#VALUE!"}}]
[null,{"$f":"Sprawdz_pesel(Formularz!#REF!)","v":{"$error":"#VALUE!"}}]
[null,{"$f":"Sprawdz_pesel(Formularz!#REF!)","v":{"$error":"#VALUE!"}}]
[null,{"$f":"Sprawdz_pesel(Formularz!#REF!)","v":{"$error":"#VALUE!"}}]
[null,{"$f":"Sprawdz_pesel(Formularz!#REF!)","v":{"$error":"#VALUE!"}}]
[null,{"$f":"Sprawdz_pesel(Formularz!#REF!)","v":{"$error":"#VALUE!"}}]
[null,{"$f":"Sprawdz_pesel(Formularz!#REF!)","v":{"$error":"#VALUE!"}}]
[null,{"$f":"Sprawdz_pesel(Formularz!#REF!)","v":{"$error":"#VALUE!"}}]
[null,{"$f":"Sprawdz_pesel(Formularz!#REF!)","v":{"$error":"#VALUE!"}}]
[null,{"$f":"Sprawdz_pesel(Formularz!#REF!)","v":{"$error":"#VALUE!"}}]
[null,{"$f":"Sprawdz_pesel(Formularz!#REF!)","v":{"$error":"#VALUE!"}}]
[null,{"$f":"Sprawdz_pesel(Formularz!#REF!)","v":{"$error":"#VALUE!"}}]
[null,{"$f":"Sprawdz_pesel(Formularz!#REF!)","v":{"$error":"#VALUE!"}}]
[null,{"$f":"Sprawdz_pesel(Formularz!#REF!)","v":{"$error":"#VALUE!"}}]
[null,{"$f":"Sprawdz_pesel(Formularz!#REF!)","v":{"$error":"#VALUE!"}}]
[null,{"$f":"Sprawdz_pesel(Formularz!#REF!)","v":{"$error":"#VALUE!"}}]
[null,{"$f":"Sprawdz_pesel(Formularz!#REF!)","v":{"$error":"#VALUE!"}}]
[null,{"$f":"Sprawdz_pesel(Formularz!#REF!)","v":{"$error":"#VALUE!"}}]
[null,{"$f":"Sprawdz_pesel(Formularz!#REF!)","v":{"$error":"#VALUE!"}}]
[null,{"$f":"Sprawdz_pesel(Formularz!#REF!)","v":{"$error":"#VALUE!"}}]
[null,{"$f":"Sprawdz_pesel(Formularz!#REF!)","v":{"$error":"#VALUE!"}}]
[null,{"$f":"Sprawdz_pesel(Formularz!#REF!)","v":{"$error":"#VALUE!"}}]
[null,{"$f":"Sprawdz_pesel(Formularz!#REF!)","v":{"$error":"#VALUE!"}}]
[null,{"$f":"Sprawdz_pesel(Formularz!#REF!)","v":{"$error":"#VALUE!"}}]
[null,{"$f":"Sprawdz_pesel(Formularz!#REF!)","v":{"$error":"#VALUE!"}}]
[null,{"$f":"Sprawdz_pesel(Formularz!#REF!)","v":{"$error":"#VALUE!"}}]
[null,{"$f":"Sprawdz_pesel(Formularz!#REF!)","v":{"$error":"#VALUE!"}}]
[null,{"$f":"Sprawdz_pesel(Formularz!#REF!)","v":{"$error":"#VALUE!"}}]
[null,{"$f":"Sprawdz_pesel(Formularz!#REF!)","v":{"$error":"#VALUE!"}}]
[null,{"$f":"Sprawdz_pesel(Formularz!#REF!)","v":{"$error":"#VALUE!"}}]
[null,{"$f":"Sprawdz_pesel(Formularz!#REF!)","v":{"$error":"#VALUE!"}}]
[null,{"$f":"Sprawdz_pesel(Formularz!#REF!)","v":{"$error":"#VALUE!"}}]
[null,{"$f":"Sprawdz_pesel(Formularz!#REF!)","v":{"$error":"#VALUE!"}}]
[null,{"$f":"Sprawdz_pesel(Formularz!#REF!)","v":{"$error":"#VALUE!"}}]
[null,{"$f":"Sprawdz_pesel(Formularz!#REF!)","v":{"$error":"#VALUE!"}}]
[null,{"$f":"Sprawdz_pesel(Formularz!#REF!)","v":{"$error":"#VALUE!"}}]
[null,{"$f":"Sprawdz_pesel(Formularz!#REF!)","v":{"$error":"#VALUE!"}}]
[null,{"$f":"Sprawdz_pesel(Formularz!#REF!)","v":{"$error":"#VALUE!"}}]
[null,{"$f":"Sprawdz_pesel(Formularz!#REF!)","v":{"$error":"#VALUE!"}}]
[null,{"$f":"Sprawdz_pesel(Formularz!#REF!)","v":{"$error":"#VALUE!"}}]
[null,{"$f":"Sprawdz_pesel(Formularz!#REF!)","v":{"$error":"#VALUE!"}}]
[null,{"$f":"Sprawdz_pesel(Formularz!#REF!)","v":{"$error":"#VALUE!"}}]
[null,{"$f":"Sprawdz_pesel(Formularz!#REF!)","v":{"$error":"#VALUE!"}}]
[null,{"$f":"Sprawdz_pesel(Formularz!#REF!)","v":{"$error":"#VALUE!"}}]
[null,{"$f":"Sprawdz_pesel(Formularz!#REF!)","v":{"$error":"#VALUE!"}}]
[null,{"$f":"Sprawdz_pesel(Formularz!#REF!)","v":{"$error":"#VALUE!"}}]
[null,{"$f":"Sprawdz_pesel(Formularz!#REF!)","v":{"$error":"#VALUE!"}}]
[null,{"$f":"Sprawdz_pesel(Formularz!#REF!)","v":{"$error":"#VALUE!"}}]
[null,{"$f":"Sprawdz_pesel(Formularz!#REF!)","v":{"$error":"#VALUE!"}}]
[null,{"$f":"Sprawdz_pesel(Formularz!#REF!)","v":{"$error":"#VALUE!"}}]
[null,{"$f":"Sprawdz_pesel(Formularz!#REF!)","v":{"$error":"#VALUE!"}}]
[null,{"$f":"Sprawdz_pesel(Formularz!#REF!)","v":{"$error":"#VALUE!"}}]
[null,{"$f":"Sprawdz_pesel(Formularz!#REF!)","v":{"$error":"#VALUE!"}}]
[null,{"$f":"Sprawdz_pesel(Formularz!#REF!)","v":{"$error":"#VALUE!"}}]
[null,{"$f":"Sprawdz_pesel(Formularz!#REF!)","v":{"$error":"#VALUE!"}}]
[null,{"$f":"Sprawdz_pesel(Formularz!#REF!)","v":{"$error":"#VALUE!"}}]
[null,{"$f":"Sprawdz_pesel(Formularz!#REF!)","v":{"$error":"#VALUE!"}}]
[null,{"$f":"Sprawdz_pesel(Formularz!#REF!)","v":{"$error":"#VALUE!"}}]
[null,{"$f":"Sprawdz_pesel(Formularz!#REF!)","v":{"$error":"#VALUE!"}}]
[null,{"$f":"Sprawdz_pesel(Formularz!#REF!)","v":{"$error":"#VALUE!"}}]
[null,{"$f":"Sprawdz_pesel(Formularz!#REF!)","v":{"$error":"#VALUE!"}}]
[null,{"$f":"Sprawdz_pesel(Formularz!#REF!)","v":{"$error":"#VALUE!"}}]
[null,{"$f":"Sprawdz_pesel(Formularz!#REF!)","v":{"$error":"#VALUE!"}}]
[null,{"$f":"Sprawdz_pesel(Formularz!#REF!)","v":{"$error":"#VALUE!"}}]
[null,{"$f":"Sprawdz_pesel(Formularz!#REF!)","v":{"$error":"#VALUE!"}}]
[null,{"$f":"Sprawdz_pesel(Formularz!#REF!)","v":{"$error":"#VALUE!"}}]
[null,{"$f":"Sprawdz_pesel(Formularz!#REF!)","v":{"$error":"#VALUE!"}}]
[null,{"$f":"Sprawdz_pesel(Formularz!#REF!)","v":{"$error":"#VALUE!"}}]
[null,{"$f":"Sprawdz_pesel(Formularz!#REF!)","v":{"$error":"#VALUE!"}}]
[null,{"$f":"Sprawdz_pesel(Formularz!#REF!)","v":{"$error":"#VALUE!"}}]
[null,{"$f":"Sprawdz_pesel(Formularz!#REF!)","v":{"$error":"#VALUE!"}}]
[null,{"$f":"Sprawdz_pesel(Formularz!#REF!)","v":{"$error":"#VALUE!"}}]
[null,{"$f":"Sprawdz_pesel(Formularz!#REF!)","v":{"$error":"#VALUE!"}}]
[null,{"$f":"Sprawdz_pesel(Formularz!#REF!)","v":{"$error":"#VALUE!"}}]
[null,{"$f":"Sprawdz_pesel(Formularz!#REF!)","v":{"$error":"#VALUE!"}}]
[null,{"$f":"Sprawdz_pesel(Formularz!#REF!)","v":{"$error":"#VALUE!"}}]
[null,{"$f":"Sprawdz_pesel(Formularz!#REF!)","v":{"$error":"#VALUE!"}}]
[null,{"$f":"Sprawdz_pesel(Formularz!#REF!)","v":{"$error":"#VALUE!"}}]
[null,{"$f":"Sprawdz_pesel(Formularz!#REF!)","v":{"$error":"#VALUE!"}}]
[null,{"$f":"Sprawdz_pesel(Formularz!#REF!)","v":{"$error":"#VALUE!"}}]
[null,{"$f":"Sprawdz_pesel(Formularz!#REF!)","v":{"$error":"#VALUE!"}}]
[null,{"$f":"Sprawdz_pesel(Formularz!#REF!)","v":{"$error":"#VALUE!"}}]
[null,{"$f":"Sprawdz_pesel(Formularz!#REF!)","v":{"$error":"#VALUE!"}}]
[null,{"$f":"Sprawdz_pesel(Formularz!#REF!)","v":{"$error":"#VALUE!"}}]
[null,{"$f":"Sprawdz_pesel(Formularz!#REF!)","v":{"$error":"#VALUE!"}}]
[null,{"$f":"Sprawdz_pesel(Formularz!#REF!)","v":{"$error":"#VALUE!"}}]
[null,{"$f":"Sprawdz_pesel(Formularz!#REF!)","v":{"$error":"#VALUE!"}}]
[null,{"$f":"Sprawdz_pesel(Formularz!#REF!)","v":{"$error":"#VALUE!"}}]
[null,{"$f":"Sprawdz_pesel(Formularz!#REF!)","v":{"$error":"#VALUE!"}}]
[null,{"$f":"Sprawdz_pesel(Formularz!#REF!)","v":{"$error":"#VALUE!"}}]
[null,{"$f":"Sprawdz_pesel(Formularz!#REF!)","v":{"$error":"#VALUE!"}}]
[null,{"$f":"Sprawdz_pesel(Formularz!#REF!)","v":{"$error":"#VALUE!"}}]
[null,{"$f":"Sprawdz_pesel(Formularz!#REF!)","v":{"$error":"#VALUE!"}}]
[null,{"$f":"Sprawdz_pesel(Formularz!#REF!)","v":{"$error":"#VALUE!"}}]
[null,{"$f":"Sprawdz_pesel(Formularz!#REF!)","v":{"$error":"#VALUE!"}}]
[null,{"$f":"Sprawdz_pesel(Formularz!#REF!)","v":{"$error":"#VALUE!"}}]
[null,{"$f":"Sprawdz_pesel(Formularz!#REF!)","v":{"$error":"#VALUE!"}}]
[null,{"$f":"Sprawdz_pesel(Formularz!#REF!)","v":{"$error":"#VALUE!"}}]
[null,{"$f":"Sprawdz_pesel(Formularz!#REF!)","v":{"$error":"#VALUE!"}}]
[null,{"$f":"Sprawdz_pesel(Formularz!#REF!)","v":{"$error":"#VALUE!"}}]
[null,{"$f":"Sprawdz_pesel(Formularz!#REF!)","v":{"$error":"#VALUE!"}}]
[null,{"$f":"Sprawdz_pesel(Formularz!#REF!)","v":{"$error":"#VALUE!"}}]
[null,{"$f":"Sprawdz_pesel(Formularz!#REF!)","v":{"$error":"#VALUE!"}}]
[null,{"$f":"Sprawdz_pesel(Formularz!#REF!)","v":{"$error":"#VALUE!"}}]
[null,{"$f":"Sprawdz_pesel(Formularz!#REF!)","v":{"$error":"#VALUE!"}}]
[null,{"$f":"Sprawdz_pesel(Formularz!#REF!)","v":{"$error":"#VALUE!"}}]
[null,{"$f":"Sprawdz_pesel(Formularz!#REF!)","v":{"$error":"#VALUE!"}}]
[null,{"$f":"Sprawdz_pesel(Formularz!#REF!)","v":{"$error":"#VALUE!"}}]
[null,{"$f":"Sprawdz_pesel(Formularz!#REF!)","v":{"$error":"#VALUE!"}}]
[null,{"$f":"Sprawdz_pesel(Formularz!#REF!)","v":{"$error":"#VALUE!"}}]
[null,{"$f":"Sprawdz_pesel(Formularz!#REF!)","v":{"$error":"#VALUE!"}}]
[null,{"$f":"Sprawdz_pesel(Formularz!#REF!)","v":{"$error":"#VALUE!"}}]
[null,{"$f":"Sprawdz_pesel(Formularz!#REF!)","v":{"$error":"#VALUE!"}}]
[null,{"$f":"Sprawdz_pesel(Formularz!#REF!)","v":{"$error":"#VALUE!"}}]
[null,{"$f":"Sprawdz_pesel(Formularz!#REF!)","v":{"$error":"#VALUE!"}}]
[null,{"$f":"Sprawdz_pesel(Formularz!#REF!)","v":{"$error":"#VALUE!"}}]
[null,{"$f":"Sprawdz_pesel(Formularz!#REF!)","v":{"$error":"#VALUE!"}}]
[null,{"$f":"Sprawdz_pesel(Formularz!#REF!)","v":{"$error":"#VALUE!"}}]
[null,{"$f":"Sprawdz_pesel(Formularz!#REF!)","v":{"$error":"#VALUE!"}}]
[null,{"$f":"Sprawdz_pesel(Formularz!#REF!)","v":{"$error":"#VALUE!"}}]
[null,{"$f":"Sprawdz_pesel(Formularz!#REF!)","v":{"$error":"#VALUE!"}}]
[null,{"$f":"Sprawdz_pesel(Formularz!#REF!)","v":{"$error":"#VALUE!"}}]
[null,{"$f":"Sprawdz_pesel(Formularz!#REF!)","v":{"$error":"#VALUE!"}}]
[null,{"$f":"Sprawdz_pesel(Formularz!#REF!)","v":{"$error":"#VALUE!"}}]
[null,{"$f":"Sprawdz_pesel(Formularz!#REF!)","v":{"$error":"#VALUE!"}}]
[null,{"$f":"Sprawdz_pesel(Formularz!#REF!)","v":{"$error":"#VALUE!"}}]
[null,{"$f":"Sprawdz_pesel(Formularz!#REF!)","v":{"$error":"#VALUE!"}}]
[null,{"$f":"Sprawdz_pesel(Formularz!#REF!)","v":{"$error":"#VALUE!"}}]
[null,{"$f":"Sprawdz_pesel(Formularz!#REF!)","v":{"$error":"#VALUE!"}}]
[null,{"$f":"Sprawdz_pesel(Formularz!#REF!)","v":{"$error":"#VALUE!"}}]
[null,{"$f":"Sprawdz_pesel(Formularz!#REF!)","v":{"$error":"#VALUE!"}}]
[null,{"$f":"Sprawdz_pesel(Formularz!#REF!)","v":{"$error":"#VALUE!"}}]
[null,{"$f":"Sprawdz_pesel(Formularz!#REF!)","v":{"$error":"#VALUE!"}}]
[null,{"$f":"Sprawdz_pesel(Formularz!#REF!)","v":{"$error":"#VALUE!"}}]
[null,{"$f":"Sprawdz_pesel(Formularz!#REF!)","v":{"$error":"#VALUE!"}}]
[null,{"$f":"Sprawdz_pesel(Formularz!#REF!)","v":{"$error":"#VALUE!"}}]
[null,{"$f":"Sprawdz_pesel(Formularz!#REF!)","v":{"$error":"#VALUE!"}}]
[null,{"$f":"Sprawdz_pesel(Formularz!#REF!)","v":{"$error":"#VALUE!"}}]
[null,{"$f":"Sprawdz_pesel(Formularz!#REF!)","v":{"$error":"#VALUE!"}}]
[null,{"$f":"Sprawdz_pesel(Formularz!#REF!)","v":{"$error":"#VALUE!"}}]
[null,{"$f":"Sprawdz_pesel(Formularz!#REF!)","v":{"$error":"#VALUE!"}}]
[null,{"$f":"Sprawdz_pesel(Formularz!#REF!)","v":{"$error":"#VALUE!"}}]
[null,{"$f":"Sprawdz_pesel(Formularz!#REF!)","v":{"$error":"#VALUE!"}}]
[null,{"$f":"Sprawdz_pesel(Formularz!#REF!)","v":{"$error":"#VALUE!"}}]
[null,{"$f":"Sprawdz_pesel(Formularz!#REF!)","v":{"$error":"#VALUE!"}}]
[null,{"$f":"Sprawdz_pesel(Formularz!#REF!)","v":{"$error":"#VALUE!"}}]
[null,{"$f":"Sprawdz_pesel(Formularz!#REF!)","v":{"$error":"#VALUE!"}}]
[null,{"$f":"Sprawdz_pesel(Formularz!#REF!)","v":{"$error":"#VALUE!"}}]
[null,{"$f":"Sprawdz_pesel(Formularz!#REF!)","v":{"$error":"#VALUE!"}}]
[null,{"$f":"Sprawdz_pesel(Formularz!#REF!)","v":{"$error":"#VALUE!"}}]
[null,{"$f":"Sprawdz_pesel(Formularz!#REF!)","v":{"$error":"#VALUE!"}}]
[null,{"$f":"Sprawdz_pesel(Formularz!#REF!)","v":{"$error":"#VALUE!"}}]
[null,{"$f":"Sprawdz_pesel(Formularz!#REF!)","v":{"$error":"#VALUE!"}}]
[null,{"$f":"Sprawdz_pesel(Formularz!#REF!)","v":{"$error":"#VALUE!"}}]
[null,{"$f":"Sprawdz_pesel(Formularz!#REF!)","v":{"$error":"#VALUE!"}}]
[null,{"$f":"Sprawdz_pesel(Formularz!#REF!)","v":{"$error":"#VALUE!"}}]
[null,{"$f":"Sprawdz_pesel(Formularz!#REF!)","v":{"$error":"#VALUE!"}}]
[null,{"$f":"Sprawdz_pesel(Formularz!#REF!)","v":{"$error":"#VALUE!"}}]
[null,{"$f":"Sprawdz_pesel(Formularz!#REF!)","v":{"$error":"#VALUE!"}}]
[null,{"$f":"Sprawdz_pesel(Formularz!#REF!)","v":{"$error":"#VALUE!"}}]
[null,{"$f":"Sprawdz_pesel(Formularz!#REF!)","v":{"$error":"#VALUE!"}}]
[null,{"$f":"Sprawdz_pesel(Formularz!#REF!)","v":{"$error":"#VALUE!"}}]
[null,{"$f":"Sprawdz_pesel(Formularz!#REF!)","v":{"$error":"#VALUE!"}}]
[null,{"$f":"Sprawdz_pesel(Formularz!#REF!)","v":{"$error":"#VALUE!"}}]
[null,{"$f":"Sprawdz_pesel(Formularz!#REF!)","v":{"$error":"#VALUE!"}}]
[null,{"$f":"Sprawdz_pesel(Formularz!#REF!)","v":{"$error":"#VALUE!"}}]
[null,{"$f":"Sprawdz_pesel(Formularz!#REF!)","v":{"$error":"#VALUE!"}}]
[null,{"$f":"Sprawdz_pesel(Formularz!#REF!)","v":{"$error":"#VALUE!"}}]
[null,{"$f":"Sprawdz_pesel(Formularz!#REF!)","v":{"$error":"#VALUE!"}}]
[null,{"$f":"Sprawdz_pesel(Formularz!#REF!)","v":{"$error":"#VALUE!"}}]
[null,{"$f":"Sprawdz_pesel(Formularz!#REF!)","v":{"$error":"#VALUE!"}}]
[null,{"$f":"Sprawdz_pesel(Formularz!#REF!)","v":{"$error":"#VALUE!"}}]
[null,{"$f":"Sprawdz_pesel(Formularz!#REF!)","v":{"$error":"#VALUE!"}}]
[null,{"$f":"Sprawdz_pesel(Formularz!#REF!)","v":{"$error":"#VALUE!"}}]
[null,{"$f":"Sprawdz_pesel(Formularz!#REF!)","v":{"$error":"#VALUE!"}}]
[null,{"$f":"Sprawdz_pesel(Formularz!#REF!)","v":{"$error":"#VALUE!"}}]
[null,{"$f":"Sprawdz_pesel(Formularz!#REF!)","v":{"$error":"#VALUE!"}}]
[null,{"$f":"Sprawdz_pesel(Formularz!#REF!)","v":{"$error":"#VALUE!"}}]
[null,{"$f":"Sprawdz_pesel(Formularz!#REF!)","v":{"$error":"#VALUE!"}}]
[null,{"$f":"Sprawdz_pesel(Formularz!#REF!)","v":{"$error":"#VALUE!"}}]
[null,{"$f":"Sprawdz_pesel(Formularz!#REF!)","v":{"$error":"#VALUE!"}}]
[null,{"$f":"Sprawdz_pesel(Formularz!#REF!)","v":{"$error":"#VALUE!"}}]
[null,{"$f":"Sprawdz_pesel(Formularz!#REF!)","v":{"$error":"#VALUE!"}}]
[null,{"$f":"Sprawdz_pesel(Formularz!#REF!)","v":{"$error":"#VALUE!"}}]
[null,{"$f":"Sprawdz_pesel(Formularz!#REF!)","v":{"$error":"#VALUE!"}}]
[null,{"$f":"Sprawdz_pesel(Formularz!#REF!)","v":{"$error":"#VALUE!"}}]
[null,{"$f":"Sprawdz_pesel(Formularz!#REF!)","v":{"$error":"#VALUE!"}}]
[null,{"$f":"Sprawdz_pesel(Formularz!#REF!)","v":{"$error":"#VALUE!"}}]
[null,{"$f":"Sprawdz_pesel(Formularz!#REF!)","v":{"$error":"#VALUE!"}}]
[null,{"$f":"Sprawdz_pesel(Formularz!#REF!)","v":{"$error":"#VALUE!"}}]
[null,{"$f":"Sprawdz_pesel(Formularz!#REF!)","v":{"$error":"#VALUE!"}}]
[null,{"$f":"Sprawdz_pesel(Formularz!#REF!)","v":{"$error":"#VALUE!"}}]
[null,{"$f":"Sprawdz_pesel(Formularz!#REF!)","v":{"$error":"#VALUE!"}}]
[null,{"$f":"Sprawdz_pesel(Formularz!#REF!)","v":{"$error":"#VALUE!"}}]
[null,{"$f":"Sprawdz_pesel(Formularz!#REF!)","v":{"$error":"#VALUE!"}}]
[null,{"$f":"Sprawdz_pesel(Formularz!#REF!)","v":{"$error":"#VALUE!"}}]
[null,{"$f":"Sprawdz_pesel(Formularz!#REF!)","v":{"$error":"#VALUE!"}}]
[null,{"$f":"Sprawdz_pesel(Formularz!#REF!)","v":{"$error":"#VALUE!"}}]
[null,{"$f":"Sprawdz_pesel(Formularz!#REF!)","v":{"$error":"#VALUE!"}}]
[null,{"$f":"Sprawdz_pesel(Formularz!#REF!)","v":{"$error":"#VALUE!"}}]
[null,{"$f":"Sprawdz_pesel(Formularz!#REF!)","v":{"$error":"#VALUE!"}}]
[null,{"$f":"Sprawdz_pesel(Formularz!#REF!)","v":{"$error":"#VALUE!"}}]
[null,{"$f":"Sprawdz_pesel(Formularz!#REF!)","v":{"$error":"#VALUE!"}}]
[null,{"$f":"Sprawdz_pesel(Formularz!#REF!)","v":{"$error":"#VALUE!"}}]
[null,{"$f":"Sprawdz_pesel(Formularz!#REF!)","v":{"$error":"#VALUE!"}}]
[null,{"$f":"Sprawdz_pesel(Formularz!#REF!)","v":{"$error":"#VALUE!"}}]
[null,{"$f":"Sprawdz_pesel(Formularz!#REF!)","v":{"$error":"#VALUE!"}}]
[null,{"$f":"Sprawdz_pesel(Formularz!#REF!)","v":{"$error":"#VALUE!"}}]
[null,{"$f":"Sprawdz_pesel(Formularz!#REF!)","v":{"$error":"#VALUE!"}}]
[null,{"$f":"Sprawdz_pesel(Formularz!#REF!)","v":{"$error":"#VALUE!"}}]
[null,{"$f":"Sprawdz_pesel(Formularz!#REF!)","v":{"$error":"#VALUE!"}}]
[null,{"$f":"Sprawdz_pesel(Formularz!#REF!)","v":{"$error":"#VALUE!"}}]
[null,{"$f":"Sprawdz_pesel(Formularz!#REF!)","v":{"$error":"#VALUE!"}}]
[null,{"$f":"Sprawdz_pesel(Formularz!#REF!)","v":{"$error":"#VALUE!"}}]
[null,{"$f":"Sprawdz_pesel(Formularz!#REF!)","v":{"$error":"#VALUE!"}}]
[null,{"$f":"Sprawdz_pesel(Formularz!#REF!)","v":{"$error":"#VALUE!"}}]
[null,{"$f":"Sprawdz_pesel(Formularz!#REF!)","v":{"$error":"#VALUE!"}}]
[null,{"$f":"Sprawdz_pesel(Formularz!#REF!)","v":{"$error":"#VALUE!"}}]
[null,{"$f":"Sprawdz_pesel(Formularz!#REF!)","v":{"$error":"#VALUE!"}}]
[null,{"$f":"Sprawdz_pesel(Formularz!#REF!)","v":{"$error":"#VALUE!"}}]
[null,{"$f":"Sprawdz_pesel(Formularz!#REF!)","v":{"$error":"#VALUE!"}}]
[null,{"$f":"Sprawdz_pesel(Formularz!#REF!)","v":{"$error":"#VALUE!"}}]
[null,{"$f":"Sprawdz_pesel(Formularz!#REF!)","v":{"$error":"#VALUE!"}}]
[null,{"$f":"Sprawdz_pesel(Formularz!#REF!)","v":{"$error":"#VALUE!"}}]
[null,{"$f":"Sprawdz_pesel(Formularz!#REF!)","v":{"$error":"#VALUE!"}}]
[null,{"$f":"Sprawdz_pesel(Formularz!#REF!)","v":{"$error":"#VALUE!"}}]
[null,{"$f":"Sprawdz_pesel(Formularz!#REF!)","v":{"$error":"#VALUE!"}}]
[null,{"$f":"Sprawdz_pesel(Formularz!#REF!)","v":{"$error":"#VALUE!"}}]
[null,{"$f":"Sprawdz_pesel(Formularz!#REF!)","v":{"$error":"#VALUE!"}}]
[null,{"$f":"Sprawdz_pesel(Formularz!#REF!)","v":{"$error":"#VALUE!"}}]
[null,{"$f":"Sprawdz_pesel(Formularz!#REF!)","v":{"$error":"#VALUE!"}}]
[null,{"$f":"Sprawdz_pesel(Formularz!#REF!)","v":{"$error":"#VALUE!"}}]
[null,{"$f":"Sprawdz_pesel(Formularz!#REF!)","v":{"$error":"#VALUE!"}}]
[null,{"$f":"Sprawdz_pesel(Formularz!#REF!)","v":{"$error":"#VALUE!"}}]
[null,{"$f":"Sprawdz_pesel(Formularz!#REF!)","v":{"$error":"#VALUE!"}}]
[null,{"$f":"Sprawdz_pesel(Formularz!#REF!)","v":{"$error":"#VALUE!"}}]
[null,{"$f":"Sprawdz_pesel(Formularz!#REF!)","v":{"$error":"#VALUE!"}}]
[null,{"$f":"Sprawdz_pesel(Formularz!#REF!)","v":{"$error":"#VALUE!"}}]
[null,{"$f":"Sprawdz_pesel(Formularz!#REF!)","v":{"$error":"#VALUE!"}}]
[null,{"$f":"Sprawdz_pesel(Formularz!#REF!)","v":{"$error":"#VALUE!"}}]
[null,{"$f":"Sprawdz_pesel(Formularz!#REF!)","v":{"$error":"#VALUE!"}}]
[null,{"$f":"Sprawdz_pesel(Formularz!#REF!)","v":{"$error":"#VALUE!"}}]
[null,{"$f":"Sprawdz_pesel(Formularz!#REF!)","v":{"$error":"#VALUE!"}}]
[null,{"$f":"Sprawdz_pesel(Formularz!#REF!)","v":{"$error":"#VALUE!"}}]
[null,{"$f":"Sprawdz_pesel(Formularz!#REF!)","v":{"$error":"#VALUE!"}}]
[null,{"$f":"Sprawdz_pesel(Formularz!#REF!)","v":{"$error":"#VALUE!"}}]
[null,{"$f":"Sprawdz_pesel(Formularz!#REF!)","v":{"$error":"#VALUE!"}}]
[null,{"$f":"Sprawdz_pesel(Formularz!#REF!)","v":{"$error":"#VALUE!"}}]
[null,{"$f":"Sprawdz_pesel(Formularz!#REF!)","v":{"$error":"#VALUE!"}}]
[null,{"$f":"Sprawdz_pesel(Formularz!#REF!)","v":{"$error":"#VALUE!"}}]
[null,{"$f":"Sprawdz_pesel(Formularz!#REF!)","v":{"$error":"#VALUE!"}}]
[null,{"$f":"Sprawdz_pesel(Formularz!#REF!)","v":{"$error":"#VALUE!"}}]
[null,{"$f":"Sprawdz_pesel(Formularz!#REF!)","v":{"$error":"#VALUE!"}}]
[null,{"$f":"Sprawdz_pesel(Formularz!#REF!)","v":{"$error":"#VALUE!"}}]
[null,{"$f":"Sprawdz_pesel(Formularz!#REF!)","v":{"$error":"#VALUE!"}}]
[null,{"$f":"Sprawdz_pesel(Formularz!#REF!)","v":{"$error":"#VALUE!"}}]
[null,{"$f":"Sprawdz_pesel(Formularz!#REF!)","v":{"$error":"#VALUE!"}}]
[null,{"$f":"Sprawdz_pesel(Formularz!#REF!)","v":{"$error":"#VALUE!"}}]
[null,{"$f":"Sprawdz_pesel(Formularz!#REF!)","v":{"$error":"#VALUE!"}}]
[null,{"$f":"Sprawdz_pesel(Formularz!#REF!)","v":{"$error":"#VALUE!"}}]
[null,{"$f":"Sprawdz_pesel(Formularz!#REF!)","v":{"$error":"#VALUE!"}}]
[null,{"$f":"Sprawdz_pesel(Formularz!#REF!)","v":{"$error":"#VALUE!"}}]
[null,{"$f":"Sprawdz_pesel(Formularz!#REF!)","v":{"$error":"#VALUE!"}}]
[null,{"$f":"Sprawdz_pesel(Formularz!#REF!)","v":{"$error":"#VALUE!"}}]
[null,{"$f":"Sprawdz_pesel(Formularz!#REF!)","v":{"$error":"#VALUE!"}}]
[null,{"$f":"Sprawdz_pesel(Formularz!#REF!)","v":{"$error":"#VALUE!"}}]
[null,{"$f":"Sprawdz_pesel(Formularz!#REF!)","v":{"$error":"#VALUE!"}}]
[null,{"$f":"Sprawdz_pesel(Formularz!#REF!)","v":{"$error":"#VALUE!"}}]
[null,{"$f":"Sprawdz_pesel(Formularz!#REF!)","v":{"$error":"#VALUE!"}}]
[null,{"$f":"Sprawdz_pesel(Formularz!#REF!)","v":{"$error":"#VALUE!"}}]
[null,{"$f":"Sprawdz_pesel(Formularz!#REF!)","v":{"$error":"#VALUE!"}}]
[null,{"$f":"Sprawdz_pesel(Formularz!#REF!)","v":{"$error":"#VALUE!"}}]
[null,{"$f":"Sprawdz_pesel(Formularz!#REF!)","v":{"$error":"#VALUE!"}}]
[null,{"$f":"Sprawdz_pesel(Formularz!#REF!)","v":{"$error":"#VALUE!"}}]
[null,{"$f":"Sprawdz_pesel(Formularz!#REF!)","v":{"$error":"#VALUE!"}}]
[null,{"$f":"Sprawdz_pesel(Formularz!#REF!)","v":{"$error":"#VALUE!"}}]
[null,{"$f":"Sprawdz_pesel(Formularz!#REF!)","v":{"$error":"#VALUE!"}}]
[null,{"$f":"Sprawdz_pesel(Formularz!#REF!)","v":{"$error":"#VALUE!"}}]
[null,{"$f":"Sprawdz_pesel(Formularz!#REF!)","v":{"$error":"#VALUE!"}}]
[null,{"$f":"Sprawdz_pesel(Formularz!#REF!)","v":{"$error":"#VALUE!"}}]
[null,{"$f":"Sprawdz_pesel(Formularz!#REF!)","v":{"$error":"#VALUE!"}}]
[null,{"$f":"Sprawdz_pesel(Formularz!#REF!)","v":{"$error":"#VALUE!"}}]
[null,{"$f":"Sprawdz_pesel(Formularz!#REF!)","v":{"$error":"#VALUE!"}}]
[null,{"$f":"Sprawdz_pesel(Formularz!#REF!)","v":{"$error":"#VALUE!"}}]
[null,{"$f":"Sprawdz_pesel(Formularz!#REF!)","v":{"$error":"#VALUE!"}}]
[null,{"$f":"Sprawdz_pesel(Formularz!#REF!)","v":{"$error":"#VALUE!"}}]
[null,{"$f":"Sprawdz_pesel(Formularz!#REF!)","v":{"$error":"#VALUE!"}}]
[null,{"$f":"Sprawdz_pesel(Formularz!#REF!)","v":{"$error":"#VALUE!"}}]
[null,{"$f":"Sprawdz_pesel(Formularz!#REF!)","v":{"$error":"#VALUE!"}}]
[null,{"$f":"Sprawdz_pesel(Formularz!#REF!)","v":{"$error":"#VALUE!"}}]
[null,{"$f":"Sprawdz_pesel(Formularz!#REF!)","v":{"$error":"#VALUE!"}}]
[null,{"$f":"Sprawdz_pesel(Formularz!#REF!)","v":{"$error":"#VALUE!"}}]
[null,{"$f":"Sprawdz_pesel(Formularz!#REF!)","v":{"$error":"#VALUE!"}}]
[null,{"$f":"Sprawdz_pesel(Formularz!#REF!)","v":{"$error":"#VALUE!"}}]
[null,{"$f":"Sprawdz_pesel(Formularz!#REF!)","v":{"$error":"#VALUE!"}}]
[null,{"$f":"Sprawdz_pesel(Formularz!#REF!)","v":{"$error":"#VALUE!"}}]
[null,{"$f":"Sprawdz_pesel(Formularz!#REF!)","v":{"$error":"#VALUE!"}}]
[null,{"$f":"Sprawdz_pesel(Formularz!#REF!)","v":{"$error":"#VALUE!"}}]
[null,{"$f":"Sprawdz_pesel(Formularz!#REF!)","v":{"$error":"#VALUE!"}}]
[null,{"$f":"Sprawdz_pesel(Formularz!#REF!)","v":{"$error":"#VALUE!"}}]
[null,{"$f":"Sprawdz_pesel(Formularz!#REF!)","v":{"$error":"#VALUE!"}}]
[null,{"$f":"Sprawdz_pesel(Formularz!#REF!)","v":{"$error":"#VALUE!"}}]
[null,{"$f":"Sprawdz_pesel(Formularz!#REF!)","v":{"$error":"#VALUE!"}}]
[null,{"$f":"Sprawdz_pesel(Formularz!#REF!)","v":{"$error":"#VALUE!"}}]
[null,{"$f":"Sprawdz_pesel(Formularz!#REF!)","v":{"$error":"#VALUE!"}}]
[null,{"$f":"Sprawdz_pesel(Formularz!#REF!)","v":{"$error":"#VALUE!"}}]
[null,{"$f":"Sprawdz_pesel(Formularz!#REF!)","v":{"$error":"#VALUE!"}}]
[null,{"$f":"Sprawdz_pesel(Formularz!#REF!)","v":{"$error":"#VALUE!"}}]
[null,{"$f":"Sprawdz_pesel(Formularz!#REF!)","v":{"$error":"#VALUE!"}}]
[null,{"$f":"Sprawdz_pesel(Formularz!#REF!)","v":{"$error":"#VALUE!"}}]
[null,{"$f":"Sprawdz_pesel(Formularz!#REF!)","v":{"$error":"#VALUE!"}}]
[null,{"$f":"Sprawdz_pesel(Formularz!#REF!)","v":{"$error":"#VALUE!"}}]
[null,{"$f":"Sprawdz_pesel(Formularz!#REF!)","v":{"$error":"#VALUE!"}}]
[null,{"$f":"Sprawdz_pesel(Formularz!#REF!)","v":{"$error":"#VALUE!"}}]
[null,{"$f":"Sprawdz_pesel(Formularz!#REF!)","v":{"$error":"#VALUE!"}}]
[null,{"$f":"Sprawdz_pesel(Formularz!#REF!)","v":{"$error":"#VALUE!"}}]
[null,{"$f":"Sprawdz_pesel(Formularz!#REF!)","v":{"$error":"#VALUE!"}}]
[null,{"$f":"Sprawdz_pesel(Formularz!#REF!)","v":{"$error":"#VALUE!"}}]
[null,{"$f":"Sprawdz_pesel(Formularz!#REF!)","v":{"$error":"#VALUE!"}}]
[null,{"$f":"Sprawdz_pesel(Formularz!#REF!)","v":{"$error":"#VALUE!"}}]
[null,{"$f":"Sprawdz_pesel(Formularz!#REF!)","v":{"$error":"#VALUE!"}}]
[null,{"$f":"Sprawdz_pesel(Formularz!#REF!)","v":{"$error":"#VALUE!"}}]
[null,{"$f":"Sprawdz_pesel(Formularz!#REF!)","v":{"$error":"#VALUE!"}}]
[null,{"$f":"Sprawdz_pesel(Formularz!#REF!)","v":{"$error":"#VALUE!"}}]
[null,{"$f":"Sprawdz_pesel(Formularz!#REF!)","v":{"$error":"#VALUE!"}}]
[null,{"$f":"Sprawdz_pesel(Formularz!#REF!)","v":{"$error":"#VALUE!"}}]
[null,{"$f":"Sprawdz_pesel(Formularz!#REF!)","v":{"$error":"#VALUE!"}}]
[null,{"$f":"Sprawdz_pesel(Formularz!#REF!)","v":{"$error":"#VALUE!"}}]
[null,{"$f":"Sprawdz_pesel(Formularz!#REF!)","v":{"$error":"#VALUE!"}}]
[null,{"$f":"Sprawdz_pesel(Formularz!#REF!)","v":{"$error":"#VALUE!"}}]
[null,{"$f":"Sprawdz_pesel(Formularz!#REF!)","v":{"$error":"#VALUE!"}}]
[null,{"$f":"Sprawdz_pesel(Formularz!#REF!)","v":{"$error":"#VALUE!"}}]
[null,{"$f":"Sprawdz_pesel(Formularz!#REF!)","v":{"$error":"#VALUE!"}}]
[null,{"$f":"Sprawdz_pesel(Formularz!#REF!)","v":{"$error":"#VALUE!"}}]
[null,{"$f":"Sprawdz_pesel(Formularz!#REF!)","v":{"$error":"#VALUE!"}}]
[null,{"$f":"Sprawdz_pesel(Formularz!#REF!)","v":{"$error":"#VALUE!"}}]
[null,{"$f":"Sprawdz_pesel(Formularz!#REF!)","v":{"$error":"#VALUE!"}}]
[null,{"$f":"Sprawdz_pesel(Formularz!#REF!)","v":{"$error":"#VALUE!"}}]
[null,{"$f":"Sprawdz_pesel(Formularz!#REF!)","v":{"$error":"#VALUE!"}}]
[null,{"$f":"Sprawdz_pesel(Formularz!#REF!)","v":{"$error":"#VALUE!"}}]
[null,{"$f":"Sprawdz_pesel(Formularz!#REF!)","v":{"$error":"#VALUE!"}}]
[null,{"$f":"Sprawdz_pesel(Formularz!#REF!)","v":{"$error":"#VALUE!"}}]
[null,{"$f":"Sprawdz_pesel(Formularz!#REF!)","v":{"$error":"#VALUE!"}}]
[null,{"$f":"Sprawdz_pesel(Formularz!#REF!)","v":{"$error":"#VALUE!"}}]
[null,{"$f":"Sprawdz_pesel(Formularz!#REF!)","v":{"$error":"#VALUE!"}}]
[null,{"$f":"Sprawdz_pesel(Formularz!#REF!)","v":{"$error":"#VALUE!"}}]
[null,{"$f":"Sprawdz_pesel(Formularz!#REF!)","v":{"$error":"#VALUE!"}}]
[null,{"$f":"Sprawdz_pesel(Formularz!#REF!)","v":{"$error":"#VALUE!"}}]
[null,{"$f":"Sprawdz_pesel(Formularz!#REF!)","v":{"$error":"#VALUE!"}}]
[null,{"$f":"Sprawdz_pesel(Formularz!#REF!)","v":{"$error":"#VALUE!"}}]
[null,{"$f":"Sprawdz_pesel(Formularz!#REF!)","v":{"$error":"#VALUE!"}}]
[null,{"$f":"Sprawdz_pesel(Formularz!#REF!)","v":{"$error":"#VALUE!"}}]
[null,{"$f":"Sprawdz_pesel(Formularz!#REF!)","v":{"$error":"#VALUE!"}}]
[null,{"$f":"Sprawdz_pesel(Formularz!#REF!)","v":{"$error":"#VALUE!"}}]
[null,{"$f":"Sprawdz_pesel(Formularz!#REF!)","v":{"$error":"#VALUE!"}}]
[null,{"$f":"Sprawdz_pesel(Formularz!#REF!)","v":{"$error":"#VALUE!"}}]
[null,{"$f":"Sprawdz_pesel(Formularz!#REF!)","v":{"$error":"#VALUE!"}}]
[null,{"$f":"Sprawdz_pesel(Formularz!#REF!)","v":{"$error":"#VALUE!"}}]
[null,{"$f":"Sprawdz_pesel(Formularz!#REF!)","v":{"$error":"#VALUE!"}}]
[null,{"$f":"Sprawdz_pesel(Formularz!#REF!)","v":{"$error":"#VALUE!"}}]
[null,{"$f":"Sprawdz_pesel(Formularz!#REF!)","v":{"$error":"#VALUE!"}}]
[null,{"$f":"Sprawdz_pesel(Formularz!#REF!)","v":{"$error":"#VALUE!"}}]
[null,{"$f":"Sprawdz_pesel(Formularz!#REF!)","v":{"$error":"#VALUE!"}}]
[null,{"$f":"Sprawdz_pesel(Formularz!#REF!)","v":{"$error":"#VALUE!"}}]
[null,{"$f":"Sprawdz_pesel(Formularz!#REF!)","v":{"$error":"#VALUE!"}}]
[null,{"$f":"Sprawdz_pesel(Formularz!#REF!)","v":{"$error":"#VALUE!"}}]
[null,{"$f":"Sprawdz_pesel(Formularz!#REF!)","v":{"$error":"#VALUE!"}}]
[null,{"$f":"Sprawdz_pesel(Formularz!#REF!)","v":{"$error":"#VALUE!"}}]
[null,{"$f":"Sprawdz_pesel(Formularz!#REF!)","v":{"$error":"#VALUE!"}}]
[null,{"$f":"Sprawdz_pesel(Formularz!#REF!)","v":{"$error":"#VALUE!"}}]
[null,{"$f":"Sprawdz_pesel(Formularz!#REF!)","v":{"$error":"#VALUE!"}}]
[null,{"$f":"Sprawdz_pesel(Formularz!#REF!)","v":{"$error":"#VALUE!"}}]
[null,{"$f":"Sprawdz_pesel(Formularz!#REF!)","v":{"$error":"#VALUE!"}}]
[null,{"$f":"Sprawdz_pesel(Formularz!#REF!)","v":{"$error":"#VALUE!"}}]
[null,{"$f":"Sprawdz_pesel(Formularz!#REF!)","v":{"$error":"#VALUE!"}}]
[null,{"$f":"Sprawdz_pesel(Formularz!#REF!)","v":{"$error":"#VALUE!"}}]
[null,{"$f":"Sprawdz_pesel(Formularz!#REF!)","v":{"$error":"#VALUE!"}}]
[null,{"$f":"Sprawdz_pesel(Formularz!#REF!)","v":{"$error":"#VALUE!"}}]
[null,{"$f":"Sprawdz_pesel(Formularz!#REF!)","v":{"$error":"#VALUE!"}}]
[null,{"$f":"Sprawdz_pesel(Formularz!#REF!)","v":{"$error":"#VALUE!"}}]
[null,{"$f":"Sprawdz_pesel(Formularz!#REF!)","v":{"$error":"#VALUE!"}}]
[null,{"$f":"Sprawdz_pesel(Formularz!#REF!)","v":{"$error":"#VALUE!"}}]
[null,{"$f":"Sprawdz_pesel(Formularz!#REF!)","v":{"$error":"#VALUE!"}}]
[null,{"$f":"Sprawdz_pesel(Formularz!#REF!)","v":{"$error":"#VALUE!"}}]
[null,{"$f":"Sprawdz_pesel(Formularz!#REF!)","v":{"$error":"#VALUE!"}}]
[null,{"$f":"Sprawdz_pesel(Formularz!#REF!)","v":{"$error":"#VALUE!"}}]
[null,{"$f":"Sprawdz_pesel(Formularz!#REF!)","v":{"$error":"#VALUE!"}}]
[null,{"$f":"Sprawdz_pesel(Formularz!#REF!)","v":{"$error":"#VALUE!"}}]
[null,{"$f":"Sprawdz_pesel(Formularz!#REF!)","v":{"$error":"#VALUE!"}}]
[null,{"$f":"Sprawdz_pesel(Formularz!#REF!)","v":{"$error":"#VALUE!"}}]
[null,{"$f":"Sprawdz_pesel(Formularz!#REF!)","v":{"$error":"#VALUE!"}}]
[null,{"$f":"Sprawdz_pesel(Formularz!#REF!)","v":{"$error":"#VALUE!"}}]
[null,{"$f":"Sprawdz_pesel(Formularz!#REF!)","v":{"$error":"#VALUE!"}}]
[null,{"$f":"Sprawdz_pesel(Formularz!#REF!)","v":{"$error":"#VALUE!"}}]
[null,{"$f":"Sprawdz_pesel(Formularz!#REF!)","v":{"$error":"#VALUE!"}}]
[null,{"$f":"Sprawdz_pesel(Formularz!#REF!)","v":{"$error":"#VALUE!"}}]
[null,{"$f":"Sprawdz_pesel(Formularz!#REF!)","v":{"$error":"#VALUE!"}}]
[null,{"$f":"Sprawdz_pesel(Formularz!#REF!)","v":{"$error":"#VALUE!"}}]
[null,{"$f":"Sprawdz_pesel(Formularz!#REF!)","v":{"$error":"#VALUE!"}}]
[null,{"$f":"Sprawdz_pesel(Formularz!#REF!)","v":{"$error":"#VALUE!"}}]
[null,{"$f":"Sprawdz_pesel(Formularz!#REF!)","v":{"$error":"#VALUE!"}}]
[null,{"$f":"Sprawdz_pesel(Formularz!#REF!)","v":{"$error":"#VALUE!"}}]
[null,{"$f":"Sprawdz_pesel(Formularz!#REF!)","v":{"$error":"#VALUE!"}}]
[null,{"$f":"Sprawdz_pesel(Formularz!#REF!)","v":{"$error":"#VALUE!"}}]
[null,{"$f":"Sprawdz_pesel(Formularz!#REF!)","v":{"$error":"#VALUE!"}}]
[null,{"$f":"Sprawdz_pesel(Formularz!#REF!)","v":{"$error":"#VALUE!"}}]
[null,{"$f":"Sprawdz_pesel(Formularz!#REF!)","v":{"$error":"#VALUE!"}}]
[null,{"$f":"Sprawdz_pesel(Formularz!#REF!)","v":{"$error":"#VALUE!"}}]
[null,{"$f":"Sprawdz_pesel(Formularz!#REF!)","v":{"$error":"#VALUE!"}}]
[null,{"$f":"Sprawdz_pesel(Formularz!#REF!)","v":{"$error":"#VALUE!"}}]
[null,{"$f":"Sprawdz_pesel(Formularz!#REF!)","v":{"$error":"#VALUE!"}}]
[null,{"$f":"Sprawdz_pesel(Formularz!#REF!)","v":{"$error":"#VALUE!"}}]
[null,{"$f":"Sprawdz_pesel(Formularz!#REF!)","v":{"$error":"#VALUE!"}}]
[null,{"$f":"Sprawdz_pesel(Formularz!#REF!)","v":{"$error":"#VALUE!"}}]
[null,{"$f":"Sprawdz_pesel(Formularz!#REF!)","v":{"$error":"#VALUE!"}}]
[null,{"$f":"Sprawdz_pesel(Formularz!#REF!)","v":{"$error":"#VALUE!"}}]
[null,{"$f":"Sprawdz_pesel(Formularz!#REF!)","v":{"$error":"#VALUE!"}}]
[null,{"$f":"Sprawdz_pesel(Formularz!#REF!)","v":{"$error":"#VALUE!"}}]
[null,{"$f":"Sprawdz_pesel(Formularz!#REF!)","v":{"$error":"#VALUE!"}}]
[null,{"$f":"Sprawdz_pesel(Formularz!#REF!)","v":{"$error":"#VALUE!"}}]
[null,{"$f":"Sprawdz_pesel(Formularz!#REF!)","v":{"$error":"#VALUE!"}}]
[null,{"$f":"Sprawdz_pesel(Formularz!#REF!)","v":{"$error":"#VALUE!"}}]
[null,{"$f":"Sprawdz_pesel(Formularz!#REF!)","v":{"$error":"#VALUE!"}}]
[null,{"$f":"Sprawdz_pesel(Formularz!#REF!)","v":{"$error":"#VALUE!"}}]
[null,{"$f":"Sprawdz_pesel(Formularz!#REF!)","v":{"$error":"#VALUE!"}}]
[null,{"$f":"Sprawdz_pesel(Formularz!#REF!)","v":{"$error":"#VALUE!"}}]
[null,{"$f":"Sprawdz_pesel(Formularz!#REF!)","v":{"$error":"#VALUE!"}}]
[null,{"$f":"Sprawdz_pesel(Formularz!#REF!)","v":{"$error":"#VALUE!"}}]
[null,{"$f":"Sprawdz_pesel(Formularz!#REF!)","v":{"$error":"#VALUE!"}}]
[null,{"$f":"Sprawdz_pesel(Formularz!#REF!)","v":{"$error":"#VALUE!"}}]
[null,{"$f":"Sprawdz_pesel(Formularz!#REF!)","v":{"$error":"#VALUE!"}}]
[null,{"$f":"Sprawdz_pesel(Formularz!#REF!)","v":{"$error":"#VALUE!"}}]
[null,{"$f":"Sprawdz_pesel(Formularz!#REF!)","v":{"$error":"#VALUE!"}}]
[null,{"$f":"Sprawdz_pesel(Formularz!#REF!)","v":{"$error":"#VALUE!"}}]
[null,{"$f":"Sprawdz_pesel(Formularz!#REF!)","v":{"$error":"#VALUE!"}}]
[null,{"$f":"Sprawdz_pesel(Formularz!#REF!)","v":{"$error":"#VALUE!"}}]
[null,{"$f":"Sprawdz_pesel(Formularz!#REF!)","v":{"$error":"#VALUE!"}}]
[null,{"$f":"Sprawdz_pesel(Formularz!#REF!)","v":{"$error":"#VALUE!"}}]
[null,{"$f":"Sprawdz_pesel(Formularz!#REF!)","v":{"$error":"#VALUE!"}}]
[null,{"$f":"Sprawdz_pesel(Formularz!#REF!)","v":{"$error":"#VALUE!"}}]
[null,{"$f":"Sprawdz_pesel(Formularz!#REF!)","v":{"$error":"#VALUE!"}}]
[null,{"$f":"Sprawdz_pesel(Formularz!#REF!)","v":{"$error":"#VALUE!"}}]
[null,{"$f":"Sprawdz_pesel(Formularz!#REF!)","v":{"$error":"#VALUE!"}}]
[null,{"$f":"Sprawdz_pesel(Formularz!#REF!)","v":{"$error":"#VALUE!"}}]
[null,{"$f":"Sprawdz_pesel(Formularz!#REF!)","v":{"$error":"#VALUE!"}}]
[null,{"$f":"Sprawdz_pesel(Formularz!#REF!)","v":{"$error":"#VALUE!"}}]
[null,{"$f":"Sprawdz_pesel(Formularz!#REF!)","v":{"$error":"#VALUE!"}}]
[null,{"$f":"Sprawdz_pesel(Formularz!#REF!)","v":{"$error":"#VALUE!"}}]
[null,{"$f":"Sprawdz_pesel(Formularz!#REF!)","v":{"$error":"#VALUE!"}}]
[null,{"$f":"Sprawdz_pesel(Formularz!#REF!)","v":{"$error":"#VALUE!"}}]
[null,{"$f":"Sprawdz_pesel(Formularz!#REF!)","v":{"$error":"#VALUE!"}}]
[null,{"$f":"Sprawdz_pesel(Formularz!#REF!)","v":{"$error":"#VALUE!"}}]
[null,{"$f":"Sprawdz_pesel(Formularz!#REF!)","v":{"$error":"#VALUE!"}}]
[null,{"$f":"Sprawdz_pesel(Formularz!#REF!)","v":{"$error":"#VALUE!"}}]
[null,{"$f":"Sprawdz_pesel(Formularz!#REF!)","v":{"$error":"#VALUE!"}}]
[null,{"$f":"Sprawdz_pesel(Formularz!#REF!)","v":{"$error":"#VALUE!"}}]
[null,{"$f":"Sprawdz_pesel(Formularz!#REF!)","v":{"$error":"#VALUE!"}}]
[null,{"$f":"Sprawdz_pesel(Formularz!#REF!)","v":{"$error":"#VALUE!"}}]
[null,{"$f":"Sprawdz_pesel(Formularz!#REF!)","v":{"$error":"#VALUE!"}}]
[null,{"$f":"Sprawdz_pesel(Formularz!#REF!)","v":{"$error":"#VALUE!"}}]
[null,{"$f":"Sprawdz_pesel(Formularz!#REF!)","v":{"$error":"#VALUE!"}}]
[null,{"$f":"Sprawdz_pesel(Formularz!#REF!)","v":{"$error":"#VALUE!"}}]
[null,{"$f":"Sprawdz_pesel(Formularz!#REF!)","v":{"$error":"#VALUE!"}}]
[null,{"$f":"Sprawdz_pesel(Formularz!#REF!)","v":{"$error":"#VALUE!"}}]
[null,{"$f":"Sprawdz_pesel(Formularz!#REF!)","v":{"$error":"#VALUE!"}}]
[null,{"$f":"Sprawdz_pesel(Formularz!#REF!)","v":{"$error":"#VALUE!"}}]
[null,{"$f":"Sprawdz_pesel(Formularz!#REF!)","v":{"$error":"#VALUE!"}}]
[null,{"$f":"Sprawdz_pesel(Formularz!#REF!)","v":{"$error":"#VALUE!"}}]
[null,{"$f":"Sprawdz_pesel(Formularz!#REF!)","v":{"$error":"#VALUE!"}}]
[null,{"$f":"Sprawdz_pesel(Formularz!#REF!)","v":{"$error":"#VALUE!"}}]
[null,{"$f":"Sprawdz_pesel(Formularz!#REF!)","v":{"$error":"#VALUE!"}}]
[null,{"$f":"Sprawdz_pesel(Formularz!#REF!)","v":{"$error":"#VALUE!"}}]
[null,{"$f":"Sprawdz_pesel(Formularz!#REF!)","v":{"$error":"#VALUE!"}}]
[null,{"$f":"Sprawdz_pesel(Formularz!#REF!)","v":{"$error":"#VALUE!"}}]
[null,{"$f":"Sprawdz_pesel(Formularz!#REF!)","v":{"$error":"#VALUE!"}}]
[null,{"$f":"Sprawdz_pesel(Formularz!#REF!)","v":{"$error":"#VALUE!"}}]
[null,{"$f":"Sprawdz_pesel(Formularz!#REF!)","v":{"$error":"#VALUE!"}}]
[null,{"$f":"Sprawdz_pesel(Formularz!#REF!)","v":{"$error":"#VALUE!"}}]
[null,{"$f":"Sprawdz_pesel(Formularz!#REF!)","v":{"$error":"#VALUE!"}}]
[null,{"$f":"Sprawdz_pesel(Formularz!#REF!)","v":{"$error":"#VALUE!"}}]
[null,{"$f":"Sprawdz_pesel(Formularz!#REF!)","v":{"$error":"#VALUE!"}}]
[null,{"$f":"Sprawdz_pesel(Formularz!#REF!)","v":{"$error":"#VALUE!"}}]
[null,{"$f":"Sprawdz_pesel(Formularz!#REF!)","v":{"$error":"#VALUE!"}}]
[null,{"$f":"Sprawdz_pesel(Formularz!#REF!)","v":{"$error":"#VALUE!"}}]
[null,{"$f":"Sprawdz_pesel(Formularz!#REF!)","v":{"$error":"#VALUE!"}}]
[null,{"$f":"Sprawdz_pesel(Formularz!#REF!)","v":{"$error":"#VALUE!"}}]
[null,{"$f":"Sprawdz_pesel(Formularz!#REF!)","v":{"$error":"#VALUE!"}}]
[null,{"$f":"Sprawdz_pesel(Formularz!#REF!)","v":{"$error":"#VALUE!"}}]
[null,{"$f":"Sprawdz_pesel(Formularz!#REF!)","v":{"$error":"#VALUE!"}}]
[null,{"$f":"Sprawdz_pesel(Formularz!#REF!)","v":{"$error":"#VALUE!"}}]
[null,{"$f":"Sprawdz_pesel(Formularz!#REF!)","v":{"$error":"#VALUE!"}}]
[null,{"$f":"Sprawdz_pesel(Formularz!#REF!)","v":{"$error":"#VALUE!"}}]
[null,{"$f":"Sprawdz_pesel(Formularz!#REF!)","v":{"$error":"#VALUE!"}}]
[null,{"$f":"Sprawdz_pesel(Formularz!#REF!)","v":{"$error":"#VALUE!"}}]
[null,{"$f":"Sprawdz_pesel(Formularz!#REF!)","v":{"$error":"#VALUE!"}}]
[null,{"$f":"Sprawdz_pesel(Formularz!#REF!)","v":{"$error":"#VALUE!"}}]
[null,{"$f":"Sprawdz_pesel(Formularz!#REF!)","v":{"$error":"#VALUE!"}}]
[null,{"$f":"Sprawdz_pesel(Formularz!#REF!)","v":{"$error":"#VALUE!"}}]
[null,{"$f":"Sprawdz_pesel(Formularz!#REF!)","v":{"$error":"#VALUE!"}}]
[null,{"$f":"Sprawdz_pesel(Formularz!#REF!)","v":{"$error":"#VALUE!"}}]
[null,{"$f":"Sprawdz_pesel(Formularz!#REF!)","v":{"$error":"#VALUE!"}}]
[null,{"$f":"Sprawdz_pesel(Formularz!#REF!)","v":{"$error":"#VALUE!"}}]
[null,{"$f":"Sprawdz_pesel(Formularz!#REF!)","v":{"$error":"#VALUE!"}}]
[null,{"$f":"Sprawdz_pesel(Formularz!#REF!)","v":{"$error":"#VALUE!"}}]
[null,{"$f":"Sprawdz_pesel(Formularz!#REF!)","v":{"$error":"#VALUE!"}}]
[null,{"$f":"Sprawdz_pesel(Formularz!#REF!)","v":{"$error":"#VALUE!"}}]
[null,{"$f":"Sprawdz_pesel(Formularz!#REF!)","v":{"$error":"#VALUE!"}}]
[null,{"$f":"Sprawdz_pesel(Formularz!#REF!)","v":{"$error":"#VALUE!"}}]
[null,{"$f":"Sprawdz_pesel(Formularz!#REF!)","v":{"$error":"#VALUE!"}}]
[null,{"$f":"Sprawdz_pesel(Formularz!#REF!)","v":{"$error":"#VALUE!"}}]
[null,{"$f":"Sprawdz_pesel(Formularz!#REF!)","v":{"$error":"#VALUE!"}}]
[null,{"$f":"Sprawdz_pesel(Formularz!#REF!)","v":{"$error":"#VALUE!"}}]
[null,{"$f":"Sprawdz_pesel(Formularz!#REF!)","v":{"$error":"#VALUE!"}}]
[null,{"$f":"Sprawdz_pesel(Formularz!#REF!)","v":{"$error":"#VALUE!"}}]
[null,{"$f":"Sprawdz_pesel(Formularz!#REF!)","v":{"$error":"#VALUE!"}}]
[null,{"$f":"Sprawdz_pesel(Formularz!#REF!)","v":{"$error":"#VALUE!"}}]
[null,{"$f":"Sprawdz_pesel(Formularz!#REF!)","v":{"$error":"#VALUE!"}}]
[null,{"$f":"Sprawdz_pesel(Formularz!#REF!)","v":{"$error":"#VALUE!"}}]
[null,{"$f":"Sprawdz_pesel(Formularz!#REF!)","v":{"$error":"#VALUE!"}}]
[null,{"$f":"Sprawdz_pesel(Formularz!#REF!)","v":{"$error":"#VALUE!"}}]
[null,{"$f":"Sprawdz_pesel(Formularz!#REF!)","v":{"$error":"#VALUE!"}}]
[null,{"$f":"Sprawdz_pesel(Formularz!#REF!)","v":{"$error":"#VALUE!"}}]
[null,{"$f":"Sprawdz_pesel(Formularz!#REF!)","v":{"$error":"#VALUE!"}}]
[null,{"$f":"Sprawdz_pesel(Formularz!#REF!)","v":{"$error":"#VALUE!"}}]
[null,{"$f":"Sprawdz_pesel(Formularz!#REF!)","v":{"$error":"#VALUE!"}}]
[null,{"$f":"Sprawdz_pesel(Formularz!#REF!)","v":{"$error":"#VALUE!"}}]
[null,{"$f":"Sprawdz_pesel(Formularz!#REF!)","v":{"$error":"#VALUE!"}}]
[null,{"$f":"Sprawdz_pesel(Formularz!#REF!)","v":{"$error":"#VALUE!"}}]
[null,{"$f":"Sprawdz_pesel(Formularz!#REF!)","v":{"$error":"#VALUE!"}}]
[null,{"$f":"Sprawdz_pesel(Formularz!#REF!)","v":{"$error":"#VALUE!"}}]
[null,{"$f":"Sprawdz_pesel(Formularz!#REF!)","v":{"$error":"#VALUE!"}}]
[null,{"$f":"Sprawdz_pesel(Formularz!#REF!)","v":{"$error":"#VALUE!"}}]
[null,{"$f":"Sprawdz_pesel(Formularz!#REF!)","v":{"$error":"#VALUE!"}}]
[null,{"$f":"Sprawdz_pesel(Formularz!#REF!)","v":{"$error":"#VALUE!"}}]
[null,{"$f":"Sprawdz_pesel(Formularz!#REF!)","v":{"$error":"#VALUE!"}}]
[null,{"$f":"Sprawdz_pesel(Formularz!#REF!)","v":{"$error":"#VALUE!"}}]
[null,{"$f":"Sprawdz_pesel(Formularz!#REF!)","v":{"$error":"#VALUE!"}}]
[null,{"$f":"Sprawdz_pesel(Formularz!#REF!)","v":{"$error":"#VALUE!"}}]
[null,{"$f":"Sprawdz_pesel(Formularz!#REF!)","v":{"$error":"#VALUE!"}}]
[null,{"$f":"Sprawdz_pesel(Formularz!#REF!)","v":{"$error":"#VALUE!"}}]
[null,{"$f":"Sprawdz_pesel(Formularz!#REF!)","v":{"$error":"#VALUE!"}}]
[null,{"$f":"Sprawdz_pesel(Formularz!#REF!)","v":{"$error":"#VALUE!"}}]
[null,{"$f":"Sprawdz_pesel(Formularz!#REF!)","v":{"$error":"#VALUE!"}}]
[null,{"$f":"Sprawdz_pesel(Formularz!#REF!)","v":{"$error":"#VALUE!"}}]
[null,{"$f":"Sprawdz_pesel(Formularz!#REF!)","v":{"$error":"#VALUE!"}}]
[null,{"$f":"Sprawdz_pesel(Formularz!#REF!)","v":{"$error":"#VALUE!"}}]
[null,{"$f":"Sprawdz_pesel(Formularz!#REF!)","v":{"$error":"#VALUE!"}}]
[null,{"$f":"Sprawdz_pesel(Formularz!#REF!)","v":{"$error":"#VALUE!"}}]
[null,{"$f":"Sprawdz_pesel(Formularz!#REF!)","v":{"$error":"#VALUE!"}}]
[null,{"$f":"Sprawdz_pesel(Formularz!#REF!)","v":{"$error":"#VALUE!"}}]
[null,{"$f":"Sprawdz_pesel(Formularz!#REF!)","v":{"$error":"#VALUE!"}}]
[null,{"$f":"Sprawdz_pesel(Formularz!#REF!)","v":{"$error":"#VALUE!"}}]
[null,{"$f":"Sprawdz_pesel(Formularz!#REF!)","v":{"$error":"#VALUE!"}}]
[null,{"$f":"Sprawdz_pesel(Formularz!#REF!)","v":{"$error":"#VALUE!"}}]
[null,{"$f":"Sprawdz_pesel(Formularz!#REF!)","v":{"$error":"#VALUE!"}}]
[null,{"$f":"Sprawdz_pesel(Formularz!#REF!)","v":{"$error":"#VALUE!"}}]
[null,{"$f":"Sprawdz_pesel(Formularz!#REF!)","v":{"$error":"#VALUE!"}}]
[null,{"$f":"Sprawdz_pesel(Formularz!#REF!)","v":{"$error":"#VALUE!"}}]
[null,{"$f":"Sprawdz_pesel(Formularz!#REF!)","v":{"$error":"#VALUE!"}}]
[null,{"$f":"Sprawdz_pesel(Formularz!#REF!)","v":{"$error":"#VALUE!"}}]
[null,{"$f":"Sprawdz_pesel(Formularz!#REF!)","v":{"$error":"#VALUE!"}}]
[null,{"$f":"Sprawdz_pesel(Formularz!#REF!)","v":{"$error":"#VALUE!"}}]
[null,{"$f":"Sprawdz_pesel(Formularz!#REF!)","v":{"$error":"#VALUE!"}}]
[null,{"$f":"Sprawdz_pesel(Formularz!#REF!)","v":{"$error":"#VALUE!"}}]
[null,{"$f":"Sprawdz_pesel(Formularz!#REF!)","v":{"$error":"#VALUE!"}}]
[null,{"$f":"Sprawdz_pesel(Formularz!#REF!)","v":{"$error":"#VALUE!"}}]
[null,{"$f":"Sprawdz_pesel(Formularz!#REF!)","v":{"$error":"#VALUE!"}}]
[null,{"$f":"Sprawdz_pesel(Formularz!#REF!)","v":{"$error":"#VALUE!"}}]
[null,{"$f":"Sprawdz_pesel(Formularz!#REF!)","v":{"$error":"#VALUE!"}}]
[null,{"$f":"Sprawdz_pesel(Formularz!#REF!)","v":{"$error":"#VALUE!"}}]
[null,{"$f":"Sprawdz_pesel(Formularz!#REF!)","v":{"$error":"#VALUE!"}}]
[null,{"$f":"Sprawdz_pesel(Formularz!#REF!)","v":{"$error":"#VALUE!"}}]
[null,{"$f":"Sprawdz_pesel(Formularz!#REF!)","v":{"$error":"#VALUE!"}}]
[null,{"$f":"Sprawdz_pesel(Formularz!#REF!)","v":{"$error":"#VALUE!"}}]
[null,{"$f":"Sprawdz_pesel(Formularz!#REF!)","v":{"$error":"#VALUE!"}}]
[null,{"$f":"Sprawdz_pesel(Formularz!#REF!)","v":{"$error":"#VALUE!"}}]
[null,{"$f":"Sprawdz_pesel(Formularz!#REF!)","v":{"$error":"#VALUE!"}}]
[null,{"$f":"Sprawdz_pesel(Formularz!#REF!)","v":{"$error":"#VALUE!"}}]
[null,{"$f":"Sprawdz_pesel(Formularz!#REF!)","v":{"$error":"#VALUE!"}}]
[null,{"$f":"Sprawdz_pesel(Formularz!#REF!)","v":{"$error":"#VALUE!"}}]
[null,{"$f":"Sprawdz_pesel(Formularz!#REF!)","v":{"$error":"#VALUE!"}}]
[null,{"$f":"Sprawdz_pesel(Formularz!#REF!)","v":{"$error":"#VALUE!"}}]
[null,{"$f":"Sprawdz_pesel(Formularz!#REF!)","v":{"$error":"#VALUE!"}}]
[null,{"$f":"Sprawdz_pesel(Formularz!#REF!)","v":{"$error":"#VALUE!"}}]
[null,{"$f":"Sprawdz_pesel(Formularz!#REF!)","v":{"$error":"#VALUE!"}}]
[null,{"$f":"Sprawdz_pesel(Formularz!#REF!)","v":{"$error":"#VALUE!"}}]
[null,{"$f":"Sprawdz_pesel(Formularz!#REF!)","v":{"$error":"#VALUE!"}}]
[null,{"$f":"Sprawdz_pesel(Formularz!#REF!)","v":{"$error":"#VALUE!"}}]
[null,{"$f":"Sprawdz_pesel(Formularz!#REF!)","v":{"$error":"#VALUE!"}}]
[null,{"$f":"Sprawdz_pesel(Formularz!#REF!)","v":{"$error":"#VALUE!"}}]
[null,{"$f":"Sprawdz_pesel(Formularz!#REF!)","v":{"$error":"#VALUE!"}}]
[null,{"$f":"Sprawdz_pesel(Formularz!#REF!)","v":{"$error":"#VALUE!"}}]
[null,{"$f":"Sprawdz_pesel(Formularz!#REF!)","v":{"$error":"#VALUE!"}}]
[null,{"$f":"Sprawdz_pesel(Formularz!#REF!)","v":{"$error":"#VALUE!"}}]
[null,{"$f":"Sprawdz_pesel(Formularz!#REF!)","v":{"$error":"#VALUE!"}}]
[null,{"$f":"Sprawdz_pesel(Formularz!#REF!)","v":{"$error":"#VALUE!"}}]
[null,{"$f":"Sprawdz_pesel(Formularz!#REF!)","v":{"$error":"#VALUE!"}}]
[null,{"$f":"Sprawdz_pesel(Formularz!#REF!)","v":{"$error":"#VALUE!"}}]
[null,{"$f":"Sprawdz_pesel(Formularz!#REF!)","v":{"$error":"#VALUE!"}}]
[null,{"$f":"Sprawdz_pesel(Formularz!#REF!)","v":{"$error":"#VALUE!"}}]
[null,{"$f":"Sprawdz_pesel(Formularz!#REF!)","v":{"$error":"#VALUE!"}}]
[null,{"$f":"Sprawdz_pesel(Formularz!#REF!)","v":{"$error":"#VALUE!"}}]
[null,{"$f":"Sprawdz_pesel(Formularz!#REF!)","v":{"$error":"#VALUE!"}}]
[null,{"$f":"Sprawdz_pesel(Formularz!#REF!)","v":{"$error":"#VALUE!"}}]
[null,{"$f":"Sprawdz_pesel(Formularz!#REF!)","v":{"$error":"#VALUE!"}}]
[null,{"$f":"Sprawdz_pesel(Formularz!#REF!)","v":{"$error":"#VALUE!"}}]
[null,{"$f":"Sprawdz_pesel(Formularz!#REF!)","v":{"$error":"#VALUE!"}}]
[null,{"$f":"Sprawdz_pesel(Formularz!#REF!)","v":{"$error":"#VALUE!"}}]
[null,{"$f":"Sprawdz_pesel(Formularz!#REF!)","v":{"$error":"#VALUE!"}}]
[null,{"$f":"Sprawdz_pesel(Formularz!#REF!)","v":{"$error":"#VALUE!"}}]
[null,{"$f":"Sprawdz_pesel(Formularz!#REF!)","v":{"$error":"#VALUE!"}}]
[null,{"$f":"Sprawdz_pesel(Formularz!#REF!)","v":{"$error":"#VALUE!"}}]
[null,{"$f":"Sprawdz_pesel(Formularz!#REF!)","v":{"$error":"#VALUE!"}}]
[null,{"$f":"Sprawdz_pesel(Formularz!#REF!)","v":{"$error":"#VALUE!"}}]
[null,{"$f":"Sprawdz_pesel(Formularz!#REF!)","v":{"$error":"#VALUE!"}}]
[null,{"$f":"Sprawdz_pesel(Formularz!#REF!)","v":{"$error":"#VALUE!"}}]
[null,{"$f":"Sprawdz_pesel(Formularz!#REF!)","v":{"$error":"#VALUE!"}}]
[null,{"$f":"Sprawdz_pesel(Formularz!#REF!)","v":{"$error":"#VALUE!"}}]
[null,{"$f":"Sprawdz_pesel(Formularz!#REF!)","v":{"$error":"#VALUE!"}}]
[null,{"$f":"Sprawdz_pesel(Formularz!#REF!)","v":{"$error":"#VALUE!"}}]
[null,{"$f":"Sprawdz_pesel(Formularz!#REF!)","v":{"$error":"#VALUE!"}}]
[null,{"$f":"Sprawdz_pesel(Formularz!#REF!)","v":{"$error":"#VALUE!"}}]
[null,{"$f":"Sprawdz_pesel(Formularz!#REF!)","v":{"$error":"#VALUE!"}}]
[null,{"$f":"Sprawdz_pesel(Formularz!#REF!)","v":{"$error":"#VALUE!"}}]
[null,{"$f":"Sprawdz_pesel(Formularz!#REF!)","v":{"$error":"#VALUE!"}}]
[null,{"$f":"Sprawdz_pesel(Formularz!#REF!)","v":{"$error":"#VALUE!"}}]
[null,{"$f":"Sprawdz_pesel(Formularz!#REF!)","v":{"$error":"#VALUE!"}}]
[null,{"$f":"Sprawdz_pesel(Formularz!#REF!)","v":{"$error":"#VALUE!"}}]
[null,{"$f":"Sprawdz_pesel(Formularz!#REF!)","v":{"$error":"#VALUE!"}}]
[null,{"$f":"Sprawdz_pesel(Formularz!#REF!)","v":{"$error":"#VALUE!"}}]
[null,{"$f":"Sprawdz_pesel(Formularz!#REF!)","v":{"$error":"#VALUE!"}}]
[null,{"$f":"Sprawdz_pesel(Formularz!#REF!)","v":{"$error":"#VALUE!"}}]
[null,{"$f":"Sprawdz_pesel(Formularz!#REF!)","v":{"$error":"#VALUE!"}}]
[null,{"$f":"Sprawdz_pesel(Formularz!#REF!)","v":{"$error":"#VALUE!"}}]
[null,{"$f":"Sprawdz_pesel(Formularz!#REF!)","v":{"$error":"#VALUE!"}}]
[null,{"$f":"Sprawdz_pesel(Formularz!#REF!)","v":{"$error":"#VALUE!"}}]
[null,{"$f":"Sprawdz_pesel(Formularz!#REF!)","v":{"$error":"#VALUE!"}}]
[null,{"$f":"Sprawdz_pesel(Formularz!#REF!)","v":{"$error":"#VALUE!"}}]
[null,{"$f":"Sprawdz_pesel(Formularz!#REF!)","v":{"$error":"#VALUE!"}}]
[null,{"$f":"Sprawdz_pesel(Formularz!#REF!)","v":{"$error":"#VALUE!"}}]
[null,{"$f":"Sprawdz_pesel(Formularz!#REF!)","v":{"$error":"#VALUE!"}}]
[null,{"$f":"Sprawdz_pesel(Formularz!#REF!)","v":{"$error":"#VALUE!"}}]
[null,{"$f":"Sprawdz_pesel(Formularz!#REF!)","v":{"$error":"#VALUE!"}}]
[null,{"$f":"Sprawdz_pesel(Formularz!#REF!)","v":{"$error":"#VALUE!"}}]
[null,{"$f":"Sprawdz_pesel(Formularz!#REF!)","v":{"$error":"#VALUE!"}}]
[null,{"$f":"Sprawdz_pesel(Formularz!#REF!)","v":{"$error":"#VALUE!"}}]
[null,{"$f":"Sprawdz_pesel(Formularz!#REF!)","v":{"$error":"#VALUE!"}}]
[null,{"$f":"Sprawdz_pesel(Formularz!#REF!)","v":{"$error":"#VALUE!"}}]
[null,{"$f":"Sprawdz_pesel(Formularz!#REF!)","v":{"$error":"#VALUE!"}}]
[null,{"$f":"Sprawdz_pesel(Formularz!#REF!)","v":{"$error":"#VALUE!"}}]
[null,{"$f":"Sprawdz_pesel(Formularz!#REF!)","v":{"$error":"#VALUE!"}}]
[null,{"$f":"Sprawdz_pesel(Formularz!#REF!)","v":{"$error":"#VALUE!"}}]
[null,{"$f":"Sprawdz_pesel(Formularz!#REF!)","v":{"$error":"#VALUE!"}}]
[null,{"$f":"Sprawdz_pesel(Formularz!#REF!)","v":{"$error":"#VALUE!"}}]
[null,{"$f":"Sprawdz_pesel(Formularz!#REF!)","v":{"$error":"#VALUE!"}}]
[null,{"$f":"Sprawdz_pesel(Formularz!#REF!)","v":{"$error":"#VALUE!"}}]
[null,{"$f":"Sprawdz_pesel(Formularz!#REF!)","v":{"$error":"#VALUE!"}}]
[null,{"$f":"Sprawdz_pesel(Formularz!#REF!)","v":{"$error":"#VALUE!"}}]
[null,{"$f":"Sprawdz_pesel(Formularz!#REF!)","v":{"$error":"#VALUE!"}}]
[null,{"$f":"Sprawdz_pesel(Formularz!#REF!)","v":{"$error":"#VALUE!"}}]
[null,{"$f":"Sprawdz_pesel(Formularz!#REF!)","v":{"$error":"#VALUE!"}}]
[null,{"$f":"Sprawdz_pesel(Formularz!#REF!)","v":{"$error":"#VALUE!"}}]
[null,{"$f":"Sprawdz_pesel(Formularz!#REF!)","v":{"$error":"#VALUE!"}}]
[null,{"$f":"Sprawdz_pesel(Formularz!#REF!)","v":{"$error":"#VALUE!"}}]
[null,{"$f":"Sprawdz_pesel(Formularz!#REF!)","v":{"$error":"#VALUE!"}}]
[null,{"$f":"Sprawdz_pesel(Formularz!#REF!)","v":{"$error":"#VALUE!"}}]
[null,{"$f":"Sprawdz_pesel(Formularz!#REF!)","v":{"$error":"#VALUE!"}}]
[null,{"$f":"Sprawdz_pesel(Formularz!#REF!)","v":{"$error":"#VALUE!"}}]
[null,{"$f":"Sprawdz_pesel(Formularz!#REF!)","v":{"$error":"#VALUE!"}}]
[null,{"$f":"Sprawdz_pesel(Formularz!#REF!)","v":{"$error":"#VALUE!"}}]
[null,{"$f":"Sprawdz_pesel(Formularz!#REF!)","v":{"$error":"#VALUE!"}}]
[null,{"$f":"Sprawdz_pesel(Formularz!#REF!)","v":{"$error":"#VALUE!"}}]
[null,{"$f":"Sprawdz_pesel(Formularz!#REF!)","v":{"$error":"#VALUE!"}}]
[null,{"$f":"Sprawdz_pesel(Formularz!#REF!)","v":{"$error":"#VALUE!"}}]
[null,{"$f":"Sprawdz_pesel(Formularz!#REF!)","v":{"$error":"#VALUE!"}}]
[null,{"$f":"Sprawdz_pesel(Formularz!#REF!)","v":{"$error":"#VALUE!"}}]
[null,{"$f":"Sprawdz_pesel(Formularz!#REF!)","v":{"$error":"#VALUE!"}}]
[null,{"$f":"Sprawdz_pesel(Formularz!#REF!)","v":{"$error":"#VALUE!"}}]
[null,{"$f":"Sprawdz_pesel(Formularz!#REF!)","v":{"$error":"#VALUE!"}}]
[null,{"$f":"Sprawdz_pesel(Formularz!#REF!)","v":{"$error":"#VALUE!"}}]
[null,{"$f":"Sprawdz_pesel(Formularz!#REF!)","v":{"$error":"#VALUE!"}}]
[null,{"$f":"Sprawdz_pesel(Formularz!#REF!)","v":{"$error":"#VALUE!"}}]
[null,{"$f":"Sprawdz_pesel(Formularz!#REF!)","v":{"$error":"#VALUE!"}}]
[null,{"$f":"Sprawdz_pesel(Formularz!#REF!)","v":{"$error":"#VALUE!"}}]
[null,{"$f":"Sprawdz_pesel(Formularz!#REF!)","v":{"$error":"#VALUE!"}}]
[null,{"$f":"Sprawdz_pesel(Formularz!#REF!)","v":{"$error":"#VALUE!"}}]
[null,{"$f":"Sprawdz_pesel(Formularz!#REF!)","v":{"$error":"#VALUE!"}}]
[null,{"$f":"Sprawdz_pesel(Formularz!#REF!)","v":{"$error":"#VALUE!"}}]
[null,{"$f":"Sprawdz_pesel(Formularz!#REF!)","v":{"$error":"#VALUE!"}}]
[null,{"$f":"Sprawdz_pesel(Formularz!#REF!)","v":{"$error":"#VALUE!"}}]
[null,{"$f":"Sprawdz_pesel(Formularz!#REF!)","v":{"$error":"#VALUE!"}}]
[null,{"$f":"Sprawdz_pesel(Formularz!#REF!)","v":{"$error":"#VALUE!"}}]
[null,{"$f":"Sprawdz_pesel(Formularz!#REF!)","v":{"$error":"#VALUE!"}}]
[null,{"$f":"Sprawdz_pesel(Formularz!#REF!)","v":{"$error":"#VALUE!"}}]
[null,{"$f":"Sprawdz_pesel(Formularz!#REF!)","v":{"$error":"#VALUE!"}}]
[null,{"$f":"Sprawdz_pesel(Formularz!#REF!)","v":{"$error":"#VALUE!"}}]
[null,{"$f":"Sprawdz_pesel(Formularz!#REF!)","v":{"$error":"#VALUE!"}}]
[null,{"$f":"Sprawdz_pesel(Formularz!#REF!)","v":{"$error":"#VALUE!"}}]
[null,{"$f":"Sprawdz_pesel(Formularz!#REF!)","v":{"$error":"#VALUE!"}}]
[null,{"$f":"Sprawdz_pesel(Formularz!#REF!)","v":{"$error":"#VALUE!"}}]
[null,{"$f":"Sprawdz_pesel(Formularz!#REF!)","v":{"$error":"#VALUE!"}}]
[null,{"$f":"Sprawdz_pesel(Formularz!#REF!)","v":{"$error":"#VALUE!"}}]
[null,{"$f":"Sprawdz_pesel(Formularz!#REF!)","v":{"$error":"#VALUE!"}}]
[null,{"$f":"Sprawdz_pesel(Formularz!#REF!)","v":{"$error":"#VALUE!"}}]
[null,{"$f":"Sprawdz_pesel(Formularz!#REF!)","v":{"$error":"#VALUE!"}}]
[null,{"$f":"Sprawdz_pesel(Formularz!#REF!)","v":{"$error":"#VALUE!"}}]
[null,{"$f":"Sprawdz_pesel(Formularz!#REF!)","v":{"$error":"#VALUE!"}}]
[null,{"$f":"Sprawdz_pesel(Formularz!#REF!)","v":{"$error":"#VALUE!"}}]
[null,{"$f":"Sprawdz_pesel(Formularz!#REF!)","v":{"$error":"#VALUE!"}}]
[null,{"$f":"Sprawdz_pesel(Formularz!#REF!)","v":{"$error":"#VALUE!"}}]
[null,{"$f":"Sprawdz_pesel(Formularz!#REF!)","v":{"$error":"#VALUE!"}}]
[null,{"$f":"Sprawdz_pesel(Formularz!#REF!)","v":{"$error":"#VALUE!"}}]
[null,{"$f":"Sprawdz_pesel(Formularz!#REF!)","v":{"$error":"#VALUE!"}}]
[null,{"$f":"Sprawdz_pesel(Formularz!#REF!)","v":{"$error":"#VALUE!"}}]
[null,{"$f":"Sprawdz_pesel(Formularz!#REF!)","v":{"$error":"#VALUE!"}}]
[null,{"$f":"Sprawdz_pesel(Formularz!#REF!)","v":{"$error":"#VALUE!"}}]
[null,{"$f":"Sprawdz_pesel(Formularz!#REF!)","v":{"$error":"#VALUE!"}}]
[null,{"$f":"Sprawdz_pesel(Formularz!#REF!)","v":{"$error":"#VALUE!"}}]
[null,{"$f":"Sprawdz_pesel(Formularz!#REF!)","v":{"$error":"#VALUE!"}}]
[null,{"$f":"Sprawdz_pesel(Formularz!#REF!)","v":{"$error":"#VALUE!"}}]
[null,{"$f":"Sprawdz_pesel(Formularz!#REF!)","v":{"$error":"#VALUE!"}}]
[null,{"$f":"Sprawdz_pesel(Formularz!#REF!)","v":{"$error":"#VALUE!"}}]
[null,{"$f":"Sprawdz_pesel(Formularz!#REF!)","v":{"$error":"#VALUE!"}}]
[null,{"$f":"Sprawdz_pesel(Formularz!#REF!)","v":{"$error":"#VALUE!"}}]
[null,{"$f":"Sprawdz_pesel(Formularz!#REF!)","v":{"$error":"#VALUE!"}}]
[null,{"$f":"Sprawdz_pesel(Formularz!#REF!)","v":{"$error":"#VALUE!"}}]
[null,{"$f":"Sprawdz_pesel(Formularz!#REF!)","v":{"$error":"#VALUE!"}}]
[null,{"$f":"Sprawdz_pesel(Formularz!#REF!)","v":{"$error":"#VALUE!"}}]
[null,{"$f":"Sprawdz_pesel(Formularz!#REF!)","v":{"$error":"#VALUE!"}}]
[null,{"$f":"Sprawdz_pesel(Formularz!#REF!)","v":{"$error":"#VALUE!"}}]
[null,{"$f":"Sprawdz_pesel(Formularz!#REF!)","v":{"$error":"#VALUE!"}}]
[null,{"$f":"Sprawdz_pesel(Formularz!#REF!)","v":{"$error":"#VALUE!"}}]
[null,{"$f":"Sprawdz_pesel(Formularz!#REF!)","v":{"$error":"#VALUE!"}}]
[null,{"$f":"Sprawdz_pesel(Formularz!#REF!)","v":{"$error":"#VALUE!"}}]
[null,{"$f":"Sprawdz_pesel(Formularz!#REF!)","v":{"$error":"#VALUE!"}}]
[null,{"$f":"Sprawdz_pesel(Formularz!#REF!)","v":{"$error":"#VALUE!"}}]
[null,{"$f":"Sprawdz_pesel(Formularz!#REF!)","v":{"$error":"#VALUE!"}}]
[null,{"$f":"Sprawdz_pesel(Formularz!#REF!)","v":{"$error":"#VALUE!"}}]
[null,{"$f":"Sprawdz_pesel(Formularz!#REF!)","v":{"$error":"#VALUE!"}}]
[null,{"$f":"Sprawdz_pesel(Formularz!#REF!)","v":{"$error":"#VALUE!"}}]
[null,{"$f":"Sprawdz_pesel(Formularz!#REF!)","v":{"$error":"#VALUE!"}}]
[null,{"$f":"Sprawdz_pesel(Formularz!#REF!)","v":{"$error":"#VALUE!"}}]
[null,{"$f":"Sprawdz_pesel(Formularz!#REF!)","v":{"$error":"#VALUE!"}}]
[null,{"$f":"Sprawdz_pesel(Formularz!#REF!)","v":{"$error":"#VALUE!"}}]
[null,{"$f":"Sprawdz_pesel(Formularz!#REF!)","v":{"$error":"#VALUE!"}}]
[null,{"$f":"Sprawdz_pesel(Formularz!#REF!)","v":{"$error":"#VALUE!"}}]
[null,{"$f":"Sprawdz_pesel(Formularz!#REF!)","v":{"$error":"#VALUE!"}}]
[null,{"$f":"Sprawdz_pesel(Formularz!#REF!)","v":{"$error":"#VALUE!"}}]
[null,{"$f":"Sprawdz_pesel(Formularz!#REF!)","v":{"$error":"#VALUE!"}}]
[null,{"$f":"Sprawdz_pesel(Formularz!#REF!)","v":{"$error":"#VALUE!"}}]
[null,{"$f":"Sprawdz_pesel(Formularz!#REF!)","v":{"$error":"#VALUE!"}}]
[null,{"$f":"Sprawdz_pesel(Formularz!#REF!)","v":{"$error":"#VALUE!"}}]
[null,{"$f":"Sprawdz_pesel(Formularz!#REF!)","v":{"$error":"#VALUE!"}}]
[null,{"$f":"Sprawdz_pesel(Formularz!#REF!)","v":{"$error":"#VALUE!"}}]
[null,{"$f":"Sprawdz_pesel(Formularz!#REF!)","v":{"$error":"#VALUE!"}}]
[null,{"$f":"Sprawdz_pesel(Formularz!#REF!)","v":{"$error":"#VALUE!"}}]
[null,{"$f":"Sprawdz_pesel(Formularz!#REF!)","v":{"$error":"#VALUE!"}}]
[null,{"$f":"Sprawdz_pesel(Formularz!#REF!)","v":{"$error":"#VALUE!"}}]
[null,{"$f":"Sprawdz_pesel(Formularz!#REF!)","v":{"$error":"#VALUE!"}}]
[null,{"$f":"Sprawdz_pesel(Formularz!#REF!)","v":{"$error":"#VALUE!"}}]
[null,{"$f":"Sprawdz_pesel(Formularz!#REF!)","v":{"$error":"#VALUE!"}}]
[null,{"$f":"Sprawdz_pesel(Formularz!#REF!)","v":{"$error":"#VALUE!"}}]
[null,{"$f":"Sprawdz_pesel(Formularz!#REF!)","v":{"$error":"#VALUE!"}}]
[null,{"$f":"Sprawdz_pesel(Formularz!#REF!)","v":{"$error":"#VALUE!"}}]
[null,{"$f":"Sprawdz_pesel(Formularz!#REF!)","v":{"$error":"#VALUE!"}}]
[null,{"$f":"Sprawdz_pesel(Formularz!#REF!)","v":{"$error":"#VALUE!"}}]
[null,{"$f":"Sprawdz_pesel(Formularz!#REF!)","v":{"$error":"#VALUE!"}}]
[null,{"$f":"Sprawdz_pesel(Formularz!#REF!)","v":{"$error":"#VALUE!"}}]
[null,{"$f":"Sprawdz_pesel(Formularz!#REF!)","v":{"$error":"#VALUE!"}}]
[null,{"$f":"Sprawdz_pesel(Formularz!#REF!)","v":{"$error":"#VALUE!"}}]
[null,{"$f":"Sprawdz_pesel(Formularz!#REF!)","v":{"$error":"#VALUE!"}}]
[null,{"$f":"Sprawdz_pesel(Formularz!#REF!)","v":{"$error":"#VALUE!"}}]
[null,{"$f":"Sprawdz_pesel(Formularz!#REF!)","v":{"$error":"#VALUE!"}}]
[null,{"$f":"Sprawdz_pesel(Formularz!#REF!)","v":{"$error":"#VALUE!"}}]
[null,{"$f":"Sprawdz_pesel(Formularz!#REF!)","v":{"$error":"#VALUE!"}}]
[null,{"$f":"Sprawdz_pesel(Formularz!#REF!)","v":{"$error":"#VALUE!"}}]
[null,{"$f":"Sprawdz_pesel(Formularz!#REF!)","v":{"$error":"#VALUE!"}}]
[null,{"$f":"Sprawdz_pesel(Formularz!#REF!)","v":{"$error":"#VALUE!"}}]
[null,{"$f":"Sprawdz_pesel(Formularz!#REF!)","v":{"$error":"#VALUE!"}}]
[null,{"$f":"Sprawdz_pesel(Formularz!#REF!)","v":{"$error":"#VALUE!"}}]
[null,{"$f":"Sprawdz_pesel(Formularz!#REF!)","v":{"$error":"#VALUE!"}}]
[null,{"$f":"Sprawdz_pesel(Formularz!#REF!)","v":{"$error":"#VALUE!"}}]
[null,{"$f":"Sprawdz_pesel(Formularz!#REF!)","v":{"$error":"#VALUE!"}}]
[null,{"$f":"Sprawdz_pesel(Formularz!#REF!)","v":{"$error":"#VALUE!"}}]
[null,{"$f":"Sprawdz_pesel(Formularz!#REF!)","v":{"$error":"#VALUE!"}}]
[null,{"$f":"Sprawdz_pesel(Formularz!#REF!)","v":{"$error":"#VALUE!"}}]
[null,{"$f":"Sprawdz_pesel(Formularz!#REF!)","v":{"$error":"#VALUE!"}}]
[null,{"$f":"Sprawdz_pesel(Formularz!#REF!)","v":{"$error":"#VALUE!"}}]
[null,{"$f":"Sprawdz_pesel(Formularz!#REF!)","v":{"$error":"#VALUE!"}}]
[null,{"$f":"Sprawdz_pesel(Formularz!#REF!)","v":{"$error":"#VALUE!"}}]
[null,{"$f":"Sprawdz_pesel(Formularz!#REF!)","v":{"$error":"#VALUE!"}}]
[null,{"$f":"Sprawdz_pesel(Formularz!#REF!)","v":{"$error":"#VALUE!"}}]
[null,{"$f":"Sprawdz_pesel(Formularz!#REF!)","v":{"$error":"#VALUE!"}}]
[null,{"$f":"Sprawdz_pesel(Formularz!#REF!)","v":{"$error":"#VALUE!"}}]
[null,{"$f":"Sprawdz_pesel(Formularz!#REF!)","v":{"$error":"#VALUE!"}}]
[null,{"$f":"Sprawdz_pesel(Formularz!#REF!)","v":{"$error":"#VALUE!"}}]
[null,{"$f":"Sprawdz_pesel(Formularz!#REF!)","v":{"$error":"#VALUE!"}}]
[null,{"$f":"Sprawdz_pesel(Formularz!#REF!)","v":{"$error":"#VALUE!"}}]
[null,{"$f":"Sprawdz_pesel(Formularz!#REF!)","v":{"$error":"#VALUE!"}}]
[null,{"$f":"Sprawdz_pesel(Formularz!#REF!)","v":{"$error":"#VALUE!"}}]
[null,{"$f":"Sprawdz_pesel(Formularz!#REF!)","v":{"$error":"#VALUE!"}}]
[null,{"$f":"Sprawdz_pesel(Formularz!#REF!)","v":{"$error":"#VALUE!"}}]
[null,{"$f":"Sprawdz_pesel(Formularz!#REF!)","v":{"$error":"#VALUE!"}}]
[null,{"$f":"Sprawdz_pesel(Formularz!#REF!)","v":{"$error":"#VALUE!"}}]
[null,{"$f":"Sprawdz_pesel(Formularz!#REF!)","v":{"$error":"#VALUE!"}}]
[null,{"$f":"Sprawdz_pesel(Formularz!#REF!)","v":{"$error":"#VALUE!"}}]
[null,{"$f":"Sprawdz_pesel(Formularz!#REF!)","v":{"$error":"#VALUE!"}}]
[null,{"$f":"Sprawdz_pesel(Formularz!#REF!)","v":{"$error":"#VALUE!"}}]
[null,{"$f":"Sprawdz_pesel(Formularz!#REF!)","v":{"$error":"#VALUE!"}}]
[null,{"$f":"Sprawdz_pesel(Formularz!#REF!)","v":{"$error":"#VALUE!"}}]
[null,{"$f":"Sprawdz_pesel(Formularz!#REF!)","v":{"$error":"#VALUE!"}}]
[null,{"$f":"Sprawdz_pesel(Formularz!#REF!)","v":{"$error":"#VALUE!"}}]
[null,{"$f":"Sprawdz_pesel(Formularz!#REF!)","v":{"$error":"#VALUE!"}}]
[null,{"$f":"Sprawdz_pesel(Formularz!#REF!)","v":{"$error":"#VALUE!"}}]
[null,{"$f":"Sprawdz_pesel(Formularz!#REF!)","v":{"$error":"#VALUE!"}}]
[null,{"$f":"Sprawdz_pesel(Formularz!#REF!)","v":{"$error":"#VALUE!"}}]
[null,{"$f":"Sprawdz_pesel(Formularz!#REF!)","v":{"$error":"#VALUE!"}}]
[null,{"$f":"Sprawdz_pesel(Formularz!#REF!)","v":{"$error":"#VALUE!"}}]
[null,{"$f":"Sprawdz_pesel(Formularz!#REF!)","v":{"$error":"#VALUE!"}}]
[null,{"$f":"Sprawdz_pesel(Formularz!#REF!)","v":{"$error":"#VALUE!"}}]
[null,{"$f":"Sprawdz_pesel(Formularz!#REF!)","v":{"$error":"#VALUE!"}}]
[null,{"$f":"Sprawdz_pesel(Formularz!#REF!)","v":{"$error":"#VALUE!"}}]
[null,{"$f":"Sprawdz_pesel(Formularz!#REF!)","v":{"$error":"#VALUE!"}}]
[null,{"$f":"Sprawdz_pesel(Formularz!#REF!)","v":{"$error":"#VALUE!"}}]
[null,{"$f":"Sprawdz_pesel(Formularz!#REF!)","v":{"$error":"#VALUE!"}}]
[null,{"$f":"Sprawdz_pesel(Formularz!#REF!)","v":{"$error":"#VALUE!"}}]
[null,{"$f":"Sprawdz_pesel(Formularz!#REF!)","v":{"$error":"#VALUE!"}}]
[null,{"$f":"Sprawdz_pesel(Formularz!#REF!)","v":{"$error":"#VALUE!"}}]
[null,{"$f":"Sprawdz_pesel(Formularz!#REF!)","v":{"$error":"#VALUE!"}}]
[null,{"$f":"Sprawdz_pesel(Formularz!#REF!)","v":{"$error":"#VALUE!"}}]
[null,{"$f":"Sprawdz_pesel(Formularz!#REF!)","v":{"$error":"#VALUE!"}}]
[null,{"$f":"Sprawdz_pesel(Formularz!#REF!)","v":{"$error":"#VALUE!"}}]
[null,{"$f":"Sprawdz_pesel(Formularz!#REF!)","v":{"$error":"#VALUE!"}}]
[null,{"$f":"Sprawdz_pesel(Formularz!#REF!)","v":{"$error":"#VALUE!"}}]
[null,{"$f":"Sprawdz_pesel(Formularz!#REF!)","v":{"$error":"#VALUE!"}}]
[null,{"$f":"Sprawdz_pesel(Formularz!#REF!)","v":{"$error":"#VALUE!"}}]
[null,{"$f":"Sprawdz_pesel(Formularz!#REF!)","v":{"$error":"#VALUE!"}}]
[null,{"$f":"Sprawdz_pesel(Formularz!#REF!)","v":{"$error":"#VALUE!"}}]
[null,{"$f":"Sprawdz_pesel(Formularz!#REF!)","v":{"$error":"#VALUE!"}}]
[null,{"$f":"Sprawdz_pesel(Formularz!#REF!)","v":{"$error":"#VALUE!"}}]
[null,{"$f":"Sprawdz_pesel(Formularz!#REF!)","v":{"$error":"#VALUE!"}}]
[null,{"$f":"Sprawdz_pesel(Formularz!#REF!)","v":{"$error":"#VALUE!"}}]
[null,{"$f":"Sprawdz_pesel(Formularz!#REF!)","v":{"$error":"#VALUE!"}}]
[null,{"$f":"Sprawdz_pesel(Formularz!#REF!)","v":{"$error":"#VALUE!"}}]
[null,{"$f":"Sprawdz_pesel(Formularz!#REF!)","v":{"$error":"#VALUE!"}}]
[null,{"$f":"Sprawdz_pesel(Formularz!#REF!)","v":{"$error":"#VALUE!"}}]
[null,{"$f":"Sprawdz_pesel(Formularz!#REF!)","v":{"$error":"#VALUE!"}}]
[null,{"$f":"Sprawdz_pesel(Formularz!#REF!)","v":{"$error":"#VALUE!"}}]
[null,{"$f":"Sprawdz_pesel(Formularz!#REF!)","v":{"$error":"#VALUE!"}}]
[null,{"$f":"Sprawdz_pesel(Formularz!#REF!)","v":{"$error":"#VALUE!"}}]
[null,{"$f":"Sprawdz_pesel(Formularz!#REF!)","v":{"$error":"#VALUE!"}}]
[null,{"$f":"Sprawdz_pesel(Formularz!#REF!)","v":{"$error":"#VALUE!"}}]
[null,{"$f":"Sprawdz_pesel(Formularz!#REF!)","v":{"$error":"#VALUE!"}}]
[null,{"$f":"Sprawdz_pesel(Formularz!#REF!)","v":{"$error":"#VALUE!"}}]
[null,{"$f":"Sprawdz_pesel(Formularz!#REF!)","v":{"$error":"#VALUE!"}}]
[null,{"$f":"Sprawdz_pesel(Formularz!#REF!)","v":{"$error":"#VALUE!"}}]
[null,{"$f":"Sprawdz_pesel(Formularz!#REF!)","v":{"$error":"#VALUE!"}}]
[null,{"$f":"Sprawdz_pesel(Formularz!#REF!)","v":{"$error":"#VALUE!"}}]
[null,{"$f":"Sprawdz_pesel(Formularz!#REF!)","v":{"$error":"#VALUE!"}}]
[null,{"$f":"Sprawdz_pesel(Formularz!#REF!)","v":{"$error":"#VALUE!"}}]
[null,{"$f":"Sprawdz_pesel(Formularz!#REF!)","v":{"$error":"#VALUE!"}}]
[null,{"$f":"Sprawdz_pesel(Formularz!#REF!)","v":{"$error":"#VALUE!"}}]
[null,{"$f":"Sprawdz_pesel(Formularz!#REF!)","v":{"$error":"#VALUE!"}}]
[null,{"$f":"Sprawdz_pesel(Formularz!#REF!)","v":{"$error":"#VALUE!"}}]
[null,{"$f":"Sprawdz_pesel(Formularz!#REF!)","v":{"$error":"#VALUE!"}}]
[null,{"$f":"Sprawdz_pesel(Formularz!#REF!)","v":{"$error":"#VALUE!"}}]
[null,{"$f":"Sprawdz_pesel(Formularz!#REF!)","v":{"$error":"#VALUE!"}}]
[null,{"$f":"Sprawdz_pesel(Formularz!#REF!)","v":{"$error":"#VALUE!"}}]
[null,{"$f":"Sprawdz_pesel(Formularz!#REF!)","v":{"$error":"#VALUE!"}}]
[null,{"$f":"Sprawdz_pesel(Formularz!#REF!)","v":{"$error":"#VALUE!"}}]
[null,{"$f":"Sprawdz_pesel(Formularz!#REF!)","v":{"$error":"#VALUE!"}}]
[null,{"$f":"Sprawdz_pesel(Formularz!#REF!)","v":{"$error":"#VALUE!"}}]
[null,{"$f":"Sprawdz_pesel(Formularz!#REF!)","v":{"$error":"#VALUE!"}}]
[null,{"$f":"Sprawdz_pesel(Formularz!#REF!)","v":{"$error":"#VALUE!"}}]
[null,{"$f":"Sprawdz_pesel(Formularz!#REF!)","v":{"$error":"#VALUE!"}}]
[null,{"$f":"Sprawdz_pesel(Formularz!#REF!)","v":{"$error":"#VALUE!"}}]
[null,{"$f":"Sprawdz_pesel(Formularz!#REF!)","v":{"$error":"#VALUE!"}}]
[null,{"$f":"Sprawdz_pesel(Formularz!#REF!)","v":{"$error":"#VALUE!"}}]
[null,{"$f":"Sprawdz_pesel(Formularz!#REF!)","v":{"$error":"#VALUE!"}}]
[null,{"$f":"Sprawdz_pesel(Formularz!#REF!)","v":{"$error":"#VALUE!"}}]
[null,{"$f":"Sprawdz_pesel(Formularz!#REF!)","v":{"$error":"#VALUE!"}}]
[null,{"$f":"Sprawdz_pesel(Formularz!#REF!)","v":{"$error":"#VALUE!"}}]
[null,{"$f":"Sprawdz_pesel(Formularz!#REF!)","v":{"$error":"#VALUE!"}}]
[null,{"$f":"Sprawdz_pesel(Formularz!#REF!)","v":{"$error":"#VALUE!"}}]
[null,{"$f":"Sprawdz_pesel(Formularz!#REF!)","v":{"$error":"#VALUE!"}}]
[null,{"$f":"Sprawdz_pesel(Formularz!#REF!)","v":{"$error":"#VALUE!"}}]
[null,{"$f":"Sprawdz_pesel(Formularz!#REF!)","v":{"$error":"#VALUE!"}}]
[null,{"$f":"Sprawdz_pesel(Formularz!#REF!)","v":{"$error":"#VALUE!"}}]
[null,{"$f":"Sprawdz_pesel(Formularz!#REF!)","v":{"$error":"#VALUE!"}}]
[null,{"$f":"Sprawdz_pesel(Formularz!#REF!)","v":{"$error":"#VALUE!"}}]
[null,{"$f":"Sprawdz_pesel(Formularz!#REF!)","v":{"$error":"#VALUE!"}}]
[null,{"$f":"Sprawdz_pesel(Formularz!#REF!)","v":{"$error":"#VALUE!"}}]
[null,{"$f":"Sprawdz_pesel(Formularz!#REF!)","v":{"$error":"#VALUE!"}}]
[null,{"$f":"Sprawdz_pesel(Formularz!#REF!)","v":{"$error":"#VALUE!"}}]
[null,{"$f":"Sprawdz_pesel(Formularz!#REF!)","v":{"$error":"#VALUE!"}}]
[null,{"$f":"Sprawdz_pesel(Formularz!#REF!)","v":{"$error":"#VALUE!"}}]
[null,{"$f":"Sprawdz_pesel(Formularz!#REF!)","v":{"$error":"#VALUE!"}}]
[null,{"$f":"Sprawdz_pesel(Formularz!#REF!)","v":{"$error":"#VALUE!"}}]
[null,{"$f":"Sprawdz_pesel(Formularz!#REF!)","v":{"$error":"#VALUE!"}}]
[null,{"$f":"Sprawdz_pesel(Formularz!#REF!)","v":{"$error":"#VALUE!"}}]
[null,{"$f":"Sprawdz_pesel(Formularz!#REF!)","v":{"$error":"#VALUE!"}}]
[null,{"$f":"Sprawdz_pesel(Formularz!#REF!)","v":{"$error":"#VALUE!"}}]
[null,{"$f":"Sprawdz_pesel(Formularz!#REF!)","v":{"$error":"#VALUE!"}}]
[null,{"$f":"Sprawdz_pesel(Formularz!#REF!)","v":{"$error":"#VALUE!"}}]
[null,{"$f":"Sprawdz_pesel(Formularz!#REF!)","v":{"$error":"#VALUE!"}}]
[null,{"$f":"Sprawdz_pesel(Formularz!#REF!)","v":{"$error":"#VALUE!"}}]
[null,{"$f":"Sprawdz_pesel(Formularz!#REF!)","v":{"$error":"#VALUE!"}}]
[null,{"$f":"Sprawdz_pesel(Formularz!#REF!)","v":{"$error":"#VALUE!"}}]
[null,{"$f":"Sprawdz_pesel(Formularz!#REF!)","v":{"$error":"#VALUE!"}}]
[null,{"$f":"Sprawdz_pesel(Formularz!#REF!)","v":{"$error":"#VALUE!"}}]
[null,{"$f":"Sprawdz_pesel(Formularz!#REF!)","v":{"$error":"#VALUE!"}}]
[null,{"$f":"Sprawdz_pesel(Formularz!#REF!)","v":{"$error":"#VALUE!"}}]
[null,{"$f":"Sprawdz_pesel(Formularz!#REF!)","v":{"$error":"#VALUE!"}}]
[null,{"$f":"Sprawdz_pesel(Formularz!#REF!)","v":{"$error":"#VALUE!"}}]
[null,{"$f":"Sprawdz_pesel(Formularz!#REF!)","v":{"$error":"#VALUE!"}}]
[null,{"$f":"Sprawdz_pesel(Formularz!#REF!)","v":{"$error":"#VALUE!"}}]
[null,{"$f":"Sprawdz_pesel(Formularz!#REF!)","v":{"$error":"#VALUE!"}}]
[null,{"$f":"Sprawdz_pesel(Formularz!#REF!)","v":{"$error":"#VALUE!"}}]
[null,{"$f":"Sprawdz_pesel(Formularz!#REF!)","v":{"$error":"#VALUE!"}}]
[null,{"$f":"Sprawdz_pesel(Formularz!#REF!)","v":{"$error":"#VALUE!"}}]
[null,{"$f":"Sprawdz_pesel(Formularz!#REF!)","v":{"$error":"#VALUE!"}}]
[null,{"$f":"Sprawdz_pesel(Formularz!#REF!)","v":{"$error":"#VALUE!"}}]
[null,{"$f":"Sprawdz_pesel(Formularz!#REF!)","v":{"$error":"#VALUE!"}}]
[null,{"$f":"Sprawdz_pesel(Formularz!#REF!)","v":{"$error":"#VALUE!"}}]
[null,{"$f":"Sprawdz_pesel(Formularz!#REF!)","v":{"$error":"#VALUE!"}}]
[null,{"$f":"Sprawdz_pesel(Formularz!#REF!)","v":{"$error":"#VALUE!"}}]
[null,{"$f":"Sprawdz_pesel(Formularz!#REF!)","v":{"$error":"#VALUE!"}}]
[null,{"$f":"Sprawdz_pesel(Formularz!#REF!)","v":{"$error":"#VALUE!"}}]
[null,{"$f":"Sprawdz_pesel(Formularz!#REF!)","v":{"$error":"#VALUE!"}}]
[null,{"$f":"Sprawdz_pesel(Formularz!#REF!)","v":{"$error":"#VALUE!"}}]
[null,{"$f":"Sprawdz_pesel(Formularz!#REF!)","v":{"$error":"#VALUE!"}}]
[null,{"$f":"Sprawdz_pesel(Formularz!#REF!)","v":{"$error":"#VALUE!"}}]
[null,{"$f":"Sprawdz_pesel(Formularz!#REF!)","v":{"$error":"#VALUE!"}}]
[null,{"$f":"Sprawdz_pesel(Formularz!#REF!)","v":{"$error":"#VALUE!"}}]
[null,{"$f":"Sprawdz_pesel(Formularz!#REF!)","v":{"$error":"#VALUE!"}}]
[null,{"$f":"Sprawdz_pesel(Formularz!#REF!)","v":{"$error":"#VALUE!"}}]
[null,{"$f":"Sprawdz_pesel(Formularz!#REF!)","v":{"$error":"#VALUE!"}}]
[null,{"$f":"Sprawdz_pesel(Formularz!#REF!)","v":{"$error":"#VALUE!"}}]
[null,{"$f":"Sprawdz_pesel(Formularz!#REF!)","v":{"$error":"#VALUE!"}}]
[null,{"$f":"Sprawdz_pesel(Formularz!#REF!)","v":{"$error":"#VALUE!"}}]
[null,{"$f":"Sprawdz_pesel(Formularz!#REF!)","v":{"$error":"#VALUE!"}}]
[null,{"$f":"Sprawdz_pesel(Formularz!#REF!)","v":{"$error":"#VALUE!"}}]
[null,{"$f":"Sprawdz_pesel(Formularz!#REF!)","v":{"$error":"#VALUE!"}}]
[null,{"$f":"Sprawdz_pesel(Formularz!#REF!)","v":{"$error":"#VALUE!"}}]
[null,{"$f":"Sprawdz_pesel(Formularz!#REF!)","v":{"$error":"#VALUE!"}}]
[null,{"$f":"Sprawdz_pesel(Formularz!#REF!)","v":{"$error":"#VALUE!"}}]
[null,{"$f":"Sprawdz_pesel(Formularz!#REF!)","v":{"$error":"#VALUE!"}}]
[null,{"$f":"Sprawdz_pesel(Formularz!#REF!)","v":{"$error":"#VALUE!"}}]
[null,{"$f":"Sprawdz_pesel(Formularz!#REF!)","v":{"$error":"#VALUE!"}}]
[null,{"$f":"Sprawdz_pesel(Formularz!#REF!)","v":{"$error":"#VALUE!"}}]
[null,{"$f":"Sprawdz_pesel(Formularz!#REF!)","v":{"$error":"#VALUE!"}}]
[null,{"$f":"Sprawdz_pesel(Formularz!#REF!)","v":{"$error":"#VALUE!"}}]
[null,{"$f":"Sprawdz_pesel(Formularz!#REF!)","v":{"$error":"#VALUE!"}}]
[null,{"$f":"Sprawdz_pesel(Formularz!#REF!)","v":{"$error":"#VALUE!"}}]
[null,{"$f":"Sprawdz_pesel(Formularz!#REF!)","v":{"$error":"#VALUE!"}}]
[null,{"$f":"Sprawdz_pesel(Formularz!#REF!)","v":{"$error":"#VALUE!"}}]
[null,{"$f":"Sprawdz_pesel(Formularz!#REF!)","v":{"$error":"#VALUE!"}}]
[null,{"$f":"Sprawdz_pesel(Formularz!#REF!)","v":{"$error":"#VALUE!"}}]
[null,{"$f":"Sprawdz_pesel(Formularz!#REF!)","v":{"$error":"#VALUE!"}}]
[null,{"$f":"Sprawdz_pesel(Formularz!#REF!)","v":{"$error":"#VALUE!"}}]
[null,{"$f":"Sprawdz_pesel(Formularz!#REF!)","v":{"$error":"#VALUE!"}}]
[null,{"$f":"Sprawdz_pesel(Formularz!#REF!)","v":{"$error":"#VALUE!"}}]
[null,{"$f":"Sprawdz_pesel(Formularz!#REF!)","v":{"$error":"#VALUE!"}}]
[null,{"$f":"Sprawdz_pesel(Formularz!#REF!)","v":{"$error":"#VALUE!"}}]
[null,{"$f":"Sprawdz_pesel(Formularz!#REF!)","v":{"$error":"#VALUE!"}}]
[null,{"$f":"Sprawdz_pesel(Formularz!#REF!)","v":{"$error":"#VALUE!"}}]
[null,{"$f":"Sprawdz_pesel(Formularz!#REF!)","v":{"$error":"#VALUE!"}}]
[null,{"$f":"Sprawdz_pesel(Formularz!#REF!)","v":{"$error":"#VALUE!"}}]
[null,{"$f":"Sprawdz_pesel(Formularz!#REF!)","v":{"$error":"#VALUE!"}}]
[null,{"$f":"Sprawdz_pesel(Formularz!#REF!)","v":{"$error":"#VALUE!"}}]
[null,{"$f":"Sprawdz_pesel(Formularz!#REF!)","v":{"$error":"#VALUE!"}}]
[null,{"$f":"Sprawdz_pesel(Formularz!#REF!)","v":{"$error":"#VALUE!"}}]
[null,{"$f":"Sprawdz_pesel(Formularz!#REF!)","v":{"$error":"#VALUE!"}}]
[null,{"$f":"Sprawdz_pesel(Formularz!#REF!)","v":{"$error":"#VALUE!"}}]
[null,{"$f":"Sprawdz_pesel(Formularz!#REF!)","v":{"$error":"#VALUE!"}}]
[null,{"$f":"Sprawdz_pesel(Formularz!#REF!)","v":{"$error":"#VALUE!"}}]
[null,{"$f":"Sprawdz_pesel(Formularz!#REF!)","v":{"$error":"#VALUE!"}}]
[null,{"$f":"Sprawdz_pesel(Formularz!#REF!)","v":{"$error":"#VALUE!"}}]
[null,{"$f":"Sprawdz_pesel(Formularz!#REF!)","v":{"$error":"#VALUE!"}}]
[null,{"$f":"Sprawdz_pesel(Formularz!#REF!)","v":{"$error":"#VALUE!"}}]
[null,{"$f":"Sprawdz_pesel(Formularz!#REF!)","v":{"$error":"#VALUE!"}}]
[null,{"$f":"Sprawdz_pesel(Formularz!#REF!)","v":{"$error":"#VALUE!"}}]
[null,{"$f":"Sprawdz_pesel(Formularz!#REF!)","v":{"$error":"#VALUE!"}}]
[null,{"$f":"Sprawdz_pesel(Formularz!#REF!)","v":{"$error":"#VALUE!"}}]
[null,{"$f":"Sprawdz_pesel(Formularz!#REF!)","v":{"$error":"#VALUE!"}}]
[null,{"$f":"Sprawdz_pesel(Formularz!#REF!)","v":{"$error":"#VALUE!"}}]
[null,{"$f":"Sprawdz_pesel(Formularz!#REF!)","v":{"$error":"#VALUE!"}}]
[null,{"$f":"Sprawdz_pesel(Formularz!#REF!)","v":{"$error":"#VALUE!"}}]
[null,{"$f":"Sprawdz_pesel(Formularz!#REF!)","v":{"$error":"#VALUE!"}}]
[null,{"$f":"Sprawdz_pesel(Formularz!#REF!)","v":{"$error":"#VALUE!"}}]
[null,{"$f":"Sprawdz_pesel(Formularz!#REF!)","v":{"$error":"#VALUE!"}}]
[null,{"$f":"Sprawdz_pesel(Formularz!#REF!)","v":{"$error":"#VALUE!"}}]
[null,{"$f":"Sprawdz_pesel(Formularz!#REF!)","v":{"$error":"#VALUE!"}}]
[null,{"$f":"Sprawdz_pesel(Formularz!#REF!)","v":{"$error":"#VALUE!"}}]
[null,{"$f":"Sprawdz_pesel(Formularz!#REF!)","v":{"$error":"#VALUE!"}}]
[null,{"$f":"Sprawdz_pesel(Formularz!#REF!)","v":{"$error":"#VALUE!"}}]
[null,{"$f":"Sprawdz_pesel(Formularz!#REF!)","v":{"$error":"#VALUE!"}}]
[null,{"$f":"Sprawdz_pesel(Formularz!#REF!)","v":{"$error":"#VALUE!"}}]
[null,{"$f":"Sprawdz_pesel(Formularz!#REF!)","v":{"$error":"#VALUE!"}}]
[null,{"$f":"Sprawdz_pesel(Formularz!#REF!)","v":{"$error":"#VALUE!"}}]
[null,{"$f":"Sprawdz_pesel(Formularz!#REF!)","v":{"$error":"#VALUE!"}}]
[null,{"$f":"Sprawdz_pesel(Formularz!#REF!)","v":{"$error":"#VALUE!"}}]
[null,{"$f":"Sprawdz_pesel(Formularz!#REF!)","v":{"$error":"#VALUE!"}}]
[null,{"$f":"Sprawdz_pesel(Formularz!#REF!)","v":{"$error":"#VALUE!"}}]
[null,{"$f":"Sprawdz_pesel(Formularz!#REF!)","v":{"$error":"#VALUE!"}}]
[null,{"$f":"Sprawdz_pesel(Formularz!#REF!)","v":{"$error":"#VALUE!"}}]
[null,{"$f":"Sprawdz_pesel(Formularz!#REF!)","v":{"$error":"#VALUE!"}}]
[null,{"$f":"Sprawdz_pesel(Formularz!#REF!)","v":{"$error":"#VALUE!"}}]
[null,{"$f":"Sprawdz_pesel(Formularz!#REF!)","v":{"$error":"#VALUE!"}}]
[null,{"$f":"Sprawdz_pesel(Formularz!#REF!)","v":{"$error":"#VALUE!"}}]
[null,{"$f":"Sprawdz_pesel(Formularz!#REF!)","v":{"$error":"#VALUE!"}}]
[null,{"$f":"Sprawdz_pesel(Formularz!#REF!)","v":{"$error":"#VALUE!"}}]
[null,{"$f":"Sprawdz_pesel(Formularz!#REF!)","v":{"$error":"#VALUE!"}}]
[null,{"$f":"Sprawdz_pesel(Formularz!#REF!)","v":{"$error":"#VALUE!"}}]
[null,{"$f":"Sprawdz_pesel(Formularz!#REF!)","v":{"$error":"#VALUE!"}}]
[null,{"$f":"Sprawdz_pesel(Formularz!#REF!)","v":{"$error":"#VALUE!"}}]
[null,{"$f":"Sprawdz_pesel(Formularz!#REF!)","v":{"$error":"#VALUE!"}}]
[null,{"$f":"Sprawdz_pesel(Formularz!#REF!)","v":{"$error":"#VALUE!"}}]
[null,{"$f":"Sprawdz_pesel(Formularz!#REF!)","v":{"$error":"#VALUE!"}}]
[null,{"$f":"Sprawdz_pesel(Formularz!#REF!)","v":{"$error":"#VALUE!"}}]
[null,{"$f":"Sprawdz_pesel(Formularz!#REF!)","v":{"$error":"#VALUE!"}}]
[null,{"$f":"Sprawdz_pesel(Formularz!#REF!)","v":{"$error":"#VALUE!"}}]
[null,{"$f":"Sprawdz_pesel(Formularz!#REF!)","v":{"$error":"#VALUE!"}}]
[null,{"$f":"Sprawdz_pesel(Formularz!#REF!)","v":{"$error":"#VALUE!"}}]
[null,{"$f":"Sprawdz_pesel(Formularz!#REF!)","v":{"$error":"#VALUE!"}}]
[null,{"$f":"Sprawdz_pesel(Formularz!#REF!)","v":{"$error":"#VALUE!"}}]
[null,{"$f":"Sprawdz_pesel(Formularz!#REF!)","v":{"$error":"#VALUE!"}}]
[null,{"$f":"Sprawdz_pesel(Formularz!#REF!)","v":{"$error":"#VALUE!"}}]
[null,{"$f":"Sprawdz_pesel(Formularz!#REF!)","v":{"$error":"#VALUE!"}}]
[null,{"$f":"Sprawdz_pesel(Formularz!#REF!)","v":{"$error":"#VALUE!"}}]
[null,{"$f":"Sprawdz_pesel(Formularz!#REF!)","v":{"$error":"#VALUE!"}}]
[null,{"$f":"Sprawdz_pesel(Formularz!#REF!)","v":{"$error":"#VALUE!"}}]
[null,{"$f":"Sprawdz_pesel(Formularz!#REF!)","v":{"$error":"#VALUE!"}}]
[null,{"$f":"Sprawdz_pesel(Formularz!#REF!)","v":{"$error":"#VALUE!"}}]
[null,{"$f":"Sprawdz_pesel(Formularz!#REF!)","v":{"$error":"#VALUE!"}}]
[null,{"$f":"Sprawdz_pesel(Formularz!#REF!)","v":{"$error":"#VALUE!"}}]
[null,{"$f":"Sprawdz_pesel(Formularz!#REF!)","v":{"$error":"#VALUE!"}}]
[null,{"$f":"Sprawdz_pesel(Formularz!#REF!)","v":{"$error":"#VALUE!"}}]
[null,{"$f":"Sprawdz_pesel(Formularz!#REF!)","v":{"$error":"#VALUE!"}}]
[null,{"$f":"Sprawdz_pesel(Formularz!#REF!)","v":{"$error":"#VALUE!"}}]
[null,{"$f":"Sprawdz_pesel(Formularz!#REF!)","v":{"$error":"#VALUE!"}}]
[null,{"$f":"Sprawdz_pesel(Formularz!#REF!)","v":{"$error":"#VALUE!"}}]
[null,{"$f":"Sprawdz_pesel(Formularz!#REF!)","v":{"$error":"#VALUE!"}}]
[null,{"$f":"Sprawdz_pesel(Formularz!#REF!)","v":{"$error":"#VALUE!"}}]
[null,{"$f":"Sprawdz_pesel(Formularz!#REF!)","v":{"$error":"#VALUE!"}}]
[null,{"$f":"Sprawdz_pesel(Formularz!#REF!)","v":{"$error":"#VALUE!"}}]
[null,{"$f":"Sprawdz_pesel(Formularz!#REF!)","v":{"$error":"#VALUE!"}}]
[null,{"$f":"Sprawdz_pesel(Formularz!#REF!)","v":{"$error":"#VALUE!"}}]
[null,{"$f":"Sprawdz_pesel(Formularz!#REF!)","v":{"$error":"#VALUE!"}}]
[null,{"$f":"Sprawdz_pesel(Formularz!#REF!)","v":{"$error":"#VALUE!"}}]
[null,{"$f":"Sprawdz_pesel(Formularz!#REF!)","v":{"$error":"#VALUE!"}}]
[null,{"$f":"Sprawdz_pesel(Formularz!#REF!)","v":{"$error":"#VALUE!"}}]
[null,{"$f":"Sprawdz_pesel(Formularz!#REF!)","v":{"$error":"#VALUE!"}}]
[null,{"$f":"Sprawdz_pesel(Formularz!#REF!)","v":{"$error":"#VALUE!"}}]
[null,{"$f":"Sprawdz_pesel(Formularz!#REF!)","v":{"$error":"#VALUE!"}}]
[null,{"$f":"Sprawdz_pesel(Formularz!#REF!)","v":{"$error":"#VALUE!"}}]
[null,{"$f":"Sprawdz_pesel(Formularz!#REF!)","v":{"$error":"#VALUE!"}}]
[null,{"$f":"Sprawdz_pesel(Formularz!#REF!)","v":{"$error":"#VALUE!"}}]
[null,{"$f":"Sprawdz_pesel(Formularz!#REF!)","v":{"$error":"#VALUE!"}}]
[null,{"$f":"Sprawdz_pesel(Formularz!#REF!)","v":{"$error":"#VALUE!"}}]
[null,{"$f":"Sprawdz_pesel(Formularz!#REF!)","v":{"$error":"#VALUE!"}}]
[null,{"$f":"Sprawdz_pesel(Formularz!#REF!)","v":{"$error":"#VALUE!"}}]
[null,{"$f":"Sprawdz_pesel(Formularz!#REF!)","v":{"$error":"#VALUE!"}}]
[null,{"$f":"Sprawdz_pesel(Formularz!#REF!)","v":{"$error":"#VALUE!"}}]
[null,{"$f":"Sprawdz_pesel(Formularz!#REF!)","v":{"$error":"#VALUE!"}}]
[null,{"$f":"Sprawdz_pesel(Formularz!#REF!)","v":{"$error":"#VALUE!"}}]
[null,{"$f":"Sprawdz_pesel(Formularz!#REF!)","v":{"$error":"#VALUE!"}}]
[null,{"$f":"Sprawdz_pesel(Formularz!#REF!)","v":{"$error":"#VALUE!"}}]
[null,{"$f":"Sprawdz_pesel(Formularz!#REF!)","v":{"$error":"#VALUE!"}}]
[null,{"$f":"Sprawdz_pesel(Formularz!#REF!)","v":{"$error":"#VALUE!"}}]
[null,{"$f":"Sprawdz_pesel(Formularz!#REF!)","v":{"$error":"#VALUE!"}}]
[null,{"$f":"Sprawdz_pesel(Formularz!#REF!)","v":{"$error":"#VALUE!"}}]
[null,{"$f":"Sprawdz_pesel(Formularz!#REF!)","v":{"$error":"#VALUE!"}}]
[null,{"$f":"Sprawdz_pesel(Formularz!#REF!)","v":{"$error":"#VALUE!"}}]
[null,{"$f":"Sprawdz_pesel(Formularz!#REF!)","v":{"$error":"#VALUE!"}}]
[null,{"$f":"Sprawdz_pesel(Formularz!#REF!)","v":{"$error":"#VALUE!"}}]
[null,{"$f":"Sprawdz_pesel(Formularz!#REF!)","v":{"$error":"#VALUE!"}}]
[null,{"$f":"Sprawdz_pesel(Formularz!#REF!)","v":{"$error":"#VALUE!"}}]
[null,{"$f":"Sprawdz_pesel(Formularz!#REF!)","v":{"$error":"#VALUE!"}}]
[null,{"$f":"Sprawdz_pesel(Formularz!#REF!)","v":{"$error":"#VALUE!"}}]
[null,{"$f":"Sprawdz_pesel(Formularz!#REF!)","v":{"$error":"#VALUE!"}}]
[null,{"$f":"Sprawdz_pesel(Formularz!#REF!)","v":{"$error":"#VALUE!"}}]
[null,{"$f":"Sprawdz_pesel(Formularz!#REF!)","v":{"$error":"#VALUE!"}}]
[null,{"$f":"Sprawdz_pesel(Formularz!#REF!)","v":{"$error":"#VALUE!"}}]
[null,{"$f":"Sprawdz_pesel(Formularz!#REF!)","v":{"$error":"#VALUE!"}}]
[null,{"$f":"Sprawdz_pesel(Formularz!#REF!)","v":{"$error":"#VALUE!"}}]
[null,{"$f":"Sprawdz_pesel(Formularz!#REF!)","v":{"$error":"#VALUE!"}}]
[null,{"$f":"Sprawdz_pesel(Formularz!#REF!)","v":{"$error":"#VALUE!"}}]
[null,{"$f":"Sprawdz_pesel(Formularz!#REF!)","v":{"$error":"#VALUE!"}}]
[null,{"$f":"Sprawdz_pesel(Formularz!#REF!)","v":{"$error":"#VALUE!"}}]
[null,{"$f":"Sprawdz_pesel(Formularz!#REF!)","v":{"$error":"#VALUE!"}}]
[null,{"$f":"Sprawdz_pesel(Formularz!#REF!)","v":{"$error":"#VALUE!"}}]
[null,{"$f":"Sprawdz_pesel(Formularz!#REF!)","v":{"$error":"#VALUE!"}}]
[null,{"$f":"Sprawdz_pesel(Formularz!#REF!)","v":{"$error":"#VALUE!"}}]
[null,{"$f":"Sprawdz_pesel(Formularz!#REF!)","v":{"$error":"#VALUE!"}}]
[null,{"$f":"Sprawdz_pesel(Formularz!#REF!)","v":{"$error":"#VALUE!"}}]
[null,{"$f":"Sprawdz_pesel(Formularz!#REF!)","v":{"$error":"#VALUE!"}}]
[null,{"$f":"Sprawdz_pesel(Formularz!#REF!)","v":{"$error":"#VALUE!"}}]
[null,{"$f":"Sprawdz_pesel(Formularz!#REF!)","v":{"$error":"#VALUE!"}}]
[null,{"$f":"Sprawdz_pesel(Formularz!#REF!)","v":{"$error":"#VALUE!"}}]
[null,{"$f":"Sprawdz_pesel(Formularz!#REF!)","v":{"$error":"#VALUE!"}}]
[null,{"$f":"Sprawdz_pesel(Formularz!#REF!)","v":{"$error":"#VALUE!"}}]
[null,{"$f":"Sprawdz_pesel(Formularz!#REF!)","v":{"$error":"#VALUE!"}}]
[null,{"$f":"Sprawdz_pesel(Formularz!#REF!)","v":{"$error":"#VALUE!"}}]
[null,{"$f":"Sprawdz_pesel(Formularz!#REF!)","v":{"$error":"#VALUE!"}}]
[null,{"$f":"Sprawdz_pesel(Formularz!#REF!)","v":{"$error":"#VALUE!"}}]
[null,{"$f":"Sprawdz_pesel(Formularz!#REF!)","v":{"$error":"#VALUE!"}}]
[null,{"$f":"Sprawdz_pesel(Formularz!#REF!)","v":{"$error":"#VALUE!"}}]
[null,{"$f":"Sprawdz_pesel(Formularz!#REF!)","v":{"$error":"#VALUE!"}}]
[null,{"$f":"Sprawdz_pesel(Formularz!#REF!)","v":{"$error":"#VALUE!"}}]
[null,{"$f":"Sprawdz_pesel(Formularz!#REF!)","v":{"$error":"#VALUE!"}}]
[null,{"$f":"Sprawdz_pesel(Formularz!#REF!)","v":{"$error":"#VALUE!"}}]
[null,{"$f":"Sprawdz_pesel(Formularz!#REF!)","v":{"$error":"#VALUE!"}}]
[null,{"$f":"Sprawdz_pesel(Formularz!#REF!)","v":{"$error":"#VALUE!"}}]
[null,{"$f":"Sprawdz_pesel(Formularz!#REF!)","v":{"$error":"#VALUE!"}}]
[null,{"$f":"Sprawdz_pesel(Formularz!#REF!)","v":{"$error":"#VALUE!"}}]
[null,{"$f":"Sprawdz_pesel(Formularz!#REF!)","v":{"$error":"#VALUE!"}}]
[null,{"$f":"Sprawdz_pesel(Formularz!#REF!)","v":{"$error":"#VALUE!"}}]
[null,{"$f":"Sprawdz_pesel(Formularz!#REF!)","v":{"$error":"#VALUE!"}}]
[null,{"$f":"Sprawdz_pesel(Formularz!#REF!)","v":{"$error":"#VALUE!"}}]
[null,{"$f":"Sprawdz_pesel(Formularz!#REF!)","v":{"$error":"#VALUE!"}}]
[null,{"$f":"Sprawdz_pesel(Formularz!#REF!)","v":{"$error":"#VALUE!"}}]
[null,{"$f":"Sprawdz_pesel(Formularz!#REF!)","v":{"$error":"#VALUE!"}}]
[null,{"$f":"Sprawdz_pesel(Formularz!#REF!)","v":{"$error":"#VALUE!"}}]
[null,{"$f":"Sprawdz_pesel(Formularz!#REF!)","v":{"$error":"#VALUE!"}}]
[null,{"$f":"Sprawdz_pesel(Formularz!#REF!)","v":{"$error":"#VALUE!"}}]
[null,{"$f":"Sprawdz_pesel(Formularz!#REF!)","v":{"$error":"#VALUE!"}}]
[null,{"$f":"Sprawdz_pesel(Formularz!#REF!)","v":{"$error":"#VALUE!"}}]
[null,{"$f":"Sprawdz_pesel(Formularz!#REF!)","v":{"$error":"#VALUE!"}}]
[null,{"$f":"Sprawdz_pesel(Formularz!#REF!)","v":{"$error":"#VALUE!"}}]
[null,{"$f":"Sprawdz_pesel(Formularz!#REF!)","v":{"$error":"#VALUE!"}}]
[null,{"$f":"Sprawdz_pesel(Formularz!#REF!)","v":{"$error":"#VALUE!"}}]
[null,{"$f":"Sprawdz_pesel(Formularz!#REF!)","v":{"$error":"#VALUE!"}}]
[null,{"$f":"Sprawdz_pesel(Formularz!#REF!)","v":{"$error":"#VALUE!"}}]
[null,{"$f":"Sprawdz_pesel(Formularz!#REF!)","v":{"$error":"#VALUE!"}}]
[null,{"$f":"Sprawdz_pesel(Formularz!#REF!)","v":{"$error":"#VALUE!"}}]
[null,{"$f":"Sprawdz_pesel(Formularz!#REF!)","v":{"$error":"#VALUE!"}}]
[null,{"$f":"Sprawdz_pesel(Formularz!#REF!)","v":{"$error":"#VALUE!"}}]
[null,{"$f":"Sprawdz_pesel(Formularz!#REF!)","v":{"$error":"#VALUE!"}}]
[null,{"$f":"Sprawdz_pesel(Formularz!#REF!)","v":{"$error":"#VALUE!"}}]
[null,{"$f":"Sprawdz_pesel(Formularz!#REF!)","v":{"$error":"#VALUE!"}}]
[null,{"$f":"Sprawdz_pesel(Formularz!#REF!)","v":{"$error":"#VALUE!"}}]
[null,{"$f":"Sprawdz_pesel(Formularz!#REF!)","v":{"$error":"#VALUE!"}}]
[null,{"$f":"Sprawdz_pesel(Formularz!#REF!)","v":{"$error":"#VALUE!"}}]
[null,{"$f":"Sprawdz_pesel(Formularz!#REF!)","v":{"$error":"#VALUE!"}}]
[null,{"$f":"Sprawdz_pesel(Formularz!#REF!)","v":{"$error":"#VALUE!"}}]
[null,{"$f":"Sprawdz_pesel(Formularz!#REF!)","v":{"$error":"#VALUE!"}}]
[null,{"$f":"Sprawdz_pesel(Formularz!#REF!)","v":{"$error":"#VALUE!"}}]
[null,{"$f":"Sprawdz_pesel(Formularz!#REF!)","v":{"$error":"#VALUE!"}}]
[null,{"$f":"Sprawdz_pesel(Formularz!#REF!)","v":{"$error":"#VALUE!"}}]
[null,{"$f":"Sprawdz_pesel(Formularz!#REF!)","v":{"$error":"#VALUE!"}}]
[null,{"$f":"Sprawdz_pesel(Formularz!#REF!)","v":{"$error":"#VALUE!"}}]
[null,{"$f":"Sprawdz_pesel(Formularz!#REF!)","v":{"$error":"#VALUE!"}}]
[null,{"$f":"Sprawdz_pesel(Formularz!#REF!)","v":{"$error":"#VALUE!"}}]
[null,{"$f":"Sprawdz_pesel(Formularz!#REF!)","v":{"$error":"#VALUE!"}}]
[null,{"$f":"Sprawdz_pesel(Formularz!#REF!)","v":{"$error":"#VALUE!"}}]
[null,{"$f":"Sprawdz_pesel(Formularz!#REF!)","v":{"$error":"#VALUE!"}}]
[null,{"$f":"Sprawdz_pesel(Formularz!#REF!)","v":{"$error":"#VALUE!"}}]
[null,{"$f":"Sprawdz_pesel(Formularz!#REF!)","v":{"$error":"#VALUE!"}}]
[null,{"$f":"Sprawdz_pesel(Formularz!#REF!)","v":{"$error":"#VALUE!"}}]
[null,{"$f":"Sprawdz_pesel(Formularz!#REF!)","v":{"$error":"#VALUE!"}}]
[null,{"$f":"Sprawdz_pesel(Formularz!#REF!)","v":{"$error":"#VALUE!"}}]
[null,{"$f":"Sprawdz_pesel(Formularz!#REF!)","v":{"$error":"#VALUE!"}}]
[null,{"$f":"Sprawdz_pesel(Formularz!#REF!)","v":{"$error":"#VALUE!"}}]
[null,{"$f":"Sprawdz_pesel(Formularz!#REF!)","v":{"$error":"#VALUE!"}}]
[null,{"$f":"Sprawdz_pesel(Formularz!#REF!)","v":{"$error":"#VALUE!"}}]
[null,{"$f":"Sprawdz_pesel(Formularz!#REF!)","v":{"$error":"#VALUE!"}}]
[null,{"$f":"Sprawdz_pesel(Formularz!#REF!)","v":{"$error":"#VALUE!"}}]
[null,{"$f":"Sprawdz_pesel(Formularz!#REF!)","v":{"$error":"#VALUE!"}}]
[null,{"$f":"Sprawdz_pesel(Formularz!#REF!)","v":{"$error":"#VALUE!"}}]
[null,{"$f":"Sprawdz_pesel(Formularz!#REF!)","v":{"$error":"#VALUE!"}}]
[null,{"$f":"Sprawdz_pesel(Formularz!#REF!)","v":{"$error":"#VALUE!"}}]
[null,{"$f":"Sprawdz_pesel(Formularz!#REF!)","v":{"$error":"#VALUE!"}}]
[null,{"$f":"Sprawdz_pesel(Formularz!#REF!)","v":{"$error":"#VALUE!"}}]
[null,{"$f":"Sprawdz_pesel(Formularz!#REF!)","v":{"$error":"#VALUE!"}}]
[null,{"$f":"Sprawdz_pesel(Formularz!#REF!)","v":{"$error":"#VALUE!"}}]
[null,{"$f":"Sprawdz_pesel(Formularz!#REF!)","v":{"$error":"#VALUE!"}}]
[null,{"$f":"Sprawdz_pesel(Formularz!#REF!)","v":{"$error":"#VALUE!"}}]
[null,{"$f":"Sprawdz_pesel(Formularz!#REF!)","v":{"$error":"#VALUE!"}}]
[null,{"$f":"Sprawdz_pesel(Formularz!#REF!)","v":{"$error":"#VALUE!"}}]
[null,{"$f":"Sprawdz_pesel(Formularz!#REF!)","v":{"$error":"#VALUE!"}}]
[null,{"$f":"Sprawdz_pesel(Formularz!#REF!)","v":{"$error":"#VALUE!"}}]
[null,{"$f":"Sprawdz_pesel(Formularz!#REF!)","v":{"$error":"#VALUE!"}}]
[null,{"$f":"Sprawdz_pesel(Formularz!#REF!)","v":{"$error":"#VALUE!"}}]
[null,{"$f":"Sprawdz_pesel(Formularz!#REF!)","v":{"$error":"#VALUE!"}}]
[null,{"$f":"Sprawdz_pesel(Formularz!#REF!)","v":{"$error":"#VALUE!"}}]
[null,{"$f":"Sprawdz_pesel(Formularz!#REF!)","v":{"$error":"#VALUE!"}}]
[null,{"$f":"Sprawdz_pesel(Formularz!#REF!)","v":{"$error":"#VALUE!"}}]
[null,{"$f":"Sprawdz_pesel(Formularz!#REF!)","v":{"$error":"#VALUE!"}}]
[null,{"$f":"Sprawdz_pesel(Formularz!#REF!)","v":{"$error":"#VALUE!"}}]
[null,{"$f":"Sprawdz_pesel(Formularz!#REF!)","v":{"$error":"#VALUE!"}}]
[null,{"$f":"Sprawdz_pesel(Formularz!#REF!)","v":{"$error":"#VALUE!"}}]
[null,{"$f":"Sprawdz_pesel(Formularz!#REF!)","v":{"$error":"#VALUE!"}}]
[null,{"$f":"Sprawdz_pesel(Formularz!#REF!)","v":{"$error":"#VALUE!"}}]
[null,{"$f":"Sprawdz_pesel(Formularz!#REF!)","v":{"$error":"#VALUE!"}}]
[null,{"$f":"Sprawdz_pesel(Formularz!#REF!)","v":{"$error":"#VALUE!"}}]
[null,{"$f":"Sprawdz_pesel(Formularz!#REF!)","v":{"$error":"#VALUE!"}}]
[null,{"$f":"Sprawdz_pesel(Formularz!#REF!)","v":{"$error":"#VALUE!"}}]
[null,{"$f":"Sprawdz_pesel(Formularz!#REF!)","v":{"$error":"#VALUE!"}}]
[null,{"$f":"Sprawdz_pesel(Formularz!#REF!)","v":{"$error":"#VALUE!"}}]
[null,{"$f":"Sprawdz_pesel(Formularz!#REF!)","v":{"$error":"#VALUE!"}}]
[null,{"$f":"Sprawdz_pesel(Formularz!#REF!)","v":{"$error":"#VALUE!"}}]
[null,{"$f":"Sprawdz_pesel(Formularz!#REF!)","v":{"$error":"#VALUE!"}}]
[null,{"$f":"Sprawdz_pesel(Formularz!#REF!)","v":{"$error":"#VALUE!"}}]
[null,{"$f":"Sprawdz_pesel(Formularz!#REF!)","v":{"$error":"#VALUE!"}}]
[null,{"$f":"Sprawdz_pesel(Formularz!#REF!)","v":{"$error":"#VALUE!"}}]
[null,{"$f":"Sprawdz_pesel(Formularz!#REF!)","v":{"$error":"#VALUE!"}}]
[null,{"$f":"Sprawdz_pesel(Formularz!#REF!)","v":{"$error":"#VALUE!"}}]
[null,{"$f":"Sprawdz_pesel(Formularz!#REF!)","v":{"$error":"#VALUE!"}}]
[null,{"$f":"Sprawdz_pesel(Formularz!#REF!)","v":{"$error":"#VALUE!"}}]
[null,{"$f":"Sprawdz_pesel(Formularz!#REF!)","v":{"$error":"#VALUE!"}}]
[null,{"$f":"Sprawdz_pesel(Formularz!#REF!)","v":{"$error":"#VALUE!"}}]
[null,{"$f":"Sprawdz_pesel(Formularz!#REF!)","v":{"$error":"#VALUE!"}}]
[null,{"$f":"Sprawdz_pesel(Formularz!#REF!)","v":{"$error":"#VALUE!"}}]
[null,{"$f":"Sprawdz_pesel(Formularz!#REF!)","v":{"$error":"#VALUE!"}}]
[null,{"$f":"Sprawdz_pesel(Formularz!#REF!)","v":{"$error":"#VALUE!"}}]
[null,{"$f":"Sprawdz_pesel(Formularz!#REF!)","v":{"$error":"#VALUE!"}}]
[null,{"$f":"Sprawdz_pesel(Formularz!#REF!)","v":{"$error":"#VALUE!"}}]
[null,{"$f":"Sprawdz_pesel(Formularz!#REF!)","v":{"$error":"#VALUE!"}}]
[null,{"$f":"Sprawdz_pesel(Formularz!#REF!)","v":{"$error":"#VALUE!"}}]
[null,{"$f":"Sprawdz_pesel(Formularz!#REF!)","v":{"$error":"#VALUE!"}}]
[null,{"$f":"Sprawdz_pesel(Formularz!#REF!)","v":{"$error":"#VALUE!"}}]
[null,{"$f":"Sprawdz_pesel(Formularz!#REF!)","v":{"$error":"#VALUE!"}}]
[null,{"$f":"Sprawdz_pesel(Formularz!#REF!)","v":{"$error":"#VALUE!"}}]
[null,{"$f":"Sprawdz_pesel(Formularz!#REF!)","v":{"$error":"#VALUE!"}}]
[null,{"$f":"Sprawdz_pesel(Formularz!#REF!)","v":{"$error":"#VALUE!"}}]
[null,{"$f":"Sprawdz_pesel(Formularz!#REF!)","v":{"$error":"#VALUE!"}}]
[null,{"$f":"Sprawdz_pesel(Formularz!#REF!)","v":{"$error":"#VALUE!"}}]
[null,{"$f":"Sprawdz_pesel(Formularz!#REF!)","v":{"$error":"#VALUE!"}}]
[null,{"$f":"Sprawdz_pesel(Formularz!#REF!)","v":{"$error":"#VALUE!"}}]
[null,{"$f":"Sprawdz_pesel(Formularz!#REF!)","v":{"$error":"#VALUE!"}}]
[null,{"$f":"Sprawdz_pesel(Formularz!#REF!)","v":{"$error":"#VALUE!"}}]
[null,{"$f":"Sprawdz_pesel(Formularz!#REF!)","v":{"$error":"#VALUE!"}}]
[null,{"$f":"Sprawdz_pesel(Formularz!#REF!)","v":{"$error":"#VALUE!"}}]
[null,{"$f":"Sprawdz_pesel(Formularz!#REF!)","v":{"$error":"#VALUE!"}}]
[null,{"$f":"Sprawdz_pesel(Formularz!#REF!)","v":{"$error":"#VALUE!"}}]
[null,{"$f":"Sprawdz_pesel(Formularz!#REF!)","v":{"$error":"#VALUE!"}}]
[null,{"$f":"Sprawdz_pesel(Formularz!#REF!)","v":{"$error":"#VALUE!"}}]
[null,{"$f":"Sprawdz_pesel(Formularz!#REF!)","v":{"$error":"#VALUE!"}}]
[null,{"$f":"Sprawdz_pesel(Formularz!#REF!)","v":{"$error":"#VALUE!"}}]
[null,{"$f":"Sprawdz_pesel(Formularz!#REF!)","v":{"$error":"#VALUE!"}}]
[null,{"$f":"Sprawdz_pesel(Formularz!#REF!)","v":{"$error":"#VALUE!"}}]
[null,{"$f":"Sprawdz_pesel(Formularz!#REF!)","v":{"$error":"#VALUE!"}}]
[null,{"$f":"Sprawdz_pesel(Formularz!#REF!)","v":{"$error":"#VALUE!"}}]
[null,{"$f":"Sprawdz_pesel(Formularz!#REF!)","v":{"$error":"#VALUE!"}}]
[null,{"$f":"Sprawdz_pesel(Formularz!#REF!)","v":{"$error":"#VALUE!"}}]
[null,{"$f":"Sprawdz_pesel(Formularz!#REF!)","v":{"$error":"#VALUE!"}}]
[null,{"$f":"Sprawdz_pesel(Formularz!#REF!)","v":{"$error":"#VALUE!"}}]
[null,{"$f":"Sprawdz_pesel(Formularz!#REF!)","v":{"$error":"#VALUE!"}}]
[null,{"$f":"Sprawdz_pesel(Formularz!#REF!)","v":{"$error":"#VALUE!"}}]
[null,{"$f":"Sprawdz_pesel(Formularz!#REF!)","v":{"$error":"#VALUE!"}}]
[null,{"$f":"Sprawdz_pesel(Formularz!#REF!)","v":{"$error":"#VALUE!"}}]
[null,{"$f":"Sprawdz_pesel(Formularz!#REF!)","v":{"$error":"#VALUE!"}}]
[null,{"$f":"Sprawdz_pesel(Formularz!#REF!)","v":{"$error":"#VALUE!"}}]
[null,{"$f":"Sprawdz_pesel(Formularz!#REF!)","v":{"$error":"#VALUE!"}}]
[null,{"$f":"Sprawdz_pesel(Formularz!#REF!)","v":{"$error":"#VALUE!"}}]
[null,{"$f":"Sprawdz_pesel(Formularz!#REF!)","v":{"$error":"#VALUE!"}}]
[null,{"$f":"Sprawdz_pesel(Formularz!#REF!)","v":{"$error":"#VALUE!"}}]
[null,{"$f":"Sprawdz_pesel(Formularz!#REF!)","v":{"$error":"#VALUE!"}}]
[null,{"$f":"Sprawdz_pesel(Formularz!#REF!)","v":{"$error":"#VALUE!"}}]
[null,{"$f":"Sprawdz_pesel(Formularz!#REF!)","v":{"$error":"#VALUE!"}}]
[null,{"$f":"Sprawdz_pesel(Formularz!#REF!)","v":{"$error":"#VALUE!"}}]
[null,{"$f":"Sprawdz_pesel(Formularz!#REF!)","v":{"$error":"#VALUE!"}}]
[null,{"$f":"Sprawdz_pesel(Formularz!#REF!)","v":{"$error":"#VALUE!"}}]
[null,{"$f":"Sprawdz_pesel(Formularz!#REF!)","v":{"$error":"#VALUE!"}}]
[null,{"$f":"Sprawdz_pesel(Formularz!#REF!)","v":{"$error":"#VALUE!"}}]
[null,{"$f":"Sprawdz_pesel(Formularz!#REF!)","v":{"$error":"#VALUE!"}}]
[null,{"$f":"Sprawdz_pesel(Formularz!#REF!)","v":{"$error":"#VALUE!"}}]
[null,{"$f":"Sprawdz_pesel(Formularz!#REF!)","v":{"$error":"#VALUE!"}}]
[null,{"$f":"Sprawdz_pesel(Formularz!#REF!)","v":{"$error":"#VALUE!"}}]
[null,{"$f":"Sprawdz_pesel(Formularz!#REF!)","v":{"$error":"#VALUE!"}}]
[null,{"$f":"Sprawdz_pesel(Formularz!#REF!)","v":{"$error":"#VALUE!"}}]
[null,{"$f":"Sprawdz_pesel(Formularz!#REF!)","v":{"$error":"#VALUE!"}}]
[null,{"$f":"Sprawdz_pesel(Formularz!#REF!)","v":{"$error":"#VALUE!"}}]
[null,{"$f":"Sprawdz_pesel(Formularz!#REF!)","v":{"$error":"#VALUE!"}}]
[null,{"$f":"Sprawdz_pesel(Formularz!#REF!)","v":{"$error":"#VALUE!"}}]
[null,{"$f":"Sprawdz_pesel(Formularz!#REF!)","v":{"$error":"#VALUE!"}}]
[null,{"$f":"Sprawdz_pesel(Formularz!#REF!)","v":{"$error":"#VALUE!"}}]
[null,{"$f":"Sprawdz_pesel(Formularz!#REF!)","v":{"$error":"#VALUE!"}}]
[null,{"$f":"Sprawdz_pesel(Formularz!#REF!)","v":{"$error":"#VALUE!"}}]
[null,{"$f":"Sprawdz_pesel(Formularz!#REF!)","v":{"$error":"#VALUE!"}}]
[null,{"$f":"Sprawdz_pesel(Formularz!#REF!)","v":{"$error":"#VALUE!"}}]
[null,{"$f":"Sprawdz_pesel(Formularz!#REF!)","v":{"$error":"#VALUE!"}}]
[null,{"$f":"Sprawdz_pesel(Formularz!#REF!)","v":{"$error":"#VALUE!"}}]
[null,{"$f":"Sprawdz_pesel(Formularz!#REF!)","v":{"$error":"#VALUE!"}}]
[null,{"$f":"Sprawdz_pesel(Formularz!#REF!)","v":{"$error":"#VALUE!"}}]
[null,{"$f":"Sprawdz_pesel(Formularz!#REF!)","v":{"$error":"#VALUE!"}}]
[null,{"$f":"Sprawdz_pesel(Formularz!#REF!)","v":{"$error":"#VALUE!"}}]
[null,{"$f":"Sprawdz_pesel(Formularz!#REF!)","v":{"$error":"#VALUE!"}}]
[null,{"$f":"Sprawdz_pesel(Formularz!#REF!)","v":{"$error":"#VALUE!"}}]
[null,{"$f":"Sprawdz_pesel(Formularz!#REF!)","v":{"$error":"#VALUE!"}}]
[null,{"$f":"Sprawdz_pesel(Formularz!#REF!)","v":{"$error":"#VALUE!"}}]
[null,{"$f":"Sprawdz_pesel(Formularz!#REF!)","v":{"$error":"#VALUE!"}}]
[null,{"$f":"Sprawdz_pesel(Formularz!#REF!)","v":{"$error":"#VALUE!"}}]
[null,{"$f":"Sprawdz_pesel(Formularz!#REF!)","v":{"$error":"#VALUE!"}}]
[null,{"$f":"Sprawdz_pesel(Formularz!#REF!)","v":{"$error":"#VALUE!"}}]
[null,{"$f":"Sprawdz_pesel(Formularz!#REF!)","v":{"$error":"#VALUE!"}}]
[null,{"$f":"Sprawdz_pesel(Formularz!#REF!)","v":{"$error":"#VALUE!"}}]
[null,{"$f":"Sprawdz_pesel(Formularz!#REF!)","v":{"$error":"#VALUE!"}}]
[null,{"$f":"Sprawdz_pesel(Formularz!#REF!)","v":{"$error":"#VALUE!"}}]
[null,{"$f":"Sprawdz_pesel(Formularz!#REF!)","v":{"$error":"#VALUE!"}}]
[null,{"$f":"Sprawdz_pesel(Formularz!#REF!)","v":{"$error":"#VALUE!"}}]
[null,{"$f":"Sprawdz_pesel(Formularz!#REF!)","v":{"$error":"#VALUE!"}}]
[null,{"$f":"Sprawdz_pesel(Formularz!#REF!)","v":{"$error":"#VALUE!"}}]
[null,{"$f":"Sprawdz_pesel(Formularz!#REF!)","v":{"$error":"#VALUE!"}}]
[null,{"$f":"Sprawdz_pesel(Formularz!#REF!)","v":{"$error":"#VALUE!"}}]
[null,{"$f":"Sprawdz_pesel(Formularz!#REF!)","v":{"$error":"#VALUE!"}}]
[null,{"$f":"Sprawdz_pesel(Formularz!#REF!)","v":{"$error":"#VALUE!"}}]
[null,{"$f":"Sprawdz_pesel(Formularz!#REF!)","v":{"$error":"#VALUE!"}}]
[null,{"$f":"Sprawdz_pesel(Formularz!#REF!)","v":{"$error":"#VALUE!"}}]
[null,{"$f":"Sprawdz_pesel(Formularz!#REF!)","v":{"$error":"#VALUE!"}}]
[null,{"$f":"Sprawdz_pesel(Formularz!#REF!)","v":{"$error":"#VALUE!"}}]
[null,{"$f":"Sprawdz_pesel(Formularz!#REF!)","v":{"$error":"#VALUE!"}}]
[null,{"$f":"Sprawdz_pesel(Formularz!#REF!)","v":{"$error":"#VALUE!"}}]
[null,{"$f":"Sprawdz_pesel(Formularz!#REF!)","v":{"$error":"#VALUE!"}}]
[null,{"$f":"Sprawdz_pesel(Formularz!#REF!)","v":{"$error":"#VALUE!"}}]
[null,{"$f":"Sprawdz_pesel(Formularz!#REF!)","v":{"$error":"#VALUE!"}}]
[null,{"$f":"Sprawdz_pesel(Formularz!#REF!)","v":{"$error":"#VALUE!"}}]
[null,{"$f":"Sprawdz_pesel(Formularz!#REF!)","v":{"$error":"#VALUE!"}}]
[null,{"$f":"Sprawdz_pesel(Formularz!#REF!)","v":{"$error":"#VALUE!"}}]
[null,{"$f":"Sprawdz_pesel(Formularz!#REF!)","v":{"$error":"#VALUE!"}}]
[null,{"$f":"Sprawdz_pesel(Formularz!#REF!)","v":{"$error":"#VALUE!"}}]
[null,{"$f":"Sprawdz_pesel(Formularz!#REF!)","v":{"$error":"#VALUE!"}}]
[null,{"$f":"Sprawdz_pesel(Formularz!#REF!)","v":{"$error":"#VALUE!"}}]
[null,{"$f":"Sprawdz_pesel(Formularz!#REF!)","v":{"$error":"#VALUE!"}}]
[null,{"$f":"Sprawdz_pesel(Formularz!#REF!)","v":{"$error":"#VALUE!"}}]
[null,{"$f":"Sprawdz_pesel(Formularz!#REF!)","v":{"$error":"#VALUE!"}}]
[null,{"$f":"Sprawdz_pesel(Formularz!#REF!)","v":{"$error":"#VALUE!"}}]
[null,{"$f":"Sprawdz_pesel(Formularz!#REF!)","v":{"$error":"#VALUE!"}}]
[null,{"$f":"Sprawdz_pesel(Formularz!#REF!)","v":{"$error":"#VALUE!"}}]
[null,{"$f":"Sprawdz_pesel(Formularz!#REF!)","v":{"$error":"#VALUE!"}}]
[null,{"$f":"Sprawdz_pesel(Formularz!#REF!)","v":{"$error":"#VALUE!"}}]
[null,{"$f":"Sprawdz_pesel(Formularz!#REF!)","v":{"$error":"#VALUE!"}}]
[null,{"$f":"Sprawdz_pesel(Formularz!#REF!)","v":{"$error":"#VALUE!"}}]
[null,{"$f":"Sprawdz_pesel(Formularz!#REF!)","v":{"$error":"#VALUE!"}}]
[null,{"$f":"Sprawdz_pesel(Formularz!#REF!)","v":{"$error":"#VALUE!"}}]
[null,{"$f":"Sprawdz_pesel(Formularz!#REF!)","v":{"$error":"#VALUE!"}}]
[null,{"$f":"Sprawdz_pesel(Formularz!#REF!)","v":{"$error":"#VALUE!"}}]
[null,{"$f":"Sprawdz_pesel(Formularz!#REF!)","v":{"$error":"#VALUE!"}}]
[null,{"$f":"Sprawdz_pesel(Formularz!#REF!)","v":{"$error":"#VALUE!"}}]
[null,{"$f":"Sprawdz_pesel(Formularz!#REF!)","v":{"$error":"#VALUE!"}}]
[null,{"$f":"Sprawdz_pesel(Formularz!#REF!)","v":{"$error":"#VALUE!"}}]
[null,{"$f":"Sprawdz_pesel(Formularz!#REF!)","v":{"$error":"#VALUE!"}}]
[null,{"$f":"Sprawdz_pesel(Formularz!#REF!)","v":{"$error":"#VALUE!"}}]
[null,{"$f":"Sprawdz_pesel(Formularz!#REF!)","v":{"$error":"#VALUE!"}}]
[null,{"$f":"Sprawdz_pesel(Formularz!#REF!)","v":{"$error":"#VALUE!"}}]
[null,{"$f":"Sprawdz_pesel(Formularz!#REF!)","v":{"$error":"#VALUE!"}}]
[null,{"$f":"Sprawdz_pesel(Formularz!#REF!)","v":{"$error":"#VALUE!"}}]
[null,{"$f":"Sprawdz_pesel(Formularz!#REF!)","v":{"$error":"#VALUE!"}}]
[null,{"$f":"Sprawdz_pesel(Formularz!#REF!)","v":{"$error":"#VALUE!"}}]
[null,{"$f":"Sprawdz_pesel(Formularz!#REF!)","v":{"$error":"#VALUE!"}}]
[null,{"$f":"Sprawdz_pesel(Formularz!#REF!)","v":{"$error":"#VALUE!"}}]
[null,{"$f":"Sprawdz_pesel(Formularz!#REF!)","v":{"$error":"#VALUE!"}}]
[null,{"$f":"Sprawdz_pesel(Formularz!#REF!)","v":{"$error":"#VALUE!"}}]
[null,{"$f":"Sprawdz_pesel(Formularz!#REF!)","v":{"$error":"#VALUE!"}}]
[null,{"$f":"Sprawdz_pesel(Formularz!#REF!)","v":{"$error":"#VALUE!"}}]
[null,{"$f":"Sprawdz_pesel(Formularz!#REF!)","v":{"$error":"#VALUE!"}}]
[null,{"$f":"Sprawdz_pesel(Formularz!#REF!)","v":{"$error":"#VALUE!"}}]
[null,{"$f":"Sprawdz_pesel(Formularz!#REF!)","v":{"$error":"#VALUE!"}}]
[null,{"$f":"Sprawdz_pesel(Formularz!#REF!)","v":{"$error":"#VALUE!"}}]
[null,{"$f":"Sprawdz_pesel(Formularz!#REF!)","v":{"$error":"#VALUE!"}}]
[null,{"$f":"Sprawdz_pesel(Formularz!#REF!)","v":{"$error":"#VALUE!"}}]
[null,{"$f":"Sprawdz_pesel(Formularz!#REF!)","v":{"$error":"#VALUE!"}}]
[null,{"$f":"Sprawdz_pesel(Formularz!#REF!)","v":{"$error":"#VALUE!"}}]
[null,{"$f":"Sprawdz_pesel(Formularz!#REF!)","v":{"$error":"#VALUE!"}}]
[null,{"$f":"Sprawdz_pesel(Formularz!#REF!)","v":{"$error":"#VALUE!"}}]
[null,{"$f":"Sprawdz_pesel(Formularz!#REF!)","v":{"$error":"#VALUE!"}}]
[null,{"$f":"Sprawdz_pesel(Formularz!#REF!)","v":{"$error":"#VALUE!"}}]
[null,{"$f":"Sprawdz_pesel(Formularz!#REF!)","v":{"$error":"#VALUE!"}}]
[null,{"$f":"Sprawdz_pesel(Formularz!#REF!)","v":{"$error":"#VALUE!"}}]
[null,{"$f":"Sprawdz_pesel(Formularz!#REF!)","v":{"$error":"#VALUE!"}}]
[null,{"$f":"Sprawdz_pesel(Formularz!#REF!)","v":{"$error":"#VALUE!"}}]
[null,{"$f":"Sprawdz_pesel(Formularz!#REF!)","v":{"$error":"#VALUE!"}}]
[null,{"$f":"Sprawdz_pesel(Formularz!#REF!)","v":{"$error":"#VALUE!"}}]
[null,{"$f":"Sprawdz_pesel(Formularz!#REF!)","v":{"$error":"#VALUE!"}}]
[null,{"$f":"Sprawdz_pesel(Formularz!#REF!)","v":{"$error":"#VALUE!"}}]
[null,{"$f":"Sprawdz_pesel(Formularz!#REF!)","v":{"$error":"#VALUE!"}}]
[null,{"$f":"Sprawdz_pesel(Formularz!#REF!)","v":{"$error":"#VALUE!"}}]
[null,{"$f":"Sprawdz_pesel(Formularz!#REF!)","v":{"$error":"#VALUE!"}}]
[null,{"$f":"Sprawdz_pesel(Formularz!#REF!)","v":{"$error":"#VALUE!"}}]
[null,{"$f":"Sprawdz_pesel(Formularz!#REF!)","v":{"$error":"#VALUE!"}}]
[null,{"$f":"Sprawdz_pesel(Formularz!#REF!)","v":{"$error":"#VALUE!"}}]
[null,{"$f":"Sprawdz_pesel(Formularz!#REF!)","v":{"$error":"#VALUE!"}}]
[null,{"$f":"Sprawdz_pesel(Formularz!#REF!)","v":{"$error":"#VALUE!"}}]
[null,{"$f":"Sprawdz_pesel(Formularz!#REF!)","v":{"$error":"#VALUE!"}}]
[null,{"$f":"Sprawdz_pesel(Formularz!#REF!)","v":{"$error":"#VALUE!"}}]
[null,{"$f":"Sprawdz_pesel(Formularz!#REF!)","v":{"$error":"#VALUE!"}}]
[null,{"$f":"Sprawdz_pesel(Formularz!#REF!)","v":{"$error":"#VALUE!"}}]
[null,{"$f":"Sprawdz_pesel(Formularz!#REF!)","v":{"$error":"#VALUE!"}}]
[null,{"$f":"Sprawdz_pesel(Formularz!#REF!)","v":{"$error":"#VALUE!"}}]
[null,{"$f":"Sprawdz_pesel(Formularz!#REF!)","v":{"$error":"#VALUE!"}}]
[null,{"$f":"Sprawdz_pesel(Formularz!#REF!)","v":{"$error":"#VALUE!"}}]
[null,{"$f":"Sprawdz_pesel(Formularz!#REF!)","v":{"$error":"#VALUE!"}}]
[null,{"$f":"Sprawdz_pesel(Formularz!#REF!)","v":{"$error":"#VALUE!"}}]
[null,{"$f":"Sprawdz_pesel(Formularz!#REF!)","v":{"$error":"#VALUE!"}}]
[null,{"$f":"Sprawdz_pesel(Formularz!#REF!)","v":{"$error":"#VALUE!"}}]
[null,{"$f":"Sprawdz_pesel(Formularz!#REF!)","v":{"$error":"#VALUE!"}}]
[null,{"$f":"Sprawdz_pesel(Formularz!#REF!)","v":{"$error":"#VALUE!"}}]
[null,{"$f":"Sprawdz_pesel(Formularz!#REF!)","v":{"$error":"#VALUE!"}}]
[null,{"$f":"Sprawdz_pesel(Formularz!#REF!)","v":{"$error":"#VALUE!"}}]
[null,{"$f":"Sprawdz_pesel(Formularz!#REF!)","v":{"$error":"#VALUE!"}}]
[null,{"$f":"Sprawdz_pesel(Formularz!#REF!)","v":{"$error":"#VALUE!"}}]
[null,{"$f":"Sprawdz_pesel(Formularz!#REF!)","v":{"$error":"#VALUE!"}}]
[null,{"$f":"Sprawdz_pesel(Formularz!#REF!)","v":{"$error":"#VALUE!"}}]
[null,{"$f":"Sprawdz_pesel(Formularz!#REF!)","v":{"$error":"#VALUE!"}}]
[null,{"$f":"Sprawdz_pesel(Formularz!#REF!)","v":{"$error":"#VALUE!"}}]
[null,{"$f":"Sprawdz_pesel(Formularz!#REF!)","v":{"$error":"#VALUE!"}}]
[null,{"$f":"Sprawdz_pesel(Formularz!#REF!)","v":{"$error":"#VALUE!"}}]
[null,{"$f":"Sprawdz_pesel(Formularz!#REF!)","v":{"$error":"#VALUE!"}}]
[null,{"$f":"Sprawdz_pesel(Formularz!#REF!)","v":{"$error":"#VALUE!"}}]
[null,{"$f":"Sprawdz_pesel(Formularz!#REF!)","v":{"$error":"#VALUE!"}}]
[null,{"$f":"Sprawdz_pesel(Formularz!#REF!)","v":{"$error":"#VALUE!"}}]
[null,{"$f":"Sprawdz_pesel(Formularz!#REF!)","v":{"$error":"#VALUE!"}}]
[null,{"$f":"Sprawdz_pesel(Formularz!#REF!)","v":{"$error":"#VALUE!"}}]
[null,{"$f":"Sprawdz_pesel(Formularz!#REF!)","v":{"$error":"#VALUE!"}}]
[null,{"$f":"Sprawdz_pesel(Formularz!#REF!)","v":{"$error":"#VALUE!"}}]
[null,{"$f":"Sprawdz_pesel(Formularz!#REF!)","v":{"$error":"#VALUE!"}}]
[null,{"$f":"Sprawdz_pesel(Formularz!#REF!)","v":{"$error":"#VALUE!"}}]
[null,{"$f":"Sprawdz_pesel(Formularz!#REF!)","v":{"$error":"#VALUE!"}}]
[null,{"$f":"Sprawdz_pesel(Formularz!#REF!)","v":{"$error":"#VALUE!"}}]
[null,{"$f":"Sprawdz_pesel(Formularz!#REF!)","v":{"$error":"#VALUE!"}}]
[null,{"$f":"Sprawdz_pesel(Formularz!#REF!)","v":{"$error":"#VALUE!"}}]
[null,{"$f":"Sprawdz_pesel(Formularz!#REF!)","v":{"$error":"#VALUE!"}}]
[null,{"$f":"Sprawdz_pesel(Formularz!#REF!)","v":{"$error":"#VALUE!"}}]
[null,{"$f":"Sprawdz_pesel(Formularz!#REF!)","v":{"$error":"#VALUE!"}}]
[null,{"$f":"Sprawdz_pesel(Formularz!#REF!)","v":{"$error":"#VALUE!"}}]
[null,{"$f":"Sprawdz_pesel(Formularz!#REF!)","v":{"$error":"#VALUE!"}}]
[null,{"$f":"Sprawdz_pesel(Formularz!#REF!)","v":{"$error":"#VALUE!"}}]
[null,{"$f":"Sprawdz_pesel(Formularz!#REF!)","v":{"$error":"#VALUE!"}}]
[null,{"$f":"Sprawdz_pesel(Formularz!#REF!)","v":{"$error":"#VALUE!"}}]
[null,{"$f":"Sprawdz_pesel(Formularz!#REF!)","v":{"$error":"#VALUE!"}}]
[null,{"$f":"Sprawdz_pesel(Formularz!#REF!)","v":{"$error":"#VALUE!"}}]
[null,{"$f":"Sprawdz_pesel(Formularz!#REF!)","v":{"$error":"#VALUE!"}}]
[null,{"$f":"Sprawdz_pesel(Formularz!#REF!)","v":{"$error":"#VALUE!"}}]
[null,{"$f":"Sprawdz_pesel(Formularz!#REF!)","v":{"$error":"#VALUE!"}}]
[null,{"$f":"Sprawdz_pesel(Formularz!#REF!)","v":{"$error":"#VALUE!"}}]
[null,{"$f":"Sprawdz_pesel(Formularz!#REF!)","v":{"$error":"#VALUE!"}}]
[null,{"$f":"Sprawdz_pesel(Formularz!#REF!)","v":{"$error":"#VALUE!"}}]
[null,{"$f":"Sprawdz_pesel(Formularz!#REF!)","v":{"$error":"#VALUE!"}}]
[null,{"$f":"Sprawdz_pesel(Formularz!#REF!)","v":{"$error":"#VALUE!"}}]
[null,{"$f":"Sprawdz_pesel(Formularz!#REF!)","v":{"$error":"#VALUE!"}}]
[null,{"$f":"Sprawdz_pesel(Formularz!#REF!)","v":{"$error":"#VALUE!"}}]
[null,{"$f":"Sprawdz_pesel(Formularz!#REF!)","v":{"$error":"#VALUE!"}}]
[null,{"$f":"Sprawdz_pesel(Formularz!#REF!)","v":{"$error":"#VALUE!"}}]
[null,{"$f":"Sprawdz_pesel(Formularz!#REF!)","v":{"$error":"#VALUE!"}}]
[null,{"$f":"Sprawdz_pesel(Formularz!#REF!)","v":{"$error":"#VALUE!"}}]
[null,{"$f":"Sprawdz_pesel(Formularz!#REF!)","v":{"$error":"#VALUE!"}}]
[null,{"$f":"Sprawdz_pesel(Formularz!#REF!)","v":{"$error":"#VALUE!"}}]
[null,{"$f":"Sprawdz_pesel(Formularz!#REF!)","v":{"$error":"#VALUE!"}}]
[null,{"$f":"Sprawdz_pesel(Formularz!#REF!)","v":{"$error":"#VALUE!"}}]
[null,{"$f":"Sprawdz_pesel(Formularz!#REF!)","v":{"$error":"#VALUE!"}}]
[null,{"$f":"Sprawdz_pesel(Formularz!#REF!)","v":{"$error":"#VALUE!"}}]
[null,{"$f":"Sprawdz_pesel(Formularz!#REF!)","v":{"$error":"#VALUE!"}}]
[null,{"$f":"Sprawdz_pesel(Formularz!#REF!)","v":{"$error":"#VALUE!"}}]
[null,{"$f":"Sprawdz_pesel(Formularz!#REF!)","v":{"$error":"#VALUE!"}}]
[null,{"$f":"Sprawdz_pesel(Formularz!#REF!)","v":{"$error":"#VALUE!"}}]
[null,{"$f":"Sprawdz_pesel(Formularz!#REF!)","v":{"$error":"#VALUE!"}}]
[null,{"$f":"Sprawdz_pesel(Formularz!#REF!)","v":{"$error":"#VALUE!"}}]
[null,{"$f":"Sprawdz_pesel(Formularz!#REF!)","v":{"$error":"#VALUE!"}}]
[null,{"$f":"Sprawdz_pesel(Formularz!#REF!)","v":{"$error":"#VALUE!"}}]
[null,{"$f":"Sprawdz_pesel(Formularz!#REF!)","v":{"$error":"#VALUE!"}}]
[null,{"$f":"Sprawdz_pesel(Formularz!#REF!)","v":{"$error":"#VALUE!"}}]
[null,{"$f":"Sprawdz_pesel(Formularz!#REF!)","v":{"$error":"#VALUE!"}}]
[null,{"$f":"Sprawdz_pesel(Formularz!#REF!)","v":{"$error":"#VALUE!"}}]
[null,{"$f":"Sprawdz_pesel(Formularz!#REF!)","v":{"$error":"#VALUE!"}}]
[null,{"$f":"Sprawdz_pesel(Formularz!#REF!)","v":{"$error":"#VALUE!"}}]
[null,{"$f":"Sprawdz_pesel(Formularz!#REF!)","v":{"$error":"#VALUE!"}}]
[null,{"$f":"Sprawdz_pesel(Formularz!#REF!)","v":{"$error":"#VALUE!"}}]
[null,{"$f":"Sprawdz_pesel(Formularz!#REF!)","v":{"$error":"#VALUE!"}}]
[null,{"$f":"Sprawdz_pesel(Formularz!#REF!)","v":{"$error":"#VALUE!"}}]
[null,{"$f":"Sprawdz_pesel(Formularz!#REF!)","v":{"$error":"#VALUE!"}}]
[null,{"$f":"Sprawdz_pesel(Formularz!#REF!)","v":{"$error":"#VALUE!"}}]
[null,{"$f":"Sprawdz_pesel(Formularz!#REF!)","v":{"$error":"#VALUE!"}}]
[null,{"$f":"Sprawdz_pesel(Formularz!#REF!)","v":{"$error":"#VALUE!"}}]
[null,{"$f":"Sprawdz_pesel(Formularz!#REF!)","v":{"$error":"#VALUE!"}}]
[null,{"$f":"Sprawdz_pesel(Formularz!#REF!)","v":{"$error":"#VALUE!"}}]
[null,{"$f":"Sprawdz_pesel(Formularz!#REF!)","v":{"$error":"#VALUE!"}}]
[null,{"$f":"Sprawdz_pesel(Formularz!#REF!)","v":{"$error":"#VALUE!"}}]
[null,{"$f":"Sprawdz_pesel(Formularz!#REF!)","v":{"$error":"#VALUE!"}}]
[null,{"$f":"Sprawdz_pesel(Formularz!#REF!)","v":{"$error":"#VALUE!"}}]
[null,{"$f":"Sprawdz_pesel(Formularz!#REF!)","v":{"$error":"#VALUE!"}}]
[null,{"$f":"Sprawdz_pesel(Formularz!#REF!)","v":{"$error":"#VALUE!"}}]
[null,{"$f":"Sprawdz_pesel(Formularz!#REF!)","v":{"$error":"#VALUE!"}}]
[null,{"$f":"Sprawdz_pesel(Formularz!#REF!)","v":{"$error":"#VALUE!"}}]
[null,{"$f":"Sprawdz_pesel(Formularz!#REF!)","v":{"$error":"#VALUE!"}}]
[null,{"$f":"Sprawdz_pesel(Formularz!#REF!)","v":{"$error":"#VALUE!"}}]
[null,{"$f":"Sprawdz_pesel(Formularz!#REF!)","v":{"$error":"#VALUE!"}}]
[null,{"$f":"Sprawdz_pesel(Formularz!#REF!)","v":{"$error":"#VALUE!"}}]
[null,{"$f":"Sprawdz_pesel(Formularz!#REF!)","v":{"$error":"#VALUE!"}}]
[null,{"$f":"Sprawdz_pesel(Formularz!#REF!)","v":{"$error":"#VALUE!"}}]
[null,{"$f":"Sprawdz_pesel(Formularz!#REF!)","v":{"$error":"#VALUE!"}}]
[null,{"$f":"Sprawdz_pesel(Formularz!#REF!)","v":{"$error":"#VALUE!"}}]
[null,{"$f":"Sprawdz_pesel(Formularz!#REF!)","v":{"$error":"#VALUE!"}}]
[null,{"$f":"Sprawdz_pesel(Formularz!#REF!)","v":{"$error":"#VALUE!"}}]
[null,{"$f":"Sprawdz_pesel(Formularz!#REF!)","v":{"$error":"#VALUE!"}}]
[null,{"$f":"Sprawdz_pesel(Formularz!#REF!)","v":{"$error":"#VALUE!"}}]
[null,{"$f":"Sprawdz_pesel(Formularz!#REF!)","v":{"$error":"#VALUE!"}}]
[null,{"$f":"Sprawdz_pesel(Formularz!#REF!)","v":{"$error":"#VALUE!"}}]
[null,{"$f":"Sprawdz_pesel(Formularz!#REF!)","v":{"$error":"#VALUE!"}}]
[null,{"$f":"Sprawdz_pesel(Formularz!#REF!)","v":{"$error":"#VALUE!"}}]
[null,{"$f":"Sprawdz_pesel(Formularz!#REF!)","v":{"$error":"#VALUE!"}}]
[null,{"$f":"Sprawdz_pesel(Formularz!#REF!)","v":{"$error":"#VALUE!"}}]
[null,{"$f":"Sprawdz_pesel(Formularz!#REF!)","v":{"$error":"#VALUE!"}}]
[null,{"$f":"Sprawdz_pesel(Formularz!#REF!)","v":{"$error":"#VALUE!"}}]
[null,{"$f":"Sprawdz_pesel(Formularz!#REF!)","v":{"$error":"#VALUE!"}}]
[null,{"$f":"Sprawdz_pesel(Formularz!#REF!)","v":{"$error":"#VALUE!"}}]
[null,{"$f":"Sprawdz_pesel(Formularz!#REF!)","v":{"$error":"#VALUE!"}}]
[null,{"$f":"Sprawdz_pesel(Formularz!#REF!)","v":{"$error":"#VALUE!"}}]
[null,{"$f":"Sprawdz_pesel(Formularz!#REF!)","v":{"$error":"#VALUE!"}}]
[null,{"$f":"Sprawdz_pesel(Formularz!#REF!)","v":{"$error":"#VALUE!"}}]
[null,{"$f":"Sprawdz_pesel(Formularz!#REF!)","v":{"$error":"#VALUE!"}}]
[null,{"$f":"Sprawdz_pesel(Formularz!#REF!)","v":{"$error":"#VALUE!"}}]
[null,{"$f":"Sprawdz_pesel(Formularz!#REF!)","v":{"$error":"#VALUE!"}}]
[null,{"$f":"Sprawdz_pesel(Formularz!#REF!)","v":{"$error":"#VALUE!"}}]
[null,{"$f":"Sprawdz_pesel(Formularz!#REF!)","v":{"$error":"#VALUE!"}}]
[null,{"$f":"Sprawdz_pesel(Formularz!#REF!)","v":{"$error":"#VALUE!"}}]
[null,{"$f":"Sprawdz_pesel(Formularz!#REF!)","v":{"$error":"#VALUE!"}}]
[null,{"$f":"Sprawdz_pesel(Formularz!#REF!)","v":{"$error":"#VALUE!"}}]
[null,{"$f":"Sprawdz_pesel(Formularz!#REF!)","v":{"$error":"#VALUE!"}}]
[null,{"$f":"Sprawdz_pesel(Formularz!#REF!)","v":{"$error":"#VALUE!"}}]
[null,{"$f":"Sprawdz_pesel(Formularz!#REF!)","v":{"$error":"#VALUE!"}}]
[null,{"$f":"Sprawdz_pesel(Formularz!#REF!)","v":{"$error":"#VALUE!"}}]
[null,{"$f":"Sprawdz_pesel(Formularz!#REF!)","v":{"$error":"#VALUE!"}}]
[null,{"$f":"Sprawdz_pesel(Formularz!#REF!)","v":{"$error":"#VALUE!"}}]
[null,{"$f":"Sprawdz_pesel(Formularz!#REF!)","v":{"$error":"#VALUE!"}}]
[null,{"$f":"Sprawdz_pesel(Formularz!#REF!)","v":{"$error":"#VALUE!"}}]
[null,{"$f":"Sprawdz_pesel(Formularz!#REF!)","v":{"$error":"#VALUE!"}}]
[null,{"$f":"Sprawdz_pesel(Formularz!#REF!)","v":{"$error":"#VALUE!"}}]
[null,{"$f":"Sprawdz_pesel(Formularz!#REF!)","v":{"$error":"#VALUE!"}}]
[null,{"$f":"Sprawdz_pesel(Formularz!#REF!)","v":{"$error":"#VALUE!"}}]
[null,{"$f":"Sprawdz_pesel(Formularz!#REF!)","v":{"$error":"#VALUE!"}}]
[null,{"$f":"Sprawdz_pesel(Formularz!#REF!)","v":{"$error":"#VALUE!"}}]
[null,{"$f":"Sprawdz_pesel(Formularz!#REF!)","v":{"$error":"#VALUE!"}}]
[null,{"$f":"Sprawdz_pesel(Formularz!#REF!)","v":{"$error":"#VALUE!"}}]
[null,{"$f":"Sprawdz_pesel(Formularz!#REF!)","v":{"$error":"#VALUE!"}}]
[null,{"$f":"Sprawdz_pesel(Formularz!#REF!)","v":{"$error":"#VALUE!"}}]
[null,{"$f":"Sprawdz_pesel(Formularz!#REF!)","v":{"$error":"#VALUE!"}}]
[null,{"$f":"Sprawdz_pesel(Formularz!#REF!)","v":{"$error":"#VALUE!"}}]
[null,{"$f":"Sprawdz_pesel(Formularz!#REF!)","v":{"$error":"#VALUE!"}}]
[null,{"$f":"Sprawdz_pesel(Formularz!#REF!)","v":{"$error":"#VALUE!"}}]
[null,{"$f":"Sprawdz_pesel(Formularz!#REF!)","v":{"$error":"#VALUE!"}}]
[null,{"$f":"Sprawdz_pesel(Formularz!#REF!)","v":{"$error":"#VALUE!"}}]
[null,{"$f":"Sprawdz_pesel(Formularz!#REF!)","v":{"$error":"#VALUE!"}}]
[null,{"$f":"Sprawdz_pesel(Formularz!#REF!)","v":{"$error":"#VALUE!"}}]
[null,{"$f":"Sprawdz_pesel(Formularz!#REF!)","v":{"$error":"#VALUE!"}}]
[null,{"$f":"Sprawdz_pesel(Formularz!#REF!)","v":{"$error":"#VALUE!"}}]
[null,{"$f":"Sprawdz_pesel(Formularz!#REF!)","v":{"$error":"#VALUE!"}}]
[null,{"$f":"Sprawdz_pesel(Formularz!#REF!)","v":{"$error":"#VALUE!"}}]
[null,{"$f":"Sprawdz_pesel(Formularz!#REF!)","v":{"$error":"#VALUE!"}}]
[null,{"$f":"Sprawdz_pesel(Formularz!#REF!)","v":{"$error":"#VALUE!"}}]
[null,{"$f":"Sprawdz_pesel(Formularz!#REF!)","v":{"$error":"#VALUE!"}}]
[null,{"$f":"Sprawdz_pesel(Formularz!#REF!)","v":{"$error":"#VALUE!"}}]
[null,{"$f":"Sprawdz_pesel(Formularz!#REF!)","v":{"$error":"#VALUE!"}}]
[null,{"$f":"Sprawdz_pesel(Formularz!#REF!)","v":{"$error":"#VALUE!"}}]
[null,{"$f":"Sprawdz_pesel(Formularz!#REF!)","v":{"$error":"#VALUE!"}}]
[null,{"$f":"Sprawdz_pesel(Formularz!#REF!)","v":{"$error":"#VALUE!"}}]
[null,{"$f":"Sprawdz_pesel(Formularz!#REF!)","v":{"$error":"#VALUE!"}}]
[null,{"$f":"Sprawdz_pesel(Formularz!#REF!)","v":{"$error":"#VALUE!"}}]
[null,{"$f":"Sprawdz_pesel(Formularz!#REF!)","v":{"$error":"#VALUE!"}}]
[null,{"$f":"Sprawdz_pesel(Formularz!#REF!)","v":{"$error":"#VALUE!"}}]
[null,{"$f":"Sprawdz_pesel(Formularz!#REF!)","v":{"$error":"#VALUE!"}}]
[null,{"$f":"Sprawdz_pesel(Formularz!#REF!)","v":{"$error":"#VALUE!"}}]
[null,{"$f":"Sprawdz_pesel(Formularz!#REF!)","v":{"$error":"#VALUE!"}}]
[null,{"$f":"Sprawdz_pesel(Formularz!#REF!)","v":{"$error":"#VALUE!"}}]
[null,{"$f":"Sprawdz_pesel(Formularz!#REF!)","v":{"$error":"#VALUE!"}}]
[null,{"$f":"Sprawdz_pesel(Formularz!#REF!)","v":{"$error":"#VALUE!"}}]
[null,{"$f":"Sprawdz_pesel(Formularz!#REF!)","v":{"$error":"#VALUE!"}}]
[null,{"$f":"Sprawdz_pesel(Formularz!#REF!)","v":{"$error":"#VALUE!"}}]
[null,{"$f":"Sprawdz_pesel(Formularz!#REF!)","v":{"$error":"#VALUE!"}}]
[null,{"$f":"Sprawdz_pesel(Formularz!#REF!)","v":{"$error":"#VALUE!"}}]
[null,{"$f":"Sprawdz_pesel(Formularz!#REF!)","v":{"$error":"#VALUE!"}}]
[null,{"$f":"Sprawdz_pesel(Formularz!#REF!)","v":{"$error":"#VALUE!"}}]
[null,{"$f":"Sprawdz_pesel(Formularz!#REF!)","v":{"$error":"#VALUE!"}}]
[null,{"$f":"Sprawdz_pesel(Formularz!#REF!)","v":{"$error":"#VALUE!"}}]
[null,{"$f":"Sprawdz_pesel(Formularz!#REF!)","v":{"$error":"#VALUE!"}}]
[null,{"$f":"Sprawdz_pesel(Formularz!#REF!)","v":{"$error":"#VALUE!"}}]
[null,{"$f":"Sprawdz_pesel(Formularz!#REF!)","v":{"$error":"#VALUE!"}}]
[null,{"$f":"Sprawdz_pesel(Formularz!#REF!)","v":{"$error":"#VALUE!"}}]
[null,{"$f":"Sprawdz_pesel(Formularz!#REF!)","v":{"$error":"#VALUE!"}}]
[null,{"$f":"Sprawdz_pesel(Formularz!#REF!)","v":{"$error":"#VALUE!"}}]
[null,{"$f":"Sprawdz_pesel(Formularz!#REF!)","v":{"$error":"#VALUE!"}}]
[null,{"$f":"Sprawdz_pesel(Formularz!#REF!)","v":{"$error":"#VALUE!"}}]
[null,{"$f":"Sprawdz_pesel(Formularz!#REF!)","v":{"$error":"#VALUE!"}}]
[null,{"$f":"Sprawdz_pesel(Formularz!#REF!)","v":{"$error":"#VALUE!"}}]
[null,{"$f":"Sprawdz_pesel(Formularz!#REF!)","v":{"$error":"#VALUE!"}}]
[null,{"$f":"Sprawdz_pesel(Formularz!#REF!)","v":{"$error":"#VALUE!"}}]
[null,{"$f":"Sprawdz_pesel(Formularz!#REF!)","v":{"$error":"#VALUE!"}}]
[null,{"$f":"Sprawdz_pesel(Formularz!#REF!)","v":{"$error":"#VALUE!"}}]
[null,{"$f":"Sprawdz_pesel(Formularz!#REF!)","v":{"$error":"#VALUE!"}}]
[null,{"$f":"Sprawdz_pesel(Formularz!#REF!)","v":{"$error":"#VALUE!"}}]
[null,{"$f":"Sprawdz_pesel(Formularz!#REF!)","v":{"$error":"#VALUE!"}}]
[null,{"$f":"Sprawdz_pesel(Formularz!#REF!)","v":{"$error":"#VALUE!"}}]
[null,{"$f":"Sprawdz_pesel(Formularz!#REF!)","v":{"$error":"#VALUE!"}}]
[null,{"$f":"Sprawdz_pesel(Formularz!#REF!)","v":{"$error":"#VALUE!"}}]
[null,{"$f":"Sprawdz_pesel(Formularz!#REF!)","v":{"$error":"#VALUE!"}}]
[null,{"$f":"Sprawdz_pesel(Formularz!#REF!)","v":{"$error":"#VALUE!"}}]
[null,{"$f":"Sprawdz_pesel(Formularz!#REF!)","v":{"$error":"#VALUE!"}}]
[null,{"$f":"Sprawdz_pesel(Formularz!#REF!)","v":{"$error":"#VALUE!"}}]
[null,{"$f":"Sprawdz_pesel(Formularz!#REF!)","v":{"$error":"#VALUE!"}}]
[null,{"$f":"Sprawdz_pesel(Formularz!#REF!)","v":{"$error":"#VALUE!"}}]
[null,{"$f":"Sprawdz_pesel(Formularz!#REF!)","v":{"$error":"#VALUE!"}}]
[null,{"$f":"Sprawdz_pesel(Formularz!#REF!)","v":{"$error":"#VALUE!"}}]
[null,{"$f":"Sprawdz_pesel(Formularz!#REF!)","v":{"$error":"#VALUE!"}}]
[null,{"$f":"Sprawdz_pesel(Formularz!#REF!)","v":{"$error":"#VALUE!"}}]
[null,{"$f":"Sprawdz_pesel(Formularz!#REF!)","v":{"$error":"#VALUE!"}}]
[null,{"$f":"Sprawdz_pesel(Formularz!#REF!)","v":{"$error":"#VALUE!"}}]
[null,{"$f":"Sprawdz_pesel(Formularz!#REF!)","v":{"$error":"#VALUE!"}}]
[null,{"$f":"Sprawdz_pesel(Formularz!#REF!)","v":{"$error":"#VALUE!"}}]
[null,{"$f":"Sprawdz_pesel(Formularz!#REF!)","v":{"$error":"#VALUE!"}}]
[null,{"$f":"Sprawdz_pesel(Formularz!#REF!)","v":{"$error":"#VALUE!"}}]
[null,{"$f":"Sprawdz_pesel(Formularz!#REF!)","v":{"$error":"#VALUE!"}}]
[null,{"$f":"Sprawdz_pesel(Formularz!#REF!)","v":{"$error":"#VALUE!"}}]
[null,{"$f":"Sprawdz_pesel(Formularz!#REF!)","v":{"$error":"#VALUE!"}}]
[null,{"$f":"Sprawdz_pesel(Formularz!#REF!)","v":{"$error":"#VALUE!"}}]
[null,{"$f":"Sprawdz_pesel(Formularz!#REF!)","v":{"$error":"#VALUE!"}}]
[null,{"$f":"Sprawdz_pesel(Formularz!#REF!)","v":{"$error":"#VALUE!"}}]
[null,{"$f":"Sprawdz_pesel(Formularz!#REF!)","v":{"$error":"#VALUE!"}}]
[null,{"$f":"Sprawdz_pesel(Formularz!#REF!)","v":{"$error":"#VALUE!"}}]
[null,{"$f":"Sprawdz_pesel(Formularz!#REF!)","v":{"$error":"#VALUE!"}}]
[null,{"$f":"Sprawdz_pesel(Formularz!#REF!)","v":{"$error":"#VALUE!"}}]
[null,{"$f":"Sprawdz_pesel(Formularz!#REF!)","v":{"$error":"#VALUE!"}}]
[null,{"$f":"Sprawdz_pesel(Formularz!#REF!)","v":{"$error":"#VALUE!"}}]
[null,{"$f":"Sprawdz_pesel(Formularz!#REF!)","v":{"$error":"#VALUE!"}}]
[null,{"$f":"Sprawdz_pesel(Formularz!#REF!)","v":{"$error":"#VALUE!"}}]
[null,{"$f":"Sprawdz_pesel(Formularz!#REF!)","v":{"$error":"#VALUE!"}}]
[null,{"$f":"Sprawdz_pesel(Formularz!#REF!)","v":{"$error":"#VALUE!"}}]
[null,{"$f":"Sprawdz_pesel(Formularz!#REF!)","v":{"$error":"#VALUE!"}}]
[null,{"$f":"Sprawdz_pesel(Formularz!#REF!)","v":{"$error":"#VALUE!"}}]
[null,{"$f":"Sprawdz_pesel(Formularz!#REF!)","v":{"$error":"#VALUE!"}}]
[null,{"$f":"Sprawdz_pesel(Formularz!#REF!)","v":{"$error":"#VALUE!"}}]
[null,{"$f":"Sprawdz_pesel(Formularz!#REF!)","v":{"$error":"#VALUE!"}}]
[null,{"$f":"Sprawdz_pesel(Formularz!#REF!)","v":{"$error":"#VALUE!"}}]
[null,{"$f":"Sprawdz_pesel(Formularz!#REF!)","v":{"$error":"#VALUE!"}}]
[null,{"$f":"Sprawdz_pesel(Formularz!#REF!)","v":{"$error":"#VALUE!"}}]
[null,{"$f":"Sprawdz_pesel(Formularz!#REF!)","v":{"$error":"#VALUE!"}}]
[null,{"$f":"Sprawdz_pesel(Formularz!#REF!)","v":{"$error":"#VALUE!"}}]
[null,{"$f":"Sprawdz_pesel(Formularz!#REF!)","v":{"$error":"#VALUE!"}}]
[null,{"$f":"Sprawdz_pesel(Formularz!#REF!)","v":{"$error":"#VALUE!"}}]
[null,{"$f":"Sprawdz_pesel(Formularz!#REF!)","v":{"$error":"#VALUE!"}}]
[null,{"$f":"Sprawdz_pesel(Formularz!#REF!)","v":{"$error":"#VALUE!"}}]
[null,{"$f":"Sprawdz_pesel(Formularz!#REF!)","v":{"$error":"#VALUE!"}}]
[null,{"$f":"Sprawdz_pesel(Formularz!#REF!)","v":{"$error":"#VALUE!"}}]
[null,{"$f":"Sprawdz_pesel(Formularz!#REF!)","v":{"$error":"#VALUE!"}}]
[null,{"$f":"Sprawdz_pesel(Formularz!#REF!)","v":{"$error":"#VALUE!"}}]
[null,{"$f":"Sprawdz_pesel(Formularz!#REF!)","v":{"$error":"#VALUE!"}}]
[null,{"$f":"Sprawdz_pesel(Formularz!#REF!)","v":{"$error":"#VALUE!"}}]
[null,{"$f":"Sprawdz_pesel(Formularz!#REF!)","v":{"$error":"#VALUE!"}}]
[null,{"$f":"Sprawdz_pesel(Formularz!#REF!)","v":{"$error":"#VALUE!"}}]
[null,{"$f":"Sprawdz_pesel(Formularz!#REF!)","v":{"$error":"#VALUE!"}}]
[null,{"$f":"Sprawdz_pesel(Formularz!#REF!)","v":{"$error":"#VALUE!"}}]
[null,{"$f":"Sprawdz_pesel(Formularz!#REF!)","v":{"$error":"#VALUE!"}}]
[null,{"$f":"Sprawdz_pesel(Formularz!#REF!)","v":{"$error":"#VALUE!"}}]
[null,{"$f":"Sprawdz_pesel(Formularz!#REF!)","v":{"$error":"#VALUE!"}}]
[null,{"$f":"Sprawdz_pesel(Formularz!#REF!)","v":{"$error":"#VALUE!"}}]
[null,{"$f":"Sprawdz_pesel(Formularz!#REF!)","v":{"$error":"#VALUE!"}}]
[null,{"$f":"Sprawdz_pesel(Formularz!#REF!)","v":{"$error":"#VALUE!"}}]
[null,{"$f":"Sprawdz_pesel(Formularz!#REF!)","v":{"$error":"#VALUE!"}}]
[null,{"$f":"Sprawdz_pesel(Formularz!#REF!)","v":{"$error":"#VALUE!"}}]
[null,{"$f":"Sprawdz_pesel(Formularz!#REF!)","v":{"$error":"#VALUE!"}}]
[null,{"$f":"Sprawdz_pesel(Formularz!#REF!)","v":{"$error":"#VALUE!"}}]
[null,{"$f":"Sprawdz_pesel(Formularz!#REF!)","v":{"$error":"#VALUE!"}}]
[null,{"$f":"Sprawdz_pesel(Formularz!#REF!)","v":{"$error":"#VALUE!"}}]
[null,{"$f":"Sprawdz_pesel(Formularz!#REF!)","v":{"$error":"#VALUE!"}}]
[null,{"$f":"Sprawdz_pesel(Formularz!#REF!)","v":{"$error":"#VALUE!"}}]
[null,{"$f":"Sprawdz_pesel(Formularz!#REF!)","v":{"$error":"#VALUE!"}}]
[null,{"$f":"Sprawdz_pesel(Formularz!#REF!)","v":{"$error":"#VALUE!"}}]
[null,{"$f":"Sprawdz_pesel(Formularz!#REF!)","v":{"$error":"#VALUE!"}}]
[null,{"$f":"Sprawdz_pesel(Formularz!#REF!)","v":{"$error":"#VALUE!"}}]
[null,{"$f":"Sprawdz_pesel(Formularz!#REF!)","v":{"$error":"#VALUE!"}}]
[null,{"$f":"Sprawdz_pesel(Formularz!#REF!)","v":{"$error":"#VALUE!"}}]
[null,{"$f":"Sprawdz_pesel(Formularz!#REF!)","v":{"$error":"#VALUE!"}}]
[null,{"$f":"Sprawdz_pesel(Formularz!#REF!)","v":{"$error":"#VALUE!"}}]
[null,{"$f":"Sprawdz_pesel(Formularz!#REF!)","v":{"$error":"#VALUE!"}}]
[null,{"$f":"Sprawdz_pesel(Formularz!#REF!)","v":{"$error":"#VALUE!"}}]
[null,{"$f":"Sprawdz_pesel(Formularz!#REF!)","v":{"$error":"#VALUE!"}}]
[null,{"$f":"Sprawdz_pesel(Formularz!#REF!)","v":{"$error":"#VALUE!"}}]
[null,{"$f":"Sprawdz_pesel(Formularz!#REF!)","v":{"$error":"#VALUE!"}}]
[null,{"$f":"Sprawdz_pesel(Formularz!#REF!)","v":{"$error":"#VALUE!"}}]
[null,{"$f":"Sprawdz_pesel(Formularz!#REF!)","v":{"$error":"#VALUE!"}}]
[null,{"$f":"Sprawdz_pesel(Formularz!#REF!)","v":{"$error":"#VALUE!"}}]
[null,{"$f":"Sprawdz_pesel(Formularz!#REF!)","v":{"$error":"#VALUE!"}}]
[null,{"$f":"Sprawdz_pesel(Formularz!#REF!)","v":{"$error":"#VALUE!"}}]
[null,{"$f":"Sprawdz_pesel(Formularz!#REF!)","v":{"$error":"#VALUE!"}}]
[null,{"$f":"Sprawdz_pesel(Formularz!#REF!)","v":{"$error":"#VALUE!"}}]
[null,{"$f":"Sprawdz_pesel(Formularz!#REF!)","v":{"$error":"#VALUE!"}}]
[null,{"$f":"Sprawdz_pesel(Formularz!#REF!)","v":{"$error":"#VALUE!"}}]
[null,{"$f":"Sprawdz_pesel(Formularz!#REF!)","v":{"$error":"#VALUE!"}}]
[null,{"$f":"Sprawdz_pesel(Formularz!#REF!)","v":{"$error":"#VALUE!"}}]
[null,{"$f":"Sprawdz_pesel(Formularz!#REF!)","v":{"$error":"#VALUE!"}}]
[null,{"$f":"Sprawdz_pesel(Formularz!#REF!)","v":{"$error":"#VALUE!"}}]
[null,{"$f":"Sprawdz_pesel(Formularz!#REF!)","v":{"$error":"#VALUE!"}}]
[null,{"$f":"Sprawdz_pesel(Formularz!#REF!)","v":{"$error":"#VALUE!"}}]
[null,{"$f":"Sprawdz_pesel(Formularz!#REF!)","v":{"$error":"#VALUE!"}}]
[null,{"$f":"Sprawdz_pesel(Formularz!#REF!)","v":{"$error":"#VALUE!"}}]
[null,{"$f":"Sprawdz_pesel(Formularz!#REF!)","v":{"$error":"#VALUE!"}}]
[null,{"$f":"Sprawdz_pesel(Formularz!#REF!)","v":{"$error":"#VALUE!"}}]
[null,{"$f":"Sprawdz_pesel(Formularz!#REF!)","v":{"$error":"#VALUE!"}}]
[null,{"$f":"Sprawdz_pesel(Formularz!#REF!)","v":{"$error":"#VALUE!"}}]
[null,{"$f":"Sprawdz_pesel(Formularz!#REF!)","v":{"$error":"#VALUE!"}}]
[null,{"$f":"Sprawdz_pesel(Formularz!#REF!)","v":{"$error":"#VALUE!"}}]
[null,{"$f":"Sprawdz_pesel(Formularz!#REF!)","v":{"$error":"#VALUE!"}}]
[null,{"$f":"Sprawdz_pesel(Formularz!#REF!)","v":{"$error":"#VALUE!"}}]
[null,{"$f":"Sprawdz_pesel(Formularz!#REF!)","v":{"$error":"#VALUE!"}}]
[null,{"$f":"Sprawdz_pesel(Formularz!#REF!)","v":{"$error":"#VALUE!"}}]
[null,{"$f":"Sprawdz_pesel(Formularz!#REF!)","v":{"$error":"#VALUE!"}}]
[null,{"$f":"Sprawdz_pesel(Formularz!#REF!)","v":{"$error":"#VALUE!"}}]
[null,{"$f":"Sprawdz_pesel(Formularz!#REF!)","v":{"$error":"#VALUE!"}}]
[null,{"$f":"Sprawdz_pesel(Formularz!#REF!)","v":{"$error":"#VALUE!"}}]
[null,{"$f":"Sprawdz_pesel(Formularz!#REF!)","v":{"$error":"#VALUE!"}}]
[null,{"$f":"Sprawdz_pesel(Formularz!#REF!)","v":{"$error":"#VALUE!"}}]
[null,{"$f":"Sprawdz_pesel(Formularz!#REF!)","v":{"$error":"#VALUE!"}}]
[null,{"$f":"Sprawdz_pesel(Formularz!#REF!)","v":{"$error":"#VALUE!"}}]
[null,{"$f":"Sprawdz_pesel(Formularz!#REF!)","v":{"$error":"#VALUE!"}}]
[null,{"$f":"Sprawdz_pesel(Formularz!#REF!)","v":{"$error":"#VALUE!"}}]
[null,{"$f":"Sprawdz_pesel(Formularz!#REF!)","v":{"$error":"#VALUE!"}}]
[null,{"$f":"Sprawdz_pesel(Formularz!#REF!)","v":{"$error":"#VALUE!"}}]
[null,{"$f":"Sprawdz_pesel(Formularz!#REF!)","v":{"$error":"#VALUE!"}}]
[null,{"$f":"Sprawdz_pesel(Formularz!#REF!)","v":{"$error":"#VALUE!"}}]
[null,{"$f":"Sprawdz_pesel(Formularz!#REF!)","v":{"$error":"#VALUE!"}}]
[null,{"$f":"Sprawdz_pesel(Formularz!#REF!)","v":{"$error":"#VALUE!"}}]
[null,{"$f":"Sprawdz_pesel(Formularz!#REF!)","v":{"$error":"#VALUE!"}}]
[null,{"$f":"Sprawdz_pesel(Formularz!#REF!)","v":{"$error":"#VALUE!"}}]
[null,{"$f":"Sprawdz_pesel(Formularz!#REF!)","v":{"$error":"#VALUE!"}}]
[null,{"$f":"Sprawdz_pesel(Formularz!#REF!)","v":{"$error":"#VALUE!"}}]
[null,{"$f":"Sprawdz_pesel(Formularz!#REF!)","v":{"$error":"#VALUE!"}}]
[null,{"$f":"Sprawdz_pesel(Formularz!#REF!)","v":{"$error":"#VALUE!"}}]
[null,{"$f":"Sprawdz_pesel(Formularz!#REF!)","v":{"$error":"#VALUE!"}}]
[null,{"$f":"Sprawdz_pesel(Formularz!#REF!)","v":{"$error":"#VALUE!"}}]
[null,{"$f":"Sprawdz_pesel(Formularz!#REF!)","v":{"$error":"#VALUE!"}}]
[null,{"$f":"Sprawdz_pesel(Formularz!#REF!)","v":{"$error":"#VALUE!"}}]
[null,{"$f":"Sprawdz_pesel(Formularz!#REF!)","v":{"$error":"#VALUE!"}}]
[null,{"$f":"Sprawdz_pesel(Formularz!#REF!)","v":{"$error":"#VALUE!"}}]
[null,{"$f":"Sprawdz_pesel(Formularz!#REF!)","v":{"$error":"#VALUE!"}}]
[null,{"$f":"Sprawdz_pesel(Formularz!#REF!)","v":{"$error":"#VALUE!"}}]
[null,{"$f":"Sprawdz_pesel(Formularz!#REF!)","v":{"$error":"#VALUE!"}}]
[null,{"$f":"Sprawdz_pesel(Formularz!#REF!)","v":{"$error":"#VALUE!"}}]
[null,{"$f":"Sprawdz_pesel(Formularz!#REF!)","v":{"$error":"#VALUE!"}}]
[null,{"$f":"Sprawdz_pesel(Formularz!#REF!)","v":{"$error":"#VALUE!"}}]
[null,{"$f":"Sprawdz_pesel(Formularz!#REF!)","v":{"$error":"#VALUE!"}}]
[null,{"$f":"Sprawdz_pesel(Formularz!#REF!)","v":{"$error":"#VALUE!"}}]
[null,{"$f":"Sprawdz_pesel(Formularz!#REF!)","v":{"$error":"#VALUE!"}}]
[null,{"$f":"Sprawdz_pesel(Formularz!#REF!)","v":{"$error":"#VALUE!"}}]
[null,{"$f":"Sprawdz_pesel(Formularz!#REF!)","v":{"$error":"#VALUE!"}}]
[null,{"$f":"Sprawdz_pesel(Formularz!#REF!)","v":{"$error":"#VALUE!"}}]
[null,{"$f":"Sprawdz_pesel(Formularz!#REF!)","v":{"$error":"#VALUE!"}}]
[null,{"$f":"Sprawdz_pesel(Formularz!#REF!)","v":{"$error":"#VALUE!"}}]
[null,{"$f":"Sprawdz_pesel(Formularz!#REF!)","v":{"$error":"#VALUE!"}}]
[null,{"$f":"Sprawdz_pesel(Formularz!#REF!)","v":{"$error":"#VALUE!"}}]
[null,{"$f":"Sprawdz_pesel(Formularz!#REF!)","v":{"$error":"#VALUE!"}}]
[null,{"$f":"Sprawdz_pesel(Formularz!#REF!)","v":{"$error":"#VALUE!"}}]
[null,{"$f":"Sprawdz_pesel(Formularz!#REF!)","v":{"$error":"#VALUE!"}}]
[null,{"$f":"Sprawdz_pesel(Formularz!#REF!)","v":{"$error":"#VALUE!"}}]
[null,{"$f":"Sprawdz_pesel(Formularz!#REF!)","v":{"$error":"#VALUE!"}}]
[null,{"$f":"Sprawdz_pesel(Formularz!#REF!)","v":{"$error":"#VALUE!"}}]
[null,{"$f":"Sprawdz_pesel(Formularz!#REF!)","v":{"$error":"#VALUE!"}}]
[null,{"$f":"Sprawdz_pesel(Formularz!#REF!)","v":{"$error":"#VALUE!"}}]
[null,{"$f":"Sprawdz_pesel(Formularz!#REF!)","v":{"$error":"#VALUE!"}}]
[null,{"$f":"Sprawdz_pesel(Formularz!#REF!)","v":{"$error":"#VALUE!"}}]
[null,{"$f":"Sprawdz_pesel(Formularz!#REF!)","v":{"$error":"#VALUE!"}}]
[null,{"$f":"Sprawdz_pesel(Formularz!#REF!)","v":{"$error":"#VALUE!"}}]
[null,{"$f":"Sprawdz_pesel(Formularz!#REF!)","v":{"$error":"#VALUE!"}}]
[null,{"$f":"Sprawdz_pesel(Formularz!#REF!)","v":{"$error":"#VALUE!"}}]
[null,{"$f":"Sprawdz_pesel(Formularz!#REF!)","v":{"$error":"#VALUE!"}}]
[null,{"$f":"Sprawdz_pesel(Formularz!#REF!)","v":{"$error":"#VALUE!"}}]
[null,{"$f":"Sprawdz_pesel(Formularz!#REF!)","v":{"$error":"#VALUE!"}}]
[null,{"$f":"Sprawdz_pesel(Formularz!#REF!)","v":{"$error":"#VALUE!"}}]
[null,{"$f":"Sprawdz_pesel(Formularz!#REF!)","v":{"$error":"#VALUE!"}}]
[null,{"$f":"Sprawdz_pesel(Formularz!#REF!)","v":{"$error":"#VALUE!"}}]
[null,{"$f":"Sprawdz_pesel(Formularz!#REF!)","v":{"$error":"#VALUE!"}}]
[null,{"$f":"Sprawdz_pesel(Formularz!#REF!)","v":{"$error":"#VALUE!"}}]
[null,{"$f":"Sprawdz_pesel(Formularz!#REF!)","v":{"$error":"#VALUE!"}}]
[null,{"$f":"Sprawdz_pesel(Formularz!#REF!)","v":{"$error":"#VALUE!"}}]
[null,{"$f":"Sprawdz_pesel(Formularz!#REF!)","v":{"$error":"#VALUE!"}}]
[null,{"$f":"Sprawdz_pesel(Formularz!#REF!)","v":{"$error":"#VALUE!"}}]
[null,{"$f":"Sprawdz_pesel(Formularz!#REF!)","v":{"$error":"#VALUE!"}}]
[null,{"$f":"Sprawdz_pesel(Formularz!#REF!)","v":{"$error":"#VALUE!"}}]
[null,{"$f":"Sprawdz_pesel(Formularz!#REF!)","v":{"$error":"#VALUE!"}}]
[null,{"$f":"Sprawdz_pesel(Formularz!#REF!)","v":{"$error":"#VALUE!"}}]
[null,{"$f":"Sprawdz_pesel(Formularz!#REF!)","v":{"$error":"#VALUE!"}}]
[null,{"$f":"Sprawdz_pesel(Formularz!#REF!)","v":{"$error":"#VALUE!"}}]
[null,{"$f":"Sprawdz_pesel(Formularz!#REF!)","v":{"$error":"#VALUE!"}}]
[null,{"$f":"Sprawdz_pesel(Formularz!#REF!)","v":{"$error":"#VALUE!"}}]
[null,{"$f":"Sprawdz_pesel(Formularz!#REF!)","v":{"$error":"#VALUE!"}}]
[null,{"$f":"Sprawdz_pesel(Formularz!#REF!)","v":{"$error":"#VALUE!"}}]
[null,{"$f":"Sprawdz_pesel(Formularz!#REF!)","v":{"$error":"#VALUE!"}}]
[null,{"$f":"Sprawdz_pesel(Formularz!#REF!)","v":{"$error":"#VALUE!"}}]
[null,{"$f":"Sprawdz_pesel(Formularz!#REF!)","v":{"$error":"#VALUE!"}}]
[null,{"$f":"Sprawdz_pesel(Formularz!#REF!)","v":{"$error":"#VALUE!"}}]
[null,{"$f":"Sprawdz_pesel(Formularz!#REF!)","v":{"$error":"#VALUE!"}}]
[null,{"$f":"Sprawdz_pesel(Formularz!#REF!)","v":{"$error":"#VALUE!"}}]
[null,{"$f":"Sprawdz_pesel(Formularz!#REF!)","v":{"$error":"#VALUE!"}}]
[null,{"$f":"Sprawdz_pesel(Formularz!#REF!)","v":{"$error":"#VALUE!"}}]
[null,{"$f":"Sprawdz_pesel(Formularz!#REF!)","v":{"$error":"#VALUE!"}}]
[null,{"$f":"Sprawdz_pesel(Formularz!#REF!)","v":{"$error":"#VALUE!"}}]
[null,{"$f":"Sprawdz_pesel(Formularz!#REF!)","v":{"$error":"#VALUE!"}}]
[null,{"$f":"Sprawdz_pesel(Formularz!#REF!)","v":{"$error":"#VALUE!"}}]
[null,{"$f":"Sprawdz_pesel(Formularz!#REF!)","v":{"$error":"#VALUE!"}}]
[null,{"$f":"Sprawdz_pesel(Formularz!#REF!)","v":{"$error":"#VALUE!"}}]
[null,{"$f":"Sprawdz_pesel(Formularz!#REF!)","v":{"$error":"#VALUE!"}}]
[null,{"$f":"Sprawdz_pesel(Formularz!#REF!)","v":{"$error":"#VALUE!"}}]
[null,{"$f":"Sprawdz_pesel(Formularz!#REF!)","v":{"$error":"#VALUE!"}}]
[null,{"$f":"Sprawdz_pesel(Formularz!#REF!)","v":{"$error":"#VALUE!"}}]
[null,{"$f":"Sprawdz_pesel(Formularz!#REF!)","v":{"$error":"#VALUE!"}}]
[null,{"$f":"Sprawdz_pesel(Formularz!#REF!)","v":{"$error":"#VALUE!"}}]
[null,{"$f":"Sprawdz_pesel(Formularz!#REF!)","v":{"$error":"#VALUE!"}}]
[null,{"$f":"Sprawdz_pesel(Formularz!#REF!)","v":{"$error":"#VALUE!"}}]
[null,{"$f":"Sprawdz_pesel(Formularz!#REF!)","v":{"$error":"#VALUE!"}}]
[null,{"$f":"Sprawdz_pesel(Formularz!#REF!)","v":{"$error":"#VALUE!"}}]
[null,{"$f":"Sprawdz_pesel(Formularz!#REF!)","v":{"$error":"#VALUE!"}}]
[null,{"$f":"Sprawdz_pesel(Formularz!#REF!)","v":{"$error":"#VALUE!"}}]
[null,{"$f":"Sprawdz_pesel(Formularz!#REF!)","v":{"$error":"#VALUE!"}}]
[null,{"$f":"Sprawdz_pesel(Formularz!#REF!)","v":{"$error":"#VALUE!"}}]
[null,{"$f":"Sprawdz_pesel(Formularz!#REF!)","v":{"$error":"#VALUE!"}}]
[null,{"$f":"Sprawdz_pesel(Formularz!#REF!)","v":{"$error":"#VALUE!"}}]
[null,{"$f":"Sprawdz_pesel(Formularz!#REF!)","v":{"$error":"#VALUE!"}}]
[null,{"$f":"Sprawdz_pesel(Formularz!#REF!)","v":{"$error":"#VALUE!"}}]
[null,{"$f":"Sprawdz_pesel(Formularz!#REF!)","v":{"$error":"#VALUE!"}}]
[null,{"$f":"Sprawdz_pesel(Formularz!#REF!)","v":{"$error":"#VALUE!"}}]
[null,{"$f":"Sprawdz_pesel(Formularz!#REF!)","v":{"$error":"#VALUE!"}}]
[null,{"$f":"Sprawdz_pesel(Formularz!#REF!)","v":{"$error":"#VALUE!"}}]
[null,{"$f":"Sprawdz_pesel(Formularz!#REF!)","v":{"$error":"#VALUE!"}}]
[null,{"$f":"Sprawdz_pesel(Formularz!#REF!)","v":{"$error":"#VALUE!"}}]
[null,{"$f":"Sprawdz_pesel(Formularz!#REF!)","v":{"$error":"#VALUE!"}}]
[null,{"$f":"Sprawdz_pesel(Formularz!#REF!)","v":{"$error":"#VALUE!"}}]
[null,{"$f":"Sprawdz_pesel(Formularz!#REF!)","v":{"$error":"#VALUE!"}}]
[null,{"$f":"Sprawdz_pesel(Formularz!#REF!)","v":{"$error":"#VALUE!"}}]
[null,{"$f":"Sprawdz_pesel(Formularz!#REF!)","v":{"$error":"#VALUE!"}}]
[null,{"$f":"Sprawdz_pesel(Formularz!#REF!)","v":{"$error":"#VALUE!"}}]
[null,{"$f":"Sprawdz_pesel(Formularz!#REF!)","v":{"$error":"#VALUE!"}}]
[null,{"$f":"Sprawdz_pesel(Formularz!#REF!)","v":{"$error":"#VALUE!"}}]
[null,{"$f":"Sprawdz_pesel(Formularz!#REF!)","v":{"$error":"#VALUE!"}}]
[null,{"$f":"Sprawdz_pesel(Formularz!#REF!)","v":{"$error":"#VALUE!"}}]
[null,{"$f":"Sprawdz_pesel(Formularz!#REF!)","v":{"$error":"#VALUE!"}}]
[null,{"$f":"Sprawdz_pesel(Formularz!#REF!)","v":{"$error":"#VALUE!"}}]
[null,{"$f":"Sprawdz_pesel(Formularz!#REF!)","v":{"$error":"#VALUE!"}}]
[null,{"$f":"Sprawdz_pesel(Formularz!#REF!)","v":{"$error":"#VALUE!"}}]
[null,{"$f":"Sprawdz_pesel(Formularz!#REF!)","v":{"$error":"#VALUE!"}}]
[null,{"$f":"Sprawdz_pesel(Formularz!#REF!)","v":{"$error":"#VALUE!"}}]
[null,{"$f":"Sprawdz_pesel(Formularz!#REF!)","v":{"$error":"#VALUE!"}}]
[null,{"$f":"Sprawdz_pesel(Formularz!#REF!)","v":{"$error":"#VALUE!"}}]
[null,{"$f":"Sprawdz_pesel(Formularz!#REF!)","v":{"$error":"#VALUE!"}}]
[null,{"$f":"Sprawdz_pesel(Formularz!#REF!)","v":{"$error":"#VALUE!"}}]
[null,{"$f":"Sprawdz_pesel(Formularz!#REF!)","v":{"$error":"#VALUE!"}}]
[null,{"$f":"Sprawdz_pesel(Formularz!#REF!)","v":{"$error":"#VALUE!"}}]
[null,{"$f":"Sprawdz_pesel(Formularz!#REF!)","v":{"$error":"#VALUE!"}}]
[null,{"$f":"Sprawdz_pesel(Formularz!#REF!)","v":{"$error":"#VALUE!"}}]
[null,{"$f":"Sprawdz_pesel(Formularz!#REF!)","v":{"$error":"#VALUE!"}}]
[null,{"$f":"Sprawdz_pesel(Formularz!#REF!)","v":{"$error":"#VALUE!"}}]
[null,{"$f":"Sprawdz_pesel(Formularz!#REF!)","v":{"$error":"#VALUE!"}}]
[null,{"$f":"Sprawdz_pesel(Formularz!#REF!)","v":{"$error":"#VALUE!"}}]
[null,{"$f":"Sprawdz_pesel(Formularz!#REF!)","v":{"$error":"#VALUE!"}}]
[null,{"$f":"Sprawdz_pesel(Formularz!#REF!)","v":{"$error":"#VALUE!"}}]
[null,{"$f":"Sprawdz_pesel(Formularz!#REF!)","v":{"$error":"#VALUE!"}}]
[null,{"$f":"Sprawdz_pesel(Formularz!#REF!)","v":{"$error":"#VALUE!"}}]
[null,{"$f":"Sprawdz_pesel(Formularz!#REF!)","v":{"$error":"#VALUE!"}}]
[null,{"$f":"Sprawdz_pesel(Formularz!#REF!)","v":{"$error":"#VALUE!"}}]
[null,{"$f":"Sprawdz_pesel(Formularz!#REF!)","v":{"$error":"#VALUE!"}}]
[null,{"$f":"Sprawdz_pesel(Formularz!#REF!)","v":{"$error":"#VALUE!"}}]
[null,{"$f":"Sprawdz_pesel(Formularz!#REF!)","v":{"$error":"#VALUE!"}}]
[null,{"$f":"Sprawdz_pesel(Formularz!#REF!)","v":{"$error":"#VALUE!"}}]
[null,{"$f":"Sprawdz_pesel(Formularz!#REF!)","v":{"$error":"#VALUE!"}}]
[null,{"$f":"Sprawdz_pesel(Formularz!#REF!)","v":{"$error":"#VALUE!"}}]
[null,{"$f":"Sprawdz_pesel(Formularz!#REF!)","v":{"$error":"#VALUE!"}}]
[null,{"$f":"Sprawdz_pesel(Formularz!#REF!)","v":{"$error":"#VALUE!"}}]
[null,{"$f":"Sprawdz_pesel(Formularz!#REF!)","v":{"$error":"#VALUE!"}}]
[null,{"$f":"Sprawdz_pesel(Formularz!#REF!)","v":{"$error":"#VALUE!"}}]
[null,{"$f":"Sprawdz_pesel(Formularz!#REF!)","v":{"$error":"#VALUE!"}}]
[null,{"$f":"Sprawdz_pesel(Formularz!#REF!)","v":{"$error":"#VALUE!"}}]
[null,{"$f":"Sprawdz_pesel(Formularz!#REF!)","v":{"$error":"#VALUE!"}}]
[null,{"$f":"Sprawdz_pesel(Formularz!#REF!)","v":{"$error":"#VALUE!"}}]
[null,{"$f":"Sprawdz_pesel(Formularz!#REF!)","v":{"$error":"#VALUE!"}}]
[null,{"$f":"Sprawdz_pesel(Formularz!#REF!)","v":{"$error":"#VALUE!"}}]
[null,{"$f":"Sprawdz_pesel(Formularz!#REF!)","v":{"$error":"#VALUE!"}}]
[null,{"$f":"Sprawdz_pesel(Formularz!#REF!)","v":{"$error":"#VALUE!"}}]
[null,{"$f":"Sprawdz_pesel(Formularz!#REF!)","v":{"$error":"#VALUE!"}}]
[null,{"$f":"Sprawdz_pesel(Formularz!#REF!)","v":{"$error":"#VALUE!"}}]
[null,{"$f":"Sprawdz_pesel(Formularz!#REF!)","v":{"$error":"#VALUE!"}}]
[null,{"$f":"Sprawdz_pesel(Formularz!#REF!)","v":{"$error":"#VALUE!"}}]
[null,{"$f":"Sprawdz_pesel(Formularz!#REF!)","v":{"$error":"#VALUE!"}}]
[null,{"$f":"Sprawdz_pesel(Formularz!#REF!)","v":{"$error":"#VALUE!"}}]
[null,{"$f":"Sprawdz_pesel(Formularz!#REF!)","v":{"$error":"#VALUE!"}}]
[null,{"$f":"Sprawdz_pesel(Formularz!#REF!)","v":{"$error":"#VALUE!"}}]
[null,{"$f":"Sprawdz_pesel(Formularz!#REF!)","v":{"$error":"#VALUE!"}}]
[null,{"$f":"Sprawdz_pesel(Formularz!#REF!)","v":{"$error":"#VALUE!"}}]
[null,{"$f":"Sprawdz_pesel(Formularz!#REF!)","v":{"$error":"#VALUE!"}}]
[null,{"$f":"Sprawdz_pesel(Formularz!#REF!)","v":{"$error":"#VALUE!"}}]
[null,{"$f":"Sprawdz_pesel(Formularz!#REF!)","v":{"$error":"#VALUE!"}}]
[null,{"$f":"Sprawdz_pesel(Formularz!#REF!)","v":{"$error":"#VALUE!"}}]
[null,{"$f":"Sprawdz_pesel(Formularz!#REF!)","v":{"$error":"#VALUE!"}}]
[null,{"$f":"Sprawdz_pesel(Formularz!#REF!)","v":{"$error":"#VALUE!"}}]
[null,{"$f":"Sprawdz_pesel(Formularz!#REF!)","v":{"$error":"#VALUE!"}}]
[null,{"$f":"Sprawdz_pesel(Formularz!#REF!)","v":{"$error":"#VALUE!"}}]
[null,{"$f":"Sprawdz_pesel(Formularz!#REF!)","v":{"$error":"#VALUE!"}}]
[null,{"$f":"Sprawdz_pesel(Formularz!#REF!)","v":{"$error":"#VALUE!"}}]
[null,{"$f":"Sprawdz_pesel(Formularz!#REF!)","v":{"$error":"#VALUE!"}}]
[null,{"$f":"Sprawdz_pesel(Formularz!#REF!)","v":{"$error":"#VALUE!"}}]
[null,{"$f":"Sprawdz_pesel(Formularz!#REF!)","v":{"$error":"#VALUE!"}}]
[null,{"$f":"Sprawdz_pesel(Formularz!#REF!)","v":{"$error":"#VALUE!"}}]
[null,{"$f":"Sprawdz_pesel(Formularz!#REF!)","v":{"$error":"#VALUE!"}}]
[null,{"$f":"Sprawdz_pesel(Formularz!#REF!)","v":{"$error":"#VALUE!"}}]
[null,{"$f":"Sprawdz_pesel(Formularz!#REF!)","v":{"$error":"#VALUE!"}}]
[null,{"$f":"Sprawdz_pesel(Formularz!#REF!)","v":{"$error":"#VALUE!"}}]
[null,{"$f":"Sprawdz_pesel(Formularz!#REF!)","v":{"$error":"#VALUE!"}}]
[null,{"$f":"Sprawdz_pesel(Formularz!#REF!)","v":{"$error":"#VALUE!"}}]
[null,{"$f":"Sprawdz_pesel(Formularz!#REF!)","v":{"$error":"#VALUE!"}}]
[null,{"$f":"Sprawdz_pesel(Formularz!#REF!)","v":{"$error":"#VALUE!"}}]
[null,{"$f":"Sprawdz_pesel(Formularz!#REF!)","v":{"$error":"#VALUE!"}}]
[null,{"$f":"Sprawdz_pesel(Formularz!#REF!)","v":{"$error":"#VALUE!"}}]
[null,{"$f":"Sprawdz_pesel(Formularz!#REF!)","v":{"$error":"#VALUE!"}}]
[null,{"$f":"Sprawdz_pesel(Formularz!#REF!)","v":{"$error":"#VALUE!"}}]
[null,{"$f":"Sprawdz_pesel(Formularz!#REF!)","v":{"$error":"#VALUE!"}}]
[null,{"$f":"Sprawdz_pesel(Formularz!#REF!)","v":{"$error":"#VALUE!"}}]
[null,{"$f":"Sprawdz_pesel(Formularz!#REF!)","v":{"$error":"#VALUE!"}}]
[null,{"$f":"Sprawdz_pesel(Formularz!#REF!)","v":{"$error":"#VALUE!"}}]
[null,{"$f":"Sprawdz_pesel(Formularz!#REF!)","v":{"$error":"#VALUE!"}}]
[null,{"$f":"Sprawdz_pesel(Formularz!#REF!)","v":{"$error":"#VALUE!"}}]
[null,{"$f":"Sprawdz_pesel(Formularz!#REF!)","v":{"$error":"#VALUE!"}}]
[null,{"$f":"Sprawdz_pesel(Formularz!#REF!)","v":{"$error":"#VALUE!"}}]
[null,{"$f":"Sprawdz_pesel(Formularz!#REF!)","v":{"$error":"#VALUE!"}}]
[null,{"$f":"Sprawdz_pesel(Formularz!#REF!)","v":{"$error":"#VALUE!"}}]
[null,{"$f":"Sprawdz_pesel(Formularz!#REF!)","v":{"$error":"#VALUE!"}}]
[null,{"$f":"Sprawdz_pesel(Formularz!#REF!)","v":{"$error":"#VALUE!"}}]
[null,{"$f":"Sprawdz_pesel(Formularz!#REF!)","v":{"$error":"#VALUE!"}}]
[null,{"$f":"Sprawdz_pesel(Formularz!#REF!)","v":{"$error":"#VALUE!"}}]
[null,{"$f":"Sprawdz_pesel(Formularz!#REF!)","v":{"$error":"#VALUE!"}}]
[null,{"$f":"Sprawdz_pesel(Formularz!#REF!)","v":{"$error":"#VALUE!"}}]
[null,{"$f":"Sprawdz_pesel(Formularz!#REF!)","v":{"$error":"#VALUE!"}}]
[null,{"$f":"Sprawdz_pesel(Formularz!#REF!)","v":{"$error":"#VALUE!"}}]
[null,{"$f":"Sprawdz_pesel(Formularz!#REF!)","v":{"$error":"#VALUE!"}}]
[null,{"$f":"Sprawdz_pesel(Formularz!#REF!)","v":{"$error":"#VALUE!"}}]
[null,{"$f":"Sprawdz_pesel(Formularz!#REF!)","v":{"$error":"#VALUE!"}}]
[null,{"$f":"Sprawdz_pesel(Formularz!#REF!)","v":{"$error":"#VALUE!"}}]
[null,{"$f":"Sprawdz_pesel(Formularz!#REF!)","v":{"$error":"#VALUE!"}}]
[null,{"$f":"Sprawdz_pesel(Formularz!#REF!)","v":{"$error":"#VALUE!"}}]
[null,{"$f":"Sprawdz_pesel(Formularz!#REF!)","v":{"$error":"#VALUE!"}}]
[null,{"$f":"Sprawdz_pesel(Formularz!#REF!)","v":{"$error":"#VALUE!"}}]
[null,{"$f":"Sprawdz_pesel(Formularz!#REF!)","v":{"$error":"#VALUE!"}}]
[null,{"$f":"Sprawdz_pesel(Formularz!#REF!)","v":{"$error":"#VALUE!"}}]
[null,{"$f":"Sprawdz_pesel(Formularz!#REF!)","v":{"$error":"#VALUE!"}}]
[null,{"$f":"Sprawdz_pesel(Formularz!#REF!)","v":{"$error":"#VALUE!"}}]
[null,{"$f":"Sprawdz_pesel(Formularz!#REF!)","v":{"$error":"#VALUE!"}}]
[null,{"$f":"Sprawdz_pesel(Formularz!#REF!)","v":{"$error":"#VALUE!"}}]
[null,{"$f":"Sprawdz_pesel(Formularz!#REF!)","v":{"$error":"#VALUE!"}}]
[null,{"$f":"Sprawdz_pesel(Formularz!#REF!)","v":{"$error":"#VALUE!"}}]
[null,{"$f":"Sprawdz_pesel(Formularz!#REF!)","v":{"$error":"#VALUE!"}}]
[null,{"$f":"Sprawdz_pesel(Formularz!#REF!)","v":{"$error":"#VALUE!"}}]
[null,{"$f":"Sprawdz_pesel(Formularz!#REF!)","v":{"$error":"#VALUE!"}}]
[null,{"$f":"Sprawdz_pesel(Formularz!#REF!)","v":{"$error":"#VALUE!"}}]
[null,{"$f":"Sprawdz_pesel(Formularz!#REF!)","v":{"$error":"#VALUE!"}}]
[null,{"$f":"Sprawdz_pesel(Formularz!#REF!)","v":{"$error":"#VALUE!"}}]
[null,{"$f":"Sprawdz_pesel(Formularz!#REF!)","v":{"$error":"#VALUE!"}}]
[null,{"$f":"Sprawdz_pesel(Formularz!#REF!)","v":{"$error":"#VALUE!"}}]
[null,{"$f":"Sprawdz_pesel(Formularz!#REF!)","v":{"$error":"#VALUE!"}}]
[null,{"$f":"Sprawdz_pesel(Formularz!#REF!)","v":{"$error":"#VALUE!"}}]
[null,{"$f":"Sprawdz_pesel(Formularz!#REF!)","v":{"$error":"#VALUE!"}}]
[null,{"$f":"Sprawdz_pesel(Formularz!#REF!)","v":{"$error":"#VALUE!"}}]
[null,{"$f":"Sprawdz_pesel(Formularz!#REF!)","v":{"$error":"#VALUE!"}}]
[null,{"$f":"Sprawdz_pesel(Formularz!#REF!)","v":{"$error":"#VALUE!"}}]
[null,{"$f":"Sprawdz_pesel(Formularz!#REF!)","v":{"$error":"#VALUE!"}}]
[null,{"$f":"Sprawdz_pesel(Formularz!#REF!)","v":{"$error":"#VALUE!"}}]
[null,{"$f":"Sprawdz_pesel(Formularz!#REF!)","v":{"$error":"#VALUE!"}}]
[null,{"$f":"Sprawdz_pesel(Formularz!#REF!)","v":{"$error":"#VALUE!"}}]
[null,{"$f":"Sprawdz_pesel(Formularz!#REF!)","v":{"$error":"#VALUE!"}}]
[null,{"$f":"Sprawdz_pesel(Formularz!#REF!)","v":{"$error":"#VALUE!"}}]
[null,{"$f":"Sprawdz_pesel(Formularz!#REF!)","v":{"$error":"#VALUE!"}}]
[null,{"$f":"Sprawdz_pesel(Formularz!#REF!)","v":{"$error":"#VALUE!"}}]
[null,{"$f":"Sprawdz_pesel(Formularz!#REF!)","v":{"$error":"#VALUE!"}}]
[null,{"$f":"Sprawdz_pesel(Formularz!#REF!)","v":{"$error":"#VALUE!"}}]
[null,{"$f":"Sprawdz_pesel(Formularz!#REF!)","v":{"$error":"#VALUE!"}}]
[null,{"$f":"Sprawdz_pesel(Formularz!#REF!)","v":{"$error":"#VALUE!"}}]
[null,{"$f":"Sprawdz_pesel(Formularz!#REF!)","v":{"$error":"#VALUE!"}}]
[null,{"$f":"Sprawdz_pesel(Formularz!#REF!)","v":{"$error":"#VALUE!"}}]
[null,{"$f":"Sprawdz_pesel(Formularz!#REF!)","v":{"$error":"#VALUE!"}}]
[null,{"$f":"Sprawdz_pesel(Formularz!#REF!)","v":{"$error":"#VALUE!"}}]
[null,{"$f":"Sprawdz_pesel(Formularz!#REF!)","v":{"$error":"#VALUE!"}}]
[null,{"$f":"Sprawdz_pesel(Formularz!#REF!)","v":{"$error":"#VALUE!"}}]
[null,{"$f":"Sprawdz_pesel(Formularz!#REF!)","v":{"$error":"#VALUE!"}}]
[null,{"$f":"Sprawdz_pesel(Formularz!#REF!)","v":{"$error":"#VALUE!"}}]
[null,{"$f":"Sprawdz_pesel(Formularz!#REF!)","v":{"$error":"#VALUE!"}}]
[null,{"$f":"Sprawdz_pesel(Formularz!#REF!)","v":{"$error":"#VALUE!"}}]
[null,{"$f":"Sprawdz_pesel(Formularz!#REF!)","v":{"$error":"#VALUE!"}}]
[null,{"$f":"Sprawdz_pesel(Formularz!#REF!)","v":{"$error":"#VALUE!"}}]
[null,{"$f":"Sprawdz_pesel(Formularz!#REF!)","v":{"$error":"#VALUE!"}}]
[null,{"$f":"Sprawdz_pesel(Formularz!#REF!)","v":{"$error":"#VALUE!"}}]
[null,{"$f":"Sprawdz_pesel(Formularz!#REF!)","v":{"$error":"#VALUE!"}}]
[null,{"$f":"Sprawdz_pesel(Formularz!#REF!)","v":{"$error":"#VALUE!"}}]
[null,{"$f":"Sprawdz_pesel(Formularz!#REF!)","v":{"$error":"#VALUE!"}}]
[null,{"$f":"Sprawdz_pesel(Formularz!#REF!)","v":{"$error":"#VALUE!"}}]
[null,{"$f":"Sprawdz_pesel(Formularz!#REF!)","v":{"$error":"#VALUE!"}}]
[null,{"$f":"Sprawdz_pesel(Formularz!#REF!)","v":{"$error":"#VALUE!"}}]
[null,{"$f":"Sprawdz_pesel(Formularz!#REF!)","v":{"$error":"#VALUE!"}}]
[null,{"$f":"Sprawdz_pesel(Formularz!#REF!)","v":{"$error":"#VALUE!"}}]
[null,{"$f":"Sprawdz_pesel(Formularz!#REF!)","v":{"$error":"#VALUE!"}}]
[null,{"$f":"Sprawdz_pesel(Formularz!#REF!)","v":{"$error":"#VALUE!"}}]
[null,{"$f":"Sprawdz_pesel(Formularz!#REF!)","v":{"$error":"#VALUE!"}}]
[null,{"$f":"Sprawdz_pesel(Formularz!#REF!)","v":{"$error":"#VALUE!"}}]
[null,{"$f":"Sprawdz_pesel(Formularz!#REF!)","v":{"$error":"#VALUE!"}}]
[null,{"$f":"Sprawdz_pesel(Formularz!#REF!)","v":{"$error":"#VALUE!"}}]
[null,{"$f":"Sprawdz_pesel(Formularz!#REF!)","v":{"$error":"#VALUE!"}}]
[null,{"$f":"Sprawdz_pesel(Formularz!#REF!)","v":{"$error":"#VALUE!"}}]
[null,{"$f":"Sprawdz_pesel(Formularz!#REF!)","v":{"$error":"#VALUE!"}}]
[null,{"$f":"Sprawdz_pesel(Formularz!#REF!)","v":{"$error":"#VALUE!"}}]
[null,{"$f":"Sprawdz_pesel(Formularz!#REF!)","v":{"$error":"#VALUE!"}}]
[null,{"$f":"Sprawdz_pesel(Formularz!#REF!)","v":{"$error":"#VALUE!"}}]
[null,{"$f":"Sprawdz_pesel(Formularz!#REF!)","v":{"$error":"#VALUE!"}}]
[null,{"$f":"Sprawdz_pesel(Formularz!#REF!)","v":{"$error":"#VALUE!"}}]
[null,{"$f":"Sprawdz_pesel(Formularz!#REF!)","v":{"$error":"#VALUE!"}}]
[null,{"$f":"Sprawdz_pesel(Formularz!#REF!)","v":{"$error":"#VALUE!"}}]
[null,{"$f":"Sprawdz_pesel(Formularz!#REF!)","v":{"$error":"#VALUE!"}}]
[null,{"$f":"Sprawdz_pesel(Formularz!#REF!)","v":{"$error":"#VALUE!"}}]
[null,{"$f":"Sprawdz_pesel(Formularz!#REF!)","v":{"$error":"#VALUE!"}}]
[null,{"$f":"Sprawdz_pesel(Formularz!#REF!)","v":{"$error":"#VALUE!"}}]
[null,{"$f":"Sprawdz_pesel(Formularz!#REF!)","v":{"$error":"#VALUE!"}}]
[null,{"$f":"Sprawdz_pesel(Formularz!#REF!)","v":{"$error":"#VALUE!"}}]
[null,{"$f":"Sprawdz_pesel(Formularz!#REF!)","v":{"$error":"#VALUE!"}}]
[null,{"$f":"Sprawdz_pesel(Formularz!#REF!)","v":{"$error":"#VALUE!"}}]
[null,{"$f":"Sprawdz_pesel(Formularz!#REF!)","v":{"$error":"#VALUE!"}}]
[null,{"$f":"Sprawdz_pesel(Formularz!#REF!)","v":{"$error":"#VALUE!"}}]
[null,{"$f":"Sprawdz_pesel(Formularz!#REF!)","v":{"$error":"#VALUE!"}}]
[null,{"$f":"Sprawdz_pesel(Formularz!#REF!)","v":{"$error":"#VALUE!"}}]
[null,{"$f":"Sprawdz_pesel(Formularz!#REF!)","v":{"$error":"#VALUE!"}}]
[null,{"$f":"Sprawdz_pesel(Formularz!#REF!)","v":{"$error":"#VALUE!"}}]
[null,{"$f":"Sprawdz_pesel(Formularz!#REF!)","v":{"$error":"#VALUE!"}}]
[null,{"$f":"Sprawdz_pesel(Formularz!#REF!)","v":{"$error":"#VALUE!"}}]
[null,{"$f":"Sprawdz_pesel(Formularz!#REF!)","v":{"$error":"#VALUE!"}}]
[null,{"$f":"Sprawdz_pesel(Formularz!#REF!)","v":{"$error":"#VALUE!"}}]
[null,{"$f":"Sprawdz_pesel(Formularz!#REF!)","v":{"$error":"#VALUE!"}}]
[null,{"$f":"Sprawdz_pesel(Formularz!#REF!)","v":{"$error":"#VALUE!"}}]
[null,{"$f":"Sprawdz_pesel(Formularz!#REF!)","v":{"$error":"#VALUE!"}}]
[null,{"$f":"Sprawdz_pesel(Formularz!#REF!)","v":{"$error":"#VALUE!"}}]
[null,{"$f":"Sprawdz_pesel(Formularz!#REF!)","v":{"$error":"#VALUE!"}}]
[null,{"$f":"Sprawdz_pesel(Formularz!#REF!)","v":{"$error":"#VALUE!"}}]
[null,{"$f":"Sprawdz_pesel(Formularz!#REF!)","v":{"$error":"#VALUE!"}}]
[null,{"$f":"Sprawdz_pesel(Formularz!#REF!)","v":{"$error":"#VALUE!"}}]
[null,{"$f":"Sprawdz_pesel(Formularz!#REF!)","v":{"$error":"#VALUE!"}}]
[null,{"$f":"Sprawdz_pesel(Formularz!#REF!)","v":{"$error":"#VALUE!"}}]
[null,{"$f":"Sprawdz_pesel(Formularz!#REF!)","v":{"$error":"#VALUE!"}}]
[null,{"$f":"Sprawdz_pesel(Formularz!#REF!)","v":{"$error":"#VALUE!"}}]
[null,{"$f":"Sprawdz_pesel(Formularz!#REF!)","v":{"$error":"#VALUE!"}}]
[null,{"$f":"Sprawdz_pesel(Formularz!#REF!)","v":{"$error":"#VALUE!"}}]
[null,{"$f":"Sprawdz_pesel(Formularz!#REF!)","v":{"$error":"#VALUE!"}}]
[null,{"$f":"Sprawdz_pesel(Formularz!#REF!)","v":{"$error":"#VALUE!"}}]
[null,{"$f":"Sprawdz_pesel(Formularz!#REF!)","v":{"$error":"#VALUE!"}}]
[null,{"$f":"Sprawdz_pesel(Formularz!#REF!)","v":{"$error":"#VALUE!"}}]
[null,{"$f":"Sprawdz_pesel(Formularz!#REF!)","v":{"$error":"#VALUE!"}}]
[null,{"$f":"Sprawdz_pesel(Formularz!#REF!)","v":{"$error":"#VALUE!"}}]
[null,{"$f":"Sprawdz_pesel(Formularz!#REF!)","v":{"$error":"#VALUE!"}}]
[null,{"$f":"Sprawdz_pesel(Formularz!#REF!)","v":{"$error":"#VALUE!"}}]
[null,{"$f":"Sprawdz_pesel(Formularz!#REF!)","v":{"$error":"#VALUE!"}}]
[null,{"$f":"Sprawdz_pesel(Formularz!#REF!)","v":{"$error":"#VALUE!"}}]
[null,{"$f":"Sprawdz_pesel(Formularz!#REF!)","v":{"$error":"#VALUE!"}}]
[null,{"$f":"Sprawdz_pesel(Formularz!#REF!)","v":{"$error":"#VALUE!"}}]
[null,{"$f":"Sprawdz_pesel(Formularz!#REF!)","v":{"$error":"#VALUE!"}}]
[null,{"$f":"Sprawdz_pesel(Formularz!#REF!)","v":{"$error":"#VALUE!"}}]
[null,{"$f":"Sprawdz_pesel(Formularz!#REF!)","v":{"$error":"#VALUE!"}}]
[null,{"$f":"Sprawdz_pesel(Formularz!#REF!)","v":{"$error":"#VALUE!"}}]
[null,{"$f":"Sprawdz_pesel(Formularz!#REF!)","v":{"$error":"#VALUE!"}}]
[null,{"$f":"Sprawdz_pesel(Formularz!#REF!)","v":{"$error":"#VALUE!"}}]
[null,{"$f":"Sprawdz_pesel(Formularz!#REF!)","v":{"$error":"#VALUE!"}}]
[null,{"$f":"Sprawdz_pesel(Formularz!#REF!)","v":{"$error":"#VALUE!"}}]
[null,{"$f":"Sprawdz_pesel(Formularz!#REF!)","v":{"$error":"#VALUE!"}}]
[null,{"$f":"Sprawdz_pesel(Formularz!#REF!)","v":{"$error":"#VALUE!"}}]
[null,{"$f":"Sprawdz_pesel(Formularz!#REF!)","v":{"$error":"#VALUE!"}}]
[null,{"$f":"Sprawdz_pesel(Formularz!#REF!)","v":{"$error":"#VALUE!"}}]
[null,{"$f":"Sprawdz_pesel(Formularz!#REF!)","v":{"$error":"#VALUE!"}}]
[null,{"$f":"Sprawdz_pesel(Formularz!#REF!)","v":{"$error":"#VALUE!"}}]
[null,{"$f":"Sprawdz_pesel(Formularz!#REF!)","v":{"$error":"#VALUE!"}}]
[null,{"$f":"Sprawdz_pesel(Formularz!#REF!)","v":{"$error":"#VALUE!"}}]
[null,{"$f":"Sprawdz_pesel(Formularz!#REF!)","v":{"$error":"#VALUE!"}}]
[null,{"$f":"Sprawdz_pesel(Formularz!#REF!)","v":{"$error":"#VALUE!"}}]
[null,{"$f":"Sprawdz_pesel(Formularz!#REF!)","v":{"$error":"#VALUE!"}}]
[null,{"$f":"Sprawdz_pesel(Formularz!#REF!)","v":{"$error":"#VALUE!"}}]
[null,{"$f":"Sprawdz_pesel(Formularz!#REF!)","v":{"$error":"#VALUE!"}}]
[null,{"$f":"Sprawdz_pesel(Formularz!#REF!)","v":{"$error":"#VALUE!"}}]
[null,{"$f":"Sprawdz_pesel(Formularz!#REF!)","v":{"$error":"#VALUE!"}}]
[null,{"$f":"Sprawdz_pesel(Formularz!#REF!)","v":{"$error":"#VALUE!"}}]
[null,{"$f":"Sprawdz_pesel(Formularz!#REF!)","v":{"$error":"#VALUE!"}}]
[null,{"$f":"Sprawdz_pesel(Formularz!#REF!)","v":{"$error":"#VALUE!"}}]
[null,{"$f":"Sprawdz_pesel(Formularz!#REF!)","v":{"$error":"#VALUE!"}}]
[null,{"$f":"Sprawdz_pesel(Formularz!#REF!)","v":{"$error":"#VALUE!"}}]
[null,{"$f":"Sprawdz_pesel(Formularz!#REF!)","v":{"$error":"#VALUE!"}}]
[null,{"$f":"Sprawdz_pesel(Formularz!#REF!)","v":{"$error":"#VALUE!"}}]
[null,{"$f":"Sprawdz_pesel(Formularz!#REF!)","v":{"$error":"#VALUE!"}}]
[null,{"$f":"Sprawdz_pesel(Formularz!#REF!)","v":{"$error":"#VALUE!"}}]
[null,{"$f":"Sprawdz_pesel(Formularz!#REF!)","v":{"$error":"#VALUE!"}}]
[null,{"$f":"Sprawdz_pesel(Formularz!#REF!)","v":{"$error":"#VALUE!"}}]
[null,{"$f":"Sprawdz_pesel(Formularz!#REF!)","v":{"$error":"#VALUE!"}}]
[null,{"$f":"Sprawdz_pesel(Formularz!#REF!)","v":{"$error":"#VALUE!"}}]
[null,{"$f":"Sprawdz_pesel(Formularz!#REF!)","v":{"$error":"#VALUE!"}}]
[null,{"$f":"Sprawdz_pesel(Formularz!#REF!)","v":{"$error":"#VALUE!"}}]
[null,{"$f":"Sprawdz_pesel(Formularz!#REF!)","v":{"$error":"#VALUE!"}}]
[null,{"$f":"Sprawdz_pesel(Formularz!#REF!)","v":{"$error":"#VALUE!"}}]
[null,{"$f":"Sprawdz_pesel(Formularz!#REF!)","v":{"$error":"#VALUE!"}}]
[null,{"$f":"Sprawdz_pesel(Formularz!#REF!)","v":{"$error":"#VALUE!"}}]
[null,{"$f":"Sprawdz_pesel(Formularz!#REF!)","v":{"$error":"#VALUE!"}}]
[null,{"$f":"Sprawdz_pesel(Formularz!#REF!)","v":{"$error":"#VALUE!"}}]
[null,{"$f":"Sprawdz_pesel(Formularz!#REF!)","v":{"$error":"#VALUE!"}}]
[null,{"$f":"Sprawdz_pesel(Formularz!#REF!)","v":{"$error":"#VALUE!"}}]
[null,{"$f":"Sprawdz_pesel(Formularz!#REF!)","v":{"$error":"#VALUE!"}}]
[null,{"$f":"Sprawdz_pesel(Formularz!#REF!)","v":{"$error":"#VALUE!"}}]
[null,{"$f":"Sprawdz_pesel(Formularz!#REF!)","v":{"$error":"#VALUE!"}}]
[null,{"$f":"Sprawdz_pesel(Formularz!#REF!)","v":{"$error":"#VALUE!"}}]
[null,{"$f":"Sprawdz_pesel(Formularz!#REF!)","v":{"$error":"#VALUE!"}}]
[null,{"$f":"Sprawdz_pesel(Formularz!#REF!)","v":{"$error":"#VALUE!"}}]
[null,{"$f":"Sprawdz_pesel(Formularz!#REF!)","v":{"$error":"#VALUE!"}}]
[null,{"$f":"Sprawdz_pesel(Formularz!#REF!)","v":{"$error":"#VALUE!"}}]
[null,{"$f":"Sprawdz_pesel(Formularz!#REF!)","v":{"$error":"#VALUE!"}}]
[null,{"$f":"Sprawdz_pesel(Formularz!#REF!)","v":{"$error":"#VALUE!"}}]
[null,{"$f":"Sprawdz_pesel(Formularz!#REF!)","v":{"$error":"#VALUE!"}}]
[null,{"$f":"Sprawdz_pesel(Formularz!#REF!)","v":{"$error":"#VALUE!"}}]
[null,{"$f":"Sprawdz_pesel(Formularz!#REF!)","v":{"$error":"#VALUE!"}}]
[null,{"$f":"Sprawdz_pesel(Formularz!#REF!)","v":{"$error":"#VALUE!"}}]
[null,{"$f":"Sprawdz_pesel(Formularz!#REF!)","v":{"$error":"#VALUE!"}}]
[null,{"$f":"Sprawdz_pesel(Formularz!#REF!)","v":{"$error":"#VALUE!"}}]
[null,{"$f":"Sprawdz_pesel(Formularz!#REF!)","v":{"$error":"#VALUE!"}}]
[null,{"$f":"Sprawdz_pesel(Formularz!#REF!)","v":{"$error":"#VALUE!"}}]
[null,{"$f":"Sprawdz_pesel(Formularz!#REF!)","v":{"$error":"#VALUE!"}}]
[null,{"$f":"Sprawdz_pesel(Formularz!#REF!)","v":{"$error":"#VALUE!"}}]
[null,{"$f":"Sprawdz_pesel(Formularz!#REF!)","v":{"$error":"#VALUE!"}}]
[null,{"$f":"Sprawdz_pesel(Formularz!#REF!)","v":{"$error":"#VALUE!"}}]
[null,{"$f":"Sprawdz_pesel(Formularz!#REF!)","v":{"$error":"#VALUE!"}}]
[null,{"$f":"Sprawdz_pesel(Formularz!#REF!)","v":{"$error":"#VALUE!"}}]
[null,{"$f":"Sprawdz_pesel(Formularz!#REF!)","v":{"$error":"#VALUE!"}}]
[null,{"$f":"Sprawdz_pesel(Formularz!#REF!)","v":{"$error":"#VALUE!"}}]
[null,{"$f":"Sprawdz_pesel(Formularz!#REF!)","v":{"$error":"#VALUE!"}}]
[null,{"$f":"Sprawdz_pesel(Formularz!#REF!)","v":{"$error":"#VALUE!"}}]
[null,{"$f":"Sprawdz_pesel(Formularz!#REF!)","v":{"$error":"#VALUE!"}}]
[null,{"$f":"Sprawdz_pesel(Formularz!#REF!)","v":{"$error":"#VALUE!"}}]
[null,{"$f":"Sprawdz_pesel(Formularz!#REF!)","v":{"$error":"#VALUE!"}}]
[null,{"$f":"Sprawdz_pesel(Formularz!#REF!)","v":{"$error":"#VALUE!"}}]
[null,{"$f":"Sprawdz_pesel(Formularz!#REF!)","v":{"$error":"#VALUE!"}}]
[null,{"$f":"Sprawdz_pesel(Formularz!#REF!)","v":{"$error":"#VALUE!"}}]
[null,{"$f":"Sprawdz_pesel(Formularz!#REF!)","v":{"$error":"#VALUE!"}}]
[null,{"$f":"Sprawdz_pesel(Formularz!#REF!)","v":{"$error":"#VALUE!"}}]
[null,{"$f":"Sprawdz_pesel(Formularz!#REF!)","v":{"$error":"#VALUE!"}}]
[null,{"$f":"Sprawdz_pesel(Formularz!#REF!)","v":{"$error":"#VALUE!"}}]
[null,{"$f":"Sprawdz_pesel(Formularz!#REF!)","v":{"$error":"#VALUE!"}}]
[null,{"$f":"Sprawdz_pesel(Formularz!#REF!)","v":{"$error":"#VALUE!"}}]
[null,{"$f":"Sprawdz_pesel(Formularz!#REF!)","v":{"$error":"#VALUE!"}}]
[null,{"$f":"Sprawdz_pesel(Formularz!#REF!)","v":{"$error":"#VALUE!"}}]
[null,{"$f":"Sprawdz_pesel(Formularz!#REF!)","v":{"$error":"#VALUE!"}}]
[null,{"$f":"Sprawdz_pesel(Formularz!#REF!)","v":{"$error":"#VALUE!"}}]
[null,{"$f":"Sprawdz_pesel(Formularz!#REF!)","v":{"$error":"#VALUE!"}}]
[null,{"$f":"Sprawdz_pesel(Formularz!#REF!)","v":{"$error":"#VALUE!"}}]
[null,{"$f":"Sprawdz_pesel(Formularz!#REF!)","v":{"$error":"#VALUE!"}}]
[null,{"$f":"Sprawdz_pesel(Formularz!#REF!)","v":{"$error":"#VALUE!"}}]
[null,{"$f":"Sprawdz_pesel(Formularz!#REF!)","v":{"$error":"#VALUE!"}}]
[null,{"$f":"Sprawdz_pesel(Formularz!#REF!)","v":{"$error":"#VALUE!"}}]
[null,{"$f":"Sprawdz_pesel(Formularz!#REF!)","v":{"$error":"#VALUE!"}}]
[null,{"$f":"Sprawdz_pesel(Formularz!#REF!)","v":{"$error":"#VALUE!"}}]
[null,{"$f":"Sprawdz_pesel(Formularz!#REF!)","v":{"$error":"#VALUE!"}}]
[null,{"$f":"Sprawdz_pesel(Formularz!#REF!)","v":{"$error":"#VALUE!"}}]
[null,{"$f":"Sprawdz_pesel(Formularz!#REF!)","v":{"$error":"#VALUE!"}}]
[null,{"$f":"Sprawdz_pesel(Formularz!#REF!)","v":{"$error":"#VALUE!"}}]
[null,{"$f":"Sprawdz_pesel(Formularz!#REF!)","v":{"$error":"#VALUE!"}}]
[null,{"$f":"Sprawdz_pesel(Formularz!#REF!)","v":{"$error":"#VALUE!"}}]
[null,{"$f":"Sprawdz_pesel(Formularz!#REF!)","v":{"$error":"#VALUE!"}}]
[null,{"$f":"Sprawdz_pesel(Formularz!#REF!)","v":{"$error":"#VALUE!"}}]
[null,{"$f":"Sprawdz_pesel(Formularz!#REF!)","v":{"$error":"#VALUE!"}}]
[null,{"$f":"Sprawdz_pesel(Formularz!#REF!)","v":{"$error":"#VALUE!"}}]
[null,{"$f":"Sprawdz_pesel(Formularz!#REF!)","v":{"$error":"#VALUE!"}}]
[null,{"$f":"Sprawdz_pesel(Formularz!#REF!)","v":{"$error":"#VALUE!"}}]
[null,{"$f":"Sprawdz_pesel(Formularz!#REF!)","v":{"$error":"#VALUE!"}}]
[null,{"$f":"Sprawdz_pesel(Formularz!#REF!)","v":{"$error":"#VALUE!"}}]
[null,{"$f":"Sprawdz_pesel(Formularz!#REF!)","v":{"$error":"#VALUE!"}}]
[null,{"$f":"Sprawdz_pesel(Formularz!#REF!)","v":{"$error":"#VALUE!"}}]
[null,{"$f":"Sprawdz_pesel(Formularz!#REF!)","v":{"$error":"#VALUE!"}}]
[null,{"$f":"Sprawdz_pesel(Formularz!#REF!)","v":{"$error":"#VALUE!"}}]
[null,{"$f":"Sprawdz_pesel(Formularz!#REF!)","v":{"$error":"#VALUE!"}}]
[null,{"$f":"Sprawdz_pesel(Formularz!#REF!)","v":{"$error":"#VALUE!"}}]
[null,{"$f":"Sprawdz_pesel(Formularz!#REF!)","v":{"$error":"#VALUE!"}}]
[null,{"$f":"Sprawdz_pesel(Formularz!#REF!)","v":{"$error":"#VALUE!"}}]
[null,{"$f":"Sprawdz_pesel(Formularz!#REF!)","v":{"$error":"#VALUE!"}}]
[null,{"$f":"Sprawdz_pesel(Formularz!#REF!)","v":{"$error":"#VALUE!"}}]
[null,{"$f":"Sprawdz_pesel(Formularz!#REF!)","v":{"$error":"#VALUE!"}}]
[null,{"$f":"Sprawdz_pesel(Formularz!#REF!)","v":{"$error":"#VALUE!"}}]
[null,{"$f":"Sprawdz_pesel(Formularz!#REF!)","v":{"$error":"#VALUE!"}}]
[null,{"$f":"Sprawdz_pesel(Formularz!#REF!)","v":{"$error":"#VALUE!"}}]
[null,{"$f":"Sprawdz_pesel(Formularz!#REF!)","v":{"$error":"#VALUE!"}}]
[null,{"$f":"Sprawdz_pesel(Formularz!#REF!)","v":{"$error":"#VALUE!"}}]
[null,{"$f":"Sprawdz_pesel(Formularz!#REF!)","v":{"$error":"#VALUE!"}}]
[null,{"$f":"Sprawdz_pesel(Formularz!#REF!)","v":{"$error":"#VALUE!"}}]
[null,{"$f":"Sprawdz_pesel(Formularz!#REF!)","v":{"$error":"#VALUE!"}}]
[null,{"$f":"Sprawdz_pesel(Formularz!#REF!)","v":{"$error":"#VALUE!"}}]
[null,{"$f":"Sprawdz_pesel(Formularz!#REF!)","v":{"$error":"#VALUE!"}}]
[null,{"$f":"Sprawdz_pesel(Formularz!#REF!)","v":{"$error":"#VALUE!"}}]
[null,{"$f":"Sprawdz_pesel(Formularz!#REF!)","v":{"$error":"#VALUE!"}}]
[null,{"$f":"Sprawdz_pesel(Formularz!#REF!)","v":{"$error":"#VALUE!"}}]
[null,{"$f":"Sprawdz_pesel(Formularz!#REF!)","v":{"$error":"#VALUE!"}}]
[null,{"$f":"Sprawdz_pesel(Formularz!#REF!)","v":{"$error":"#VALUE!"}}]
[null,{"$f":"Sprawdz_pesel(Formularz!#REF!)","v":{"$error":"#VALUE!"}}]
[null,{"$f":"Sprawdz_pesel(Formularz!#REF!)","v":{"$error":"#VALUE!"}}]
[null,{"$f":"Sprawdz_pesel(Formularz!#REF!)","v":{"$error":"#VALUE!"}}]
[null,{"$f":"Sprawdz_pesel(Formularz!#REF!)","v":{"$error":"#VALUE!"}}]
[null,{"$f":"Sprawdz_pesel(Formularz!#REF!)","v":{"$error":"#VALUE!"}}]
[null,{"$f":"Sprawdz_pesel(Formularz!#REF!)","v":{"$error":"#VALUE!"}}]
[null,{"$f":"Sprawdz_pesel(Formularz!#REF!)","v":{"$error":"#VALUE!"}}]
[null,{"$f":"Sprawdz_pesel(Formularz!#REF!)","v":{"$error":"#VALUE!"}}]
[null,{"$f":"Sprawdz_pesel(Formularz!#REF!)","v":{"$error":"#VALUE!"}}]
[null,{"$f":"Sprawdz_pesel(Formularz!#REF!)","v":{"$error":"#VALUE!"}}]
[null,{"$f":"Sprawdz_pesel(Formularz!#REF!)","v":{"$error":"#VALUE!"}}]
[null,{"$f":"Sprawdz_pesel(Formularz!#REF!)","v":{"$error":"#VALUE!"}}]
[null,{"$f":"Sprawdz_pesel(Formularz!#REF!)","v":{"$error":"#VALUE!"}}]
[null,{"$f":"Sprawdz_pesel(Formularz!#REF!)","v":{"$error":"#VALUE!"}}]
[null,{"$f":"Sprawdz_pesel(Formularz!#REF!)","v":{"$error":"#VALUE!"}}]
[null,{"$f":"Sprawdz_pesel(Formularz!#REF!)","v":{"$error":"#VALUE!"}}]
[null,{"$f":"Sprawdz_pesel(Formularz!#REF!)","v":{"$error":"#VALUE!"}}]
[null,{"$f":"Sprawdz_pesel(Formularz!#REF!)","v":{"$error":"#VALUE!"}}]
[null,{"$f":"Sprawdz_pesel(Formularz!#REF!)","v":{"$error":"#VALUE!"}}]
[null,{"$f":"Sprawdz_pesel(Formularz!#REF!)","v":{"$error":"#VALUE!"}}]
[null,{"$f":"Sprawdz_pesel(Formularz!#REF!)","v":{"$error":"#VALUE!"}}]
[null,{"$f":"Sprawdz_pesel(Formularz!#REF!)","v":{"$error":"#VALUE!"}}]
[null,{"$f":"Sprawdz_pesel(Formularz!#REF!)","v":{"$error":"#VALUE!"}}]
[null,{"$f":"Sprawdz_pesel(Formularz!#REF!)","v":{"$error":"#VALUE!"}}]
[null,{"$f":"Sprawdz_pesel(Formularz!#REF!)","v":{"$error":"#VALUE!"}}]
[null,{"$f":"Sprawdz_pesel(Formularz!#REF!)","v":{"$error":"#VALUE!"}}]
[null,{"$f":"Sprawdz_pesel(Formularz!#REF!)","v":{"$error":"#VALUE!"}}]
[null,{"$f":"Sprawdz_pesel(Formularz!#REF!)","v":{"$error":"#VALUE!"}}]
[null,{"$f":"Sprawdz_pesel(Formularz!#REF!)","v":{"$error":"#VALUE!"}}]
[null,{"$f":"Sprawdz_pesel(Formularz!#REF!)","v":{"$error":"#VALUE!"}}]
[null,{"$f":"Sprawdz_pesel(Formularz!#REF!)","v":{"$error":"#VALUE!"}}]
[null,{"$f":"Sprawdz_pesel(Formularz!#REF!)","v":{"$error":"#VALUE!"}}]
[null,{"$f":"Sprawdz_pesel(Formularz!#REF!)","v":{"$error":"#VALUE!"}}]
[null,{"$f":"Sprawdz_pesel(Formularz!#REF!)","v":{"$error":"#VALUE!"}}]
[null,{"$f":"Sprawdz_pesel(Formularz!#REF!)","v":{"$error":"#VALUE!"}}]
[null,{"$f":"Sprawdz_pesel(Formularz!#REF!)","v":{"$error":"#VALUE!"}}]
[null,{"$f":"Sprawdz_pesel(Formularz!#REF!)","v":{"$error":"#VALUE!"}}]
[null,{"$f":"Sprawdz_pesel(Formularz!#REF!)","v":{"$error":"#VALUE!"}}]
[null,{"$f":"Sprawdz_pesel(Formularz!#REF!)","v":{"$error":"#VALUE!"}}]
[null,{"$f":"Sprawdz_pesel(Formularz!#REF!)","v":{"$error":"#VALUE!"}}]
[null,{"$f":"Sprawdz_pesel(Formularz!#REF!)","v":{"$error":"#VALUE!"}}]
[null,{"$f":"Sprawdz_pesel(Formularz!#REF!)","v":{"$error":"#VALUE!"}}]
[null,{"$f":"Sprawdz_pesel(Formularz!#REF!)","v":{"$error":"#VALUE!"}}]
[null,{"$f":"Sprawdz_pesel(Formularz!#REF!)","v":{"$error":"#VALUE!"}}]
[null,{"$f":"Sprawdz_pesel(Formularz!#REF!)","v":{"$error":"#VALUE!"}}]
[null,{"$f":"Sprawdz_pesel(Formularz!#REF!)","v":{"$error":"#VALUE!"}}]
[null,{"$f":"Sprawdz_pesel(Formularz!#REF!)","v":{"$error":"#VALUE!"}}]
[null,{"$f":"Sprawdz_pesel(Formularz!#REF!)","v":{"$error":"#VALUE!"}}]
[null,{"$f":"Sprawdz_pesel(Formularz!#REF!)","v":{"$error":"#VALUE!"}}]
[null,{"$f":"Sprawdz_pesel(Formularz!#REF!)","v":{"$error":"#VALUE!"}}]
[null,{"$f":"Sprawdz_pesel(Formularz!#REF!)","v":{"$error":"#VALUE!"}}]
[null,{"$f":"Sprawdz_pesel(Formularz!#REF!)","v":{"$error":"#VALUE!"}}]
[null,{"$f":"Sprawdz_pesel(Formularz!#REF!)","v":{"$error":"#VALUE!"}}]
[null,{"$f":"Sprawdz_pesel(Formularz!#REF!)","v":{"$error":"#VALUE!"}}]
[null,{"$f":"Sprawdz_pesel(Formularz!#REF!)","v":{"$error":"#VALUE!"}}]
[null,{"$f":"Sprawdz_pesel(Formularz!#REF!)","v":{"$error":"#VALUE!"}}]
[null,{"$f":"Sprawdz_pesel(Formularz!#REF!)","v":{"$error":"#VALUE!"}}]
[null,{"$f":"Sprawdz_pesel(Formularz!#REF!)","v":{"$error":"#VALUE!"}}]
[null,{"$f":"Sprawdz_pesel(Formularz!#REF!)","v":{"$error":"#VALUE!"}}]
[null,{"$f":"Sprawdz_pesel(Formularz!#REF!)","v":{"$error":"#VALUE!"}}]
[null,{"$f":"Sprawdz_pesel(Formularz!#REF!)","v":{"$error":"#VALUE!"}}]
[null,{"$f":"Sprawdz_pesel(Formularz!#REF!)","v":{"$error":"#VALUE!"}}]
[null,{"$f":"Sprawdz_pesel(Formularz!#REF!)","v":{"$error":"#VALUE!"}}]
[null,{"$f":"Sprawdz_pesel(Formularz!#REF!)","v":{"$error":"#VALUE!"}}]
[null,{"$f":"Sprawdz_pesel(Formularz!#REF!)","v":{"$error":"#VALUE!"}}]
[null,{"$f":"Sprawdz_pesel(Formularz!#REF!)","v":{"$error":"#VALUE!"}}]
[null,{"$f":"Sprawdz_pesel(Formularz!#REF!)","v":{"$error":"#VALUE!"}}]
[null,{"$f":"Sprawdz_pesel(Formularz!#REF!)","v":{"$error":"#VALUE!"}}]
[null,{"$f":"Sprawdz_pesel(Formularz!#REF!)","v":{"$error":"#VALUE!"}}]
[null,{"$f":"Sprawdz_pesel(Formularz!#REF!)","v":{"$error":"#VALUE!"}}]
[null,{"$f":"Sprawdz_pesel(Formularz!#REF!)","v":{"$error":"#VALUE!"}}]
[null,{"$f":"Sprawdz_pesel(Formularz!#REF!)","v":{"$error":"#VALUE!"}}]
[null,{"$f":"Sprawdz_pesel(Formularz!#REF!)","v":{"$error":"#VALUE!"}}]
[null,{"$f":"Sprawdz_pesel(Formularz!#REF!)","v":{"$error":"#VALUE!"}}]
[null,{"$f":"Sprawdz_pesel(Formularz!#REF!)","v":{"$error":"#VALUE!"}}]
[null,{"$f":"Sprawdz_pesel(Formularz!#REF!)","v":{"$error":"#VALUE!"}}]
[null,{"$f":"Sprawdz_pesel(Formularz!#REF!)","v":{"$error":"#VALUE!"}}]
[null,{"$f":"Sprawdz_pesel(Formularz!#REF!)","v":{"$error":"#VALUE!"}}]
[null,{"$f":"Sprawdz_pesel(Formularz!#REF!)","v":{"$error":"#VALUE!"}}]
[null,{"$f":"Sprawdz_pesel(Formularz!#REF!)","v":{"$error":"#VALUE!"}}]
[null,{"$f":"Sprawdz_pesel(Formularz!#REF!)","v":{"$error":"#VALUE!"}}]
[null,{"$f":"Sprawdz_pesel(Formularz!#REF!)","v":{"$error":"#VALUE!"}}]
[null,{"$f":"Sprawdz_pesel(Formularz!#REF!)","v":{"$error":"#VALUE!"}}]
[null,{"$f":"Sprawdz_pesel(Formularz!#REF!)","v":{"$error":"#VALUE!"}}]
[null,{"$f":"Sprawdz_pesel(Formularz!#REF!)","v":{"$error":"#VALUE!"}}]
[null,{"$f":"Sprawdz_pesel(Formularz!#REF!)","v":{"$error":"#VALUE!"}}]
[null,{"$f":"Sprawdz_pesel(Formularz!#REF!)","v":{"$error":"#VALUE!"}}]
[null,{"$f":"Sprawdz_pesel(Formularz!#REF!)","v":{"$error":"#VALUE!"}}]
[null,{"$f":"Sprawdz_pesel(Formularz!#REF!)","v":{"$error":"#VALUE!"}}]
[null,{"$f":"Sprawdz_pesel(Formularz!#REF!)","v":{"$error":"#VALUE!"}}]
[null,{"$f":"Sprawdz_pesel(Formularz!#REF!)","v":{"$error":"#VALUE!"}}]
[null,{"$f":"Sprawdz_pesel(Formularz!#REF!)","v":{"$error":"#VALUE!"}}]
[null,{"$f":"Sprawdz_pesel(Formularz!#REF!)","v":{"$error":"#VALUE!"}}]
[null,{"$f":"Sprawdz_pesel(Formularz!#REF!)","v":{"$error":"#VALUE!"}}]
[null,{"$f":"Sprawdz_pesel(Formularz!#REF!)","v":{"$error":"#VALUE!"}}]
[null,{"$f":"Sprawdz_pesel(Formularz!#REF!)","v":{"$error":"#VALUE!"}}]
[null,{"$f":"Sprawdz_pesel(Formularz!#REF!)","v":{"$error":"#VALUE!"}}]
[null,{"$f":"Sprawdz_pesel(Formularz!#REF!)","v":{"$error":"#VALUE!"}}]
[null,{"$f":"Sprawdz_pesel(Formularz!#REF!)","v":{"$error":"#VALUE!"}}]
[null,{"$f":"Sprawdz_pesel(Formularz!#REF!)","v":{"$error":"#VALUE!"}}]
[null,{"$f":"Sprawdz_pesel(Formularz!#REF!)","v":{"$error":"#VALUE!"}}]
[null,{"$f":"Sprawdz_pesel(Formularz!#REF!)","v":{"$error":"#VALUE!"}}]
[null,{"$f":"Sprawdz_pesel(Formularz!#REF!)","v":{"$error":"#VALUE!"}}]
[null,{"$f":"Sprawdz_pesel(Formularz!#REF!)","v":{"$error":"#VALUE!"}}]
[null,{"$f":"Sprawdz_pesel(Formularz!#REF!)","v":{"$error":"#VALUE!"}}]
[null,{"$f":"Sprawdz_pesel(Formularz!#REF!)","v":{"$error":"#VALUE!"}}]
[null,{"$f":"Sprawdz_pesel(Formularz!#REF!)","v":{"$error":"#VALUE!"}}]
[null,{"$f":"Sprawdz_pesel(Formularz!#REF!)","v":{"$error":"#VALUE!"}}]
[null,{"$f":"Sprawdz_pesel(Formularz!#REF!)","v":{"$error":"#VALUE!"}}]
[null,{"$f":"Sprawdz_pesel(Formularz!#REF!)","v":{"$error":"#VALUE!"}}]
[null,{"$f":"Sprawdz_pesel(Formularz!#REF!)","v":{"$error":"#VALUE!"}}]
[null,{"$f":"Sprawdz_pesel(Formularz!#REF!)","v":{"$error":"#VALUE!"}}]
[null,{"$f":"Sprawdz_pesel(Formularz!#REF!)","v":{"$error":"#VALUE!"}}]
[null,{"$f":"Sprawdz_pesel(Formularz!#REF!)","v":{"$error":"#VALUE!"}}]
[null,{"$f":"Sprawdz_pesel(Formularz!#REF!)","v":{"$error":"#VALUE!"}}]
[null,{"$f":"Sprawdz_pesel(Formularz!#REF!)","v":{"$error":"#VALUE!"}}]
[null,{"$f":"Sprawdz_pesel(Formularz!#REF!)","v":{"$error":"#VALUE!"}}]
[null,{"$f":"Sprawdz_pesel(Formularz!#REF!)","v":{"$error":"#VALUE!"}}]
[null,{"$f":"Sprawdz_pesel(Formularz!#REF!)","v":{"$error":"#VALUE!"}}]
[null,{"$f":"Sprawdz_pesel(Formularz!#REF!)","v":{"$error":"#VALUE!"}}]
[null,{"$f":"Sprawdz_pesel(Formularz!#REF!)","v":{"$error":"#VALUE!"}}]
[null,{"$f":"Sprawdz_pesel(Formularz!#REF!)","v":{"$error":"#VALUE!"}}]
[null,{"$f":"Sprawdz_pesel(Formularz!#REF!)","v":{"$error":"#VALUE!"}}]
[null,{"$f":"Sprawdz_pesel(Formularz!#REF!)","v":{"$error":"#VALUE!"}}]
[null,{"$f":"Sprawdz_pesel(Formularz!#REF!)","v":{"$error":"#VALUE!"}}]
[null,{"$f":"Sprawdz_pesel(Formularz!#REF!)","v":{"$error":"#VALUE!"}}]
[null,{"$f":"Sprawdz_pesel(Formularz!#REF!)","v":{"$error":"#VALUE!"}}]
[null,{"$f":"Sprawdz_pesel(Formularz!#REF!)","v":{"$error":"#VALUE!"}}]
[null,{"$f":"Sprawdz_pesel(Formularz!#REF!)","v":{"$error":"#VALUE!"}}]
[null,{"$f":"Sprawdz_pesel(Formularz!#REF!)","v":{"$error":"#VALUE!"}}]
[null,{"$f":"Sprawdz_pesel(Formularz!#REF!)","v":{"$error":"#VALUE!"}}]
[null,{"$f":"Sprawdz_pesel(Formularz!#REF!)","v":{"$error":"#VALUE!"}}]
[null,{"$f":"Sprawdz_pesel(Formularz!#REF!)","v":{"$error":"#VALUE!"}}]
[null,{"$f":"Sprawdz_pesel(Formularz!#REF!)","v":{"$error":"#VALUE!"}}]
[null,{"$f":"Sprawdz_pesel(Formularz!#REF!)","v":{"$error":"#VALUE!"}}]
[null,{"$f":"Sprawdz_pesel(Formularz!#REF!)","v":{"$error":"#VALUE!"}}]
[null,{"$f":"Sprawdz_pesel(Formularz!#REF!)","v":{"$error":"#VALUE!"}}]
[null,{"$f":"Sprawdz_pesel(Formularz!#REF!)","v":{"$error":"#VALUE!"}}]
[null,{"$f":"Sprawdz_pesel(Formularz!#REF!)","v":{"$error":"#VALUE!"}}]
[null,{"$f":"Sprawdz_pesel(Formularz!#REF!)","v":{"$error":"#VALUE!"}}]
[null,{"$f":"Sprawdz_pesel(Formularz!#REF!)","v":{"$error":"#VALUE!"}}]
[null,{"$f":"Sprawdz_pesel(Formularz!#REF!)","v":{"$error":"#VALUE!"}}]
[null,{"$f":"Sprawdz_pesel(Formularz!#REF!)","v":{"$error":"#VALUE!"}}]
[null,{"$f":"Sprawdz_pesel(Formularz!#REF!)","v":{"$error":"#VALUE!"}}]
[null,{"$f":"Sprawdz_pesel(Formularz!#REF!)","v":{"$error":"#VALUE!"}}]
[null,{"$f":"Sprawdz_pesel(Formularz!#REF!)","v":{"$error":"#VALUE!"}}]
[null,{"$f":"Sprawdz_pesel(Formularz!#REF!)","v":{"$error":"#VALUE!"}}]
[null,{"$f":"Sprawdz_pesel(Formularz!#REF!)","v":{"$error":"#VALUE!"}}]
[null,{"$f":"Sprawdz_pesel(Formularz!#REF!)","v":{"$error":"#VALUE!"}}]
[null,{"$f":"Sprawdz_pesel(Formularz!#REF!)","v":{"$error":"#VALUE!"}}]
[null,{"$f":"Sprawdz_pesel(Formularz!#REF!)","v":{"$error":"#VALUE!"}}]
[null,{"$f":"Sprawdz_pesel(Formularz!#REF!)","v":{"$error":"#VALUE!"}}]
[null,{"$f":"Sprawdz_pesel(Formularz!#REF!)","v":{"$error":"#VALUE!"}}]
[null,{"$f":"Sprawdz_pesel(Formularz!#REF!)","v":{"$error":"#VALUE!"}}]
[null,{"$f":"Sprawdz_pesel(Formularz!#REF!)","v":{"$error":"#VALUE!"}}]
[null,{"$f":"Sprawdz_pesel(Formularz!#REF!)","v":{"$error":"#VALUE!"}}]
[null,{"$f":"Sprawdz_pesel(Formularz!#REF!)","v":{"$error":"#VALUE!"}}]
[null,{"$f":"Sprawdz_pesel(Formularz!#REF!)","v":{"$error":"#VALUE!"}}]
[null,{"$f":"Sprawdz_pesel(Formularz!#REF!)","v":{"$error":"#VALUE!"}}]
[null,{"$f":"Sprawdz_pesel(Formularz!#REF!)","v":{"$error":"#VALUE!"}}]
[null,{"$f":"Sprawdz_pesel(Formularz!#REF!)","v":{"$error":"#VALUE!"}}]
[null,{"$f":"Sprawdz_pesel(Formularz!#REF!)","v":{"$error":"#VALUE!"}}]
[null,{"$f":"Sprawdz_pesel(Formularz!#REF!)","v":{"$error":"#VALUE!"}}]
[null,{"$f":"Sprawdz_pesel(Formularz!#REF!)","v":{"$error":"#VALUE!"}}]
[null,{"$f":"Sprawdz_pesel(Formularz!#REF!)","v":{"$error":"#VALUE!"}}]
[null,{"$f":"Sprawdz_pesel(Formularz!#REF!)","v":{"$error":"#VALUE!"}}]
[null,{"$f":"Sprawdz_pesel(Formularz!#REF!)","v":{"$error":"#VALUE!"}}]
[null,{"$f":"Sprawdz_pesel(Formularz!#REF!)","v":{"$error":"#VALUE!"}}]
[null,{"$f":"Sprawdz_pesel(Formularz!#REF!)","v":{"$error":"#VALUE!"}}]
[null,{"$f":"Sprawdz_pesel(Formularz!#REF!)","v":{"$error":"#VALUE!"}}]
[null,{"$f":"Sprawdz_pesel(Formularz!#REF!)","v":{"$error":"#VALUE!"}}]
[null,{"$f":"Sprawdz_pesel(Formularz!#REF!)","v":{"$error":"#VALUE!"}}]
[null,{"$f":"Sprawdz_pesel(Formularz!#REF!)","v":{"$error":"#VALUE!"}}]
[null,{"$f":"Sprawdz_pesel(Formularz!#REF!)","v":{"$error":"#VALUE!"}}]
[null,{"$f":"Sprawdz_pesel(Formularz!#REF!)","v":{"$error":"#VALUE!"}}]
[null,{"$f":"Sprawdz_pesel(Formularz!#REF!)","v":{"$error":"#VALUE!"}}]
[null,{"$f":"Sprawdz_pesel(Formularz!#REF!)","v":{"$error":"#VALUE!"}}]
[null,{"$f":"Sprawdz_pesel(Formularz!#REF!)","v":{"$error":"#VALUE!"}}]
[null,{"$f":"Sprawdz_pesel(Formularz!#REF!)","v":{"$error":"#VALUE!"}}]
[null,{"$f":"Sprawdz_pesel(Formularz!#REF!)","v":{"$error":"#VALUE!"}}]
[null,{"$f":"Sprawdz_pesel(Formularz!#REF!)","v":{"$error":"#VALUE!"}}]
[null,{"$f":"Sprawdz_pesel(Formularz!#REF!)","v":{"$error":"#VALUE!"}}]
[null,{"$f":"Sprawdz_pesel(Formularz!#REF!)","v":{"$error":"#VALUE!"}}]
[null,{"$f":"Sprawdz_pesel(Formularz!#REF!)","v":{"$error":"#VALUE!"}}]
[null,{"$f":"Sprawdz_pesel(Formularz!#REF!)","v":{"$error":"#VALUE!"}}]
[null,{"$f":"Sprawdz_pesel(Formularz!#REF!)","v":{"$error":"#VALUE!"}}]
[null,{"$f":"Sprawdz_pesel(Formularz!#REF!)","v":{"$error":"#VALUE!"}}]
[null,{"$f":"Sprawdz_pesel(Formularz!#REF!)","v":{"$error":"#VALUE!"}}]
[null,{"$f":"Sprawdz_pesel(Formularz!#REF!)","v":{"$error":"#VALUE!"}}]
[null,{"$f":"Sprawdz_pesel(Formularz!#REF!)","v":{"$error":"#VALUE!"}}]
[null,{"$f":"Sprawdz_pesel(Formularz!#REF!)","v":{"$error":"#VALUE!"}}]
[null,{"$f":"Sprawdz_pesel(Formularz!#REF!)","v":{"$error":"#VALUE!"}}]
[null,{"$f":"Sprawdz_pesel(Formularz!#REF!)","v":{"$error":"#VALUE!"}}]
[null,{"$f":"Sprawdz_pesel(Formularz!#REF!)","v":{"$error":"#VALUE!"}}]
[null,{"$f":"Sprawdz_pesel(Formularz!#REF!)","v":{"$error":"#VALUE!"}}]
[null,{"$f":"Sprawdz_pesel(Formularz!#REF!)","v":{"$error":"#VALUE!"}}]
[null,{"$f":"Sprawdz_pesel(Formularz!#REF!)","v":{"$error":"#VALUE!"}}]
[null,{"$f":"Sprawdz_pesel(Formularz!#REF!)","v":{"$error":"#VALUE!"}}]
[null,{"$f":"Sprawdz_pesel(Formularz!#REF!)","v":{"$error":"#VALUE!"}}]
[null,{"$f":"Sprawdz_pesel(Formularz!#REF!)","v":{"$error":"#VALUE!"}}]
[null,{"$f":"Sprawdz_pesel(Formularz!#REF!)","v":{"$error":"#VALUE!"}}]
[null,{"$f":"Sprawdz_pesel(Formularz!#REF!)","v":{"$error":"#VALUE!"}}]
[null,{"$f":"Sprawdz_pesel(Formularz!#REF!)","v":{"$error":"#VALUE!"}}]
[null,{"$f":"Sprawdz_pesel(Formularz!#REF!)","v":{"$error":"#VALUE!"}}]
[null,{"$f":"Sprawdz_pesel(Formularz!#REF!)","v":{"$error":"#VALUE!"}}]
[null,{"$f":"Sprawdz_pesel(Formularz!#REF!)","v":{"$error":"#VALUE!"}}]
[null,{"$f":"Sprawdz_pesel(Formularz!#REF!)","v":{"$error":"#VALUE!"}}]
[null,{"$f":"Sprawdz_pesel(Formularz!#REF!)","v":{"$error":"#VALUE!"}}]
[null,{"$f":"Sprawdz_pesel(Formularz!#REF!)","v":{"$error":"#VALUE!"}}]
[null,{"$f":"Sprawdz_pesel(Formularz!#REF!)","v":{"$error":"#VALUE!"}}]
[null,{"$f":"Sprawdz_pesel(Formularz!#REF!)","v":{"$error":"#VALUE!"}}]
[null,{"$f":"Sprawdz_pesel(Formularz!#REF!)","v":{"$error":"#VALUE!"}}]
[null,{"$f":"Sprawdz_pesel(Formularz!#REF!)","v":{"$error":"#VALUE!"}}]
[null,{"$f":"Sprawdz_pesel(Formularz!#REF!)","v":{"$error":"#VALUE!"}}]
[null,{"$f":"Sprawdz_pesel(Formularz!#REF!)","v":{"$error":"#VALUE!"}}]
[null,{"$f":"Sprawdz_pesel(Formularz!#REF!)","v":{"$error":"#VALUE!"}}]
[null,{"$f":"Sprawdz_pesel(Formularz!#REF!)","v":{"$error":"#VALUE!"}}]
[null,{"$f":"Sprawdz_pesel(Formularz!#REF!)","v":{"$error":"#VALUE!"}}]
[null,{"$f":"Sprawdz_pesel(Formularz!#REF!)","v":{"$error":"#VALUE!"}}]
[null,{"$f":"Sprawdz_pesel(Formularz!#REF!)","v":{"$error":"#VALUE!"}}]
[null,{"$f":"Sprawdz_pesel(Formularz!#REF!)","v":{"$error":"#VALUE!"}}]
[null,{"$f":"Sprawdz_pesel(Formularz!#REF!)","v":{"$error":"#VALUE!"}}]
[null,{"$f":"Sprawdz_pesel(Formularz!#REF!)","v":{"$error":"#VALUE!"}}]
[null,{"$f":"Sprawdz_pesel(Formularz!#REF!)","v":{"$error":"#VALUE!"}}]
[null,{"$f":"Sprawdz_pesel(Formularz!#REF!)","v":{"$error":"#VALUE!"}}]
[null,{"$f":"Sprawdz_pesel(Formularz!#REF!)","v":{"$error":"#VALUE!"}}]
[null,{"$f":"Sprawdz_pesel(Formularz!#REF!)","v":{"$error":"#VALUE!"}}]
[null,{"$f":"Sprawdz_pesel(Formularz!#REF!)","v":{"$error":"#VALUE!"}}]
[null,{"$f":"Sprawdz_pesel(Formularz!#REF!)","v":{"$error":"#VALUE!"}}]
[null,{"$f":"Sprawdz_pesel(Formularz!#REF!)","v":{"$error":"#VALUE!"}}]
[null,{"$f":"Sprawdz_pesel(Formularz!#REF!)","v":{"$error":"#VALUE!"}}]
[null,{"$f":"Sprawdz_pesel(Formularz!#REF!)","v":{"$error":"#VALUE!"}}]
[null,{"$f":"Sprawdz_pesel(Formularz!#REF!)","v":{"$error":"#VALUE!"}}]
[null,{"$f":"Sprawdz_pesel(Formularz!#REF!)","v":{"$error":"#VALUE!"}}]
[null,{"$f":"Sprawdz_pesel(Formularz!#REF!)","v":{"$error":"#VALUE!"}}]
[null,{"$f":"Sprawdz_pesel(Formularz!#REF!)","v":{"$error":"#VALUE!"}}]
[null,{"$f":"Sprawdz_pesel(Formularz!#REF!)","v":{"$error":"#VALUE!"}}]
[null,{"$f":"Sprawdz_pesel(Formularz!#REF!)","v":{"$error":"#VALUE!"}}]
[null,{"$f":"Sprawdz_pesel(Formularz!#REF!)","v":{"$error":"#VALUE!"}}]
[null,{"$f":"Sprawdz_pesel(Formularz!#REF!)","v":{"$error":"#VALUE!"}}]
[null,{"$f":"Sprawdz_pesel(Formularz!#REF!)","v":{"$error":"#VALUE!"}}]
[null,{"$f":"Sprawdz_pesel(Formularz!#REF!)","v":{"$error":"#VALUE!"}}]
[null,{"$f":"Sprawdz_pesel(Formularz!#REF!)","v":{"$error":"#VALUE!"}}]
[null,{"$f":"Sprawdz_pesel(Formularz!#REF!)","v":{"$error":"#VALUE!"}}]
[null,{"$f":"Sprawdz_pesel(Formularz!#REF!)","v":{"$error":"#VALUE!"}}]
[null,{"$f":"Sprawdz_pesel(Formularz!#REF!)","v":{"$error":"#VALUE!"}}]
[null,{"$f":"Sprawdz_pesel(Formularz!#REF!)","v":{"$error":"#VALUE!"}}]
[null,{"$f":"Sprawdz_pesel(Formularz!#REF!)","v":{"$error":"#VALUE!"}}]
[null,{"$f":"Sprawdz_pesel(Formularz!#REF!)","v":{"$error":"#VALUE!"}}]
[null,{"$f":"Sprawdz_pesel(Formularz!#REF!)","v":{"$error":"#VALUE!"}}]
[null,{"$f":"Sprawdz_pesel(Formularz!#REF!)","v":{"$error":"#VALUE!"}}]
[null,{"$f":"Sprawdz_pesel(Formularz!#REF!)","v":{"$error":"#VALUE!"}}]
[null,{"$f":"Sprawdz_pesel(Formularz!#REF!)","v":{"$error":"#VALUE!"}}]
[null,{"$f":"Sprawdz_pesel(Formularz!#REF!)","v":{"$error":"#VALUE!"}}]
[null,{"$f":"Sprawdz_pesel(Formularz!#REF!)","v":{"$error":"#VALUE!"}}]
[null,{"$f":"Sprawdz_pesel(Formularz!#REF!)","v":{"$error":"#VALUE!"}}]
[null,{"$f":"Sprawdz_pesel(Formularz!#REF!)","v":{"$error":"#VALUE!"}}]
[null,{"$f":"Sprawdz_pesel(Formularz!#REF!)","v":{"$error":"#VALUE!"}}]
[null,{"$f":"Sprawdz_pesel(Formularz!#REF!)","v":{"$error":"#VALUE!"}}]
[null,{"$f":"Sprawdz_pesel(Formularz!#REF!)","v":{"$error":"#VALUE!"}}]
[null,{"$f":"Sprawdz_pesel(Formularz!#REF!)","v":{"$error":"#VALUE!"}}]
[null,{"$f":"Sprawdz_pesel(Formularz!#REF!)","v":{"$error":"#VALUE!"}}]
[null,{"$f":"Sprawdz_pesel(Formularz!#REF!)","v":{"$error":"#VALUE!"}}]
[null,{"$f":"Sprawdz_pesel(Formularz!#REF!)","v":{"$error":"#VALUE!"}}]
[null,{"$f":"Sprawdz_pesel(Formularz!#REF!)","v":{"$error":"#VALUE!"}}]
[null,{"$f":"Sprawdz_pesel(Formularz!#REF!)","v":{"$error":"#VALUE!"}}]
[null,{"$f":"Sprawdz_pesel(Formularz!#REF!)","v":{"$error":"#VALUE!"}}]
[null,{"$f":"Sprawdz_pesel(Formularz!#REF!)","v":{"$error":"#VALUE!"}}]
[null,{"$f":"Sprawdz_pesel(Formularz!#REF!)","v":{"$error":"#VALUE!"}}]
[null,{"$f":"Sprawdz_pesel(Formularz!#REF!)","v":{"$error":"#VALUE!"}}]
[null,{"$f":"Sprawdz_pesel(Formularz!#REF!)","v":{"$error":"#VALUE!"}}]
[null,{"$f":"Sprawdz_pesel(Formularz!#REF!)","v":{"$error":"#VALUE!"}}]
[null,{"$f":"Sprawdz_pesel(Formularz!#REF!)","v":{"$error":"#VALUE!"}}]
[null,{"$f":"Sprawdz_pesel(Formularz!#REF!)","v":{"$error":"#VALUE!"}}]
[null,{"$f":"Sprawdz_pesel(Formularz!#REF!)","v":{"$error":"#VALUE!"}}]
[null,{"$f":"Sprawdz_pesel(Formularz!#REF!)","v":{"$error":"#VALUE!"}}]
[null,{"$f":"Sprawdz_pesel(Formularz!#REF!)","v":{"$error":"#VALUE!"}}]
[null,{"$f":"Sprawdz_pesel(Formularz!#REF!)","v":{"$error":"#VALUE!"}}]
[null,{"$f":"Sprawdz_pesel(Formularz!#REF!)","v":{"$error":"#VALUE!"}}]
[null,{"$f":"Sprawdz_pesel(Formularz!#REF!)","v":{"$error":"#VALUE!"}}]
[null,{"$f":"Sprawdz_pesel(Formularz!#REF!)","v":{"$error":"#VALUE!"}}]
[null,{"$f":"Sprawdz_pesel(Formularz!#REF!)","v":{"$error":"#VALUE!"}}]
[null,{"$f":"Sprawdz_pesel(Formularz!#REF!)","v":{"$error":"#VALUE!"}}]
[null,{"$f":"Sprawdz_pesel(Formularz!#REF!)","v":{"$error":"#VALUE!"}}]
[null,{"$f":"Sprawdz_pesel(Formularz!#REF!)","v":{"$error":"#VALUE!"}}]
[null,{"$f":"Sprawdz_pesel(Formularz!#REF!)","v":{"$error":"#VALUE!"}}]
[null,{"$f":"Sprawdz_pesel(Formularz!#REF!)","v":{"$error":"#VALUE!"}}]
[null,{"$f":"Sprawdz_pesel(Formularz!#REF!)","v":{"$error":"#VALUE!"}}]
[null,{"$f":"Sprawdz_pesel(Formularz!#REF!)","v":{"$error":"#VALUE!"}}]
[null,{"$f":"Sprawdz_pesel(Formularz!#REF!)","v":{"$error":"#VALUE!"}}]
[null,{"$f":"Sprawdz_pesel(Formularz!#REF!)","v":{"$error":"#VALUE!"}}]
[null,{"$f":"Sprawdz_pesel(Formularz!#REF!)","v":{"$error":"#VALUE!"}}]
[null,{"$f":"Sprawdz_pesel(Formularz!#REF!)","v":{"$error":"#VALUE!"}}]
[null,{"$f":"Sprawdz_pesel(Formularz!#REF!)","v":{"$error":"#VALUE!"}}]
[null,{"$f":"Sprawdz_pesel(Formularz!#REF!)","v":{"$error":"#VALUE!"}}]
[null,{"$f":"Sprawdz_pesel(Formularz!#REF!)","v":{"$error":"#VALUE!"}}]
[null,{"$f":"Sprawdz_pesel(Formularz!#REF!)","v":{"$error":"#VALUE!"}}]
[null,{"$f":"Sprawdz_pesel(Formularz!#REF!)","v":{"$error":"#VALUE!"}}]
[null,{"$f":"Sprawdz_pesel(Formularz!#REF!)","v":{"$error":"#VALUE!"}}]
[null,{"$f":"Sprawdz_pesel(Formularz!#REF!)","v":{"$error":"#VALUE!"}}]
[null,{"$f":"Sprawdz_pesel(Formularz!#REF!)","v":{"$error":"#VALUE!"}}]
[null,{"$f":"Sprawdz_pesel(Formularz!#REF!)","v":{"$error":"#VALUE!"}}]
[null,{"$f":"Sprawdz_pesel(Formularz!#REF!)","v":{"$error":"#VALUE!"}}]
[null,{"$f":"Sprawdz_pesel(Formularz!#REF!)","v":{"$error":"#VALUE!"}}]
[null,{"$f":"Sprawdz_pesel(Formularz!#REF!)","v":{"$error":"#VALUE!"}}]
[null,{"$f":"Sprawdz_pesel(Formularz!#REF!)","v":{"$error":"#VALUE!"}}]
[null,{"$f":"Sprawdz_pesel(Formularz!#REF!)","v":{"$error":"#VALUE!"}}]
[null,{"$f":"Sprawdz_pesel(Formularz!#REF!)","v":{"$error":"#VALUE!"}}]
[null,{"$f":"Sprawdz_pesel(Formularz!#REF!)","v":{"$error":"#VALUE!"}}]
[null,{"$f":"Sprawdz_pesel(Formularz!#REF!)","v":{"$error":"#VALUE!"}}]
[null,{"$f":"Sprawdz_pesel(Formularz!#REF!)","v":{"$error":"#VALUE!"}}]
[null,{"$f":"Sprawdz_pesel(Formularz!#REF!)","v":{"$error":"#VALUE!"}}]
[null,{"$f":"Sprawdz_pesel(Formularz!#REF!)","v":{"$error":"#VALUE!"}}]
[null,{"$f":"Sprawdz_pesel(Formularz!#REF!)","v":{"$error":"#VALUE!"}}]
[null,{"$f":"Sprawdz_pesel(Formularz!#REF!)","v":{"$error":"#VALUE!"}}]
[null,{"$f":"Sprawdz_pesel(Formularz!#REF!)","v":{"$error":"#VALUE!"}}]
[null,{"$f":"Sprawdz_pesel(Formularz!#REF!)","v":{"$error":"#VALUE!"}}]
[null,{"$f":"Sprawdz_pesel(Formularz!#REF!)","v":{"$error":"#VALUE!"}}]
[null,{"$f":"Sprawdz_pesel(Formularz!#REF!)","v":{"$error":"#VALUE!"}}]
[null,{"$f":"Sprawdz_pesel(Formularz!#REF!)","v":{"$error":"#VALUE!"}}]
[null,{"$f":"Sprawdz_pesel(Formularz!#REF!)","v":{"$error":"#VALUE!"}}]
[null,{"$f":"Sprawdz_pesel(Formularz!#REF!)","v":{"$error":"#VALUE!"}}]
[null,{"$f":"Sprawdz_pesel(Formularz!#REF!)","v":{"$error":"#VALUE!"}}]
[null,{"$f":"Sprawdz_pesel(Formularz!#REF!)","v":{"$error":"#VALUE!"}}]
[null,{"$f":"Sprawdz_pesel(Formularz!#REF!)","v":{"$error":"#VALUE!"}}]
[null,{"$f":"Sprawdz_pesel(Formularz!#REF!)","v":{"$error":"#VALUE!"}}]
[null,{"$f":"Sprawdz_pesel(Formularz!#REF!)","v":{"$error":"#VALUE!"}}]
[null,{"$f":"Sprawdz_pesel(Formularz!#REF!)","v":{"$error":"#VALUE!"}}]
[null,{"$f":"Sprawdz_pesel(Formularz!#REF!)","v":{"$error":"#VALUE!"}}]
[null,{"$f":"Sprawdz_pesel(Formularz!#REF!)","v":{"$error":"#VALUE!"}}]
[null,{"$f":"Sprawdz_pesel(Formularz!#REF!)","v":{"$error":"#VALUE!"}}]
[null,{"$f":"Sprawdz_pesel(Formularz!#REF!)","v":{"$error":"#VALUE!"}}]
[null,{"$f":"Sprawdz_pesel(Formularz!#REF!)","v":{"$error":"#VALUE!"}}]
[null,{"$f":"Sprawdz_pesel(Formularz!#REF!)","v":{"$error":"#VALUE!"}}]
[null,{"$f":"Sprawdz_pesel(Formularz!#REF!)","v":{"$error":"#VALUE!"}}]
[null,{"$f":"Sprawdz_pesel(Formularz!#REF!)","v":{"$error":"#VALUE!"}}]
[null,{"$f":"Sprawdz_pesel(Formularz!#REF!)","v":{"$error":"#VALUE!"}}]
[null,{"$f":"Sprawdz_pesel(Formularz!#REF!)","v":{"$error":"#VALUE!"}}]
[null,{"$f":"Sprawdz_pesel(Formularz!#REF!)","v":{"$error":"#VALUE!"}}]
[null,{"$f":"Sprawdz_pesel(Formularz!#REF!)","v":{"$error":"#VALUE!"}}]
[null,{"$f":"Sprawdz_pesel(Formularz!#REF!)","v":{"$error":"#VALUE!"}}]
[null,{"$f":"Sprawdz_pesel(Formularz!#REF!)","v":{"$error":"#VALUE!"}}]